{"text_format":"1","workbook":"xlsx","n_sheets":29,"sheets":["メイン","資産推移","運用成績推移","15年","株比率","個別履歴","銘柄データ","ﾈｵﾓﾊﾞｻﾏﾘ","ﾈｵﾓﾊﾞ一覧","業種別時価総額","税金","持株会","元(楽天)","元(野村預り）","元（野村履歴)","元(SBI夫)","元(SBI会社)","元(楽天ﾄｰﾀﾙ)","元(楽天ｼﾞｭﾆｱ)","元(楽天 子)","元(SBI妻)","元(DC)","元(楽天(夫)分配金)","楽天ﾄｰﾀﾙ（VLOOKUP）","元(SBI会社)VLOOKUP","楽天 子(VLOOKUP)","楽天 ｼﾞｭﾆｱ(VLOOKUP)","元(SBI夫)VLOOKUP","元(SBI妻)VLOOKUP"],"not_rendered":{"charts":1,"images":0,"macros":1,"external_links":1,"defined_names":74,"comments":0,"pivot_tables":0},"unopened":[],"bounds":{"document_bytes":16777216,"sheet_cells":100000,"rows_first":2000,"rows_last":500,"rows_between":2000,"halvings":0,"cell_chars":16384,"cell_head_chars":4096},"cells_cut":0,"cells_raw":0,"read":"whole","date_system":"1900"}

{"sheet":"メイン","index":0,"n_rows":93,"n_cols":59,"rows_kept":93,"cut":false,"hidden":false,"merged":[]}
["2023-08-01T07:10:46",0,null,null,null,null,null,11,null,null,null,null,null,null,null,null,null,null,null,null,"持ち株会含む",null,null,null,null,null,null,null,null,null,null,null,null,null,null,null,null,null,null,null,null,null,null,null,null,null,null,null,null,"カード枠積立設定",null,"キャッシュ積立",null,"カード以外積立設定"]
["個人\n/資産クラス",null,null,"レバ有\nPF","レバ無\nPF","←100%\n換算","グロ3","グロ3","レバレッジ換算後\n評価額","比率","乖離","レバレッジ換算前\n評価額","比率","評価\n損益\n税引前","比率","非課税\n損益","評価\n損益\n実税引","損益率","評価\n損益\n理論税引","損益率","レバレッジ換算後\n評価額","比率","レバレッジ換算前\n評価額","比率","評価\n損益\n実税引","損益率","評価\n損益\n理論税引","損益率","レバ無\nリバランス","グロ3\n積立額レバ無","積立額\nレバ無\nグロ有","積立額\nレバ無\nグロ無","期間","GAP分散ﾘﾊﾞﾗﾝｽ(ｸﾞﾛ3)","積立額/月(ｸﾞﾛ3)","GAP\nﾘﾊﾞﾗﾝｽ結果(グロ3分)","GAP\n分散ﾘﾊﾞﾗﾝｽ","月当たり\n積立額",null,"月当たり積立額（調整後)",null,null,"カード枠積立設定",null,null,"キャッシュ枠積立設定",null,"カード以外積立設定",null,"現在値","URL","現在値","URL","現在値","URL",null,null,"スポット\n購入設定","URL"]
["国内債券",0.35,{"$f":"VLOOKUP(1,株比率!A:G,7,FALSE)/100*(100%-B7)","v":0.16369125481183655},{"$f":"B3*C3","v":5.7291939184142791E-2},{"$f":"D3-D$6/G$6*G3+E$6/H$6*H3","v":4.2677398588809805E-2},{"$f":"E3*(100%/E$17)","v":4.6945138447690792E-2},0.4,{"$f":"G3/1/H1","v":3.6363636363636369E-2},{"$f":"L3-VLOOKUP(\"グローバル3倍3分法ファンド(1年決算型)特定保有中再投資型\",'楽天ﾄｰﾀﾙ（VLOOKUP）'!A:L,6,FALSE)*H3+VLOOKUP(\"グローバル3倍3分法ファンド(1年決算型)特定保有中再投資型\",'楽天ﾄｰﾀﾙ（VLOOKUP）'!A:L,6,FALSE)*G3","v":2950657},{"$f":"I3/I$17","v":4.3020395283807279E-2},{"$f":"J3-D3","v":-1.4271543900335512E-2},{"$f":"VLOOKUP(\"eMAXIS Slim 国内債券インデックス特定保有中再投資型\",'楽天ﾄｰﾀﾙ（VLOOKUP）'!A:L,6,FALSE)+VLOOKUP(\"eMAXIS Slim 国内債券インデックス特定保有中受取型\",'楽天ﾄｰﾀﾙ（VLOOKUP）'!A:L,6,FALSE)+VLOOKUP(\"個人国債　変動10年　第111回\",'元(楽天)'!C:R,13,FALSE)+VLOOKUP(\"グローバル3倍3分法ファンド(1年決算型)特定保有中再投資型\",'楽天ﾄｰﾀﾙ（VLOOKUP）'!A:L,6,FALSE)*H3+1500000","v":2019638.8181818181},{"$f":"L3/L$17","v":3.2348362084111494E-2},{"$f":"VLOOKUP(\"eMAXIS Slim 国内債券インデックス特定すべて再投資型\",'楽天ﾄｰﾀﾙ（VLOOKUP）'!A:L,12,FALSE)+VLOOKUP(\"eMAXIS Slim 国内債券インデックス特定すべて受取型\",'楽天ﾄｰﾀﾙ（VLOOKUP）'!A:L,12,FALSE)+VLOOKUP(\"個人国債　変動10年　第111回\",'元(楽天)'!C:R,15,FALSE)+VLOOKUP(\"グローバル3倍3分法ファンド(1年決算型)特定すべて再投資型\",'楽天ﾄｰﾀﾙ（VLOOKUP）'!A:L,12,FALSE)*G3/3","v":-44459.066666666666},{"$f":"IF(税金!B$3<メイン!N$18,IF(N3>0,N3/N$18,0),メイン!N3/メイン!N$17)","v":0},0,{"$f":"N3+P3-税金!B$3*メイン!O3","v":-44459.066666666666},{"$f":"Q3/($L3-Q3)","v":-2.1539223984007032E-2},{"$f":"IF(AND(N3>0,N$17>0),N3-N$17*20.315%*O3,N3)+P3","v":-44459.066666666666},{"$f":"S3/($L3-S3)","v":-2.1539223984007032E-2},{"$f":"I3","v":2950657},{"$f":"U3/U$17","v":4.3020395283807279E-2},{"$f":"L3","v":2019638.8181818181},{"$f":"W3/W$17","v":3.2348362084111494E-2},{"$f":"Q3","v":-44459.066666666666},{"$f":"Y3/(W3-AA3)","v":-2.1539223984007032E-2},{"$f":"S3","v":-44459.066666666666},{"$f":"AA3/(W3-AA3)","v":-2.1539223984007032E-2},{"$f":"L$17*F3","v":2930974.4860449941},{"$f":"ROUND(AD$17*H3,0)","v":259},{"$f":"ROUND(AE$17*$F3,0)","v":7563},{"$f":"AE3-AD3","v":7304},1,{"$f":"ROUND(AH$17*H3,0)","v":7267},{"$f":"AH3+AD3","v":7526},{"$f":"L3+AH3*AG3","v":2026905.8181818181},{"$f":"ROUND((AC3-AJ3)/AG3,0)","v":904069},{"$f":"AK3+AF3","v":911373},{"$f":"IF(AL3<300,AL3*-1+300,0)","v":0},{"$f":"IF(AL3>300,AL3-(AL3-300)/AL$18*AM$18,300)","v":45932.948514408199},{"$f":"IF(AN3>300,IF(AN3>50300,50000,AN3-300),0)","v":45632.948514408199},{"$f":"IF(AO3>50000-1100,50000-1100,AO3)","v":45632.948514408199},{"$f":"ROUND(AP3+100,0)","v":45733},{"$f":"IF(AN3-AQ3>200,IF(AN3-AQ3>50200,50000,AN3-AQ3-200),0)","v":0},{"$f":"IF(AR3>50000-1100,50000-1100,AR3)","v":0},{"$f":"ROUND(AS3+100,0)","v":100},null,{"$f":"ROUND(AN3-AQ3-AT3,0)","v":100},null,23982,"?eventType=init&contractNo=701890900&reserveViewRoot=1&type=order&sub_type=fu&local=null&gmn=F&smn=06&lmn=03&fmn=01#anchor",100,"?eventType=init&contractNo=701952147&reserveViewRoot=1&type=order&sub_type=fu&local=null#anchor",100,"?eventType=init&contractNo=701028775&reserveViewRoot=1&type=null&sub_type=null&local=null&gmn=F&smn=06&lmn=03&fmn=01#anchor",null,{"$f":"IF(AL3<0,AL3*-1,0)","v":0},{"$f":"ROUND(IF(AL3>0,AL3-AL3/AL$18*BE$18,0),0)","v":53395},"?eventType=init&dscrCd=5602886&SS_URL=detail/index.html&gmn=F&smn=01&lmn=&fmn="]
["外国債券ﾍｯｼﾞ",{"$f":"D4/C4","v":0.2571630173928186},{"$f":"C3","v":0.16369125481183655},{"$f":"C3-D3-D6","v":4.2095337008228623E-2},{"$f":"D4","v":4.2095337008228623E-2},4.6304870709051489E-2,null,null,{"$f":"L4","v":1330592},{"$f":"I4/I$17","v":1.9399948486547806E-2},{"$f":"J4-D4","v":-2.2695388521680817E-2},{"$f":"VLOOKUP(\"Smart-i 先進国債券インデックス(為替ヘッジあり)特定保有中再投資型\",'楽天ﾄｰﾀﾙ（VLOOKUP）'!A:L,6,FALSE)+VLOOKUP(\"Smart-i 先進国債券インデックス(為替ヘッジあり)特定保有中受取型\",'楽天ﾄｰﾀﾙ（VLOOKUP）'!A:L,6,FALSE)+VLOOKUP(\"たわらノーロード 先進国債券特定保有中再投資型\",'楽天ﾄｰﾀﾙ（VLOOKUP）'!A:L,6,FALSE)+VLOOKUP(\"eMAXIS Slim 先進国債券インデックス特定保有中再投資型\",'楽天ﾄｰﾀﾙ（VLOOKUP）'!A:L,6,FALSE)+VLOOKUP(\"米国国債　米ドル建ストリップス債券　2029/8/15\",'元(楽天)'!C:R,13,FALSE)+VLOOKUP(\"外貨預り金\",'元(楽天)'!A:B,2,FALSE)","v":1330592},2.1311964998261972E-2,{"$f":"VLOOKUP(\"Smart-i 先進国債券インデックス(為替ヘッジあり)特定すべて再投資型\",'楽天ﾄｰﾀﾙ（VLOOKUP）'!A:L,12,FALSE)+VLOOKUP(\"Smart-i 先進国債券インデックス(為替ヘッジあり)特定すべて受取型\",'楽天ﾄｰﾀﾙ（VLOOKUP）'!A:L,12,FALSE)+VLOOKUP(\"たわらノーロード 先進国債券特定すべて再投資型\",'楽天ﾄｰﾀﾙ（VLOOKUP）'!A:L,12,FALSE)+VLOOKUP(\"eMAXIS Slim 先進国債券インデックス特定すべて再投資型\",'楽天ﾄｰﾀﾙ（VLOOKUP）'!A:L,12,FALSE)+VLOOKUP(\"米国国債　米ドル建ストリップス債券　2029/8/15\",'元(楽天)'!C:R,15,FALSE)","v":-474090},{"$f":"IF(税金!B$3<メイン!N$18,IF(N4>0,N4/N$18,0),メイン!N4/メイン!N$17)","v":0},0,{"$f":"N4+P4-税金!B$3*メイン!O4","v":-474090},-0.26270002138880977,-474090,{"$f":"S4/($L4-S4)","v":-0.26270002138880977},{"$f":"I4","v":1330592},1.9399948486547806E-2,1330592,2.1311964998261972E-2,-474090,{"$f":"Y4/(W4-AA4)","v":-0.26270002138880977},-474090,-0.26270002138880977,{"$f":"L$17*F4","v":2890999.9866986871},null,{"$f":"ROUND(AE$17*$F4,0)","v":7460},{"$f":"AE4-AD4","v":7460},{"$f":"AG3","v":1},null,0,1330592,{"$f":"ROUND((AC4-AJ4)/AG4,0)","v":1560408},{"$f":"AK4+AF4","v":1567868},{"$f":"IF(AL4<300,AL4*-1+300,0)","v":0},{"$f":"IF(AL4>300,AL4-(AL4-300)/AL$18*AM$18,300)","v":78814.838917225832},{"$f":"IF(AN4>300,IF(AN4>50300,50000,AN4-300),0)","v":50000},{"$f":"IF(SUM(AO$3:AO3)>50000-1100,0,IF(SUM(AO$3:AO4)>50000-1100,50000-1100-SUM(AO$3:AO3),AO4))","v":3267.0514855918009},{"$f":"ROUND(AP4+100,0)","v":3367},{"$f":"IF(AN4-AQ4>200,IF(AN4-AQ4>50200,50000,AN4-AQ4-200),0)","v":50000},{"$f":"IF(SUM(AR$3:AR3)>50000-1100,0,IF(SUM(AR$3:AR4)>50000-1100,50000-1100-SUM(AR$3:AR3),AR4))","v":48900},{"$f":"ROUND(AS4+100,0)","v":49000},null,{"$f":"ROUND(AN4-AQ4-AT4,0)","v":26448},null,25118,"?eventType=init&contractNo=701902781&reserveViewRoot=1&type=order&sub_type=fu&local=null&gmn=F&smn=06&lmn=03&fmn=01#anchor",30922,"?eventType=init&contractNo=701952144&reserveViewRoot=1&type=order&sub_type=fu&local=null#anchor",100,"?eventType=init&contractNo=701783734&reserveViewRoot=1&type=null&sub_type=null&local=null&gmn=F&smn=06&lmn=03&fmn=01#anchor",null,{"$f":"IF(AL4<0,AL4*-1,0)","v":0},{"$f":"ROUND(IF(AL4>0,AL4-AL4/AL$18*BE$18,0),0)","v":91858},"?eventType=init&dscrCd=1110819&SS_URL=detail/index.html&gmn=S&smn=01&lmn=01&fmn=01"]
["外国債券",{"$f":"100%-B3-B4-B6","v":0},{"$f":"C4","v":0.16369125481183655},{"$f":"B5*C5","v":0},{"$f":"D5","v":0},0,null,null,{"$f":"L5","v":0},0,0,null,0,null,{"$f":"IF(税金!B$3<メイン!N$18,IF(N5>0,N5/N$18,0),メイン!N5/メイン!N$17)","v":0},0,{"$f":"N5+P5-税金!B$3*メイン!O5","v":0},{"$error":"#DIV/0!"},0,{"$f":"S5/($L5-S5)","v":{"$error":"#DIV/0!"}},0,0,0,0,0,{"$error":"#DIV/0!"},0,{"$error":"#DIV/0!"},0,null,{"$f":"ROUND(AE$17*$F5,0)","v":0},0,1,null,0,0,0,{"$f":"AK5+AF5","v":0},{"$f":"IF(AL5<0,AL5*-1+200,0)","v":0},{"$f":"IF(AL5>0,AL5-AL5/AL$18*AM$18,0)","v":0},{"$f":"IF(AN5>200,IF(AN5>50200,50000,AN5),0)","v":0},{"$f":"IF(SUM(AO4:AO4)>50000-1100,0,IF(SUM(AO4:AO5)>50000-1100,50000-1100-SUM(AO4:AO4),0))","v":0},{"$f":"AP5+100","v":100},null,null,null,null,{"$f":"AN5-AQ5","v":-100}]
["外国債券ﾚﾊﾞ",{"$f":"D6/C6","v":0.39283698260718136},{"$f":"C5","v":0.16369125481183655},{"$f":"IF(((1-100%/(100%+10%))-(D9-E9))<=VLOOKUP(1,株比率!A:G,7,FALSE)/100,((1-100%/(100%+10%))-(D9-E9))/200%*G6,VLOOKUP(1,株比率!A:G,7,FALSE)/100/(G6+G3)*G6)","v":6.430397861946513E-2},{"$f":"D6/1/H1","v":5.8458162381331939E-3},6.4303978619465142E-3,1.6,{"$f":"G6/1/H1","v":0.14545454545454548},{"$f":"L6-VLOOKUP(\"グローバル3倍3分法ファンド(1年決算型)特定保有中再投資型\",'楽天ﾄｰﾀﾙ（VLOOKUP）'!A:L,6,FALSE)*H6+VLOOKUP(\"グローバル3倍3分法ファンド(1年決算型)特定保有中再投資型\",'楽天ﾄｰﾀﾙ（VLOOKUP）'!A:L,6,FALSE)*G6","v":4096480},5.9726423258349183E-2,-4.5775553611159467E-3,{"$f":"+VLOOKUP(\"グローバル3倍3分法ファンド(1年決算型)特定保有中再投資型\",'楽天ﾄｰﾀﾙ（VLOOKUP）'!A:L,6,FALSE)*H6","v":372407.27272727276},5.9648117240009239E-3,{"$f":"VLOOKUP(\"グローバル3倍3分法ファンド(1年決算型)特定すべて再投資型\",'楽天ﾄｰﾀﾙ（VLOOKUP）'!A:L,12,FALSE)*G6/3","v":-24284.266666666666},{"$f":"IF(税金!B$3<メイン!N$18,IF(N6>0,N6/N$18,0),メイン!N6/メイン!N$17)","v":0},0,{"$f":"N6+P6-税金!B$3*メイン!O6","v":-24284.266666666666},-6.1217001763556336E-2,-24284.266666666666,{"$f":"S6/($L6-S6)","v":-6.1217001763556336E-2},4096480,5.9726423258349183E-2,372407.27272727276,5.9648117240009239E-3,-24284.266666666666,-6.1217001763556336E-2,-24284.266666666666,-6.1217001763556336E-2,401475.69464481162,{"$f":"ROUND(AD$17*H6,0)","v":1036},{"$f":"AD6","v":1036},0,1,{"$f":"ROUND((AC6-L6)/AG6,0)","v":29068},30104,401475.27272727276,0,{"$f":"AK6+AF6","v":0}]
["ゴールド",0.03,{"$f":"C3/(100%-B7)*B7","v":5.0626161282011301E-3},{"$f":"VLOOKUP(1,株比率!A:G,7,FALSE)/100-D3-D4-D6","v":5.0626161282011362E-3},{"$f":"D7","v":5.0626161282011362E-3},5.5688777410212503E-3,null,null,{"$f":"L7","v":895543},1.3056961162767011E-2,7.9943450345658744E-3,{"$f":"VLOOKUP(\"ゴールド・ファンド(為替ヘッジあり)特定保有中再投資型\",'楽天ﾄｰﾀﾙ（VLOOKUP）'!A:L,6,FALSE)+VLOOKUP(\"ゴールド・ファンド(為替ヘッジあり)特定保有中受取型\",'楽天ﾄｰﾀﾙ（VLOOKUP）'!A:L,6,FALSE)+VLOOKUP(\"SMT ゴールドインデックス・オープン(為替ヘッジあり)特定保有中再投資型\",'楽天ﾄｰﾀﾙ（VLOOKUP）'!A:L,6,FALSE)","v":895543},1.4343826710545772E-2,{"$f":"VLOOKUP(\"ゴールド・ファンド(為替ヘッジあり)特定すべて再投資型\",'楽天ﾄｰﾀﾙ（VLOOKUP）'!A:L,12,FALSE)+VLOOKUP(\"ゴールド・ファンド(為替ヘッジあり)特定すべて受取型\",'楽天ﾄｰﾀﾙ（VLOOKUP）'!A:L,12,FALSE)+VLOOKUP(\"SMT ゴールドインデックス・オープン(為替ヘッジあり)特定すべて再投資型\",'楽天ﾄｰﾀﾙ（VLOOKUP）'!A:L,12,FALSE)","v":50326},{"$f":"IF(税金!B$3<メイン!N$18,IF(N7>0,N7/N$18,0),メイン!N7/メイン!N$17)","v":2.5673210996204018E-3},0,{"$f":"N7+P7-税金!B$3*メイン!O7","v":49902.068536104081},5.9010942681923167E-2,40385.388520580054,{"$f":"S7/($L7-S7)","v":4.7225666916199761E-2},895543,1.3056961162767011E-2,895543,1.4343826710545772E-2,49902.068536104081,5.8354235366944417E-2,40385.388520580054,4.7225666916199761E-2,347687.51599325723,null,{"$f":"ROUND(AE$17*$F7,0)","v":897},897,1,null,0,895543,-547855,-546958,{"$f":"IF(AL7<300,AL7*-1+300,0)","v":547258},{"$f":"IF(AL7>300,AL7-(AL7-300)/AL$18*AM$18,300)","v":300},{"$f":"IF(AN7>300,IF(AN7>50300,50000,AN7-300),0)","v":0},{"$f":"IF(SUM(AO$3:AO6)>50000-1100,0,IF(SUM(AO$3:AO7)>50000-1100,50000-1100-SUM(AO$3:AO6),AO7))","v":0},{"$f":"ROUND(AP7+100,0)","v":100},{"$f":"IF(AN7-AQ7>200,IF(AN7-AQ7>50200,50000,AN7-AQ7-200),0)","v":0},{"$f":"IF(SUM(AR$3:AR6)>50000-1100,0,IF(SUM(AR$3:AR7)>50000-1100,50000-1100-SUM(AR$3:AR6),AR7))","v":0},{"$f":"ROUND(AS7+100,0)","v":100},null,{"$f":"ROUND(AN7-AQ7-AT7,0)","v":100},null,100,"?eventType=init&contractNo=701902783&reserveViewRoot=1&type=order&sub_type=fu&local=null&gmn=F&smn=06&lmn=03&fmn=01",16366,"?eventType=init&contractNo=701952142&reserveViewRoot=1&type=order&sub_type=fu&local=null#anchor",100,"?eventType=init&contractNo=701902767&reserveViewRoot=1&type=order&sub_type=fu&local=null&gmn=F&smn=06&lmn=03&fmn=01#anchor",null,{"$f":"IF(AL7<0,AL7*-1,0)","v":546958},{"$f":"ROUND(IF(AL7>0,AL7-AL7/AL$18*BE$18,0),0)","v":0},"?eventType=init&dscrCd=7913807&SS_URL=detail/index.html&gmn=F&smn=01&lmn=&fmn="]
["米国株",{"$f":"5%-B9","v":3.0000000000000002E-2},{"$f":"100%-C3-C7-C15","v":0.78968382260696424},2.3690514678208929E-2,{"$f":"D8","v":2.3690514678208929E-2},2.6059566146029823E-2,null,null,{"$f":"L8","v":1662736},2.4242587319575463E-2,5.5207264136653347E-4,{"$f":"VLOOKUP(\"eMAXIS Slim 米国株式(S&P500)つみたてNISA保有中再投資型\",'楽天ﾄｰﾀﾙ（VLOOKUP）'!A:L,6,FALSE)+VLOOKUP(\"eMAXIS Slim 米国株式(S&P500)特定保有中再投資型\",'楽天ﾄｰﾀﾙ（VLOOKUP）'!A:L,6,FALSE)+VLOOKUP(\"eMAXIS Slim 米国株式(S&P500)特定保有中受取型\",'楽天ﾄｰﾀﾙ（VLOOKUP）'!A:L,6,FALSE)","v":1662736},2.6631883727957269E-2,{"$f":"VLOOKUP(\"eMAXIS Slim 米国株式(S&P500)特定すべて再投資型\",'楽天ﾄｰﾀﾙ（VLOOKUP）'!A:L,12,FALSE)+VLOOKUP(\"eMAXIS Slim 米国株式(S&P500)特定すべて受取型\",'楽天ﾄｰﾀﾙ（VLOOKUP）'!A:L,12,FALSE)+VLOOKUP(\"楽天・全米株式インデックス・ファンド(楽天・VTI)特定すべて再投資型\",'楽天ﾄｰﾀﾙ（VLOOKUP）'!A:L,12,FALSE)+VLOOKUP(\"米国株式\",'元(楽天)'!A:J,10,FALSE)","v":1139050},{"$f":"IF(税金!B$3<メイン!N$18,IF(N8>0,N8/N$18,0),メイン!N8/メイン!N$17)","v":5.8107282488626531E-2},{"$f":"VLOOKUP(\"eMAXIS Slim 米国株式(S&P500)つみたてNISAすべて再投資型\",'楽天ﾄｰﾀﾙ（VLOOKUP）'!A:L,12,FALSE)+SUMIF('元(楽天(夫)分配金)'!D:D,\"VYM\",'元(楽天(夫)分配金)'!J:J)*VLOOKUP(\"米ドル\",'元(楽天)'!A:B,2,FALSE)","v":65521},{"$f":"N8+P8-税金!B$3*メイン!O8","v":1194975.9768717831},2.5546774366911436,979580.86556385783,{"$f":"S8/($L8-S8)","v":1.4339069066243313},1662736,2.4242587319575463E-2,1662736,2.6631883727957269E-2,1194975.9768717831,1.7492014868015069,979580.86556385783,{"$f":"AA8/(W8-AA8)","v":1.4339069066243313},1627003.9032161462,null,{"$f":"ROUND(AE$17*$F8,0)","v":4198},4198,{"$f":"AG7","v":1},null,0,1662736,-35732,{"$f":"AF8+AF9+AK8+AK9","v":-185426},{"$f":"IF(AL8<300,AL8*-1+300,0)","v":185726},{"$f":"IF(AL8>300,AL8-(AL8-300)/AL$18*AM$18,300)","v":300},{"$f":"IF(AN8>300,IF(AN8>50300,50000,AN8-300),0)","v":0},{"$f":"IF(SUM(AO$3:AO7)>50000-1100,0,IF(SUM(AO$3:AO8)>50000-1100,50000-1100-SUM(AO$3:AO7),AO8))","v":0},{"$f":"ROUND(AP8+100,0)","v":100},{"$f":"IF(AN8-AQ8>200,IF(AN8-AQ8>50200,50000,AN8-AQ8-200),0)","v":0},{"$f":"IF(SUM(AR$3:AR7)>50000-1100,0,IF(SUM(AR$3:AR8)>50000-1100,50000-1100-SUM(AR$3:AR7),AR8))","v":0},{"$f":"ROUND(AS8+100,0)","v":100},null,{"$f":"ROUND(AN8-AQ8-AT8,0)","v":100},null,100,"?eventType=init&contractNo=701902787&reserveViewRoot=1&type=order&sub_type=fu&local=null&gmn=F&smn=06&lmn=03&fmn=01#anchor",100,"?eventType=init&contractNo=701952153&reserveViewRoot=1&type=order&sub_type=fu&local=null#anchor",100,"?eventType=init&contractNo=701902768&reserveViewRoot=1&type=order&sub_type=fu&local=null&gmn=F&smn=06&lmn=03&fmn=01#anchor",null,{"$f":"IF(AL8<0,AL8*-1,0)","v":185426},{"$f":"ROUND(IF(AL8>0,AL8-AL8/AL$18*BE$18,0),0)","v":0},"?eventType=init&dscrCd=5613854&SS_URL=detail/index.html&gmn=F&smn=01&lmn=&fmn="]
["米国株ﾚﾊﾞ",0.02,{"$f":"C8","v":0.78968382260696424},1.5793676452139284E-2,{"$f":"D9/3","v":5.264558817379761E-3},5.7910146991177374E-3,null,null,{"$f":"L9*3","v":1549143.2172000001},2.2586411621267032E-2,6.7927351691277477E-3,{"$f":"VLOOKUP(\"SPXL\",'元(楽天)'!B:O,4,FALSE)*VLOOKUP(\"SPXL\",'元(楽天)'!B:O,8,FALSE)*VLOOKUP(\"米ドル\",'元(楽天)'!A:B,2,FALSE)","v":516381.0724},8.2708263244884832E-3,{"$f":"IF(VLOOKUP(\"SPXL\",'元(楽天)'!B:Z,16,FALSE)=\"-\",(VLOOKUP(\"SPXL\",'元(楽天)'!B:O,8,FALSE)-VLOOKUP(\"SPXL\",'元(楽天)'!B:O,6,FALSE))*VLOOKUP(\"SPXL\",'元(楽天)'!B:O,4,FALSE)*VLOOKUP(\"米ドル\",'元(楽天)'!A:B,2,FALSE),VLOOKUP(\"SPXL\",'元(楽天)'!B:Z,16,FALSE))","v":209556},{"$f":"IF(税金!B$3<メイン!N$18,IF(N9>0,N9/N$18,0),メイン!N9/メイン!N$17)","v":1.0690250374598675E-2},{"$f":"SUM(個別履歴!O:O)*VLOOKUP(\"米ドル\",'元(楽天)'!A:B,2,FALSE)","v":269735.8468},{"$f":"N9+P9-税金!B$3*メイン!O9","v":477526.60851664405},12.29013505244121,437899.42977537401,5.5796414948885102,1549143.2172000001,2.2586411621267032E-2,{"$f":"L9","v":516381.0724},8.2708263244884832E-3,477526.60851664405,6.0845643968059049,437899.42977537401,{"$f":"AA9/(W9-AA9)","v":5.5796414948885102},361556.4229369213,null,{"$f":"ROUND(AE$17*$F9,0)","v":933},933,1,null,0,516381.0724,-154825]
["先進国株",{"$f":"100%-B12-B14-B8-B11-B9-B13","v":0.57032407639096905},{"$f":"C8","v":0.78968382260696424},0.45037569676920675,{"$f":"D10-D$6/G$6*G10+E$6/H$6*H10","v":0.45037569676920675},0.49541326644612749,0.2,{"$f":"G10","v":0.2},{"$f":"L10-VLOOKUP(\"グローバル3倍3分法ファンド(1年決算型)特定保有中再投資型\",'楽天ﾄｰﾀﾙ（VLOOKUP）'!A:L,6,FALSE)*H10+VLOOKUP(\"グローバル3倍3分法ファンド(1年決算型)特定保有中再投資型\",'楽天ﾄｰﾀﾙ（VLOOKUP）'!A:L,6,FALSE)*G10","v":31353824},0.4571368011052872,6.761104336080459E-3,{"$f":"VLOOKUP(\"eMAXIS Slim 先進国株式インデックス特定保有中再投資型\",'楽天ﾄｰﾀﾙ（VLOOKUP）'!A:L,6,FALSE)+VLOOKUP(\"たわらノーロード 先進国株式特定保有中再投資型\",'楽天ﾄｰﾀﾙ（VLOOKUP）'!A:L,6,FALSE)+VLOOKUP(\"eMAXIS Slim 先進国株式インデックス特定保有中受取型\",'楽天ﾄｰﾀﾙ（VLOOKUP）'!A:L,6,FALSE)+VLOOKUP(\"eMAXIS Slim 先進国株式インデックスつみたてNISA保有中再投資型\",'楽天ﾄｰﾀﾙ（VLOOKUP）'!A:L,6,FALSE)+VLOOKUP(\"三菱UFJ DC海外株式インデックスファンド\",'元(DC)'!A:D,3,FALSE)+VLOOKUP(\"グローバル3倍3分法ファンド(1年決算型)特定保有中再投資型\",'楽天ﾄｰﾀﾙ（VLOOKUP）'!A:L,6,FALSE)*H10","v":31353824},0.50219120485443036,{"$f":"VLOOKUP(\"eMAXIS Slim 先進国株式インデックス特定すべて再投資型\",'楽天ﾄｰﾀﾙ（VLOOKUP）'!A:L,12,FALSE)+VLOOKUP(\"たわらノーロード 先進国株式特定すべて再投資型\",'楽天ﾄｰﾀﾙ（VLOOKUP）'!A:L,12,FALSE)+VLOOKUP(\"eMAXIS Slim 先進国株式インデックス特定すべて受取型\",'楽天ﾄｰﾀﾙ（VLOOKUP）'!A:L,12,FALSE)+VLOOKUP(\"グローバル3倍3分法ファンド(1年決算型)特定すべて再投資型\",'楽天ﾄｰﾀﾙ（VLOOKUP）'!A:L,12,FALSE)*G10/3","v":12676804.466666667},{"$f":"IF(税金!B$3<メイン!N$18,IF(N10>0,N10/N$18,0),メイン!N10/メイン!N$17)","v":0.64669211904453938},{"$f":"VLOOKUP(\"eMAXIS Slim 先進国株式インデックスつみたてNISAすべて再投資型\",'楽天ﾄｰﾀﾙ（VLOOKUP）'!A:L,12,FALSE)+VLOOKUP(\"三菱UFJ DC海外株式インデックスファンド\",'元(DC)'!A:D,4,FALSE)","v":1726345},{"$f":"N10+P10-税金!B$3*メイン!O10","v":14296363.783817317},0.83812968652004416,11899171.642009258,0.61163630287753923,31353824,0.4571368011052872,31353824,0.50219120485443036,14296363.783817317,0.73485578260385997,11899171.642009258,0.61163630287753923,30930649.946208339,{"$f":"ROUND(AD$17*H10,0)","v":1424},{"$f":"AE17-AE3-AE5-AE12-AE14-AE8-AE15-AE16-AE4-AE6-AE7-AE11-AE9-AE13","v":79811},{"$f":"AF17-AF3-AF5-AF12-AF14-AF8-AF15-AF16-AF4-AF6-AF7-AF11-AF9-AF13","v":78385},{"$f":"AG9","v":1},{"$f":"ROUND(AH$17*H10,0)","v":39969},41393,31393793,{"$f":"AK17-AK3-AK5-AK12-AK14-AK8-AK15-AK16-AK4-AK6-AK7-AK11-AK9-AK13","v":-463141},{"$f":"AK10+AF10","v":-384756},{"$f":"IF(AL10<21400,AL10*-1+21400,0)","v":406156},{"$f":"IF(AL10>21400,AL10-(AL10-21400)/AL$18*AM$18,21400)","v":21400},{"$f":"IF(AN10>21400,IF(AN10>50000+21400,50000,AN10-21400),0)","v":0},{"$f":"IF(SUM(AO$3:AO9)>50000-1100,0,IF(SUM(AO$3:AO10)>50000-1100,50000-1100-SUM(AO$3:AO9),AO10))","v":0},{"$f":"ROUND(AP10+100,0)","v":100},{"$f":"IF(AN10-AQ10>200+21100,IF(AN10-AQ10>50200+21100+200,50000,AN10-AQ10-21100-200),0)","v":0},{"$f":"IF(SUM(AR$3:AR9)>50000-1100,0,IF(SUM(AR$3:AR10)>50000-1100,50000-1100-SUM(AR$3:AR9),AR10))","v":0},{"$f":"ROUND(AS10+100,0)","v":100},null,{"$f":"ROUND(AN10-AQ10-AT10-21100,0)","v":100},null,100,"?eventType=init&contractNo=701902789&reserveViewRoot=1&type=order&sub_type=fu&local=null&gmn=F&smn=06&lmn=03&fmn=01",100,"?eventType=init&contractNo=701952152&reserveViewRoot=1&type=order&sub_type=fu&local=null#anchor",100,"?eventType=init&contractNo=701902769&reserveViewRoot=1&type=null&sub_type=null&local=null&gmn=F&smn=06&lmn=03&fmn=01#anchor",null,{"$f":"IF(AL10<0,AL10*-1,0)","v":384756},{"$f":"ROUND(IF(AL10>0,AL10-AL10/AL$18*BE$18,0),0)","v":0},"?eventType=init&dscrCd=5612887&SS_URL=detail/index.html&gmn=F&smn=01&lmn=&fmn="]
["先進国株ﾍｯｼﾞ",{"$f":"(40%-D3-D4-D6-D7-D12-D16-D13)/C11","v":0.12967592360903088},{"$f":"C10","v":0.78968382260696424},{"$f":"B11*C11","v":0.10240297905566818},0.10240297905566818,0.11264327696123501,null,null,{"$f":"L11","v":8232236},0.12002548815046564,{"$f":"J11-D11","v":1.7622509094797456E-2},{"$f":"VLOOKUP(\"たわらノーロード 先進国株式＜為替ヘッジあり＞特定保有中再投資型\",'楽天ﾄｰﾀﾙ（VLOOKUP）'!A:L,6,FALSE)","v":8232236},0.13185493786933344,{"$f":"VLOOKUP(\"たわらノーロード 先進国株式＜為替ヘッジあり＞特定すべて再投資型\",'楽天ﾄｰﾀﾙ（VLOOKUP）'!A:L,12,FALSE)","v":2364645},{"$f":"IF(税金!B$3<メイン!N$18,IF(N11>0,N11/N$18,0),メイン!N11/メイン!N$17)","v":0.12062955533147647},0,{"$f":"N11+P11-税金!B$3*メイン!O11","v":2344725.9240463348},{"$f":"Q11/($L11-Q11)","v":0.39825425244245272},1897569.9844662207,{"$f":"S11/($L11-S11)","v":0.29955328028549988},{"$f":"I11","v":8232236},0.12002548815046564,{"$f":"L11","v":8232236},0.13185493786933344,2344725.9240463348,0.37014199616785337,{"$f":"S11","v":1897569.9844662207},{"$f":"AA11/(W11-AA11)","v":0.29955328028549988},7032774.4621684002,{"$f":"ROUND(AD$17*H11,0)","v":0},{"$f":"ROUND(AE$17*$F11,0)","v":18147},18147,1,0,{"$f":"AH11+AD11","v":0},{"$f":"L11+AH11*AG11","v":8232236},-1199462,{"$f":"AK11+AF11","v":-1181315},{"$f":"IF(AL11<300,AL11*-1+300,0)","v":1181615},{"$f":"IF(AL11>300,AL11-(AL11-300)/AL$18*AM$18,300)","v":300},{"$f":"IF(AN11>300,IF(AN11>50300,50000,AN11-300),0)","v":0},{"$f":"IF(SUM(AO$3:AO10)>50000-1100,0,IF(SUM(AO$3:AO11)>50000-1100,50000-1100-SUM(AO$3:AO10),AO11))","v":0},{"$f":"ROUND(AP11+100,0)","v":100},{"$f":"IF(AN11-AQ11>200,IF(AN11-AQ11>50200,50000,AN11-AQ11-200),0)","v":0},{"$f":"IF(SUM(AR$3:AR10)>50000-1100,0,IF(SUM(AR$3:AR11)>50000-1100,50000-1100-SUM(AR$3:AR10),AR11))","v":0},{"$f":"ROUND(AS11+100,0)","v":100},null,{"$f":"ROUND(AN11-AQ11-AT11,0)","v":100},null,100,"?eventType=init&contractNo=701859509&reserveViewRoot=1&type=order&sub_type=fu&local=null&gmn=F&smn=06&lmn=03&fmn=01#anchor",100,"?eventType=init&contractNo=701952155&reserveViewRoot=1&type=order&sub_type=fu&local=null#anchor",100,"?eventType=init&contractNo=701859499&reserveViewRoot=1&type=&sub_type=&local=&gmn=F&smn=06&lmn=03&fmn=01#anchor",null,{"$f":"IF(AL11<0,AL11*-1,0)","v":1181315},{"$f":"ROUND(IF(AL11>0,AL11-AL11/AL$18*BE$18,0),0)","v":0},"?eventType=init&dscrCd=2312808&SS_URL=detail/index.html&gmn=F&smn=01&lmn=&fmn="]
["日本株指数",0.1,{"$f":"C10","v":0.78968382260696424},7.8968382260696426E-2,7.1661111963029933E-2,7.8827223159332938E-2,0.2,{"$f":"G12/1/H1","v":1.8181818181818184E-2},{"$f":"L12-VLOOKUP(\"グローバル3倍3分法ファンド(1年決算型)特定保有中再投資型\",'楽天ﾄｰﾀﾙ（VLOOKUP）'!A:L,6,FALSE)*H12+VLOOKUP(\"グローバル3倍3分法ファンド(1年決算型)特定保有中再投資型\",'楽天ﾄｰﾀﾙ（VLOOKUP）'!A:L,6,FALSE)*G12","v":5818543},8.4833994542852606E-2,5.8656122821561796E-3,{"$f":"VLOOKUP(\"＜購入・換金手数料なし＞ニッセイＴＯＰＩＸインデックスファンド特定保有中再投資型\",'楽天ﾄｰﾀﾙ（VLOOKUP）'!A:L,6,FALSE)+VLOOKUP(\"eMAXIS Slim 国内株式(TOPIX)特定保有中再投資型\",'楽天ﾄｰﾀﾙ（VLOOKUP）'!A:L,6,FALSE)+VLOOKUP(\"グローバル3倍3分法ファンド(1年決算型)特定保有中再投資型\",'楽天ﾄｰﾀﾙ（VLOOKUP）'!A:L,6,FALSE)*H12","v":5353033.9090909092},8.5739032930496284E-2,{"$f":"VLOOKUP(\"＜購入・換金手数料なし＞ニッセイＴＯＰＩＸインデックスファンド特定すべて再投資型\",'楽天ﾄｰﾀﾙ（VLOOKUP）'!A:L,12,FALSE)+VLOOKUP(\"eMAXIS Slim 国内株式(TOPIX)特定すべて再投資型\",'楽天ﾄｰﾀﾙ（VLOOKUP）'!A:L,12,FALSE)+VLOOKUP(\"グローバル3倍3分法ファンド(1年決算型)特定すべて再投資型\",'楽天ﾄｰﾀﾙ（VLOOKUP）'!A:L,12,FALSE)*G12/3","v":1470227.4666666666},{"$f":"IF(税金!B$3<メイン!N$18,IF(N12>0,N12/N$18,0),メイン!N12/メイン!N$17)","v":7.5001907491451414E-2},0,{"$f":"N12+P12-税金!B$3*メイン!O12","v":1457842.7016902331},0.374267301415243,1179821.7115399891,0.28271308902824932,5818543,8.4833994542852606E-2,5353033.9090909092,8.5739032930496284E-2,1457842.7016902331,0.34933347088024397,1179821.7115399891,0.28271308902824932,4921501.725747806,{"$f":"ROUND(AD$17*H12,0)","v":129},12699,12570,1,3634,3763,5356667.9090909092,-435166,{"$f":"AF12+AF13+AK12+AK13","v":-242199},{"$f":"IF(AL12<300,AL12*-1+300,0)","v":242499},{"$f":"IF(AL12>300,AL12-(AL12-300)/AL$18*AM$18,300)","v":300},{"$f":"IF(AN12>300,IF(AN12>50300,50000,AN12-300),0)","v":0},{"$f":"IF(SUM(AO$3:AO11)>50000-1100,0,IF(SUM(AO$3:AO12)>50000-1100,50000-1100-SUM(AO$3:AO11),AO12))","v":0},{"$f":"ROUND(AP12+100,0)","v":100},{"$f":"IF(AN12-AQ12>200,IF(AN12-AQ12>50200,50000,AN12-AQ12-200),0)","v":0},{"$f":"IF(SUM(AR$3:AR11)>50000-1100,0,IF(SUM(AR$3:AR12)>50000-1100,50000-1100-SUM(AR$3:AR11),AR12))","v":0},{"$f":"ROUND(AS12+100,0)","v":100},null,{"$f":"ROUND(AN12-AQ12-AT12,0)","v":100},null,100,"?eventType=init&contractNo=701902790&reserveViewRoot=1&type=order&sub_type=fu&local=null&gmn=F&smn=06&lmn=03&fmn=01",100,"?eventType=init&contractNo=701952146&reserveViewRoot=1&type=order&sub_type=fu&local=null#anchor",100,"?eventType=init&contractNo=701859500&reserveViewRoot=1&type=null&sub_type=null&local=null&gmn=F&smn=06&lmn=03&fmn=01#anchor",null,{"$f":"IF(AL12<0,AL12*-1,0)","v":242199},{"$f":"ROUND(IF(AL12>0,AL12-AL12/AL$18*BE$18,0),0)","v":0},"?eventType=init&dscrCd=5612885&SS_URL=detail/index.html&gmn=F&smn=01&lmn=&fmn="]
["日本株個別",0.05,{"$f":"C11","v":0.78968382260696424},3.9484191130348213E-2,3.9484191130348213E-2,4.3432610243383039E-2,null,null,{"$f":"L13","v":2538273.3999999994},3.7007868080354119E-2,-2.4763230499940947E-3,{"$f":"SUM(ﾈｵﾓﾊﾞ一覧!C:C)","v":2538273.3999999994},4.0655282653750659E-2,{"$f":"SUM(ﾈｵﾓﾊﾞ一覧!D:D)","v":834592},null,{"$f":"SUM(個別履歴!L:L)","v":34793},{"$f":"N13+P13","v":869385},0.52093657071377586,{"$f":"IF(N13>0,N13-N13*20.315%,N13)+P13","v":699837.63520000002},0.38067015916443198,2538273.3999999994,3.7007868080354119E-2,2538273.3999999994,4.0655282653750659E-2,869385,0.47289386806211259,699837.63520000002,0.38067015916443198,2711673.1720269104,null,6997,6997,1,0,0,2538273.3999999994,173400]
["新興国株",0.1,{"$f":"C12","v":0.78968382260696424},7.8968382260696426E-2,7.8968382260696426E-2,8.6865220486766079E-2,0.2,{"$f":"G14","v":0.2},{"$f":"L14-VLOOKUP(\"グローバル3倍3分法ファンド(1年決算型)特定保有中再投資型\",'楽天ﾄｰﾀﾙ（VLOOKUP）'!A:L,6,FALSE)*H14+VLOOKUP(\"グローバル3倍3分法ファンド(1年決算型)特定保有中再投資型\",'楽天ﾄｰﾀﾙ（VLOOKUP）'!A:L,6,FALSE)*G14","v":5420986},7.9037638243952199E-2,6.9255983255772646E-5,{"$f":"VLOOKUP(\"eMAXIS Slim 新興国株式インデックス特定保有中再投資型\",'楽天ﾄｰﾀﾙ（VLOOKUP）'!A:L,6,FALSE)+VLOOKUP(\"eMAXIS Slim 新興国株式インデックス特定保有中受取型\",'楽天ﾄｰﾀﾙ（VLOOKUP）'!A:L,6,FALSE)+VLOOKUP(\"グローバル3倍3分法ファンド(1年決算型)特定保有中再投資型\",'楽天ﾄｰﾀﾙ（VLOOKUP）'!A:L,6,FALSE)*H14","v":5420986},8.6827415081458609E-2,{"$f":"VLOOKUP(\"eMAXIS Slim 新興国株式インデックス特定すべて再投資型\",'楽天ﾄｰﾀﾙ（VLOOKUP）'!A:L,12,FALSE)+VLOOKUP(\"eMAXIS Slim 新興国株式インデックス特定すべて受取型\",'楽天ﾄｰﾀﾙ（VLOOKUP）'!A:L,12,FALSE)+VLOOKUP(\"グローバル3倍3分法ファンド(1年決算型)特定すべて再投資型\",'楽天ﾄｰﾀﾙ（VLOOKUP）'!A:L,12,FALSE)*G14/3","v":1256216.4666666666},{"$f":"IF(税金!B$3<メイン!N$18,IF(N14>0,N14/N$18,0),メイン!N14/メイン!N$17)","v":6.4084390584666417E-2},0,{"$f":"N14+P14-税金!B$3*メイン!O14","v":1245634.467586983},0.29833044186033042,1008083.0996360456,0.22843990053642554,5420986,7.9037638243952199E-2,5420986,8.6827415081458609E-2,1245634.467586983,0.28227098934904032,1008083.0996360456,0.22843990053642554,5423346.3440538207,{"$f":"ROUND(AD$17*H14,0)","v":1424},13994,12570,1,39969,41393,5460955,-37609,-25039,{"$f":"IF(AL14<300,AL14*-1+300,0)","v":25339},{"$f":"IF(AL14>300,AL14-(AL14-300)/AL$18*AM$18,300)","v":300},{"$f":"IF(AN14>300,IF(AN14>50300,50000,AN14-300),0)","v":0},{"$f":"IF(SUM(AO$3:AO13)>50000-1100,0,IF(SUM(AO$3:AO14)>50000-1100,50000-1100-SUM(AO$3:AO13),AO14))","v":0},{"$f":"ROUND(AP14+100,0)","v":100},{"$f":"IF(AN14-AQ14>200,IF(AN14-AQ14>50200,50000,AN14-AQ14-200),0)","v":0},{"$f":"IF(SUM(AR$3:AR13)>50000-1100,0,IF(SUM(AR$3:AR14)>50000-1100,50000-1100-SUM(AR$3:AR13),AR14))","v":0},{"$f":"ROUND(AS14+100,0)","v":100},null,{"$f":"ROUND(AN14-AQ14-AT14,0)","v":100},null,100,"?eventType=init&contractNo=701902791&reserveViewRoot=1&type=order&sub_type=fu&local=null&gmn=F&smn=06&lmn=03&fmn=01#anchor",1912,"?eventType=init&contractNo=701952149&reserveViewRoot=1&type=order&sub_type=fu&local=null#anchor",9856,"?eventType=init&contractNo=701859503&reserveViewRoot=1&type=null&sub_type=null&local=null&gmn=F&smn=06&lmn=03&fmn=01#anchor",null,{"$f":"IF(AL14<0,AL14*-1,0)","v":25039},{"$f":"ROUND(IF(AL14>0,AL14-AL14/AL$18*BE$18,0),0)","v":0},"?eventType=init&dscrCd=5613812&SS_URL=detail/index.html&gmn=F&smn=01&lmn=&fmn="]
["先進国RIET",0.75,{"$f":"(100%-C3-C7)*5%","v":4.1562306452998118E-2},3.1171729839748589E-2,3.1171729839748585E-2,3.4288902823723447E-2,0.2,{"$f":"G15","v":0.2},{"$f":"L15-VLOOKUP(\"グローバル3倍3分法ファンド(1年決算型)特定保有中再投資型\",'楽天ﾄｰﾀﾙ（VLOOKUP）'!A:L,6,FALSE)*H15+VLOOKUP(\"グローバル3倍3分法ファンド(1年決算型)特定保有中再投資型\",'楽天ﾄｰﾀﾙ（VLOOKUP）'!A:L,6,FALSE)*G15","v":2060683},3.0044629794185439E-2,-1.1271000455631494E-3,{"$f":"VLOOKUP(\"たわらノーロード 先進国リート特定保有中再投資型\",'楽天ﾄｰﾀﾙ（VLOOKUP）'!A:L,6,FALSE)+VLOOKUP(\"たわらノーロード 先進国リート特定保有中受取型\",'楽天ﾄｰﾀﾙ（VLOOKUP）'!A:L,6,FALSE)+VLOOKUP(\"eMAXIS Slim 先進国リートインデックス特定保有中再投資型\",'楽天ﾄｰﾀﾙ（VLOOKUP）'!A:L,6,FALSE)+VLOOKUP(\"グローバル3倍3分法ファンド(1年決算型)特定保有中再投資型\",'楽天ﾄｰﾀﾙ（VLOOKUP）'!A:L,6,FALSE)*H15","v":2060683},3.3005762824752795E-2,{"$f":"VLOOKUP(\"たわらノーロード 先進国リート特定すべて再投資型\",'楽天ﾄｰﾀﾙ（VLOOKUP）'!A:L,12,FALSE)+VLOOKUP(\"たわらノーロード 先進国リート特定すべて受取型\",'楽天ﾄｰﾀﾙ（VLOOKUP）'!A:L,12,FALSE)+VLOOKUP(\"eMAXIS Slim 先進国リートインデックス特定すべて再投資型\",'楽天ﾄｰﾀﾙ（VLOOKUP）'!A:L,12,FALSE)+VLOOKUP(\"グローバル3倍3分法ファンド(1年決算型)特定すべて再投資型\",'楽天ﾄｰﾀﾙ（VLOOKUP）'!A:L,12,FALSE)*G15/3","v":420017.46666666667},{"$f":"IF(税金!B$3<メイン!N$18,IF(N15>0,N15/N$18,0),メイン!N15/メイン!N$17)","v":2.1426692055447324E-2},0,{"$f":"N15+P15-税金!B$3*メイン!O15","v":416479.36271431891},0.25330156999400644,337053.78088389931,0.19554889018227764,2060683,3.0044629794185439E-2,2060683,3.3005762824752795E-2,416479.36271431891,0.24162932381007959,337053.78088389931,0.19554889018227764,2140794.6094949287,{"$f":"ROUND(AD$17*H15,0)","v":1424},5524,4100,1,39969,41393,2100652,40143,44243,{"$f":"IF(AL15<300,AL15*-1+300,0)","v":0},{"$f":"IF(AL15>300,AL15-(AL15-300)/AL$18*AM$18,300)","v":2500.9747370064142},{"$f":"IF(AN15>300,IF(AN15>50300,50000,AN15-300),0)","v":2200.9747370064142},{"$f":"IF(SUM(AO$3:AO14)>50000-1100,0,IF(SUM(AO$3:AO15)>50000-1100,50000-1100-SUM(AO$3:AO14),AO15))","v":0},{"$f":"ROUND(AP15+100,0)","v":100},{"$f":"IF(AN15-AQ15>200,IF(AN15-AQ15>50200,50000,AN15-AQ15-200),0)","v":2200.9747370064142},{"$f":"IF(SUM(AR$3:AR14)>50000-1100,0,IF(SUM(AR$3:AR15)>50000-1100,50000-1100-SUM(AR$3:AR14),AR15))","v":0},{"$f":"ROUND(AS15+100,0)","v":100},null,{"$f":"ROUND(AN15-AQ15-AT15,0)","v":2301},null,100,"?eventType=init&contractNo=701902793&reserveViewRoot=1&type=order&sub_type=fu&local=null&gmn=F&smn=06&lmn=03&fmn=01",100,"?eventType=init&contractNo=701952151&reserveViewRoot=1&type=order&sub_type=fu&local=null#anchor",3836,"?eventType=init&contractNo=701902770&reserveViewRoot=1&type=&sub_type=&local=&gmn=F&smn=06&lmn=03&fmn=01",null,{"$f":"IF(AL15<0,AL15*-1,0)","v":0},{"$f":"ROUND(IF(AL15>0,AL15-AL15/AL$18*BE$18,0),0)","v":2592},"?eventType=init&dscrCd=5613881&SS_URL=detail/index.html&gmn=F&smn=01&lmn=&fmn="]
["J-RIET",{"$f":"100%-B15","v":0.25},{"$f":"C15","v":4.1562306452998118E-2},1.039057661324953E-2,1.0390576613249528E-2,1.1429634274574482E-2,0.2,{"$f":"G16","v":0.2},{"$f":"L16-VLOOKUP(\"グローバル3倍3分法ファンド(1年決算型)特定保有中再投資型\",'楽天ﾄｰﾀﾙ（VLOOKUP）'!A:L,6,FALSE)*H16+VLOOKUP(\"グローバル3倍3分法ファンド(1年決算型)特定保有中再投資型\",'楽天ﾄｰﾀﾙ（VLOOKUP）'!A:L,6,FALSE)*G16","v":677702},9.8808529505892279E-3,-5.0972366266030175E-4,{"$f":"VLOOKUP(\"Smart-i Jリートインデックス特定保有中再投資型\",'楽天ﾄｰﾀﾙ（VLOOKUP）'!A:L,6,FALSE)+VLOOKUP(\"Smart-i Jリートインデックス特定保有中受取型\",'楽天ﾄｰﾀﾙ（VLOOKUP）'!A:L,6,FALSE)+VLOOKUP(\"eMAXIS Slim 国内リートインデックス特定保有中再投資型\",'楽天ﾄｰﾀﾙ（VLOOKUP）'!A:L,6,FALSE)+VLOOKUP(\"グローバル3倍3分法ファンド(1年決算型)特定保有中再投資型\",'楽天ﾄｰﾀﾙ（VLOOKUP）'!A:L,6,FALSE)*H16","v":677702},1.0854688216412044E-2,{"$f":"VLOOKUP(\"Smart-i Jリートインデックス特定すべて再投資型\",'楽天ﾄｰﾀﾙ（VLOOKUP）'!A:L,12,FALSE)+VLOOKUP(\"Smart-i Jリートインデックス特定すべて受取型\",'楽天ﾄｰﾀﾙ（VLOOKUP）'!A:L,12,FALSE)+VLOOKUP(\"eMAXIS Slim 国内リートインデックス特定すべて再投資型\",'楽天ﾄｰﾀﾙ（VLOOKUP）'!A:L,12,FALSE)+VLOOKUP(\"グローバル3倍3分法ファンド(1年決算型)特定すべて再投資型\",'楽天ﾄｰﾀﾙ（VLOOKUP）'!A:L,12,FALSE)*G16/3","v":15691.466666666667},{"$f":"IF(税金!B$3<メイン!N$18,IF(N16>0,N16/N$18,0),メイン!N16/メイン!N$17)","v":8.004815295736508E-4},0,{"$f":"N16+P16-税金!B$3*メイン!O16","v":15559.286353614289},2.3498387935027031E-2,12592.019588106836,1.8932236711150803E-2,677702,9.8808529505892279E-3,677702,1.0854688216412044E-2,15559.286353614289,2.3393554166753958E-2,12592.019588106836,1.8932236711150803E-2,713598.20316497632,{"$f":"ROUND(AD$17*H16,0)","v":1424},{"$f":"ROUND(AE$17*$F16,0)","v":1841},417,1,39969,41393,717671,-4073,{"$f":"AK16+AF16","v":-3656},{"$f":"IF(AL16<300,AL16*-1+300,0)","v":3956},{"$f":"IF(AL16>300,AL16-(AL16-300)/AL$18*AM$18,300)","v":300},{"$f":"IF(AN16>300,IF(AN16>50300,50000,AN16-300),0)","v":0},{"$f":"IF(SUM(AO$3:AO15)>50000-1100,0,IF(SUM(AO$3:AO16)>50000-1100,50000-1100-SUM(AO$3:AO15),AO16))","v":0},{"$f":"ROUND(AP16+100,0)","v":100},{"$f":"IF(AN16-AQ16>200,IF(AN16-AQ16>50200,50000,AN16-AQ16-200),0)","v":0},{"$f":"IF(SUM(AR$3:AR15)>50000-1100,0,IF(SUM(AR$3:AR16)>50000-1100,50000-1100-SUM(AR$3:AR15),AR16))","v":0},{"$f":"ROUND(AS16+100,0)","v":100},null,{"$f":"ROUND(AN16-AQ16-AT16,0)","v":100},null,100,"?eventType=init&contractNo=701902794&reserveViewRoot=1&type=order&sub_type=fu&local=null&gmn=F&smn=06&lmn=03&fmn=01#anchor",100,"?eventType=init&contractNo=701952145&reserveViewRoot=1&type=order&sub_type=fu&local=null#anchor",103,"?eventType=init&contractNo=701859506&reserveViewRoot=1&type=null&sub_type=null&local=null&gmn=F&smn=06&lmn=03&fmn=01#anchor",null,{"$f":"IF(AL16<0,AL16*-1,0)","v":3656},{"$f":"ROUND(IF(AL16>0,AL16-AL16/AL$18*BE$18,0),0)","v":0},"?eventType=init&dscrCd=5613880&SS_URL=detail/index.html&gmn=F&smn=01&lmn=&fmn="]
[null,null,null,{"$f":"SUM(D3:D16)","v":1},{"$f":"SUM(E3:E16)","v":0.90909090909090906},1,{"$f":"SUM(G3:G16)","v":3.0000000000000009},{"$f":"SUM(H3:H16)","v":1},{"$f":"SUM(I3:I16)","v":68587398.617199987},{"$f":"SUM(J3:J16)","v":1.0000000000000002},{"$f":"(IF(I17*D3-I3>0,I17*D3-I3,0)+IF(I17*D4-I4>0,I17*D4-I4,0)+IF(I17*D5-I5>0,I17*D5-I5,0)+IF(I17*D6-I6>0,I17*D6-I6,0)+IF(I17*D7-I7>0,I17*D7-I7,0)+IF(I17*D8-I8>0,I17*D8-I8,0)+IF(I17*D9-I9>0,I17*D9-I9,0)+IF(I17*D10-I10>0,I17*D10-I10,0)+IF(I17*D11-I11>0,I17*D11-I11,0)+IF(I17*D12-I12>0,I17*D12-I12,0)+IF(I17*D13-I13>0,I17*D13-I13,0)+IF(I17*D14-I14>0,I17*D14-I14,0)+IF(I17*D15-I15>0,I17*D15-I15,0)+IF(I17*D16-I16>0,I17*D16-I16,0))/I17","v":4.5657634541349836E-2},{"$f":"SUM(L3:L16)","v":62434036.472399995},{"$f":"SUM(M3:M16)","v":1.0000000000000002},{"$f":"SUM(N3:N16)-N13","v":19059700.999999993},null,{"$f":"SUM(P3:P16)","v":2096394.8467999999},{"$f":"SUM(Q3:Q16)","v":21825561.846800003},0.53746322776283129,{"$f":"SUM(S3:S16)","v":17949162.223849997},0.40348910786086029,{"$f":"SUM(U3:U16)","v":68587398.617199987},{"$f":"SUM(V3:V16)","v":1.0000000000000002},{"$f":"SUM(W3:W16)","v":62434036.472399995},{"$f":"SUM(X3:X16)","v":1.0000000000000002},{"$f":"SUM(Y3:Y16)","v":21825561.846800003},0.49062883093372833,{"$f":"SUM(AA3:AA16)","v":17949162.223849997},{"$f":"AA17/(L17-AA17)","v":0.40348910786086029},{"$f":"SUM(AC3:AC16)","v":62434036.47240001},{"$f":"ROUND(AE17*F6/H6,0)","v":7122},{"$f":"140000+21100","v":161100},{"$f":"AE17-AD17","v":153978},null,{"$f":"ROUND(AH6/H6,0)","v":199843},206965,{"$f":"SUM(AJ3:AJ16)","v":62633881.472399995},{"$f":"AH17*-1","v":-199843},{"$f":"AI17","v":206965},{"$f":"IF(AL17<300,AL17*-1+300,0)","v":0},{"$f":"IF(AL17>300,AL17-(AL17-300)/AL$18*AM$18,300)","v":10651.237831359467},{"$f":"IF(AN17>300,IF(AN17>50300,50000,AN17-300),0)","v":10351.237831359467},{"$f":"IF(SUM(AO$3:AO16)>50000-1100,0,IF(SUM(AO$3:AO17)>50000-1100,50000-1100-SUM(AO$3:AO16),AO17))","v":0},{"$f":"ROUND(AP17+100,0)","v":100},{"$f":"IF(AN17-AQ17>200,IF(AN17-AQ17>50200,50000,AN17-AQ17-200),0)","v":10351.237831359467},{"$f":"IF(SUM(AR$3:AR16)>50000-1100,0,IF(SUM(AR$3:AR17)>50000-1100,50000-1100-SUM(AR$3:AR16),AR17))","v":0},{"$f":"ROUND(AS17+100,0)","v":100},null,{"$f":"ROUND(AN17-AQ17-AT17,0)","v":10451},null,100,"?eventType=init&contractNo=701902796&reserveViewRoot=1&type=&sub_type=&local=&gmn=F&smn=06&lmn=03&fmn=01",100,"?eventType=init&contractNo=701952156&reserveViewRoot=1&type=order&sub_type=fu&local=null#anchor",25505,"?eventType=init&contractNo=701762783&reserveViewRoot=1&type=null&sub_type=null&local=null&gmn=F&smn=06&lmn=03&fmn=01#anchor",null,{"$f":"IF(AL17<0,AL17*-1,0)","v":0},{"$f":"ROUND(IF(AL17>0,AL17-AL17/AL$18*BE$18,0),0)","v":12126},"?eventType=init&dscrCd=5013835&SS_URL=detail/index.html&gmn=F&smn=01&lmn=&fmn="]
[null,null,null,null,null,null,null,null,{"$f":"I17*('15年'!C$70*2)","v":20817048.388102002},null,null,{"$f":"L17-I18","v":41616988.084297992},{"$f":"I18/L17/2","v":0.16671233804740884},{"$f":"IF(N3>0,N3,0)+IF(N4>0,N4,0)+IF(N5>0,N5,0)+IF(N6>0,N6,0)+IF(N7>0,N7,0)+IF(N8>0,N8,0)+IF(N9>0,N9,0)+IF(N10>0,N10,0)+IF(N11>0,N11,0)+IF(N12>0,N12,0)+IF(N14>0,N14,0)+IF(N15>0,N15,0)+IF(N16>0,N16,0)","v":19602534.333333328},null,null,null,null,null,null,null,null,null,null,null,null,null,null,null,null,{"$f":"140000+21100","v":161100},null,null,null,null,null,null,{"$f":"IF(AL3>300,AL3-300,0)+IF(AL4>300,AL4-300,0)+IF(AL5>300,AL5-300,0)+IF(AL6>300,AL6-300,0)+IF(AL7>300,AL7-300,0)+IF(AL8>300,AL8-300,0)+IF(AL9>300,AL9-300,0)+IF(AL10>21400,AL10-21400,0)+IF(AL11>300,AL11-300,0)+IF(AL12>300,AL12-300,0)+IF(AL13>300,AL13-300,0)+IF(AL14>300,AL14-300,0)+IF(AL15>300,AL15-300,0)+IF(AL16>300,AL16-300,0)+IF(AI17>300,AI17-300,0)","v":2729249},{"$f":"SUM(AM3:AM17)","v":2592549},{"$f":"AL18-AM18","v":136700},{"$f":"IF(AN18>300,IF(AN18>50300,50000,AN18-300),0)","v":50000},null,{"$f":"AN18+300*10+21400","v":161100},{"$f":"IF(AN18-AQ18>200,IF(AN18-AQ18>50200,50000,AN18-AQ18-200),0)","v":0},null,null,null,null,null,null,null,null,null,null,null,null,{"$f":"SUM(BE3:BE17)","v":2569349}]
["家計\n/資産クラス",null,null,null,null,"←100%\n換算","グロ3","グロ3","レバレッジ換算後\n評価額","比率","乖離","レバレッジ換算前\n評価額","比率","評価\n損益\n税引前","比率","非課税\n損益","評価\n損益\n実税引","損益率","評価\n損益\n理論税引","損益率","レバレッジ換算後\n評価額","比率","レバレッジ換算前\n評価額","比率","評価\n損益\n実税引","損益率","評価\n損益\n理論税引","損益率","レバ無\nリバランス","グロ3\n積立額レバ無","積立額\nレバ無\nグロ有","積立額\nレバ無\nグロ無","期間","GAP分散ﾘﾊﾞﾗﾝｽ(ｸﾞﾛ3)","積立額/月(ｸﾞﾛ3)","ギャップ\nリバランス結果(グロ3分)","GAP\n分散ﾘﾊﾞﾗﾝｽ","月当たり\n積立額",null,"月当たり積立額（調整後)",null,null,"カード枠積立設定",null,null,"カード枠積立設定\n美貴",null,"カード以外積立設定",null,"現在値","URL","現在値","URL","現在値","URL",null,null,"スポット\n購入設定"]
["国内債券",{"$f":"B3","v":0.35},0.16369125481183655,5.7291939184142791E-2,4.2677398588809805E-2,4.6945138447690792E-2,0.4,3.6363636363636369E-2,{"$f":"L20-VLOOKUP(\"日興－グローバル３倍３分法ファンド（１年決算型）特定/一般\",'元(SBI夫)VLOOKUP'!A:L,6,FALSE)*H20+VLOOKUP(\"日興－グローバル３倍３分法ファンド（１年決算型）特定/一般\",'元(SBI夫)VLOOKUP'!A:L,6,FALSE)*G20-VLOOKUP(\"グローバル3倍3分法ファンド(1年決算型)特定保有中再投資型\",'楽天 子(VLOOKUP)'!A:L,6,FALSE)*H20+VLOOKUP(\"グローバル3倍3分法ファンド(1年決算型)特定保有中再投資型\",'楽天 子(VLOOKUP)'!A:L,6,FALSE)*G20-VLOOKUP(\"日興－グローバル３倍３分法ファンド（１年決算型）特定/一般\",'元(SBI妻)VLOOKUP'!A:L,6,FALSE)*H20+VLOOKUP(\"日興－グローバル３倍３分法ファンド（１年決算型）特定/一般\",'元(SBI妻)VLOOKUP'!A:L,6,FALSE)*G20","v":1476499},{"$f":"I20/I$33","v":4.5449634274246954E-2},{"$f":"J20-D20","v":-1.1842304909895837E-2},{"$f":"VLOOKUP(\"eMAXIS Slim 国内債券インデックス特定保有中再投資型\",'楽天 子(VLOOKUP)'!A:L,6,FALSE)+VLOOKUP(\"三菱ＵＦＪ国際－ｅＭＡＸＩＳ　Ｓｌｉｍ　国内債券インデックス特定/一般\",'元(SBI夫)VLOOKUP'!A:L,6,FALSE)+VLOOKUP(\"三菱ＵＦＪ国際－ｅＭＡＸＩＳ　Ｓｌｉｍ　国内債券インデックスNISA/つみたてNISA\",'元(SBI夫)VLOOKUP'!A:L,6,FALSE)+VLOOKUP(\"日興－グローバル３倍３分法ファンド（１年決算型）特定/一般\",'元(SBI夫)VLOOKUP'!A:L,6,FALSE)*H20+VLOOKUP(\"グローバル3倍3分法ファンド(1年決算型)特定保有中再投資型\",'楽天 子(VLOOKUP)'!A:L,6,FALSE)*H20+VLOOKUP(\"日興－グローバル３倍３分法ファンド（１年決算型）特定/一般\",'元(SBI妻)VLOOKUP'!A:L,6,FALSE)*H20+VLOOKUP(\"三菱ＵＦＪ国際－ｅＭＡＸＩＳ　Ｓｌｉｍ　国内債券インデックス特定/一般\",'元(SBI妻)VLOOKUP'!A:L,6,FALSE)","v":1020653.5454545454},{"$f":"L20/L$33","v":3.4527438403585249E-2},{"$f":"VLOOKUP(\"eMAXIS Slim 国内債券インデックス特定すべて再投資型\",'楽天 子(VLOOKUP)'!A:L,12,FALSE)+VLOOKUP(\"三菱ＵＦＪ国際－ｅＭＡＸＩＳ　Ｓｌｉｍ　国内債券インデックス特定/一般\",'元(SBI夫)VLOOKUP'!A:L,12,FALSE)+VLOOKUP(\"日興－グローバル３倍３分法ファンド（１年決算型）特定/一般\",'元(SBI夫)VLOOKUP'!A:L,12,FALSE)*G20/3+VLOOKUP(\"グローバル3倍3分法ファンド(1年決算型)特定すべて再投資型\",'楽天 子(VLOOKUP)'!A:L,12,FALSE)*G20/3+VLOOKUP(\"日興－グローバル３倍３分法ファンド（１年決算型）特定/一般\",'元(SBI妻)VLOOKUP'!A:L,12,FALSE)*G20/3+VLOOKUP(\"三菱ＵＦＪ国際－ｅＭＡＸＩＳ　Ｓｌｉｍ　国内債券インデックス特定/一般\",'元(SBI妻)VLOOKUP'!A:L,12,FALSE)","v":-38432.799999999996},{"$f":"IF(税金!C$3<メイン!N$34,IF(N20>0,N20/N$34,0),メイン!N20/メイン!N$33)","v":0},{"$f":"+VLOOKUP(\"三菱ＵＦＪ国際－ｅＭＡＸＩＳ　Ｓｌｉｍ　国内債券インデックスNISA/つみたてNISA\",'元(SBI夫)VLOOKUP'!A:L,12,FALSE)","v":-2369},{"$f":"N20+P20-税金!C$3*メイン!O20","v":-40801.799999999996},{"$f":"Q20/($L20-Q20)","v":-3.843948798668257E-2},{"$f":"IF(AND(N20>0,N$33>0),N20-N$33*20.315%*O20,N20)+P20","v":-40801.799999999996},{"$f":"S20/($L20-S20)","v":-3.843948798668257E-2},{"$f":"I20","v":1476499},{"$f":"U20/U$33","v":4.5056268527170762E-2},{"$f":"L20","v":1020653.5454545454},{"$f":"W20/W$33","v":3.4199307296787156E-2},{"$f":"Q20+SUM(個別履歴!H:H)","v":711212.7},{"$f":"Y20/(W20-AA20)","v":2.2983801603672642},{"$f":"S20+SUM(個別履歴!H:H)","v":711212.7},{"$f":"AA20/(W20-AA20)","v":2.2983801603672642},{"$f":"L$33*F20","v":1387728.8386825346},{"$f":"ROUND(AD$33*H20,0)","v":302},{"$f":"ROUND(AE$33*$F20,0)","v":8816},{"$f":"AE20-AD20","v":8514},1,{"$f":"ROUND(AH$33*H20,0)","v":1937},{"$f":"AH20+AD20","v":2239},{"$f":"L20+AH20*AG20","v":1022590.5454545454},{"$f":"ROUND((AC20-AJ20)/AG20,0)","v":365138},{"$f":"AK20+AF20","v":373652},{"$f":"IF(AL20<300,AL20*-1+300,0)","v":0},{"$f":"IF(AL20>300,AL20-(AL20-300)/AL$34*AM$34,300)","v":37752.827809530601},{"$f":"IF(AN20>300,IF(AN20>50300,50000,AN20-300),0)","v":37452.827809530601},{"$f":"IF(AO20>50000-1100,50000-1100,AO20)","v":37452.827809530601},{"$f":"ROUND(AP20+100,0)","v":37553},{"$f":"IF(AN20-AQ20>200,IF(AN20-AQ20>16867,16667,AN20-AQ20-200),0)","v":0},{"$f":"IF(AR20>16667-1100,16667-1100,AR20)","v":0},{"$f":"ROUND(AS20+100,0)","v":100},null,{"$f":"ROUND(AN20-AQ20-AT20,0)","v":100},null,25797,"https://site0.sbisec.co.jp/marble/fund/detail/achievement.do?Param6=203318172",100,{"$f":"AY20","v":"https://site0.sbisec.co.jp/marble/fund/detail/achievement.do?Param6=203318172"},100,{"$f":"AY20","v":"https://site0.sbisec.co.jp/marble/fund/detail/achievement.do?Param6=203318172"},null,{"$f":"IF(AL20<0,AL20*-1,0)","v":0},{"$f":"ROUND(IF(AL20>0,AL20-AL20/AL$35*BE$34,0),0)","v":54194}]
["外国債券ﾍｯｼﾞ",0.2571630173928186,0.16369125481183655,4.2095337008228623E-2,4.2095337008228623E-2,4.6304870709051489E-2,0,0,{"$f":"L21","v":775286},2.3864875735062348E-2,{"$f":"J21-D21","v":-1.8230461273166274E-2},{"$f":"VLOOKUP(\"Smart-i 先進国債券インデックス(為替ヘッジあり)特定保有中再投資型\",'楽天 子(VLOOKUP)'!A:L,6,FALSE)+VLOOKUP(\"りそな－Ｓｍａｒｔ－ｉ　先進国債券インデックス（為替ヘッジあり）特定/一般\",'元(SBI夫)VLOOKUP'!A:L,6,FALSE)+VLOOKUP(\"三菱ＵＦＪ国際－ｅＭＡＸＩＳ　Ｓｌｉｍ　先進国債券インデックス特定/一般\",'元(SBI夫)VLOOKUP'!A:L,6,FALSE)+VLOOKUP(\"Ｏｎｅ－たわらノーロード　先進国債券特定/一般\",'元(SBI夫)VLOOKUP'!A:L,6,FALSE)+VLOOKUP(\"Ｏｎｅ－たわらノーロード　先進国債券NISA/つみたてNISA\",'元(SBI夫)VLOOKUP'!A:L,6,FALSE)+VLOOKUP(\"りそな－Ｓｍａｒｔ－ｉ　先進国債券インデックス（為替ヘッジあり）特定/一般\",'元(SBI妻)VLOOKUP'!A:L,6,FALSE)","v":775286},2.6226959901697738E-2,{"$f":"VLOOKUP(\"Smart-i 先進国債券インデックス(為替ヘッジあり)特定すべて再投資型\",'楽天 子(VLOOKUP)'!A:L,12,FALSE)+VLOOKUP(\"りそな－Ｓｍａｒｔ－ｉ　先進国債券インデックス（為替ヘッジあり）特定/一般\",'元(SBI夫)VLOOKUP'!A:L,12,FALSE)+VLOOKUP(\"三菱ＵＦＪ国際－ｅＭＡＸＩＳ　Ｓｌｉｍ　先進国債券インデックス特定/一般\",'元(SBI夫)VLOOKUP'!A:L,12,FALSE)+VLOOKUP(\"Ｏｎｅ－たわらノーロード　先進国債券特定/一般\",'元(SBI夫)VLOOKUP'!A:L,12,FALSE)+VLOOKUP(\"りそな－Ｓｍａｒｔ－ｉ　先進国債券インデックス（為替ヘッジあり）特定/一般\",'元(SBI妻)VLOOKUP'!A:L,12,FALSE)","v":-210551},{"$f":"IF(税金!C$3<メイン!N$34,IF(N21>0,N21/N$34,0),メイン!N21/メイン!N$33)","v":0},{"$f":"VLOOKUP(\"Ｏｎｅ－たわらノーロード　先進国債券NISA/つみたてNISA\",'元(SBI夫)VLOOKUP'!A:L,12,FALSE)","v":1204},{"$f":"N21+P21-税金!C$3*メイン!O21","v":-209347},-0.21261424307330751,-209347,{"$f":"S21/($L21-S21)","v":-0.21261424307330751},{"$f":"I21","v":775286},2.3658325675368633E-2,775286,2.5977712295202852E-2,{"$f":"Q21","v":-209347},{"$f":"Y21/(W21-AA21)","v":-0.21261424307330751},{"$f":"S21","v":-209347},-0.21261424307330751,{"$f":"L$33*F21","v":1368802.1077202251},null,{"$f":"ROUND(AE$33*$F21,0)","v":8696},{"$f":"AE21-AD21","v":8696},{"$f":"AG20","v":1},null,0,775286,{"$f":"ROUND((AC21-AJ21)/AG21,0)","v":593516},602212,{"$f":"IF(AL21<300,AL21*-1+300,0)","v":0},{"$f":"IF(AL21>300,AL21-(AL21-300)/AL$34*AM$34,300)","v":60680.837634431315},{"$f":"IF(AN21>300,IF(AN21>50300,50000,AN21-300),0)","v":50000},{"$f":"IF(SUM(AO$20:AO20)>50000-1100,0,IF(SUM(AO$20:AO21)>50000-1100,50000-1100-SUM(AO$20:AO20),AO21))","v":11447.172190469399},{"$f":"ROUND(AP21+100,0)","v":11547},{"$f":"IF(AN21-AQ21>200,IF(AN21-AQ21>16867,16667,AN21-AQ21-200),0)","v":16667},{"$f":"IF(SUM(AR$20:AR20)>16667-1100,0,IF(SUM(AR$20:AR21)>16667-1100,16667-1100-SUM(AR$20:AR20),AR21))","v":15567},{"$f":"ROUND(AS21+100,0)","v":15667},null,{"$f":"ROUND(AN21-AQ21-AT21,0)","v":33467},null,23303,"https://site0.sbisec.co.jp/marble/fund/detail/achievement.do?Param6=2AJ315178",14143,{"$f":"AY21","v":"https://site0.sbisec.co.jp/marble/fund/detail/achievement.do?Param6=2AJ315178"},100,{"$f":"AY21","v":"https://site0.sbisec.co.jp/marble/fund/detail/achievement.do?Param6=2AJ315178"},null,{"$f":"IF(AL21<0,AL21*-1,0)","v":0},{"$f":"ROUND(IF(AL21>0,AL21-AL21/AL$35*BE$34,0),0)","v":87345}]
["外国債券",0,0.16369125481183655,0,0,0,0,0,{"$f":"L22","v":0},0,0,null,0,null,{"$f":"IF(税金!C$3<メイン!N$34,IF(N22>0,N22/N$34,0),メイン!N22/メイン!N$33)","v":0},null,{"$f":"N22+P22-税金!C$3*メイン!O22","v":0},{"$error":"#DIV/0!"},0,{"$error":"#DIV/0!"},0,0,0,0,0,{"$error":"#DIV/0!"},0,{"$error":"#DIV/0!"},0,null,{"$f":"ROUND(AE$33*$F22,0)","v":0},0,1,null,0,{"$f":"L22+AH22*AG22","v":0},{"$f":"ROUND((AC22-AJ22)/AG22,0)","v":0},0]
["外国債券ﾚﾊﾞ",0.39283698260718136,{"$f":"C6","v":0.16369125481183655},6.430397861946513E-2,5.8458162381331939E-3,6.4303978619465142E-3,1.6,0.14545454545454548,{"$f":"L23-VLOOKUP(\"日興－グローバル３倍３分法ファンド（１年決算型）特定/一般\",'元(SBI夫)VLOOKUP'!A:L,6,FALSE)*H23+VLOOKUP(\"日興－グローバル３倍３分法ファンド（１年決算型）特定/一般\",'元(SBI夫)VLOOKUP'!A:L,6,FALSE)*G23-VLOOKUP(\"グローバル3倍3分法ファンド(1年決算型)特定保有中再投資型\",'楽天 子(VLOOKUP)'!A:L,6,FALSE)*H23+VLOOKUP(\"グローバル3倍3分法ファンド(1年決算型)特定保有中再投資型\",'楽天 子(VLOOKUP)'!A:L,6,FALSE)*G23-VLOOKUP(\"日興－グローバル３倍３分法ファンド（１年決算型）特定/一般\",'元(SBI妻)VLOOKUP'!A:L,6,FALSE)*H23+VLOOKUP(\"日興－グローバル３倍３分法ファンド（１年決算型）特定/一般\",'元(SBI妻)VLOOKUP'!A:L,6,FALSE)*G23","v":2005719.9999999998},6.1740130170452261E-2,-2.5638484490128691E-3,{"$f":"+VLOOKUP(\"日興－グローバル３倍３分法ファンド（１年決算型）特定/一般\",'元(SBI夫)VLOOKUP'!A:L,6,FALSE)*H23+VLOOKUP(\"グローバル3倍3分法ファンド(1年決算型)特定保有中再投資型\",'楽天 子(VLOOKUP)'!A:L,6,FALSE)*H23+VLOOKUP(\"日興－グローバル３倍３分法ファンド（１年決算型）特定/一般\",'元(SBI妻)VLOOKUP'!A:L,6,FALSE)*H23","v":182338.18181818185},6.1682736217265974E-3,{"$f":"+VLOOKUP(\"日興－グローバル３倍３分法ファンド（１年決算型）特定/一般\",'元(SBI夫)VLOOKUP'!A:L,12,FALSE)*G23/3+VLOOKUP(\"グローバル3倍3分法ファンド(1年決算型)特定すべて再投資型\",'楽天 子(VLOOKUP)'!A:L,12,FALSE)*G23/3+VLOOKUP(\"日興－グローバル３倍３分法ファンド（１年決算型）特定/一般\",'元(SBI妻)VLOOKUP'!A:L,12,FALSE)*G23/3","v":-34963.200000000004},{"$f":"IF(税金!C$3<メイン!N$34,IF(N23>0,N23/N$34,0),メイン!N23/メイン!N$33)","v":0},0,{"$f":"N23+P23-税金!C$3*メイン!O23","v":-34963.200000000004},-0.16089727413355359,-34963.200000000004,-0.16089727413355359,2005719.9999999998,6.1205770481603396E-2,182338.18181818185,6.1096535055490692E-3,-34963.200000000004,-0.16089727413355359,-34963.200000000004,-0.16089727413355359,190086.74491755897,{"$f":"ROUND(AD$33*H23,0)","v":1208},{"$f":"AD23","v":1208},0,1,{"$f":"ROUND((AC23-L23)/AG23,0)","v":7749},8957,190087.18181818185,0,0]
["ゴールド",0.03,5.0626161282011301E-3,5.0626161282011362E-3,5.0626161282011362E-3,5.5688777410212503E-3,0,0,{"$f":"L24","v":487523},1.500694687248938E-2,9.9443307442882434E-3,{"$f":"VLOOKUP(\"SMT ゴールドインデックス・オープン(為替ヘッジあり)特定保有中再投資型\",'楽天 子(VLOOKUP)'!A:L,6,FALSE)+VLOOKUP(\"日興－ゴールド・ファンド（為替ヘッジあり）特定/一般\",'元(SBI夫)VLOOKUP'!A:L,6,FALSE)+VLOOKUP(\"三井住友ＴＡＭ－ＳＭＴ　ゴールドインデックス・オープン（為替ヘッジあり）特定/一般\",'元(SBI夫)VLOOKUP'!A:L,6,FALSE)+VLOOKUP(\"三井住友ＴＡＭ－ＳＭＴ　ゴールドインデックス・オープン（為替ヘッジあり）特定/一般\",'元(SBI妻)VLOOKUP'!A:L,6,FALSE)","v":487523},1.6492295968397967E-2,{"$f":"VLOOKUP(\"SMT ゴールドインデックス・オープン(為替ヘッジあり)特定すべて再投資型\",'楽天 子(VLOOKUP)'!A:L,12,FALSE)+VLOOKUP(\"日興－ゴールド・ファンド（為替ヘッジあり）特定/一般\",'元(SBI夫)VLOOKUP'!A:L,12,FALSE)+VLOOKUP(\"三井住友ＴＡＭ－ＳＭＴ　ゴールドインデックス・オープン（為替ヘッジあり）特定/一般\",'元(SBI夫)VLOOKUP'!A:L,12,FALSE)+VLOOKUP(\"三井住友ＴＡＭ－ＳＭＴ　ゴールドインデックス・オープン（為替ヘッジあり）特定/一般\",'元(SBI妻)VLOOKUP'!A:L,12,FALSE)","v":5085},{"$f":"IF(税金!C$3<メイン!N$34,IF(N24>0,N24/N$34,0),メイン!N24/メイン!N$33)","v":1.1979586558341299E-3},0,{"$f":"N24+P24-税金!C$3*メイン!O24","v":5078.5513885556447},1.0526707070985195E-2,4121.8228346771857,8.5267124479250604E-3,487523,1.487706202386312E-2,487523,1.6335561626669617E-2,5078.5513885556447,1.0505873027319469E-2,4121.8228346771857,8.5267124479250604E-3,164619.64957081893,null,{"$f":"ROUND(AE$33*$F24,0)","v":1046},1046,1,null,0,487523,-322903,-321857,{"$f":"IF(AL24<300,AL24*-1+300,0)","v":322157},{"$f":"IF(AL24>300,AL24-(AL24-300)/AL$34*AM$34,300)","v":300},{"$f":"IF(AN24>300,IF(AN24>50300,50000,AN24-300),0)","v":0},{"$f":"IF(SUM(AO$20:AO23)>50000-1100,0,IF(SUM(AO$20:AO24)>50000-1100,50000-1100-SUM(AO$20:AO23),AO24))","v":0},{"$f":"ROUND(AP24+100,0)","v":100},{"$f":"IF(AN24-AQ24>200,IF(AN24-AQ24>16867,16667,AN24-AQ24-200),0)","v":0},{"$f":"IF(SUM(AR$20:AR23)>16667-1100,0,IF(SUM(AR$20:AR24)>16667-1100,16667-1100-SUM(AR$20:AR23),AR24))","v":0},{"$f":"ROUND(AS24+100,0)","v":100},null,{"$f":"ROUND(AN24-AQ24-AT24,0)","v":100},null,100,"https://site0.sbisec.co.jp/marble/fund/detail/achievement.do?Param6=26431717B",1624,{"$f":"AY24","v":"https://site0.sbisec.co.jp/marble/fund/detail/achievement.do?Param6=26431717B"},4643,{"$f":"AY24","v":"https://site0.sbisec.co.jp/marble/fund/detail/achievement.do?Param6=26431717B"},null,{"$f":"IF(AL24<0,AL24*-1,0)","v":321857},{"$f":"ROUND(IF(AL24>0,AL24-AL24/AL$35*BE$34,0),0)","v":0}]
["米国株",3.0000000000000002E-2,0.78968382260696424,2.3690514678208929E-2,2.3690514678208929E-2,2.6059566146029823E-2,0,0,{"$f":"L25","v":818433},2.5193027918051253E-2,1.5025132398423235E-3,{"$f":"VLOOKUP(\"eMAXIS Slim 米国株式(S&P500)特定保有中再投資型\",'楽天 子(VLOOKUP)'!A:L,6,FALSE)+VLOOKUP(\"三菱ＵＦＪ国際－ｅＭＡＸＩＳ　Ｓｌｉｍ　米国株式（Ｓ＆Ｐ５００）NISA/つみたてNISA\",'元(SBI妻)VLOOKUP'!A:M,6,FALSE)+VLOOKUP(\"三菱ＵＦＪ国際－ｅＭＡＸＩＳ　Ｓｌｉｍ　米国株式（Ｓ＆Ｐ５００）NISA/つみたてNISA\",'元(SBI夫)VLOOKUP'!A:L,6,FALSE)+VLOOKUP(\"三菱ＵＦＪ国際－ｅＭＡＸＩＳ　Ｓｌｉｍ　米国株式（Ｓ＆Ｐ５００）特定/一般\",'元(SBI夫)VLOOKUP'!A:L,6,FALSE)+VLOOKUP(\"三菱ＵＦＪ国際－ｅＭＡＸＩＳ　Ｓｌｉｍ　米国株式（Ｓ＆Ｐ５００）特定/一般\",'元(SBI妻)VLOOKUP'!A:L,6,FALSE)","v":818433},2.7686569179923518E-2,{"$f":"VLOOKUP(\"eMAXIS Slim 米国株式(S&P500)特定すべて再投資型\",'楽天 子(VLOOKUP)'!A:L,12,FALSE)+VLOOKUP(\"三菱ＵＦＪ国際－ｅＭＡＸＩＳ　Ｓｌｉｍ　米国株式（Ｓ＆Ｐ５００）特定/一般\",'元(SBI夫)VLOOKUP'!A:L,12,FALSE)+VLOOKUP(\"三菱ＵＦＪ国際－ｅＭＡＸＩＳ　Ｓｌｉｍ　米国株式（Ｓ＆Ｐ５００）特定/一般\",'元(SBI妻)VLOOKUP'!A:L,12,FALSE)","v":114364},{"$f":"IF(税金!C$3<メイン!N$34,IF(N25>0,N25/N$34,0),メイン!N25/メイン!N$33)","v":2.6942643798586911E-2},{"$f":"VLOOKUP(\"三菱ＵＦＪ国際－ｅＭＡＸＩＳ　Ｓｌｉｍ　米国株式（Ｓ＆Ｐ５００）NISA/つみたてNISA\",'元(SBI妻)VLOOKUP'!A:M,12,FALSE)+VLOOKUP(\"三菱ＵＦＪ国際－ｅＭＡＸＩＳ　Ｓｌｉｍ　米国株式（Ｓ＆Ｐ５００）NISA/つみたてNISA\",'元(SBI夫)VLOOKUP'!A:L,12,FALSE)","v":164389},{"$f":"N25+P25-税金!C$3*メイン!O25","v":278607.96774843219},0.5161079073832131,257090.70042576629,0.45799274457094036,818433,2.4974982725689588E-2,818433,2.7423450193734641E-2,278607.96774843219,0.49632455626406641,257090.70042576629,0.45799274457094036,770337.73166302231,null,{"$f":"ROUND(AE$33*$F25,0)","v":4894},4894,1,null,0,818433,-48095,{"$f":"AK25+AF25+AF26+AK26","v":-80271},{"$f":"IF(AL25<300,AL25*-1+300,0)","v":80571},{"$f":"IF(AL25>300,AL25-(AL25-300)/AL$34*AM$34,300)","v":300},{"$f":"IF(AN25>300,IF(AN25>50300,50000,AN25-300),0)","v":0},{"$f":"IF(SUM(AO$20:AO24)>50000-1100,0,IF(SUM(AO$20:AO25)>50000-1100,50000-1100-SUM(AO$20:AO24),AO25))","v":0},{"$f":"ROUND(AP25+100,0)","v":100},{"$f":"IF(AN25-AQ25>200,IF(AN25-AQ25>16867,16667,AN25-AQ25-200),0)","v":0},{"$f":"IF(SUM(AR$20:AR24)>16667-1100,0,IF(SUM(AR$20:AR25)>16667-1100,16667-1100-SUM(AR$20:AR24),AR25))","v":0},{"$f":"ROUND(AS25+100,0)","v":100},null,{"$f":"ROUND(AN25-AQ25-AT25,0)","v":100},null,100,"https://site0.sbisec.co.jp/marble/fund/detail/achievement.do?Param6=203311187",100,{"$f":"AY25","v":"https://site0.sbisec.co.jp/marble/fund/detail/achievement.do?Param6=203311187"},100,{"$f":"AY25","v":"https://site0.sbisec.co.jp/marble/fund/detail/achievement.do?Param6=203311187"},null,{"$f":"IF(AL25<0,AL25*-1,0)","v":80271},{"$f":"ROUND(IF(AL25>0,AL25-AL25/AL$35*BE$34,0),0)","v":0}]
["米国株ﾚﾊﾞ",0.02,0.78968382260696424,1.5793676452139284E-2,5.264558817379761E-3,5.7910146991177374E-3,0,0,{"$f":"L26*3","v":628031.03399999999},1.9332069177274858E-2,3.5383927251355744E-3,{"$f":"15*VLOOKUP(\"SPXL\",'元(楽天)'!B:O,8,FALSE)*VLOOKUP(\"米ドル\",'元(楽天)'!A:B,2,FALSE)","v":209343.67800000001},7.0818359271029308E-3,{"$f":"(VLOOKUP(\"SPXL\",'元(楽天)'!B:O,8,FALSE)-89.19)*VLOOKUP(\"米ドル\",'元(楽天)'!A:B,2,FALSE)*15","v":18994.380000000012},{"$f":"IF(税金!C$3<メイン!N$34,IF(N26>0,N26/N$34,0),メイン!N26/メイン!N$33)","v":4.4748243723112483E-3},null,{"$f":"N26+P26-税金!C$3*メイン!O26","v":18970.29202040386},9.9647815385481772E-2,15396.552451236124,7.9385308793168921E-2,628031.03399999999,1.9164750474806085E-2,{"$f":"L26","v":209343.67800000001},7.0145337822475669E-3,18970.29202040386,9.7811668859377768E-2,{"$f":"S26","v":15396.552451236124},{"$f":"AA26/(W26-AA26)","v":7.9385308793168921E-2},171186.16259178272,null,{"$f":"ROUND(AE$33*$F26,0)","v":1088},{"$f":"AE26-AD26","v":1088},1,null,0,{"$f":"L26+AH26*AG26","v":209343.67800000001},{"$f":"ROUND((AC26-AJ26)/AG26,0)","v":-38158}]
["先進国株",0.57032407639096905,0.78968382260696424,0.45037569676920675,0.45037569676920675,0.49541326644612749,0.2,0.2,{"$f":"L27-VLOOKUP(\"日興－グローバル３倍３分法ファンド（１年決算型）特定/一般\",'元(SBI夫)VLOOKUP'!A:L,6,FALSE)*H27+VLOOKUP(\"日興－グローバル３倍３分法ファンド（１年決算型）特定/一般\",'元(SBI夫)VLOOKUP'!A:L,6,FALSE)*G27-VLOOKUP(\"グローバル3倍3分法ファンド(1年決算型)特定保有中再投資型\",'楽天 子(VLOOKUP)'!A:L,6,FALSE)*H27+VLOOKUP(\"グローバル3倍3分法ファンド(1年決算型)特定保有中再投資型\",'楽天 子(VLOOKUP)'!A:L,6,FALSE)*G27-VLOOKUP(\"日興－グローバル３倍３分法ファンド（１年決算型）特定/一般\",'元(SBI妻)VLOOKUP'!A:L,6,FALSE)*H27+VLOOKUP(\"日興－グローバル３倍３分法ファンド（１年決算型）特定/一般\",'元(SBI妻)VLOOKUP'!A:L,6,FALSE)*G27","v":14468085},0.44535700457549798,-5.0186921937087625E-3,{"$f":"'元(DC)'!C5+VLOOKUP(\"eMAXIS Slim 先進国株式インデックス特定保有中再投資型\",'楽天 子(VLOOKUP)'!A:L,6,FALSE)+VLOOKUP(\"三菱ＵＦＪ国際－ｅＭＡＸＩＳ　Ｓｌｉｍ　先進国株式インデックス特定/一般\",'元(SBI夫)VLOOKUP'!A:L,6,FALSE)+VLOOKUP(\"三菱ＵＦＪ国際－ｅＭＡＸＩＳ　Ｓｌｉｍ　先進国株式インデックスNISA/つみたてNISA\",'元(SBI夫)VLOOKUP'!A:L,6,FALSE)+VLOOKUP(\"三井住友ＴＡＭ－ＳＭＴ　グローバル株式インデックス・オープンNISA/つみたてNISA\",'元(SBI夫)VLOOKUP'!A:L,6,FALSE)+VLOOKUP(\"Ｏｎｅ－たわらノーロード　先進国株式NISA/つみたてNISA\",'元(SBI夫)VLOOKUP'!A:L,6,FALSE)+VLOOKUP(\"Ｏｎｅ－たわらノーロード　先進国株式特定/一般\",'元(SBI夫)VLOOKUP'!A:L,6,FALSE)+VLOOKUP(\"Ｏｎｅ－たわらノーロード　先進国株式NISA/つみたてNISA\",'元(SBI妻)VLOOKUP'!A:L,6,FALSE)+VLOOKUP(\"eMAXIS Slim 先進国株式インデックスNISA保有中再投資型\",'楽天 ｼﾞｭﾆｱ(VLOOKUP)'!A:L,11,FALSE)+VLOOKUP(\"日興－グローバル３倍３分法ファンド（１年決算型）特定/一般\",'元(SBI夫)VLOOKUP'!A:L,6,FALSE)*H27+VLOOKUP(\"グローバル3倍3分法ファンド(1年決算型)特定保有中再投資型\",'楽天 子(VLOOKUP)'!A:L,6,FALSE)*H27+VLOOKUP(\"日興－グローバル３倍３分法ファンド（１年決算型）特定/一般\",'元(SBI妻)VLOOKUP'!A:L,6,FALSE)*H27+VLOOKUP(\"三菱ＵＦＪ国際－ｅＭＡＸＩＳ　Ｓｌｉｍ　先進国株式インデックス特定/一般\",'元(SBI妻)VLOOKUP'!A:L,6,FALSE)","v":14468085},0.48943729817042292,{"$f":"VLOOKUP(\"eMAXIS Slim 先進国株式インデックス特定すべて再投資型\",'楽天 子(VLOOKUP)'!A:L,12,FALSE)+VLOOKUP(\"三菱ＵＦＪ国際－ｅＭＡＸＩＳ　Ｓｌｉｍ　先進国株式インデックス特定/一般\",'元(SBI夫)VLOOKUP'!A:L,12,FALSE)+VLOOKUP(\"Ｏｎｅ－たわらノーロード　先進国株式特定/一般\",'元(SBI夫)VLOOKUP'!A:L,12,FALSE)+VLOOKUP(\"日興－グローバル３倍３分法ファンド（１年決算型）特定/一般\",'元(SBI夫)VLOOKUP'!A:L,12,FALSE)*G27/3+VLOOKUP(\"グローバル3倍3分法ファンド(1年決算型)特定すべて再投資型\",'楽天 子(VLOOKUP)'!A:L,12,FALSE)*G27/3+VLOOKUP(\"日興－グローバル３倍３分法ファンド（１年決算型）特定/一般\",'元(SBI妻)VLOOKUP'!A:L,12,FALSE)*G27/3+VLOOKUP(\"三菱ＵＦＪ国際－ｅＭＡＸＩＳ　Ｓｌｉｍ　先進国株式インデックス特定/一般\",'元(SBI妻)VLOOKUP'!A:L,12,FALSE)","v":2462476.6},{"$f":"IF(税金!C$3<メイン!N$34,IF(N27>0,N27/N$34,0),メイン!N27/メイン!N$33)","v":0.58012687468220225},{"$f":"'元(DC)'!D5+VLOOKUP(\"三菱ＵＦＪ国際－ｅＭＡＸＩＳ　Ｓｌｉｍ　先進国株式インデックスNISA/つみたてNISA\",'元(SBI夫)VLOOKUP'!A:L,12,FALSE)+VLOOKUP(\"三井住友ＴＡＭ－ＳＭＴ　グローバル株式インデックス・オープンNISA/つみたてNISA\",'元(SBI夫)VLOOKUP'!A:L,12,FALSE)+VLOOKUP(\"Ｏｎｅ－たわらノーロード　先進国株式NISA/つみたてNISA\",'元(SBI夫)VLOOKUP'!A:L,12,FALSE)+VLOOKUP(\"Ｏｎｅ－たわらノーロード　先進国株式NISA/つみたてNISA\",'元(SBI妻)VLOOKUP'!A:L,12,FALSE)+VLOOKUP(\"三菱ＵＦＪ国際－ｅＭＡＸＩＳ　Ｓｌｉｍ　先進国株式インデックスNISA/つみたてNISA\",'元(SBI妻)VLOOKUP'!A:L,12,FALSE)+VLOOKUP(\"eMAXIS Slim 先進国株式インデックスNISAすべて再投資型\",'楽天 ｼﾞｭﾆｱ(VLOOKUP)'!A:L,12,FALSE)","v":2301758},{"$f":"N27+P27-税金!C$3*メイン!O27","v":4761111.7770335851},0.49048366238086805,{"$f":"IF(AND(N27>0,N$33>0),N27-N$33*20.315%*O27,N27)+P27","v":4297803.6793978838},{"$f":"S27/($L27-S27)","v":0.42258454254276606},14468085,0.44150244790814719,14468085,0.48478593653508506,4761111.7770335851,0.46813963418975624,4297803.6793978838,0.42258454254276606,14644738.510660913,{"$f":"ROUND(AD$33*H27,0)","v":1660},{"$f":"AE33-AE20-AE22-AE29-AE30-AE25-AE31-AE32-AE21-AE23-AE24-AE28-AE26","v":93040},{"$f":"AF33-AF20-AF22-AF29-AF30-AF25-AF31-AF32-AF21-AF23-AF24-AF28-AF26","v":91379},1,{"$f":"ROUND(AH$33*H27,0)","v":10655},12315,14478740,{"$f":"AK33-AK20-AK22-AK29-AK30-AK25-AK31-AK32-AK21-AK23-AK24-AK28-AK26","v":166000},{"$f":"AK27+AF27","v":257379},{"$f":"IF(AL27<26633,AL27*-1+26633,0)","v":0},{"$f":"IF(AL27>300+33333+27500,AL27-(AL27-(300+33333+27500))/AL$34*AM$34,(300+33333+27500))","v":80819.429016877199},{"$f":"IF(AN27>300+33333+23000,IF(AN27>50300+33333+23000,50000,AN27-300-33333-23000),0)","v":24186.429016877199},{"$f":"IF(SUM(AO$20:AO26)>50000-1100,0,IF(SUM(AO$20:AO27)>50000-1100,50000-1100-SUM(AO$20:AO26),AO27))","v":0},{"$f":"ROUND(AP27+100,0)","v":100},{"$f":"IF(AN27-AQ27>200+33333+23000,IF(AN27-AQ27>16867+33333+23000,16667,AN27-AQ27-200-33333-23000),0)","v":16667},{"$f":"IF(SUM(AR$20:AR26)>16667-1100,0,IF(SUM(AR$20:AR27)>16667-1100,16667-1100-SUM(AR$20:AR26),AR27))","v":0},{"$f":"ROUND(AS27+100,0)","v":100},null,{"$f":"ROUND(AN27-AQ27-AT27-23000-33333,0)","v":24286},null,100,"https://site0.sbisec.co.jp/marble/fund/detail/achievement.do?Param6=203319172",100,{"$f":"AY27","v":"https://site0.sbisec.co.jp/marble/fund/detail/achievement.do?Param6=203319172"},32576,{"$f":"AY27","v":"https://site0.sbisec.co.jp/marble/fund/detail/achievement.do?Param6=203319172"},null,{"$f":"IF(AL27<0,AL27*-1,0)","v":0},{"$f":"ROUND(IF(AL27>0,AL27-AL27/AL$35*BE$34,0),0)","v":37330}]
["先進国株ﾍｯｼﾞ",0.12967592360903088,0.78968382260696424,0.10240297905566818,0.10240297905566818,0.11264327696123501,0,0,{"$f":"L28","v":3964373},0.12203144260625928,{"$f":"J28-D28","v":1.9628463550591099E-2},{"$f":"VLOOKUP(\"たわらノーロード 先進国株式＜為替ヘッジあり＞特定保有中再投資型\",'楽天 子(VLOOKUP)'!A:L,6,FALSE)+VLOOKUP(\"Ｏｎｅ－たわらノーロード　先進国株式＜為替ヘッジあり＞特定/一般\",'元(SBI夫)VLOOKUP'!A:L,6,FALSE)+VLOOKUP(\"Ｏｎｅ－たわらノーロード　先進国株式＜為替ヘッジあり＞特定/一般\",'元(SBI妻)VLOOKUP'!A:L,6,FALSE)","v":3964373},0.1341098016814094,{"$f":"VLOOKUP(\"たわらノーロード 先進国株式＜為替ヘッジあり＞特定すべて再投資型\",'楽天 子(VLOOKUP)'!A:L,12,FALSE)+VLOOKUP(\"Ｏｎｅ－たわらノーロード　先進国株式＜為替ヘッジあり＞特定/一般\",'元(SBI夫)VLOOKUP'!A:L,12,FALSE)+VLOOKUP(\"Ｏｎｅ－たわらノーロード　先進国株式＜為替ヘッジあり＞特定/一般\",'元(SBI妻)VLOOKUP'!A:L,12,FALSE)","v":504288},{"$f":"IF(税金!C$3<メイン!N$34,IF(N28>0,N28/N$34,0),メイン!N28/メイン!N$33)","v":0.11880357416583712},0,{"$f":"N28+P28-税金!C$3*メイン!O28","v":503648.4803602653},0.14553267025504119,408768.1010135081,0.11496443295204861,{"$f":"I28","v":3964373},0.12097526271935541,{"$f":"L28","v":3964373},0.13283529075060072,503648.4803602653,0.14164916931682367,{"$f":"S28","v":408768.1010135081},{"$f":"AA28/(W28-AA28)","v":0.11496443295204861},3329808.5614762735,0,{"$f":"ROUND(AE$33*$F28,0)","v":21154},21154,1,0,{"$f":"AH28+AD28","v":0},{"$f":"L28+AH28*AG28","v":3964373},-634564,{"$f":"AK28+AF28","v":-613410},{"$f":"IF(AL28<300,AL28*-1+300,0)","v":613710},{"$f":"IF(AL28>300,AL28-(AL28-300)/AL$34*AM$34,300)","v":300},{"$f":"IF(AN28>300,IF(AN28>50300,50000,AN28-300),0)","v":0},{"$f":"IF(SUM(AO$20:AO27)>50000-1100,0,IF(SUM(AO$20:AO28)>50000-1100,50000-1100-SUM(AO$20:AO27),AO28))","v":0},100,{"$f":"IF(AN28-AQ28>200,IF(AN28-AQ28>16867,16667,AN28-AQ28-200),0)","v":0},{"$f":"IF(SUM(AR$20:AR27)>16667-1100,0,IF(SUM(AR$20:AR28)>16667-1100,16667-1100-SUM(AR$20:AR27),AR28))","v":0},100,null,{"$f":"ROUND(AN28-AQ28-AT28,0)","v":100},null,100,"https://site0.sbisec.co.jp/marble/fund/detail/achievement.do?Param6=24731116A",100,"https://site0.sbisec.co.jp/marble/fund/detail/achievement.do?Param6=24731116A",100,{"$f":"AY28","v":"https://site0.sbisec.co.jp/marble/fund/detail/achievement.do?Param6=24731116A"},null,613410,0]
["日本株",{"$f":"B12+B13","v":0.15000000000000002},{"$f":"C12","v":0.78968382260696424},{"$f":"D12+D13","v":0.11845257339104465},{"$f":"E12+E13","v":0.11114530309337814},{"$f":"F12+F13","v":0.12225983340271598},{"$f":"G12","v":0.2},{"$f":"H12","v":1.8181818181818184E-2},{"$f":"L29-VLOOKUP(\"日興－グローバル３倍３分法ファンド（１年決算型）特定/一般\",'元(SBI夫)VLOOKUP'!A:L,6,FALSE)*H29+VLOOKUP(\"日興－グローバル３倍３分法ファンド（１年決算型）特定/一般\",'元(SBI夫)VLOOKUP'!A:L,6,FALSE)*G29-VLOOKUP(\"グローバル3倍3分法ファンド(1年決算型)特定保有中再投資型\",'楽天 子(VLOOKUP)'!A:L,6,FALSE)*H29+VLOOKUP(\"グローバル3倍3分法ファンド(1年決算型)特定保有中再投資型\",'楽天 子(VLOOKUP)'!A:L,6,FALSE)*G29-VLOOKUP(\"日興－グローバル３倍３分法ファンド（１年決算型）特定/一般\",'元(SBI妻)VLOOKUP'!A:L,6,FALSE)*H29+VLOOKUP(\"日興－グローバル３倍３分法ファンド（１年決算型）特定/一般\",'元(SBI妻)VLOOKUP'!A:L,6,FALSE)*G29","v":3922425},0.12074019807542241,2.2876246843777648E-3,{"$f":"VLOOKUP(\"eMAXIS Slim 国内株式(TOPIX)特定保有中再投資型\",'楽天 子(VLOOKUP)'!A:L,6,FALSE)+VLOOKUP(\"ニッセイ－＜購入・換金手数料なし＞ニッセイＴＯＰＩＸインデックスファンド特定/一般\",'元(SBI夫)VLOOKUP'!A:L,6,FALSE)+VLOOKUP(\"ニッセイ－＜購入・換金手数料なし＞ニッセイＴＯＰＩＸインデックスファンドNISA/つみたてNISA\",'元(SBI夫)VLOOKUP'!A:L,6,FALSE)+VLOOKUP(\"三菱ＵＦＪ国際－ｅＭＡＸＩＳ　Ｓｌｉｍ　国内株式（ＴＯＰＩＸ）特定/一般\",'元(SBI夫)VLOOKUP'!A:L,6,FALSE)+VLOOKUP(\"三菱ＵＦＪ国際－ｅＭＡＸＩＳ　Ｓｌｉｍ　国内株式（ＴＯＰＩＸ）NISA/つみたてNISA\",'元(SBI夫)VLOOKUP'!A:L,6,FALSE)+VLOOKUP(\"三菱ＵＦＪ国際－ｅＭＡＸＩＳ　Ｓｌｉｍ　国内株式（ＴＯＰＩＸ）NISA/つみたてNISA\",'元(SBI妻)VLOOKUP'!A:L,6,FALSE)+VLOOKUP(\"日興－グローバル３倍３分法ファンド（１年決算型）特定/一般\",'元(SBI夫)VLOOKUP'!A:L,6,FALSE)*H29+VLOOKUP(\"グローバル3倍3分法ファンド(1年決算型)特定保有中再投資型\",'楽天 子(VLOOKUP)'!A:L,6,FALSE)*H29+VLOOKUP(\"日興－グローバル３倍３分法ファンド（１年決算型）特定/一般\",'元(SBI妻)VLOOKUP'!A:L,6,FALSE)*H29+VLOOKUP(\"三菱ＵＦＪ国際－ｅＭＡＸＩＳ　Ｓｌｉｍ　国内株式（ＴＯＰＩＸ）特定/一般\",'元(SBI妻)VLOOKUP'!A:L,6,FALSE)","v":3694502.2727272729},0.12498041105288803,{"$f":"VLOOKUP(\"eMAXIS Slim 国内株式(TOPIX)特定すべて再投資型\",'楽天 子(VLOOKUP)'!A:L,12,FALSE)+VLOOKUP(\"ニッセイ－＜購入・換金手数料なし＞ニッセイＴＯＰＩＸインデックスファンド特定/一般\",'元(SBI夫)VLOOKUP'!A:L,12,FALSE)+VLOOKUP(\"三菱ＵＦＪ国際－ｅＭＡＸＩＳ　Ｓｌｉｍ　国内株式（ＴＯＰＩＸ）特定/一般\",'元(SBI夫)VLOOKUP'!A:L,12,FALSE)+VLOOKUP(\"日興－グローバル３倍３分法ファンド（１年決算型）特定/一般\",'元(SBI夫)VLOOKUP'!A:L,12,FALSE)*G29/3+VLOOKUP(\"グローバル3倍3分法ファンド(1年決算型)特定すべて再投資型\",'楽天 子(VLOOKUP)'!A:L,12,FALSE)*G29/3+VLOOKUP(\"日興－グローバル３倍３分法ファンド（１年決算型）特定/一般\",'元(SBI妻)VLOOKUP'!A:L,12,FALSE)*G29/3+VLOOKUP(\"三菱ＵＦＪ国際－ｅＭＡＸＩＳ　Ｓｌｉｍ　国内株式（ＴＯＰＩＸ）特定/一般\",'元(SBI妻)VLOOKUP'!A:L,12,FALSE)","v":751459.6},{"$f":"IF(税金!C$3<メイン!N$34,IF(N29>0,N29/N$34,0),メイン!N29/メイン!N$33)","v":0.17703392966168199},{"$f":"VLOOKUP(\"ニッセイ－＜購入・換金手数料なし＞ニッセイＴＯＰＩＸインデックスファンドNISA/つみたてNISA\",'元(SBI夫)VLOOKUP'!A:L,12,FALSE)+VLOOKUP(\"三菱ＵＦＪ国際－ｅＭＡＸＩＳ　Ｓｌｉｍ　国内株式（ＴＯＰＩＸ）NISA/つみたてNISA\",'元(SBI夫)VLOOKUP'!A:L,12,FALSE)+VLOOKUP(\"三菱ＵＦＪ国際－ｅＭＡＸＩＳ　Ｓｌｉｍ　国内株式（ＴＯＰＩＸ）NISA/つみたてNISA\",'元(SBI妻)VLOOKUP'!A:L,12,FALSE)+個別履歴!C4","v":101739},{"$f":"N29+P29-税金!C$3*メイン!O29","v":852245.62635663117},0.2998482306110139,710860.60051472648,0.23825267193951655,{"$f":"I29+持株会!B3+持株会!B6+'元(野村預り）'!R11","v":4206049.7220000001},0.12835017545766297,{"$f":"L29+持株会!B3+持株会!B6+'元(野村預り）'!R11","v":3978126.994727273},0.13329614947619983,{"$f":"Q29+持株会!C9+IF(持株会!B5>0,持株会!B5*(100%-20.315%),持株会!B5)+('元（野村履歴)'!D4-'元（野村履歴)'!A4)+('元（野村履歴)'!H4-'元（野村履歴)'!E4)+('元（野村履歴)'!L4-'元（野村履歴)'!I4)+('元（野村履歴)'!P4-'元（野村履歴)'!M4)+IF('元(野村預り）'!S11>0,'元(野村預り）'!S11*(100%-20.315%),'元(野村預り）'!S11)","v":1553471.047156631},0.65467663789694464,{"$f":"S29+持株会!C9+IF(持株会!B5>0,持株会!B5*(100%-20.315%),持株会!B5)+('元（野村履歴)'!D4-'元（野村履歴)'!A4)+('元（野村履歴)'!H4-'元（野村履歴)'!E4)+('元（野村履歴)'!L4-'元（野村履歴)'!I4)+IF('元(野村預り）'!S11>0,'元(野村預り）'!S11*(100%-20.315%),'元(野村預り）'!S11)","v":1605244.0213147264},0.67649523356230046,3614080.2271681633,151,{"$f":"ROUND(AE$33*$F29,0)","v":22960},22809,1,969,1120,3695471.2727272729,-81391,-58582,58882,300,0,{"$f":"IF(SUM(AO$20:AO28)>50000-1100,0,IF(SUM(AO$20:AO29)>50000-1100,50000-1100-SUM(AO$20:AO28),AO29))","v":0},100,0,{"$f":"IF(SUM(AR$20:AR28)>16667-1100,0,IF(SUM(AR$20:AR29)>16667-1100,16667-1100-SUM(AR$20:AR28),AR29))","v":0},100,null,100,null,100,"https://site0.sbisec.co.jp/marble/fund/detail/achievement.do?Param6=203317172",100,"https://site0.sbisec.co.jp/marble/fund/detail/achievement.do?Param6=203317172",1238,"https://site0.sbisec.co.jp/marble/fund/detail/achievement.do?Param6=203317172",null,58582,0]
["新興国株",{"$f":"B14","v":0.1},0.78968382260696424,7.8968382260696426E-2,7.8968382260696426E-2,8.6865220486766079E-2,0.2,0.2,{"$f":"L30-VLOOKUP(\"日興－グローバル３倍３分法ファンド（１年決算型）特定/一般\",'元(SBI夫)VLOOKUP'!A:L,6,FALSE)*H30+VLOOKUP(\"日興－グローバル３倍３分法ファンド（１年決算型）特定/一般\",'元(SBI夫)VLOOKUP'!A:L,6,FALSE)*G30-VLOOKUP(\"グローバル3倍3分法ファンド(1年決算型)特定保有中再投資型\",'楽天 子(VLOOKUP)'!A:L,6,FALSE)*H30+VLOOKUP(\"グローバル3倍3分法ファンド(1年決算型)特定保有中再投資型\",'楽天 子(VLOOKUP)'!A:L,6,FALSE)*G30-VLOOKUP(\"日興－グローバル３倍３分法ファンド（１年決算型）特定/一般\",'元(SBI妻)VLOOKUP'!A:L,6,FALSE)*H30+VLOOKUP(\"日興－グローバル３倍３分法ファンド（１年決算型）特定/一般\",'元(SBI妻)VLOOKUP'!A:L,6,FALSE)*G30","v":2600006},8.0033458749953587E-2,1.0650764892571607E-3,{"$f":"VLOOKUP(\"eMAXIS Slim 新興国株式インデックス特定保有中再投資型\",'楽天 子(VLOOKUP)'!A:L,6,FALSE)+VLOOKUP(\"三菱ＵＦＪ国際－ｅＭＡＸＩＳ　Ｓｌｉｍ　新興国株式インデックス特定/一般\",'元(SBI夫)VLOOKUP'!A:L,6,FALSE)+VLOOKUP(\"三菱ＵＦＪ国際－ｅＭＡＸＩＳ　Ｓｌｉｍ　新興国株式インデックスNISA/つみたてNISA\",'元(SBI夫)VLOOKUP'!A:L,6,FALSE)+VLOOKUP(\"日興－グローバル３倍３分法ファンド（１年決算型）特定/一般\",'元(SBI夫)VLOOKUP'!A:L,6,FALSE)*H30+VLOOKUP(\"グローバル3倍3分法ファンド(1年決算型)特定保有中再投資型\",'楽天 子(VLOOKUP)'!A:L,6,FALSE)*H30+VLOOKUP(\"日興－グローバル３倍３分法ファンド（１年決算型）特定/一般\",'元(SBI妻)VLOOKUP'!A:L,6,FALSE)*H30+VLOOKUP(\"三菱ＵＦＪ国際－ｅＭＡＸＩＳ　Ｓｌｉｍ　新興国株式インデックス特定/一般\",'元(SBI妻)VLOOKUP'!A:L,6,FALSE)","v":2600006},8.7954965143409697E-2,{"$f":"VLOOKUP(\"eMAXIS Slim 新興国株式インデックス特定すべて再投資型\",'楽天 子(VLOOKUP)'!A:L,12,FALSE)+VLOOKUP(\"三菱ＵＦＪ国際－ｅＭＡＸＩＳ　Ｓｌｉｍ　新興国株式インデックス特定/一般\",'元(SBI夫)VLOOKUP'!A:L,12,FALSE)+VLOOKUP(\"日興－グローバル３倍３分法ファンド（１年決算型）特定/一般\",'元(SBI夫)VLOOKUP'!A:L,12,FALSE)*G30/3+VLOOKUP(\"グローバル3倍3分法ファンド(1年決算型)特定すべて再投資型\",'楽天 子(VLOOKUP)'!A:L,12,FALSE)*G30/3+VLOOKUP(\"日興－グローバル３倍３分法ファンド（１年決算型）特定/一般\",'元(SBI妻)VLOOKUP'!A:L,12,FALSE)*G30/3+VLOOKUP(\"三菱ＵＦＪ国際－ｅＭＡＸＩＳ　Ｓｌｉｍ　新興国株式インデックス特定/一般\",'元(SBI妻)VLOOKUP'!A:L,12,FALSE)","v":300154.60000000003},{"$f":"IF(税金!C$3<メイン!N$34,IF(N30>0,N30/N$34,0),メイン!N30/メイン!N$33)","v":7.0712448605394496E-2},{"$f":"VLOOKUP(\"三菱ＵＦＪ国際－ｅＭＡＸＩＳ　Ｓｌｉｍ　新興国株式インデックスNISA/つみたてNISA\",'元(SBI夫)VLOOKUP'!A:L,12,FALSE)","v":15245},{"$f":"N30+P30-税金!C$3*メイン!O30","v":315018.9548891572},0.1378646568536129,258545.70486005838,0.11042070856239139,2600006,7.9340770639367272E-2,{"$f":"L30","v":2600006},8.7119086161495482E-2,{"$f":"Q30","v":315018.9548891572},0.13453952456209792,{"$f":"S30","v":258545.70486005838},0.11042070856239139,2567792.4388767411,1660,{"$f":"ROUND(AE$33*$F30,0)","v":16313},14653,1,10655,12315,2610661,-42869,-28216,28516,300,0,{"$f":"IF(SUM(AO$20:AO29)>50000-1100,0,IF(SUM(AO$20:AO30)>50000-1100,50000-1100-SUM(AO$20:AO29),AO30))","v":0},100,0,{"$f":"IF(SUM(AR$20:AR29)>16667-1100,0,IF(SUM(AR$20:AR30)>16667-1100,16667-1100-SUM(AR$20:AR29),AR30))","v":0},100,null,100,null,100,"https://site0.sbisec.co.jp/marble/fund/detail/achievement.do?Param6=20331C177",100,"https://site0.sbisec.co.jp/marble/fund/detail/achievement.do?Param6=20331C177",5779,"https://site0.sbisec.co.jp/marble/fund/detail/achievement.do?Param6=20331C177",null,28216,0]
["先進国RIET",0.75,4.1562306452998118E-2,3.1171729839748589E-2,3.1171729839748585E-2,3.4288902823723447E-2,0.2,0.2,{"$f":"L31-VLOOKUP(\"日興－グローバル３倍３分法ファンド（１年決算型）特定/一般\",'元(SBI夫)VLOOKUP'!A:L,6,FALSE)*H31+VLOOKUP(\"日興－グローバル３倍３分法ファンド（１年決算型）特定/一般\",'元(SBI夫)VLOOKUP'!A:L,6,FALSE)*G31-VLOOKUP(\"グローバル3倍3分法ファンド(1年決算型)特定保有中再投資型\",'楽天 子(VLOOKUP)'!A:L,6,FALSE)*H31+VLOOKUP(\"グローバル3倍3分法ファンド(1年決算型)特定保有中再投資型\",'楽天 子(VLOOKUP)'!A:L,6,FALSE)*G31-VLOOKUP(\"日興－グローバル３倍３分法ファンド（１年決算型）特定/一般\",'元(SBI妻)VLOOKUP'!A:L,6,FALSE)*H31+VLOOKUP(\"日興－グローバル３倍３分法ファンド（１年決算型）特定/一般\",'元(SBI妻)VLOOKUP'!A:L,6,FALSE)*G31","v":1008670},3.1048908670716795E-2,-1.2282116903179416E-4,{"$f":"VLOOKUP(\"eMAXIS Slim 先進国リートインデックス特定保有中再投資型\",'楽天 子(VLOOKUP)'!A:L,6,FALSE)+VLOOKUP(\"三菱ＵＦＪ国際－ｅＭＡＸＩＳ　Ｓｌｉｍ　先進国リートインデックス特定/一般\",'元(SBI夫)VLOOKUP'!A:L,6,FALSE)+VLOOKUP(\"Ｏｎｅ－たわらノーロード　先進国リート特定/一般\",'元(SBI夫)VLOOKUP'!A:L,6,FALSE)+VLOOKUP(\"日興－グローバル３倍３分法ファンド（１年決算型）特定/一般\",'元(SBI夫)VLOOKUP'!A:L,6,FALSE)*H31+VLOOKUP(\"グローバル3倍3分法ファンド(1年決算型)特定保有中再投資型\",'楽天 子(VLOOKUP)'!A:L,6,FALSE)*H31+VLOOKUP(\"日興－グローバル３倍３分法ファンド（１年決算型）特定/一般\",'元(SBI妻)VLOOKUP'!A:L,6,FALSE)*H31+VLOOKUP(\"三菱ＵＦＪ国際－ｅＭＡＸＩＳ　Ｓｌｉｍ　先進国リートインデックス特定/一般\",'元(SBI妻)VLOOKUP'!A:L,6,FALSE)","v":1008670},3.412204998419352E-2,{"$f":"VLOOKUP(\"eMAXIS Slim 先進国リートインデックス特定すべて再投資型\",'楽天 子(VLOOKUP)'!A:L,12,FALSE)+VLOOKUP(\"三菱ＵＦＪ国際－ｅＭＡＸＩＳ　Ｓｌｉｍ　先進国リートインデックス特定/一般\",'元(SBI夫)VLOOKUP'!A:L,12,FALSE)+VLOOKUP(\"Ｏｎｅ－たわらノーロード　先進国リート特定/一般\",'元(SBI夫)VLOOKUP'!A:L,12,FALSE)+VLOOKUP(\"日興－グローバル３倍３分法ファンド（１年決算型）特定/一般\",'元(SBI夫)VLOOKUP'!A:L,12,FALSE)*G31/3+VLOOKUP(\"グローバル3倍3分法ファンド(1年決算型)特定すべて再投資型\",'楽天 子(VLOOKUP)'!A:L,12,FALSE)*G31/3+VLOOKUP(\"日興－グローバル３倍３分法ファンド（１年決算型）特定/一般\",'元(SBI妻)VLOOKUP'!A:L,12,FALSE)*G31/3+VLOOKUP(\"三菱ＵＦＪ国際－ｅＭＡＸＩＳ　Ｓｌｉｍ　先進国リートインデックス特定/一般\",'元(SBI妻)VLOOKUP'!A:L,12,FALSE)","v":87898.599999999991},{"$f":"IF(税金!C$3<メイン!N$34,IF(N31>0,N31/N$34,0),メイン!N31/メイン!N$33)","v":2.0707746058151788E-2},0,{"$f":"N31+P31-税金!C$3*メイン!O31","v":87787.130202968954},9.532931177481653E-2,71249.254005143768,7.6005629606083758E-2,1008670,3.0780180938355755E-2,{"$f":"L31","v":1008670},3.3797771481494911E-2,{"$f":"Q31","v":87787.130202968954},9.3647522287127472E-2,{"$f":"S31","v":71249.254005143768},7.6005629606083758E-2,1013602.2785039766,1660,{"$f":"ROUND(AE$33*$F31,0)","v":6439},4779,1,10655,12315,1019325,-5723,-944,1244,300,0,{"$f":"IF(SUM(AO$20:AO30)>50000-1100,0,IF(SUM(AO$20:AO31)>50000-1100,50000-1100-SUM(AO$20:AO30),AO31))","v":0},100,0,{"$f":"IF(SUM(AR$20:AR30)>16667-1100,0,IF(SUM(AR$20:AR31)>16667-1100,16667-1100-SUM(AR$20:AR30),AR31))","v":0},100,null,100,null,100,"https://site0.sbisec.co.jp/marble/fund/detail/achievement.do?Param6=20331219A",100,"https://site0.sbisec.co.jp/marble/fund/detail/achievement.do?Param6=20331219A",100,"https://site0.sbisec.co.jp/marble/fund/detail/achievement.do?Param6=20331219A",null,944,0]
["J-RIET",0.25,4.1562306452998118E-2,1.039057661324953E-2,1.0390576613249528E-2,1.1429634274574482E-2,0.2,0.2,{"$f":"L32-VLOOKUP(\"日興－グローバル３倍３分法ファンド（１年決算型）特定/一般\",'元(SBI夫)VLOOKUP'!A:L,6,FALSE)*H32+VLOOKUP(\"日興－グローバル３倍３分法ファンド（１年決算型）特定/一般\",'元(SBI夫)VLOOKUP'!A:L,6,FALSE)*G32-VLOOKUP(\"グローバル3倍3分法ファンド(1年決算型)特定保有中再投資型\",'楽天 子(VLOOKUP)'!A:L,6,FALSE)*H32+VLOOKUP(\"グローバル3倍3分法ファンド(1年決算型)特定保有中再投資型\",'楽天 子(VLOOKUP)'!A:L,6,FALSE)*G32-VLOOKUP(\"日興－グローバル３倍３分法ファンド（１年決算型）特定/一般\",'元(SBI妻)VLOOKUP'!A:L,6,FALSE)*H32+VLOOKUP(\"日興－グローバル３倍３分法ファンド（１年決算型）特定/一般\",'元(SBI妻)VLOOKUP'!A:L,6,FALSE)*G32","v":331437},1.0202303174572816E-2,-1.8827343867671396E-4,{"$f":"VLOOKUP(\"eMAXIS Slim 国内リートインデックス特定保有中再投資型\",'楽天 子(VLOOKUP)'!A:L,6,FALSE)+VLOOKUP(\"りそな－Ｓｍａｒｔ－ｉ　Ｊリートインデックス特定/一般\",'元(SBI夫)VLOOKUP'!A:L,6,FALSE)+VLOOKUP(\"三菱ＵＦＪ国際－ｅＭＡＸＩＳ　Ｓｌｉｍ　国内リートインデックス特定/一般\",'元(SBI夫)VLOOKUP'!A:L,6,FALSE)+VLOOKUP(\"日興－グローバル３倍３分法ファンド（１年決算型）特定/一般\",'元(SBI夫)VLOOKUP'!A:L,6,FALSE)*H32+VLOOKUP(\"グローバル3倍3分法ファンド(1年決算型)特定保有中再投資型\",'楽天 子(VLOOKUP)'!A:L,6,FALSE)*H32+VLOOKUP(\"日興－グローバル３倍３分法ファンド（１年決算型）特定/一般\",'元(SBI妻)VLOOKUP'!A:L,6,FALSE)*H32+VLOOKUP(\"三菱ＵＦＪ国際－ｅＭＡＸＩＳ　Ｓｌｉｍ　国内リートインデックス特定/一般\",'元(SBI妻)VLOOKUP'!A:L,6,FALSE)","v":331437},1.1212100965242494E-2,{"$f":"VLOOKUP(\"eMAXIS Slim 国内リートインデックス特定すべて再投資型\",'楽天 子(VLOOKUP)'!A:L,12,FALSE)+VLOOKUP(\"りそな－Ｓｍａｒｔ－ｉ　Ｊリートインデックス特定/一般\",'元(SBI夫)VLOOKUP'!A:L,12,FALSE)+VLOOKUP(\"三菱ＵＦＪ国際－ｅＭＡＸＩＳ　Ｓｌｉｍ　国内リートインデックス特定/一般\",'元(SBI夫)VLOOKUP'!A:L,12,FALSE)+VLOOKUP(\"日興－グローバル３倍３分法ファンド（１年決算型）特定/一般\",'元(SBI夫)VLOOKUP'!A:L,12,FALSE)*G32/3+VLOOKUP(\"グローバル3倍3分法ファンド(1年決算型)特定すべて再投資型\",'楽天 子(VLOOKUP)'!A:L,12,FALSE)*G32/3+VLOOKUP(\"日興－グローバル３倍３分法ファンド（１年決算型）特定/一般\",'元(SBI妻)VLOOKUP'!A:L,12,FALSE)*G32/3+VLOOKUP(\"三菱ＵＦＪ国際－ｅＭＡＸＩＳ　Ｓｌｉｍ　国内リートインデックス特定/一般\",'元(SBI妻)VLOOKUP'!A:L,12,FALSE)","v":-3031.4000000000005},{"$f":"IF(税金!C$3<メイン!N$34,IF(N32>0,N32/N$34,0),メイン!N32/メイン!N$33)","v":0},0,{"$f":"N32+P32-税金!C$3*メイン!O32","v":-3031.4000000000005},-9.0633375230664559E-3,-3031.4000000000005,-9.0633375230664559E-3,331437,1.011400242860977E-2,{"$f":"L32","v":331437},1.1105546894933158E-2,{"$f":"Q32","v":-3031.4000000000005},-9.0633375230664559E-3,{"$f":"S32","v":-3031.4000000000005},-9.0633375230664559E-3,337867.42616799218,1660,{"$f":"ROUND(AE$33*$F32,0)","v":2146},486,1,10655,12315,342092,-4225,-3739,4039,300,0,{"$f":"IF(SUM(AO$20:AO31)>50000-1100,0,IF(SUM(AO$20:AO32)>50000-1100,50000-1100-SUM(AO$20:AO31),AO32))","v":0},100,0,{"$f":"IF(SUM(AR$20:AR31)>16667-1100,0,IF(SUM(AR$20:AR32)>16667-1100,16667-1100-SUM(AR$20:AR31),AR32))","v":0},100,null,100,null,100,"https://site0.sbisec.co.jp/marble/fund/detail/achievement.do?Param6=20331119A",100,"https://site0.sbisec.co.jp/marble/fund/detail/achievement.do?Param6=20331119A",100,"https://site0.sbisec.co.jp/marble/fund/detail/achievement.do?Param6=20331119A",null,3739,0]
[null,null,null,{"$f":"SUM(D20:D32)","v":1},{"$f":"SUM(E20:E32)","v":0.90909090909090906},{"$f":"E33*(100%/E$17)","v":1},{"$f":"SUM(G20:G32)","v":3.0000000000000009},1,32486488.034000002,0.99999999999999989,{"$f":"(IF(I33*D20-I20>0,I33*D20-I20,0)+IF(I33*D21-I21>0,I33*D21-I21,0)+IF(I33*D22-I22>0,I33*D22-I22,0)+IF(I33*D23-I23>0,I33*D23-I23,0)+IF(I33*D24-I24>0,I33*D24-I24,0)+IF(I33*D25-I25>0,I33*D25-I25,0)+IF(I33*D26-I26>0,I33*D26-I26,0)+IF(I33*D27-I27>0,I33*D27-I27,0)+IF(I33*D28-I28>0,I33*D28-I28,0)+IF(I33*D29-I29>0,I33*D29-I29,0)+IF(I33*D30-I30>0,I33*D30-I30,0)+IF(I33*D31-I31>0,I33*D31-I31,0)+IF(I33*D32-I32>0,I33*D32-I32,0))/I33","v":3.7966401433492211E-2},29560650.677999999,1,3957742.3800000004,null,{"$f":"SUM(P20:P32)","v":2581966},{"$f":"SUM(Q20:Q32)","v":6534325.379999998},0.28377629931978554,{"$f":"SUM(S20:S32)","v":5735693.0155029995},0.24074305175079436,{"$f":"SUM(U20:U32)","v":32770112.756000001},{"$f":"SUM(V20:V32)","v":1},{"$f":"SUM(W20:W32)","v":29844275.399999999},{"$f":"SUM(X20:X32)","v":1},{"$f":"SUM(Y20:Y32)","v":7987565.3007999975},0.3556005567361164,{"$f":"SUM(AA20:AA32)","v":7382090.936302999},{"$f":"AA33/(L33+持株会!B3-AA33)","v":0.32864633494440232},{"$f":"SUM(AC20:AC32)","v":29560650.677999999},{"$f":"ROUND(AE33*F23/H23,0)","v":8302},{"$f":"160000+300+27500","v":187800},{"$f":"AE33-AD33","v":179498},null,{"$f":"ROUND(AH23/H23,0)","v":53274},61576,{"$f":"SUM(AJ20:AJ32)","v":29613925.677999999},{"$f":"AH33*-1","v":-53274},{"$f":"AI33","v":61576},0,6446.9055391608927,6146.9055391608927,{"$f":"IF(SUM(AO$20:AO32)>50000-1100,0,IF(SUM(AO$20:AO33)>50000-1100,50000-1100-SUM(AO$20:AO32),AO33))","v":0},100,6146.9055391608927,{"$f":"IF(SUM(AR$20:AR32)>16667-1100,0,IF(SUM(AR$20:AR33)>16667-1100,16667-1100-SUM(AR$20:AR32),AR33))","v":0},100,null,6247,null,100,"https://site0.sbisec.co.jp/marble/fund/detail/achievement.do?Param6=20231118A",100,"https://site0.sbisec.co.jp/marble/fund/detail/achievement.do?Param6=20231118A",12164,"https://site0.sbisec.co.jp/marble/fund/detail/achievement.do?Param6=20231118A",null,0,8931]
[null,null,null,null,null,null,null,null,{"$f":"I33*('15年'!C$70*2.5)","v":12325019.008551568},null,null,{"$f":"L33-I34","v":17235631.669448432},{"$f":"I34/L33/2","v":0.20847002224014388},{"$f":"IF(N20>0,N20,0)+IF(N21>0,N21,0)+IF(N22>0,N22,0)+IF(N23>0,N23,0)+IF(N24>0,N24,0)+IF(N25>0,N25,0)+IF(N26>0,N26,0)+IF(N27>0,N27,0)+IF(N28>0,N28,0)+IF(N29>0,N29,0)+IF(N30>0,N30,0)+IF(N31>0,N31,0)+IF(N32>0,N32,0)","v":4244720.78},null,null,null,null,null,null,null,null,null,null,{"$f":"Y33-Q33","v":1453239.9207999995},null,{"$f":"AA33-S33","v":1646397.9207999995},null,null,null,{"$f":"160000+300+27500","v":187800},null,null,null,null,null,null,{"$f":"IF(AL20>300,AL20-300,0)+IF(AL21>300,AL21-300,0)+IF(AL22>300,AL22-300,0)+IF(AL23>300,AL23-300,0)+IF(AL24>300,AL24-300,0)+IF(AL25>300,AL25-300,0)+IF(AL26>300,AL26-300,0)+IF(AL27>(300+33333+27500),AL27-(300+33333+27500),0)+IF(AL28>300,AL28-300,0)+IF(AL29>300,AL29-300,0)+IF(AL30>300,AL30-300,0)+IF(AL31>300,AL31-300,0)+IF(AL32>300,AL32-300,0)+IF(AI33>300,AI33-300,0)","v":1232786},{"$f":"SUM(AM20:AM33)","v":1109119},null,0,null,null,0,null,null,null,null,null,null,null,null,null,null,null,null,{"$f":"SUM(BE20:BE33)","v":1107019}]
[null,null,null,null,null,null,null,null,{"$f":"Y33-I34","v":-4337453.7077515703},null,null,null,null,null,null,null,null,null,null,null,null,null,null,null,null,null,null,null,null,null,null,null,null,null,null,{"$f":"AE33-23000-33333","v":131467},null,{"$f":"IF(AL20>0,AL20,0)+IF(AL21>0,AL21,0)+IF(AL22>0,AL22,0)+IF(AL23>0,AL23,0)+IF(AL24>0,AL24,0)+IF(AL25>0,AL25,0)+IF(AL26>0,AL26,0)+IF(AL27>0,AL27,0)+IF(AL28>0,AL28,0)+IF(AL29>0,AL29,0)+IF(AL30>0,AL30,0)+IF(AL31>0,AL31,0)+IF(AL32>0,AL32,0)+IF(AI33>0,AI33,0)","v":1294819}]
["総計\n/資産クラス",null,null,null,null,null,null,null,"レバレッジ換算後\n評価額","比率","乖離","レバレッジ換算前\n評価額","比率","評価\n損益\n税引前","比率","非課税\n損益","評価\n損益\n実税引","損益率","評価\n損益\n理論税引","損益率","レバレッジ換算後\n評価額","比率","レバレッジ換算前\n評価額","比率","評価\n損益\n実税引","損益率","評価\n損益\n理論税引","損益率",null,null,null,null,null,null,null,null,null,null,null,{"$f":"300+3333+23000","v":26633},null,null,null,null,null,129210]
["国内債券",{"$f":"B3","v":0.35},0.16369125481183655,5.7291939184142791E-2,null,null,null,null,{"$f":"I3+I20","v":4427156},{"$f":"I37/I$50","v":4.3801184922054627E-2},{"$f":"J37-D37","v":-1.3490754262088164E-2},{"$f":"L3+L20","v":3040292.3636363633},{"$f":"L37/L$50","v":3.3048564627062203E-2},{"$f":"N3+N20","v":-82891.866666666669},{"$f":"N37/N$50","v":-3.4752533838756476E-3},{"$f":"P3+P20","v":-2369},-85260.866666666669,{"$f":"Q37/($L37-Q37)","v":-2.7278648093413023E-2},{"$f":"S3+S20","v":-85260.866666666669},{"$f":"S37/($L37-S37)","v":-2.7278648093413023E-2},{"$f":"U3+U20","v":4427156},{"$f":"U37/U$50","v":4.3678617795765928E-2},{"$f":"W3+W20","v":3040292.3636363633},{"$f":"W37/W$50","v":3.2946987238349122E-2},{"$f":"Y3+Y20","v":666753.6333333333},{"$f":"Y37/(W37-AA37)","v":0.28091120857682772},{"$f":"AA3+AA20","v":666753.6333333333},{"$f":"AA37/(W37-AA37)","v":0.28091120857682772},{"$f":"AC3+AC20","v":4318703.3247275287},null,{"$f":"I$50*D37","v":5790718.9671254922},{"$f":"AE37-I37","v":1363562.9671254922},null,null,null,null,null,null,null,null,null,null,null,50000]
["外国債券ﾍｯｼﾞ",0.2571630173928186,0.16369125481183655,4.2095337008228623E-2,null,null,null,null,{"$f":"I4+I21","v":2105878},{"$f":"I38/I$50","v":2.0835035336745883E-2},{"$f":"J38-D38","v":-2.126030167148274E-2},2105878,{"$f":"L38/L$50","v":2.2891300196033589E-2},-684641,{"$f":"N38/N$50","v":-2.8703671996649537E-2},1204,-683437,-0.24501965536341361,-683437,-0.24501965536341361,2105878,2.0776733480029154E-2,2105878,2.2820941966428171E-2,-683437,{"$f":"Y38/(W38-AA38)","v":-0.24501965536341361},-683437,-0.24501965536341361,{"$f":"AC4+AC21","v":4259802.0944189122},null,{"$f":"I$50*D38","v":4254739.321313764},2148861.321313764,null,null,null,null,null,null,null,null,null,null,null,{"$f":"AR37-33333","v":16667}]
["外国債券",0,0.16369125481183655,0,null,null,null,null,0,{"$f":"I39/I$50","v":0},0,0,{"$f":"L39/L$50","v":0},0,{"$f":"N39/N$50","v":0},0,0,{"$error":"#DIV/0!"},0,{"$error":"#DIV/0!"},0,0,0,0,0,{"$error":"#DIV/0!"},0,{"$error":"#DIV/0!"},0,null,{"$f":"I$50*D39","v":0},0]
["外国債券ﾚﾊﾞ",0.39283698260718136,0.16369125481183655,6.430397861946513E-2,null,null,null,null,6102200,{"$f":"I40/I$50","v":6.0373655374096093E-2},-3.930323245369037E-3,554745.45454545459,{"$f":"L40/L$50","v":6.030190130855209E-3},-59247.466666666674,{"$f":"N40/N$50","v":-2.4839585269249538E-3},0,{"$f":"Q6+Q23","v":-59247.466666666674},-9.6495357877583662E-2,-59247.466666666674,-9.6495357877583662E-2,6102200,6.0204714158101233E-2,554745.45454545459,6.011655862458146E-3,-59247.466666666674,-9.6495357877583662E-2,-59247.466666666674,-9.6495357877583662E-2,591562.43956237053,null,6499453.0462050065,397253.04620500654,null,null,null,null,null,null,null,null,null,null,null,null,null,123667]
["ゴールド",0.03,5.0626161282011301E-3,5.0626161282011362E-3,null,null,null,null,1383066,{"$f":"I41/I$50","v":1.3683712438731866E-2},8.6210963105307296E-3,1383066,{"$f":"L41/L$50","v":1.5034194287098963E-2},55411,{"$f":"N41/N$50","v":2.3231141123688875E-3},0,54980.619924659724,4.1398407624621818E-2,44507.211355257241,3.325009833921428E-2,1383066,1.3645421846512478E-2,1383066,1.4987985496662172E-2,54980.619924659724,4.1074490258531139E-2,44507.211355257241,{"$f":"AA41/(W41-AA41)","v":3.325009833921428E-2},512307.16556407616,null,511698.28870033863,-871367.71129966131,null,null,null,null,3500000,null,null,null,null,null,null,null,null,33333]
["米国株",3.0000000000000002E-2,0.78968382260696424,2.3690514678208929E-2,null,null,null,null,2481169,{"$f":"I42/I$50","v":2.4548071536640986E-2},8.5755685843205698E-4,2481169,{"$f":"L42/L$50","v":2.6970785779656968E-2},1253414,{"$f":"N42/N$50","v":5.254956149574519E-2},229910,1473583.9446202153,{"$f":"Q42/($L42-Q42)","v":1.462490870375984},1236671.5659896242,0.99371162381947808,2481169,2.4479379637334386E-2,2481169,2.688788892704165E-2,1473583.9446202153,1.1840795363246444,1236671.5659896242,0.99371162381947808,2397341.6348791686,null,2394492.3952938789,-86676.604706121143,null,null,null,null,{"$f":"AK41/12/170","v":1715.686274509804},null,null,null,null,null,null,null,null,{"$f":"AT41+AT40","v":157000}]
["米国株ﾚﾊﾞ",0.02,0.78968382260696424,1.5793676452139284E-2,null,null,null,null,2177174.2511999998,{"$f":"I43/I$50","v":2.1540422787077532E-2},{"$f":"J43-D43","v":5.7467463349382478E-3},725724.75040000002,{"$f":"L43/L$50","v":7.8887680678073214E-3},228550.38,{"$f":"N43/N$50","v":9.5820074202824703E-3},269735.8468,496496.90053704788,{"$f":"Q43/($L43-Q43)","v":2.1659536606650858},453295.98222661013,1.6639064415477061,2177174.2511999998,{"$f":"U43/U$50","v":2.1480147072510582E-2},725724.75040000002,{"$f":"W43/W$50","v":7.8645213124782006E-3},496496.90053704788,1.8224833737861623,453295.98222661013,{"$f":"AA43/(W43-AA43)","v":1.6639064415477061},532742.58552870399,null,1596328.2635292525,-580845.98767074733]
["先進国株",0.57032407639096905,0.78968382260696424,0.45037569676920675,null,null,null,null,45821909,0.45335061822771988,2.9749214585131356E-3,45821909,0.49809299231690213,15139281.066666666,0.63471652735183337,4028103,19057475.560850903,0.71204479647138696,16196975.321407143,0.54673456815571431,45821909,0.45208202509316742,45821909,0.49656206393720465,19057475.560850903,0.64329175442583153,16196975.321407143,0.54673456815571431,45575388.456869252,null,45521222.125706024,-300686.87429397553,null,null,null,null,21353]
["先進国株ﾍｯｼﾞ",0.12967592360903088,0.78968382260696424,0.10240297905566818,null,null,null,null,12196609,{"$f":"I45/I$50","v":0.12067022852390921},{"$f":"J45-D45","v":1.8267249468241029E-2},12196609,{"$f":"L45/L$50","v":0.13257949320551571},2868933,{"$f":"N45/N$50","v":0.12028042698635306},0,2848374.4044066002,0.3046965044875185,2306338.0854797289,0.23319260972858782,12196609,{"$f":"U45/U$50","v":0.12033256178806413},12196609,{"$f":"W45/W$50","v":0.13217199960121884},2848374.4044066002,0.28799761189805195,2306338.0854797289,{"$f":"AA45/(W45-AA45)","v":0.23319260972858782},10362583.023644675,null,10350267.097817814,-1846341.902182186,null,null,null,null,{"$f":"AK44/AK42","v":12.44574857142857}]
["日本株",{"$f":"B12+B13","v":0.15000000000000002},{"$f":"C12","v":0.78968382260696424},{"$f":"D12+D13","v":0.11845257339104465},null,null,null,null,{"$f":"I12+I13+I29","v":12279241.399999999},0.12148777302266939,{"$f":"J46-D46","v":3.0351996316247409E-3},{"$f":"L12+L13+L29","v":11585809.581818182},0.125939985674138,{"$f":"N12+N13+N29","v":3056279.0666666669},0.12813493766780867,{"$f":"P12+P13+P29","v":136532},{"$f":"Q12+Q13+Q29","v":3179473.3280468644},0.3782234295731941,{"$f":"S12+S13+S29","v":2590519.9472547155},0.28798627420521422,{"$f":"U12+U13+U29","v":12562866.122},0.12394607909958764,{"$f":"W12+W13+W29","v":11869434.303818181},0.12862647856227497,{"$f":"Y12+Y13+Y29","v":3880698.7488468643},0.4628402922689559,{"$f":"AA12+AA13+AA29","v":3484903.3680547159},0.41563486314901327,{"$f":"AC12+AC13+AC29","v":11247255.12494288},null,11972461.976469396,-306779.42353060283,null,null,null,null,15500]
["新興国株",{"$f":"B14","v":0.1},0.78968382260696424,7.8968382260696426E-2,null,null,null,null,{"$f":"I14+I30","v":8020992},7.9357708165314442E-2,3.8932590461801531E-4,{"$f":"L14+L30","v":8020992},8.7189730716586547E-2,{"$f":"N14+N30","v":1556371.0666666667},6.5251079912940615E-2,{"$f":"P14+P30","v":15245},1560653.4224761403,0.2415745558453862,{"$f":"S14+S30","v":1266628.8044961039},0.1875274941299051,{"$f":"U14+U30","v":8020992},7.9135644623974419E-2,{"$f":"W14+W30","v":8020992},8.6921746152998705E-2,{"$f":"Y14+Y30","v":1560653.4224761403},0.23105855834270261,{"$f":"AA14+AA30","v":1266628.8044961039},0.1875274941299051,{"$f":"AC14+AC30","v":7991138.7829305623},null,7981641.3176462632,-39350.682353736833,null,null,null,null,{"$f":"AK46/12","v":1291.6666666666667}]
["先進国RIET",0.75,4.1562306452998118E-2,3.1171729839748589E-2,null,null,null,null,{"$f":"I15+I31","v":3069353},3.0367418348046273E-2,-8.0431149170231628E-4,{"$f":"L15+L31","v":3069353},3.3364459351679573E-2,{"$f":"N15+N31","v":507916.06666666665},2.1294453851622062E-2,0,504266.49291728786,0.19658849380904239,{"$f":"S15+S31","v":408303.03488904308},0.15343681638537676,{"$f":"U15+U31","v":3069353},3.0282442400332749E-2,{"$f":"W15+W31","v":3069353},3.3261911035436145E-2,{"$f":"Y15+Y31","v":504266.49291728786},0.18949906973891101,{"$f":"AA15+AA31","v":408303.03488904308},0.15343681638537676,{"$f":"AC15+AC31","v":3154396.8879989055},null,3150647.8885445776,81294.88854457764,null,null,474923]
["J-RIET",0.25,4.1562306452998118E-2,1.039057661324953E-2,null,null,null,null,{"$f":"I16+I32","v":1009139},9.9841713169938635E-3,-4.0640529625566614E-4,{"$f":"L16+L32","v":1009139},1.0969535646663833E-2,{"$f":"N16+N32","v":12660.066666666666},5.3077510849586316E-4,0,12527.886353614289,1.2570486303105177E-2,{"$f":"S16+S32","v":9560.6195881068343},9.5646522328416313E-3,{"$f":"U16+U32","v":1009139},9.9562330046199937E-3,{"$f":"W16+W32","v":1009139},1.0935819907449225E-2,{"$f":"Y16+Y32","v":12527.886353614289},1.2533170583833518E-2,{"$f":"AA16+AA32","v":9560.6195881068343},9.5646522328416313E-3,{"$f":"AC16+AC32","v":1051465.6293329685},null,1050215.9628481925,41076.962848192547,null,null,910000]
[null,null,null,{"$f":"SUM(D37:D49)","v":1},null,null,null,null,{"$f":"SUM(I37:I49)","v":101073886.6512},{"$f":"SUM(J37:J49)","v":0.99999999999999989},{"$f":"(IF(I50*D37-I37>0,I50*D37-I37,0)+IF(I50*D38-I38>0,I50*D38-I38,0)+IF(I50*D39-I39>0,I50*D39-I39,0)+IF(I50*D40-I40>0,I50*D40-I40,0)+IF(I50*D41-I41>0,I50*D41-I41,0)+IF(I50*D42-I42>0,I50*D42-I42,0)+IF(I50*D43-I43>0,I50*D43-I43,0)+IF(I50*D44-I44>0,I50*D44-I44,0)+IF(I50*D45-I45>0,I50*D45-I45,0)+IF(I50*D46-I46>0,I50*D46-I46,0)+IF(I50*D47-I47>0,I50*D47-I47,0)+IF(I50*D48-I48>0,I50*D48-I48,0)+IF(I50*D49-I49>0,I50*D49-I49,0))/I50","v":3.9892095966897918E-2},{"$f":"SUM(L37:L49)","v":91994687.150399998},{"$f":"SUM(M37:M49)","v":1},{"$f":"SUM(N37:N49)","v":23852035.379999999},null,{"$f":"SUM(P37:P49)","v":4678360.8468000004},{"$f":"SUM(Q37:Q49)","v":28359887.226800002},{"$f":"Q50/($L50-Q50)","v":0.44566632190010674},{"$f":"SUM(S37:S49)","v":23684855.239352994},0.34672688508727978,{"$f":"SUM(U37:U49)","v":101357511.37319998},{"$f":"SUM(V37:V49)","v":1},{"$f":"SUM(W37:W49)","v":92278311.872400001},{"$f":"SUM(X37:X49)","v":1},{"$f":"SUM(Y37:Y49)","v":29813127.147599999},0.44532392790762165,{"$f":"SUM(AA37:AA49)","v":25331253.160152994},{"$f":"AA50/(L50+持株会!B3-AA50)","v":0.3783777941945668},{"$f":"SUM(AC37:AC49)","v":91994687.150400028},null,101073886.6512,{"$f":"SUM(AF42:AF49)","v":-3038309.6233445993},null,null,{"$f":"AI49-AI48","v":435077}]
[null,null,null,null,null,null,null,null,{"$f":"I50*('15年'!C$70*2.5)","v":38346329.493679076},null,null,{"$f":"L50-I51","v":53648357.656720921},{"$f":"I51/L50/2","v":0.208416000322864},null,null,null,null,null,null,null,null,null,null,null,null,null,null,null,null,null,null,{"$f":"AF50/AE50","v":-3.0060282868409186E-2}]
[null,null,null,null,null,null,null,null,{"$f":"Q50-I51","v":-9986442.2668790743},null,null,null,null,null,null,null,346,null,null,null,3500]
[null,null,null,null,null,null,null,null,null,null,null,null,null,null,null,null,{"$f":"Q52-43","v":303},null,null,null,9500]
["レバレッジ",{"$f":"I50/L50","v":1.0986926504348737},null,null,null,null,null,null,null,null,null,null,null,null,null,null,{"$f":"Q53*3","v":909},null,null,null,30000]
[null,null,null,null,null,null,null,null,null,null,null,null,null,null,null,null,null,null,null,null,{"$f":"U52+U53+U54","v":43000}]
["会社\n/資産クラス",null,null,null,null,"←100%\n換算","グロ3","グロ3","レバレッジ換算後\n評価額","比率","乖離","レバレッジ換算前\n評価額","比率","評価\n損益\n税引前","比率","非課税\n損益","評価\n損益\n実税引","損益率","評価\n損益\n理論税引","損益率","レバレッジ換算後\n評価額","比率","レバレッジ換算前\n評価額","比率","評価\n損益\n実税引","損益率","評価\n損益\n理論税引","損益率","レバ無\nリバランス","グロ3\n積立額レバ無","積立額\nレバ無\nグロ有","積立額\nレバ無\nグロ無","期間","GAP分散ﾘﾊﾞﾗﾝｽ(ｸﾞﾛ3)","積立額/月(ｸﾞﾛ3)","ギャップ\nリバランス結果(グロ3分)","GAP\n分散ﾘﾊﾞﾗﾝｽ","月当たり\n積立額",null,null,null,null,null,null,null,null,null,null,null,null,null,null,null,null,"今回リバランス"]
["国内債券",{"$f":"B20","v":0.35},{"$f":"C20","v":0.16369125481183655},{"$f":"D20","v":5.7291939184142791E-2},{"$f":"E20","v":4.2677398588809805E-2},4.6945138447690792E-2,0.4,3.6363636363636369E-2,{"$f":"L57-VLOOKUP(\"日興－グローバル３倍３分法ファンド（１年決算型）特定/一般\",'元(SBI会社)VLOOKUP'!A:L,6,FALSE)*H57+VLOOKUP(\"日興－グローバル３倍３分法ファンド（１年決算型）特定/一般\",'元(SBI会社)VLOOKUP'!A:L,6,FALSE)*G57","v":401793.4},{"$f":"I57/I$70","v":3.2372324226122406E-2},{"$f":"J57-D57","v":-2.4919614958020385E-2},{"$f":"VLOOKUP(\"三菱ＵＦＪ国際－ｅＭＡＸＩＳ　Ｓｌｉｍ　国内債券インデックス特定/一般\",'元(SBI会社)VLOOKUP'!A:L,6,FALSE)+VLOOKUP(\"日興－グローバル３倍３分法ファンド（１年決算型）特定/一般\",'元(SBI会社)VLOOKUP'!A:L,6,FALSE)*H57","v":228680.30909090908},{"$f":"L57/L$70","v":1.9835644807723325E-2},0,null,{"$f":"VLOOKUP(\"三菱ＵＦＪ国際－ｅＭＡＸＩＳ　Ｓｌｉｍ　国内債券インデックス特定/一般\",'元(SBI会社)VLOOKUP'!A:L,12,FALSE)+VLOOKUP(\"日興－グローバル３倍３分法ファンド（１年決算型）特定/一般\",'元(SBI会社)VLOOKUP'!A:L,12,FALSE)*G57/3","v":-26051.200000000001},{"$f":"N57+P57-税金!C$3*メイン!O57","v":-26051.200000000001},{"$f":"Q57/($L57-Q57)","v":-0.1022692484843043},{"$f":"IF(AND(N57>0,N$33>0),N57-N$33*20.315%*O57,N57)+P57","v":-26051.200000000001},{"$f":"S57/($L57-S57)","v":-0.1022692484843043},{"$f":"I57","v":401793.4},{"$f":"U57/U$33","v":1.2260970933840751E-2},{"$f":"L57","v":228680.30909090908},{"$f":"W57/W$33","v":7.6624513755461825E-3},{"$f":"Q57","v":-26051.200000000001},{"$f":"Y57/(W57-AA57)","v":5.2387072303388835E-2},{"$f":"S57+SUM(個別履歴!H:H)","v":725963.3},{"$f":"AA57/(W57-AA57)","v":-1.4598595030826511},{"$f":"L$70*F57","v":541219.04654964583},{"$f":"ROUND(AD$70*H57,0)","v":0},{"$f":"ROUND(AE$70*$F57,0)","v":0},{"$f":"AE57-AD57","v":0},1,{"$f":"ROUND(AH$70*H57,0)","v":1222},{"$f":"AH57+AD57","v":1222},{"$f":"L57+AH57*AG57","v":229902.30909090908},{"$f":"ROUND((AC57-AJ57)/AG57,0)","v":311317},{"$f":"AK57+AF57","v":311317},null,null,null,null,null,null,null,null,null,{"$f":"AL57","v":311317},null,null,null,null,null,null,-67008]
["外国債券ﾍｯｼﾞ",{"$f":"B21","v":0.2571630173928186},0.16369125481183655,4.2095337008228623E-2,4.2095337008228623E-2,4.6304870709051489E-2,0,0,{"$f":"L58","v":188469},{"$f":"I58/I$70","v":1.5184867582625956E-2},{"$f":"J58-D58","v":-2.6910469425602667E-2},{"$f":"VLOOKUP(\"りそな－Ｓｍａｒｔ－ｉ　先進国債券インデックス（為替ヘッジあり）特定/一般\",'元(SBI会社)VLOOKUP'!A:L,6,FALSE)","v":188469},{"$f":"L58/L$70","v":1.6347730839303045E-2},0,null,{"$f":"VLOOKUP(\"りそな－Ｓｍａｒｔ－ｉ　先進国債券インデックス（為替ヘッジあり）特定/一般\",'元(SBI会社)VLOOKUP'!A:L,12,FALSE)","v":-104821},{"$f":"N58+P58-税金!C$3*メイン!O58","v":-104821},-0.3573971154829691,-104821,{"$f":"S58/($L58-S58)","v":-0.3573971154829691},{"$f":"I58","v":188469},5.7512466131350894E-3,188469,6.3150804458800835E-3,{"$f":"Q58","v":-104821},{"$f":"Y58/(W58-AA58)","v":-0.3573971154829691},{"$f":"S58","v":-104821},-0.3573971154829691,{"$f":"L$70*F58","v":533837.5560162015},null,{"$f":"ROUND(AE$70*$F58,0)","v":0},{"$f":"AE58-AD58","v":0},{"$f":"AG57","v":1},null,{"$f":"AH58+AD58","v":0},{"$f":"L58+AH58*AG58","v":188469},{"$f":"ROUND((AC58-AJ58)/AG58,0)","v":345369},345369,null,null,null,null,null,null,null,null,null,{"$f":"AL58","v":345369},null,null,null,null,null,null,-147596]
["外国債券",0,0.16369125481183655,0,0,0,0,0,null,0,0,null,0,null,null,null,{"$f":"N59+P59-税金!C$3*メイン!O59","v":0},{"$error":"#DIV/0!"},0,{"$error":"#DIV/0!"},0,0,0,0,0,{"$error":"#DIV/0!"},0,{"$error":"#DIV/0!"},0,null,{"$f":"ROUND(AE$33*$F59,0)","v":0},0,1,null,0,{"$f":"L59+AH59*AG59","v":0},{"$f":"ROUND((AC59-AJ59)/AG59,0)","v":0},0,null,null,null,null,null,null,null,null,null,null,null,null,null,null,null,null,0]
["外国債券ﾚﾊﾞ",0.39283698260718136,0.16369125481183655,6.430397861946513E-2,5.8458162381331939E-3,6.4303978619465142E-3,1.6,0.14545454545454548,{"$f":"-VLOOKUP(\"日興－グローバル３倍３分法ファンド（１年決算型）特定/一般\",'元(SBI会社)VLOOKUP'!A:L,6,FALSE)*H60+VLOOKUP(\"日興－グローバル３倍３分法ファンド（１年決算型）特定/一般\",'元(SBI会社)VLOOKUP'!A:L,6,FALSE)*G60","v":692452.36363636376},5.5790593939027328E-2,-8.5133846804378022E-3,{"$f":"+VLOOKUP(\"日興－グローバル３倍３分法ファンド（１年決算型）特定/一般\",'元(SBI会社)VLOOKUP'!A:L,6,FALSE)*H60","v":69245.236363636373},6.006306002454765E-3,0,null,{"$f":"+VLOOKUP(\"日興－グローバル３倍３分法ファンド（１年決算型）特定/一般\",'元(SBI会社)VLOOKUP'!A:L,12,FALSE)*G60/3","v":-43220.800000000003},{"$f":"N60+P60-税金!C$3*メイン!O60","v":-43220.800000000003},-0.38430090894511665,-43220.800000000003,-0.38430090894511665,692452.36363636376,2.1130606683969377E-2,69245.236363636373,2.3202183814332571E-3,-43220.800000000003,-0.38430090894511665,-43220.800000000003,-0.38430090894511665,74134.48793330304,{"$f":"ROUND(AD$70*H60,0)","v":0},{"$f":"AD60","v":0},0,1,{"$f":"ROUND((AC60-L60)/AG60,0)","v":4889},{"$f":"AH60+AD60","v":4889},74134.236363636373,{"$f":"ROUND((AC60-AJ60)/AG60,0)","v":0},0,null,null,null,null,null,null,null,null,null,null,null,null,null,null,null,null,0]
["ゴールド",0.03,5.0626161282011301E-3,5.0626161282011362E-3,5.0626161282011362E-3,5.5688777410212503E-3,0,0,{"$f":"L61","v":155660},1.2541460335182743E-2,7.4788442069816073E-3,{"$f":"VLOOKUP(\"三井住友ＴＡＭ－ＳＭＴ　ゴールドインデックス・オープン（為替ヘッジあり）特定/一般\",'元(SBI会社)VLOOKUP'!A:L,6,FALSE)","v":155660},1.3501890403439888E-2,0,null,{"$f":"VLOOKUP(\"三井住友ＴＡＭ－ＳＭＴ　ゴールドインデックス・オープン（為替ヘッジあり）特定/一般\",'元(SBI会社)VLOOKUP'!A:L,12,FALSE)","v":1114},{"$f":"N61+P61-税金!C$3*メイン!O61","v":1114},7.2082098533769881E-3,1114,7.2082098533769881E-3,155660,4.7500599451400921E-3,155660,5.2157406374825242E-3,1114,7.2082098533769881E-3,1114,7.2082098533769881E-3,64202.232670065176,null,{"$f":"ROUND(AE$70*$F61,0)","v":0},0,1,null,0,155660,{"$f":"ROUND((AC61-AJ61)/AG61,0)","v":-91458},-91458,null,null,null,null,null,null,null,null,null,{"$f":"AL61","v":-91458},null,null,null,null,null,null,-6640]
["米国株",3.0000000000000002E-2,0.78968382260696424,2.3690514678208929E-2,2.3690514678208929E-2,2.6059566146029823E-2,0,0,{"$f":"L62","v":382789},3.0841147759503192E-2,7.150633081294263E-3,{"$f":"VLOOKUP(\"三菱ＵＦＪ国際－ｅＭＡＸＩＳ　Ｓｌｉｍ　米国株式（Ｓ＆Ｐ５００）特定/一般\",'元(SBI会社)VLOOKUP'!A:L,6,FALSE)","v":382789},3.3202975238612049E-2,0,null,{"$f":"VLOOKUP(\"三菱ＵＦＪ国際－ｅＭＡＸＩＳ　Ｓｌｉｍ　米国株式（Ｓ＆Ｐ５００）特定/一般\",'元(SBI会社)VLOOKUP'!A:L,12,FALSE)","v":89527},{"$f":"N62+P62-税金!C$3*メイン!O62","v":89527},0.30527992034426554,89527,0.30527992034426554,382789,1.1681040063858606E-2,382789,1.2826211890538982E-2,89527,0.30527992034426554,89527,0.30527992034426554,300434.37956343812,null,0,0,1,null,0,382789,-82355,-82355,null,null,null,null,null,null,null,null,null,{"$f":"AL62+AL63","v":-15592},null,null,null,null,null,null,-16696]
["米国株ﾚﾊﾞ",0.02,0.78968382260696424,1.5793676452139284E-2,5.264558817379761E-3,5.7910146991177374E-3,0,0,null,0,-1.5793676452139284E-2,null,0,0,null,null,{"$f":"N63+P63-税金!C$3*メイン!O63","v":0},{"$error":"#DIV/0!"},0,{"$error":"#DIV/0!"},0,0,{"$f":"L63","v":0},0,0,{"$error":"#DIV/0!"},{"$f":"S63","v":0},{"$f":"AA63/(W63-AA63)","v":{"$error":"#DIV/0!"}},66763.195458541799,null,0,{"$f":"AE63-AD63","v":0},1,null,0,{"$f":"L63+AH63*AG63","v":0},{"$f":"ROUND((AC63-AJ63)/AG63,0)","v":66763},{"$f":"AK63+AF63","v":66763}]
["先進国株",0.57032407639096905,0.78968382260696424,0.45037569676920675,0.45037569676920675,0.49541326644612749,0.2,0.2,{"$f":"L64-VLOOKUP(\"日興－グローバル３倍３分法ファンド（１年決算型）特定/一般\",'元(SBI会社)VLOOKUP'!A:L,6,FALSE)*H64+VLOOKUP(\"日興－グローバル３倍３分法ファンド（１年決算型）特定/一般\",'元(SBI会社)VLOOKUP'!A:L,6,FALSE)*G64","v":5670766.2000000002},0.45689123324807251,6.5155364788657688E-3,{"$f":"VLOOKUP(\"三菱ＵＦＪ国際－ｅＭＡＸＩＳ　Ｓｌｉｍ　先進国株式インデックス特定/一般\",'元(SBI会社)VLOOKUP'!A:L,6,FALSE)+VLOOKUP(\"日興－グローバル３倍３分法ファンド（１年決算型）特定/一般\",'元(SBI会社)VLOOKUP'!A:L,6,FALSE)*H64","v":5670766.2000000002},0.49188014734634,0,null,{"$f":"VLOOKUP(\"三菱ＵＦＪ国際－ｅＭＡＸＩＳ　Ｓｌｉｍ　先進国株式インデックス特定/一般\",'元(SBI会社)VLOOKUP'!A:L,12,FALSE)+VLOOKUP(\"日興－グローバル３倍３分法ファンド（１年決算型）特定/一般\",'元(SBI会社)VLOOKUP'!A:L,12,FALSE)*G64/3","v":1221350.3999999999},{"$f":"N64+P64-税金!C$3*メイン!O64","v":1221350.3999999999},0.27449680023161688,1221350.3999999999,0.27449680023161688,5670766.2000000002,0.17304689313166061,{"$f":"L64","v":5670766.2000000002},0.19001185734936626,1221350.3999999999,0.27449680023161688,{"$f":"S64","v":1221350.3999999999},{"$f":"AA64/(W64-AA64)","v":0.27449680023161688},5711498.66802039,{"$f":"ROUND(AD$70*H64,0)","v":0},0,{"$f":"AF70-AF57-AF59-AF66-AF67-AF62-AF68-AF69-AF58-AF60-AF61-AF65-AF63","v":0},1,{"$f":"ROUND(AH$70*H64,0)","v":6722},6722,{"$f":"L64+AH64*AG64","v":5677488.2000000002},{"$f":"AK70-AK57-AK59-AK66-AK67-AK62-AK68-AK69-AK58-AK60-AK61-AK65-AK63","v":34009},{"$f":"AK64+AF64","v":34009},null,null,null,null,null,null,null,null,null,{"$f":"AL64","v":34009},null,null,null,null,null,null,-336411]
["先進国株ﾍｯｼﾞ",0.12967592360903088,0.78968382260696424,0.10240297905566818,0.10240297905566818,0.11264327696123501,0,0,{"$f":"L65","v":1688077},0.13600764960962533,{"$f":"J65-D65","v":3.3604670553957147E-2},{"$f":"VLOOKUP(\"Ｏｎｅ－たわらノーロード　先進国株式＜為替ヘッジあり＞特定/一般\",'元(SBI会社)VLOOKUP'!A:L,6,FALSE)","v":1688077},0.14642317002805855,0,null,{"$f":"VLOOKUP(\"Ｏｎｅ－たわらノーロード　先進国株式＜為替ヘッジあり＞特定/一般\",'元(SBI会社)VLOOKUP'!A:L,12,FALSE)","v":60274},{"$f":"N65+P65-税金!C$3*メイン!O65","v":60274},3.7027822162755568E-2,60274,3.7027822162755568E-2,{"$f":"I65","v":1688077},5.1512700385534189E-2,{"$f":"L65","v":1688077},5.6562840858920639E-2,60274,3.7027822162755568E-2,{"$f":"S65","v":60274},{"$f":"AA65/(W65-AA65)","v":3.7027822162755568E-2},1298636.8551264997,0,0,{"$f":"AE65-AD65","v":0},1,0,{"$f":"AH65+AD65","v":0},{"$f":"L65+AH65*AG65","v":1688077},{"$f":"ROUND((AC65-AJ65)/AG65,0)","v":-389440},{"$f":"AK65+AF65","v":-389440},null,null,null,null,null,null,null,null,null,-389440,null,null,null,null,null,null,372906]
["日本株",0.15000000000000002,0.78968382260696424,0.11845257339104465,0.11114530309337814,0.12225983340271598,0.2,1.8181818181818184E-2,{"$f":"L66-VLOOKUP(\"日興－グローバル３倍３分法ファンド（１年決算型）特定/一般\",'元(SBI会社)VLOOKUP'!A:L,6,FALSE)*H66+VLOOKUP(\"日興－グローバル３倍３分法ファンド（１年決算型）特定/一般\",'元(SBI会社)VLOOKUP'!A:L,6,FALSE)*G66","v":1654331.2},0.13328876478257271,{"$f":"J66-D66","v":1.4836191391528059E-2},{"$f":"VLOOKUP(\"三菱ＵＦＪ国際－ｅＭＡＸＩＳ　Ｓｌｉｍ　国内株式（ＴＯＰＩＸ）特定/一般\",'元(SBI会社)VLOOKUP'!A:L,6,FALSE)+VLOOKUP(\"日興－グローバル３倍３分法ファンド（１年決算型）特定/一般\",'元(SBI会社)VLOOKUP'!A:L,6,FALSE)*H66","v":1567774.6545454545},0.13598818940616444,0,null,{"$f":"VLOOKUP(\"三菱ＵＦＪ国際－ｅＭＡＸＩＳ　Ｓｌｉｍ　国内株式（ＴＯＰＩＸ）特定/一般\",'元(SBI会社)VLOOKUP'!A:L,12,FALSE)+VLOOKUP(\"日興－グローバル３倍３分法ファンド（１年決算型）特定/一般\",'元(SBI会社)VLOOKUP'!A:L,12,FALSE)*G66/3","v":284498.40000000002},{"$f":"N66+P66-税金!C$3*メイン!O66","v":284498.40000000002},0.22169692534424038,284498.40000000002,0.22169692534424038,{"$f":"I66+持株会!B40+持株会!B43+'元(野村預り）'!R48","v":1654331.2},5.0482926693534255E-2,{"$f":"L66+持株会!B40+持株会!B43+'元(野村預り）'!R48","v":1567774.6545454545},5.2531838469278253E-2,{"$f":"Q66","v":284498.40000000002},0.22169692534424038,{"$f":"S66+持株会!C46+IF(持株会!B42>0,持株会!B42*(100%-20.315%),持株会!B42)+('元（野村履歴)'!D41-'元（野村履歴)'!A41)+('元（野村履歴)'!H41-'元（野村履歴)'!E41)+('元（野村履歴)'!L41-'元（野村履歴)'!I41)+IF('元(野村預り）'!S48>0,'元(野村預り）'!S48*(100%-20.315%),'元(野村預り）'!S48)","v":284498.40000000002},{"$f":"AA66/(W66-AA66)","v":0.22169692534424038},1409503.7879005622,0,0,0,1,611,{"$f":"AH66+AD66","v":611},{"$f":"L66+AH66*AG66","v":1568385.6545454545},-158882,{"$f":"AK66+AF66","v":-158882},null,null,null,null,null,null,null,null,null,-158882,null,null,null,null,null,null,43046]
["新興国株",0.1,0.78968382260696424,7.8968382260696426E-2,7.8968382260696426E-2,8.6865220486766079E-2,0.2,0.2,{"$f":"L67-VLOOKUP(\"日興－グローバル３倍３分法ファンド（１年決算型）特定/一般\",'元(SBI会社)VLOOKUP'!A:L,6,FALSE)*H67+VLOOKUP(\"日興－グローバル３倍３分法ファンド（１年決算型）特定/一般\",'元(SBI会社)VLOOKUP'!A:L,6,FALSE)*G67","v":1072688.2},8.6426034384675401E-2,7.457652123978975E-3,{"$f":"VLOOKUP(\"三菱ＵＦＪ国際－ｅＭＡＸＩＳ　Ｓｌｉｍ　新興国株式インデックス特定/一般\",'元(SBI会社)VLOOKUP'!A:L,6,FALSE)+VLOOKUP(\"日興－グローバル３倍３分法ファンド（１年決算型）特定/一般\",'元(SBI会社)VLOOKUP'!A:L,6,FALSE)*H67","v":1072688.2},9.3044574800611624E-2,0,null,{"$f":"VLOOKUP(\"三菱ＵＦＪ国際－ｅＭＡＸＩＳ　Ｓｌｉｍ　新興国株式インデックス特定/一般\",'元(SBI会社)VLOOKUP'!A:L,12,FALSE)+VLOOKUP(\"日興－グローバル３倍３分法ファンド（１年決算型）特定/一般\",'元(SBI会社)VLOOKUP'!A:L,12,FALSE)*G67/3","v":80415.399999999994},{"$f":"N67+P67-税金!C$3*メイン!O67","v":80415.399999999994},8.1041624843490617E-2,80415.399999999994,8.1041624843490617E-2,{"$f":"I67","v":1072688.2},3.2733735400516661E-2,{"$f":"L67","v":1072688.2},3.5942846178131704E-2,{"$f":"Q67","v":80415.399999999994},8.1041624843490617E-2,{"$f":"S67","v":80415.399999999994},8.1041624843490617E-2,1001447.9318781272,0,0,0,1,6722,6722,1079410.2,-77962,-77962,null,null,null,null,null,null,null,null,null,-77962,null,null,null,null,null,null,48709]
["先進国RIET",0.75,4.1562306452998118E-2,3.1171729839748589E-2,3.1171729839748585E-2,3.4288902823723447E-2,0.2,0.2,{"$f":"L68-VLOOKUP(\"日興－グローバル３倍３分法ファンド（１年決算型）特定/一般\",'元(SBI会社)VLOOKUP'!A:L,6,FALSE)*H68+VLOOKUP(\"日興－グローバル３倍３分法ファンド（１年決算型）特定/一般\",'元(SBI会社)VLOOKUP'!A:L,6,FALSE)*G68","v":378008.2},3.0455960726415428E-2,-7.1576911333316035E-4,{"$f":"VLOOKUP(\"三菱ＵＦＪ国際－ｅＭＡＸＩＳ　Ｓｌｉｍ　先進国リートインデックス特定/一般\",'元(SBI会社)VLOOKUP'!A:L,6,FALSE)+VLOOKUP(\"日興－グローバル３倍３分法ファンド（１年決算型）特定/一般\",'元(SBI会社)VLOOKUP'!A:L,6,FALSE)*H68","v":378008.2},3.2788290427865768E-2,0,null,{"$f":"VLOOKUP(\"三菱ＵＦＪ国際－ｅＭＡＸＩＳ　Ｓｌｉｍ　先進国リートインデックス特定/一般\",'元(SBI会社)VLOOKUP'!A:L,12,FALSE)+VLOOKUP(\"日興－グローバル３倍３分法ファンド（１年決算型）特定/一般\",'元(SBI会社)VLOOKUP'!A:L,12,FALSE)*G68/3","v":9514.4},{"$f":"N68+P68-税金!C$3*メイン!O68","v":9514.4},2.581970171546984E-2,9514.4,2.581970171546984E-2,378008.2,1.1535151032728414E-2,{"$f":"L68","v":378008.2},1.2666020365165242E-2,{"$f":"Q68","v":9514.4},2.581970171546984E-2,{"$f":"S68","v":9514.4},2.581970171546984E-2,395308.39416241855,0,0,0,1,6722,6722,384730.2,10578,10578,null,null,null,null,null,null,null,null,null,10578,null,null,null,null,null,null,27408]
["J-RIET",0.25,4.1562306452998118E-2,{"$f":"D32","v":1.039057661324953E-2},{"$f":"E32","v":1.0390576613249528E-2},1.1429634274574482E-2,0.2,0.2,{"$f":"L69-VLOOKUP(\"日興－グローバル３倍３分法ファンド（１年決算型）特定/一般\",'元(SBI会社)VLOOKUP'!A:L,6,FALSE)*H69+VLOOKUP(\"日興－グローバル３倍３分法ファンド（１年決算型）特定/一般\",'元(SBI会社)VLOOKUP'!A:L,6,FALSE)*G69","v":126598.20000000001},1.019996340617713E-2,-1.9061320707240009E-4,{"$f":"VLOOKUP(\"三菱ＵＦＪ国際－ｅＭＡＸＩＳ　Ｓｌｉｍ　国内リートインデックス特定/一般\",'元(SBI会社)VLOOKUP'!A:L,6,FALSE)+VLOOKUP(\"日興－グローバル３倍３分法ファンド（１年決算型）特定/一般\",'元(SBI会社)VLOOKUP'!A:L,6,FALSE)*H69","v":126598.20000000001},1.0981080699426724E-2,0,null,{"$f":"VLOOKUP(\"三菱ＵＦＪ国際－ｅＭＡＸＩＳ　Ｓｌｉｍ　国内リートインデックス特定/一般\",'元(SBI会社)VLOOKUP'!A:L,12,FALSE)+VLOOKUP(\"日興－グローバル３倍３分法ファンド（１年決算型）特定/一般\",'元(SBI会社)VLOOKUP'!A:L,12,FALSE)*G69/3","v":-5183.6000000000004},{"$f":"N69+P69-税金!C$3*メイン!O69","v":-5183.6000000000004},-3.9334718451258063E-2,-5183.6000000000004,-3.9334718451258063E-2,126598.20000000001,3.8632213731648111E-3,{"$f":"L69","v":126598.20000000001},4.2419592468979838E-3,{"$f":"Q69","v":-5183.6000000000004},-3.9334718451258063E-2,{"$f":"S69","v":-5183.6000000000004},-3.9334718451258063E-2,131769.46472080619,0,0,0,1,6722,{"$f":"AH69+AD69","v":6722},133320.20000000001,-1551,-1551,null,null,null,null,null,null,null,null,null,-1551,null,null,null,null,null,null,5832]
[null,null,null,{"$f":"D33","v":1},0.90909090909090906,1,3.0000000000000009,1,{"$f":"SUM(I57:I69)","v":12411632.763636362},1.0000000000000002,{"$f":"(IF(I70*D57-I57>0,I70*D57-I57,0)+IF(I70*D58-I58>0,I70*D58-I58,0)+IF(I70*D59-I59>0,I70*D59-I59,0)+IF(I70*D60-I60>0,I70*D60-I60,0)+IF(I70*D61-I61>0,I70*D61-I61,0)+IF(I70*D62-I62>0,I70*D62-I62,0)+IF(I70*D63-I63>0,I70*D63-I63,0)+IF(I70*D64-I64>0,I70*D64-I64,0)+IF(I70*D65-I65>0,I70*D65-I65,0)+IF(I70*D66-I66>0,I70*D66-I66,0)+IF(I70*D67-I67>0,I70*D67-I67,0)+IF(I70*D68-I68>0,I70*D68-I68,0)+IF(I70*D69-I69>0,I70*D69-I69,0))/I70","v":7.7043527836605702E-2},{"$f":"SUM(L57:L69)","v":11528755.999999998},1.0000000000000002,0,null,{"$f":"SUM(P57:P69)","v":1567416.9999999995},{"$f":"SUM(Q57:Q69)","v":1567416.9999999995},0.15735003095467384,{"$f":"SUM(S57:S69)","v":1567416.9999999995},0.15735003095467384,{"$f":"SUM(U57:U69)","v":12411632.763636362},{"$f":"SUM(V57:V69)","v":0.37874855225708282},{"$f":"SUM(W57:W69)","v":11528755.999999998},{"$f":"SUM(X57:X69)","v":0.3862970651986411},{"$f":"SUM(Y57:Y69)","v":1567416.9999999995},0.17019891089731934,{"$f":"SUM(AA57:AA69)","v":2319431.4999999995},{"$f":"AA70/(L70+持株会!B40-AA70)","v":0.25185685443052852},{"$f":"SUM(AC57:AC69)","v":11528755.999999998},{"$f":"ROUND(AE70*F60/H60,0)","v":0},0,{"$f":"AE70-AD70","v":0},null,{"$f":"ROUND(AH60/H60,0)","v":33612},{"$f":"AH70+AD70","v":33612},{"$f":"SUM(AJ57:AJ69)","v":11562365.999999998},{"$f":"AH70*-1","v":-33612},{"$f":"SUM(AL57:AL69)","v":-33612},null,null,null,null,null,null,null,null,null,{"$f":"AI70","v":33612},null,null,null,null,null,null,76450]
[null,null,null,null,null,null,null,null,{"$f":"I70*('15年'!C$70*2.5)","v":4708838.01224925},null,null,{"$f":"L70-I71","v":6819917.9877507482},{"$f":"I71/L70/2","v":0.20422142737036203},{"$f":"IF(N57>0,N57,0)+IF(N58>0,N58,0)+IF(N59>0,N59,0)+IF(N60>0,N60,0)+IF(N61>0,N61,0)+IF(N62>0,N62,0)+IF(N63>0,N63,0)+IF(N64>0,N64,0)+IF(N65>0,N65,0)+IF(N66>0,N66,0)+IF(N67>0,N67,0)+IF(N68>0,N68,0)+IF(N69>0,N69,0)","v":0},null,null,null,null,null,null,null,null,null,null,{"$f":"Y70-Q70","v":0},null,{"$f":"AA70-S70","v":752014.5}]
[null,null,null,null,null,null,null,null,{"$f":"Y70-I71","v":-3141421.0122492504}]
[]
[]
[]
[]
[]
[null,null,null,null,null,null,null,null,null,null,null,399752]
[null,null,null,null,null,null,null,null,null,null,null,150000]
[null,null,null,null,null,null,null,null,null,null,null,{"$f":"L78-L79","v":249752},null,null,null,null,23000]
[null,null,null,null,null,null,null,null,null,null,null,null,null,null,null,null,{"$f":"Q80*3","v":69000}]
[]
[]
[null,null,null,null,null,null,null,null,null,null,null,null,null,null,null,null,699500]
[null,null,null,null,null,null,null,null,null,null,null,null,null,null,null,null,{"$f":"Q84-Q81","v":630500}]
[]
[]
[]
[]
[]
[]
[null,null,null,null,null,null,null,null,null,null,null,null,null,null,null,null,45000]
[null,null,null,null,null,null,null,null,null,null,null,null,null,null,null,null,{"$f":"Q92-4700","v":40300}]

{"sheet":"資産推移","index":1,"n_rows":508,"n_cols":29,"rows_kept":508,"cut":false,"hidden":false,"merged":[]}
[null,null,null,null,null,null,null,null,null,"夫",null,null,null,null,null,null,null,"妻",null,null,null,null,"子"]
[null,null,null,null,null,null,null,null,null,"IDECO",null,null,"NISA楽天",null,null,"NISA SBI",null,"IDECO",null,null,"NISA",null,"NISA"]
[null,"運用総額","元金","利益","利率",null,"レバレッジ","期待リターン","リスク","取得","現在","損益","現在の評価金額[円]","累計買付金額[円]","トータルリターン[円]","評価額","含み損益","取得","現在","損益","評価額","含み損益","現在の評価金額[円]","累計買付金額[円]","トータルリターン[円]","利益計","評価額計"]
["2021-07-17",53649517,40180296,13469220,0.3352,null,1.1100000000000001,4.3400000000000001E-2,0.14130000000000001]
["2021-07-20",53301464,40199040,13102424,0.32590000000000002,null,1.1100000000000001,4.3400000000000001E-2,0.14119999999999999]
["2021-07-21",52609275.811999992,40282419.496799991,12326856.315199999,0.30601082231863547,null,1.1156093242137481,4.3329574196137373E-2,0.14068324540767377]
["2021-07-22",53266114,40308999,12957115,0.32140000000000002,null,1.1163618148401595,4.3334476563983003E-2,0.14074885385163749]
["2021-07-27",54451991.065000005,40425172.876000002,14026818.188999999,0.34698226849952629,null,1.1150377939811702,4.3370217135264684E-2,0.1410467958728612]
["2021-07-28",54702746.862000003,40775986.386700004,13926760.475299999,0.34154319023028029,null,1.1139738693511751,4.3271852483575172E-2,0.14002278612482771]
["2021-07-29",54338767.410599999,40851257.544399999,13487509.8662,0.33016143631663802,null,1.1142454258170935,4.3237334480427242E-2,0.13961188823805235]
["2021-07-30",54470520.930399992,40847273.595999993,13623247.3344,0.33351668630667358,null,1.114595383965133,4.3241468089475821E-2,0.13965421278053719]
["2021-07-31",54555047.241599992,40838346.737899989,13716700.503699999,0.33587795783540447,null,1.1141231727951375,4.3268368427305685E-2,0.13973132008765887]
["2021-08-03",54507734.25559999,40870676.803199992,13637057.452400001,0.33366360723765359,null,1.1140545134759716,4.321612122513311E-2,0.13957283702842521]
["2021-08-04",54504059.986400008,40906838.193600014,13597221.792799998,0.33239483649282187,null,1.114626957594699,4.3207503434451885E-2,0.13944650823866919]
["2021-08-05",54592273.987999983,40897112.830799982,13695161.157199999,0.33486865475956168,null,1.1144645005513707,4.3214107117758138E-2,0.13947082317229409]
["2021-08-06",54772034.855599999,40887390.449500002,13884644.406099999,0.33958255230910167,null,1.1150971280840676,4.3228496813379633E-2,0.13954015280152951]
["2021-08-10",55013398,40865914,14147484,0.34620000000000001,null,1.1140962098167673,4.3275432586065372E-2,0.13969999999999999]
["2021-08-11",55040317.61339999,40856349.524399988,14183968.089,0.34716679914168869,null,1.1140962098167673,4.3275432586065372E-2,0.14007885584617472]
["2021-08-12",55229431.490800001,40845609.095600002,14383822.395200001,0.35215100750571166,null,1.114154330606322,4.328245315423699E-2,0.14017042291214105]
["2021-08-17",55055420.487399995,40875943.603799999,14179476.883599998,0.34689050902501528,null,1.1140426450150707,4.3289913863652711E-2,0.1400185243180056]
["2021-08-18",54897260.457600012,40885029.49440001,14012230.963199999,0.34272277986540878,null,1.1139018060842842,4.3274274440705932E-2,0.13987430281593152]
["2021-08-19",54743570.124400005,40895867.838300005,13847702.2861,0.33860883796018337,null,1.1136200257795694,4.3243656704184244E-2,0.13972349314669927]
["2021-08-20",54538983.114399992,40907822.712799996,13631160.4016,0.33321647297876916,null,1.113719759236993,4.3255444375200555E-2,0.13969384778984384]
["2021-08-21",54316814.611599997,40949927.363899998,13366887.2477,0.3264202920048101,null,1.1142597677639696,4.3241855853709585E-2,0.13953251440266587]
["2021-08-24",54695222.142399989,41001474.603999987,13693747.538400002,0.33398183042577884,null,1.1142514325754196,4.5398672200698438E-2,0.15554601121851119]
["2021-08-25",55092812.568000004,40975997.858700007,14116814.7093,0.34451423874971537,null,1.1139509864059189,4.5435869425151619E-2,0.15571308309817786,null,null,null,4939]
["2021-08-28",55206958,41019301,14187657,0.34589999999999999,null,1.1100000000000001,4.0800000000000003E-2,0.1399,null,null,null,300]
["2021-08-31",55630028.405400001,41049670.368000001,14580358.037399998,0.35518818803392926,null,1.1145484407155439,4.5459889284915705E-2,0.15582585689320819,null,null,null,{"$f":"M26+M27","v":5239}]
["2021-09-01",55871945.513599992,41035660.566899985,14836284.946700003,0.36154614649160016,null,1.114492297849963,4.5480076389362009E-2,0.1559207737065342]
["2021-09-02",56216048.492000006,41221205.592400007,14994842.899600001,0.36376526799993969,null,1.1141638403295691,4.5360738271009671E-2,0.15551462976237732]
["2021-09-03",56656489.217999987,41581279.418499991,15075209.799499998,0.36254800261852604,null,1.1135587842593668,4.5090919490690287E-2,0.15443484789320683,1012000,1514435,502435,1062856,799600,263256,520834.03,154150.47,92000,91816,-184,1144187.75,310817.84999999998,2119562,1599992,519570,1750045.3199999998,6453690.7800000003,13325164.479499998,50202798.437999986]
["2021-09-04",56877525.551599994,41571282.6752,15306242.876399998,0.36819270158173822,null,1.1137212429772807,4.5111724821204374E-2,0.15446706866688334,null,null,137741,null,null,null,null,58693.794099999999,null,null,null,null,60145.205900000001,null,null,107173,null,null,2877260,34516901]
["2021-09-07",56898373.185600005,41577249.723200008,15321123.462400001,0.36849776174230325,null,1.1137925885873765,4.5111392654832584E-2,0.1544337291848763,null,null,364694,null,null,null,null,358712.67589999997,null,null,null,null,250672.64409999998,null,null,412397,null,null,10447904.479499998,44964805.479499996]
["2021-09-08",57042454.748000011,41573056.677000009,15469398.071,0.37210153179711541,null,1.113561408333801,4.5117989746649802E-2,0.1544456157849815,null,null,1149741,null,null,null,null,null,null,null,null,null,null,null,null,null,null,null,null,5237992.9584999904]
["2021-09-09",57035649.183200002,41573479.430200003,15462169.753,0.37192387947610411,null,1.1131506497922168,4.5147735746086361E-2,0.15457376250921337,null,null,null,null,null,null,null,916039.31370000006,null,null,null,null,492630.6863,null,null,640501]
["2021-09-10",56782877.498400003,41587669.138899997,15195208.359500002,0.36537773513463895,null,1.1127646621462681,4.5100083283510242E-2,0.15438879528721053,null,null,null,null,null,null,null,1583690.03,null,null,null,null,400884.41960000008,null,null,1066664]
["2021-09-11",56305229.677800015,41357092.190300018,15130811.466399999,0.36144072747469341,null,1.1041397040586427,4.4560662227307216E-2,0.15240599070034058]
["2021-09-14",56434091.299999997,41445910.699999996,14988180.600000001,0.36163231418630654,null,1.1038547492302759,4.4360196417302822E-2,0.15160559856347874]
["2021-09-15",56602928.013999999,41461145.261999995,15141782.752000002,0.3652041605777292,null,1.1035658937387491,4.4365253548736674E-2,0.15160088920715739]
["2021-09-16",56255120.943000004,41484763.138999999,14770357.804000001,0.3560429585799979,null,1.10383477607165,4.4319492314401222E-2,0.15141620505111777]
["2021-09-17",56274851.332600012,41466938.163800016,14807913.168799998,0.35710167725204928,null,1.1036719125336949,4.433515599964763E-2,0.1514843897242974]
["2021-09-18",56290785.873499997,41460469.327499993,14830316.546000002,0.35769774888108458,null,1.1029876143500275,4.4351989084963683E-2,0.15154494246745223]
["2021-09-21",56276177.748799995,41459772.038399994,14816405.7104,0.35736823870321965,null,1.1024233295183752,4.4321388433662512E-2,0.15143923095075235]
["2021-09-22",55168367.859600008,41573761.950800009,13594605.9088,0.32699965725710317,null,1.1027803674313941,4.41607788383186E-2,0.15077716765047691]
["2021-09-23",55156535.911299996,41648596.962899998,13507938.9484,0.32433118840552272,null,1.1029459433734436,4.4135522001304078E-2,0.15070530245452085]
["2021-09-24",55169238.326099999,41649084.779299997,13520153.546800001,0.32462066377793852,null,1.1033465500918953,4.4157837802534614E-2,0.15078295875765105]
["2021-09-25",56286310.218700014,41474783.399100013,14811526.819600001,0.35712125792370997,null,1.1025219811882931,4.4375042481134004E-2,0.15169393329521036]
["2021-09-28",56363667.700800009,41596369.110400006,14767298.590400001,0.35501412518016751,null,1.1015231129382088,4.4334904376475331E-2,0.15158321499763303]
["2021-09-29",56328869.751800008,41649304.069400005,14679565.682400003,0.35245644580133978,null,1.1006088907618976,4.4257045429989962E-2,0.15132670618168462]
["2021-09-30",55677171.775199994,41695565.893599994,13981605.881600002,0.3353259652903785,null,1.1007279926689462,4.4203467405681797E-2,0.15115012910812342]
["2021-10-01",55708403.57760001,41686757.436800011,14021646.140799999,0.33635732311532696,null,1.1001573693891225,4.4190221569419735E-2,0.15111923940747155]
["2021-10-02",55160151.187399991,41742807.28419999,13417343.903199999,0.32142888263000408,null,1.0998317237400517,4.4103743189665291E-2,0.15084594061690113]
["2021-10-05",55284605.393599994,41761462.972799994,13523142.4208,0.32381869451287831,null,1.0995272906087701,4.4058046251385048E-2,0.15066463789145734]
["2021-10-06",54847088.146999992,41795041.76699999,13052046.380000001,0.31228695625578901,null,1.1001232933147129,4.4018340861055466E-2,0.15049699068159317]
["2021-10-07",55284865.924400017,41746698.929200016,13538166.995199999,0.32429311400549171,null,1.099251962667386,4.4097086522140415E-2,0.15088615707983924]
["2021-10-08",54966199.520000011,41486334.520000011,13479865,0.324923017566219,null,1.1000189768986961,4.4308131393982167E-2,0.15169821052095878]
["2021-10-09",55811480.731199995,41712355.961599991,14099124.769600002,0.33800835374965454,null,1.0992513903918582,4.4182864442352893E-2,0.15123259406164671]
["2021-10-12",56030369.12659999,41702515.405799985,14327853.720800001,0.34357288958179449,null,1.0988463352915998,4.4211034005017587E-2,0.15133848239928507]
["2021-10-13",56175173.377100006,41687345.450300008,14487827.9268,0.34753539162316072,null,1.0985026626808012,4.4234186647108105E-2,0.1515171548303412]
["2021-10-14",56111912.278399996,41691528.651199996,14420383.6272,0.34588282305127094,null,1.0990667067131812,4.4219542083764315E-2,0.15143229381179601]
["2021-10-15",56451068.523800008,41699531.705400005,14751536.818399999,0.35375785326840264,null,1.0999632424180044,4.4255431017893317E-2,0.15154982453255259]
["2021-10-16",57316029.933700003,41645033.400835,15670996.532865003,0.3762992907709084,null,1.1005294762052624,4.4358867028946217E-2,0.15192408216258885]
["2021-10-19",57678112.486400001,41608752.611200005,16069359.8752,0.38620143279360269,null,1.1001851989203446,4.4435153616088206E-2,0.15228740761513809]
["2021-10-20",57759019.298800007,41602762.332400009,16156256.966399999,0.3883457746702938,null,1.0999561569377261,4.4461712038967295E-2,0.15239241714082352]
["2021-10-21",58197918.296999998,41597626.820999995,16600291.476,0.3990682340469377,null,1.0996152364834473,4.4512991667857285E-2,0.15264893998641585]
["2021-10-22",58250059.732500002,41666110.6545,16583949.078,0.39802008916829174,null,1.0994524210207426,4.448281411163614E-2,0.15257235826008381]
["2021-10-23",58171441.012000009,41667274.268000007,16504166.743999999,0.39609422583888604,null,1.0988746767131572,4.4478044556301485E-2,0.15254970075235672]
["2021-10-26",58094593.949599996,41696854.264799997,16397739.684799999,0.39326083403473394,null,1.0991439152530587,4.4469819242218628E-2,0.15250725136512891]
["2021-10-27",58355229.574500002,41684507.088500001,16670722.486000003,0.39992610325477862,null,1.0993515643974687,4.4490885016293683E-2,0.15256599012041139]
["2021-10-28",58528932.864399999,41705251.389200002,16823681.475200001,0.40339479837200226,null,1.0991289990241562,4.4474379416483231E-2,0.15252362208071271]
["2021-10-29",58270622.545000002,41765000.877000004,16505621.668,0.39520223444050373,null,1.100006593983095,4.4404745612367305E-2,0.15220831701714357]
["2021-10-30",58490460.84260001,41739548.481800012,16750912.360799998,0.40131992247362275,null,1.0995536468907254,4.4444463053785105E-2,0.15237384417550326]
["2021-11-02",58655271.012400001,41754027.009199999,16901244.003200002,0.40478117235197497,null,1.0984791941985717,4.4464944781276945E-2,0.1524255519144074]
["2021-11-03",58817065.678399995,41770007.971199989,17047057.707200002,0.40811717629917094,null,1.0989083914625892,4.4462482761284533E-2,0.15242999964463105]
["2021-11-04",58823655.019999996,41770054.459999993,17053600.559999999,0.40827336187294022,null,1.0991180850291884,4.4474392915069834E-2,0.15247168474678299]
["2021-11-05",59245804.587500006,41742007.337500006,17503797.25,0.41933290626095532,null,1.0997056317511182,4.4530461042031823E-2,0.15264453656750937]
["2021-11-06",59233784.8103,41743260.1219,17490524.6884,0.41900236438945143,null,1.1001728361542789,4.4508009424335609E-2,0.15255047504995098]
["2021-11-09",59331089.823299997,41738434.602899998,17592655.220399998,0.42149772476559666,null,1.1007573375847943,4.4486016754884825E-2,0.15244339594855524]
["2021-11-10",59208185.051300012,41742566.270900011,17465618.780399997,0.41841267417657074,null,1.1002629568438298,4.4466985572480272E-2,0.15240600080907352]
["2021-11-11",58988842.812499993,41763474.646499991,17225368.166000001,0.41245055187101348,null,1.1002944276056612,4.4408832620079636E-2,0.15217338515317727]
["2021-11-12",59033938.212200001,41760726.9586,17273211.253600001,0.4136233373217858,null,1.1001383713068682,4.4428171521251753E-2,0.15228778891698477]
["2021-11-13",59262296.276000001,41750803.467999995,17511492.808000006,0.41942888168419878,null,1.1000163902592548,4.4466662181890521E-2,0.15243604601775582]
["2021-11-16",59497698.729199991,41757954.039599985,17739744.689600006,0.42482312885293699,null,1.1000214257947321,4.4492306749814262E-2,0.15253024561583431]
["2021-11-17",59584176.271400005,41753444.992200002,17830731.279200003,0.42704814614772452,null,1.1003667838850446,4.4521180540302359E-2,0.15263861803616496]
["2021-11-18",59805100.122000009,41727324.194000013,18077775.927999996,0.43323592579174786,null,1.0996404860428937,4.4548943522057974E-2,0.15282449235620207]
["2021-11-19",59496926.560000002,41754705.824000001,17742220.736000001,0.42491547685152242,null,1.099899350498484,4.4511334080581784E-2,0.15263835260819178]
["2021-11-20",59634678.839999989,41742722.919999987,17891955.920000002,0.42862455221931667,null,1.1001188368267902,4.4515827219301925E-2,0.15262207680823237]
["2021-11-23",59430169.782000005,41793052.518000007,17637117.264000002,0.42201074583876846,null,1.1004387769022983,4.4478530691437021E-2,0.15243421405169966]
["2021-11-25",59448909.013899989,41853448.560699992,17595460.453199998,0.42040646728742864,null,1.0998344246555023,4.4521994307882826E-2,0.15268110062152535]
["2021-11-26",59604643.993599996,41864730.636799991,17739913.356800001,0.42374364021839039,null,1.0997522942648295,4.454111651612018E-2,0.15275017645029298]
["2021-11-27",59348429.147200003,41872128.513600007,17476300.6336,0.4173731131896895,null,1.0988652535326089,4.4459004166348431E-2,0.1524853115604739]
["2021-11-30",57976921.330499992,42020404.84449999,15956516.486,0.37973257385426007,null,1.0988652535326089,4.4459004166348431E-2,0.15154938107652213]
["2021-12-01",58269068.529400006,42020876.282200009,16248192.247199999,0.38666952440691277,null,1.098706792539476,4.4233885247328478E-2,0.15158518374326019]
["2021-12-02",57573586.637499988,42108375.12349999,15465211.514000002,0.36727162871143709,null,1.0999958211957246,4.4124396076495875E-2,0.15105582141836249]
["2021-12-03",57238518.050400011,42170093.207200013,15068424.843199998,0.35732491197404453,null,1.0998371917275742,4.4065227130624038E-2,0.15084197705162464]
["2021-12-04",57769701.190599993,42139362.309799992,15630338.880799999,0.37092015692807445,null,1.1000897505445439,4.4114742888378987E-2,0.15100529955174241]
["2021-12-07",57441723.45040001,42161009.59920001,15280713.851199999,0.36243709523241457,null,1.1009846006067145,4.4072380639783366E-2,0.15079725599525073]
["2021-12-08",58103630.84359999,42119416.694799989,15984214.148799999,0.37949751927056935,null,1.1015499961281665,4.4200560852793655E-2,0.15123646930114221]
["2021-12-09",58997776.739599995,42045560.502799988,16952216.236800004,0.4031868295743396,null,1.1011701662173594,4.4313026982320237E-2,0.15173397386635251]
["2021-12-10",59168561.37659999,42030559.695799991,17138001.680799998,0.40775097464411247,null,1.1007753647287113,4.4335661881704201E-2,0.15186842031799758]
["2021-12-11",58745104.520999998,42065494.420999996,16679610.100000001,0.39651525150440603,null,1.1012843485515127,4.4304144890620005E-2,0.15173557873773127]
["2021-12-14",58962312.906000003,42038500.266000003,16923812.639999997,0.40257888680409654,null,1.100806595247982,4.4308306782045358E-2,0.15176183707130325]
["2021-12-15",58677022.353799991,42070042.119399995,16606980.2344,0.39474598545129408,null,1.1010293854356787,4.4244350936517338E-2,0.15148438224150795]
["2021-12-16",58458965.843000002,42114908.815000005,16344057.027999997,0.38808245079658721,null,1.1016930149254744,4.4257915162705615E-2,0.15149552612744133]
["2021-12-17",59125079.522399999,42060650.959199995,17064428.563200001,0.40571004428231444,null,1.1009957955750009,4.432289112329002E-2,0.15175457243991752]
["2021-12-18",58804363.057100005,42084291.114300005,16720071.942799998,0.39729959802313536,null,1.1011146181181548,4.4256651157147046E-2,0.15152037689935274]
["2021-12-21",58233316.156800009,42153192.174400009,16080123.9824,0.38146871335086208,null,1.1003961975625409,4.4150420633226745E-2,0.15114302838188817]
["2021-12-22",57937822.339099996,42258004.236299999,15679818.102799999,0.37104965996787176,null,1.1016418746934125,4.4126093954984041E-2,0.15093727889601677]
["2021-12-23",58734827.724400014,42183376.905200019,16551450.819199998,0.39236903333738726,null,1.100651076675315,4.4260445135403795E-2,0.15155937459710264]
["2021-12-24",59237100.079899989,42150476.458699986,17086623.621200003,0.40537201608958973,null,1.1008424307020885,4.4318941536361789E-2,0.15178568273308921]
["2021-12-25",59594814.152200006,42140712.33860001,17454101.8136,0.41418620723248689,null,1.1003343997202359,4.4369490273659766E-2,0.15203904792570705]
["2021-12-28",60070774.093000002,42665287.369000003,17405486.723999999,0.40795428314978566,null,1.1000128844136217,4.4013396520173914E-2,0.150750556414607]
["2021-12-29",60795909.4322,42632578.4186,18163331.013599999,0.42604345520128312,null,1.0998568739426504,4.4079642343621793E-2,0.15100786382731463]
["2021-12-30",61347523.94120001,43203846.091600016,18143677.849599998,0.41995515425020497,null,1.0992138507209155,4.3903473623240673E-2,0.15027677647320467]
["2021-12-31",63834765.107699998,45650208.420099996,18184556.687600002,0.39834553481673168,null,1.0991998765048507,4.3596870097081374E-2,0.14925024502317674]
["2022-01-05",64167142.93999999,45665102.747999996,18502040.191999998,0.40516804033273168,null,1.099033754486187,4.3644703951345981E-2,0.14943581323818431]
["2022-01-06",64477088.164000005,45670519.763999999,18806568.400000002,0.41178792133704528,null,1.097785729900878,4.3626609420345332E-2,0.1494233240916733]
["2022-01-07",63562581.461800002,45727975.739399999,17834605.722400002,0.39001520259803241,null,1.097374977246947,4.3521538805309894E-2,0.14904204643510893]
["2022-01-08",63311438.345400006,45742548.970200002,17568889.3752,0.38408199303990781,null,1.096642250605961,4.3509325992849485E-2,0.14901003665408039]
["2022-01-12",63278731.644899994,46179497.643699996,17099234.001199998,0.37027760962516121,null,1.0959635462334589,4.3517580366856795E-2,0.14911590239649489]
["2022-01-13",64639700.099999987,46944437.811999984,17695262.288000003,0.37694055169783547,null,1.0948442952321187,4.3659258126725137E-2,0.14977588901660571]
["2022-01-14",64627602.064799994,46948143.78639999,17679458.2784,0.37657416997860971,null,1.0946357861686962,4.3621880522314638E-2,0.14966935084930902]
["2022-01-15",64249287.945899993,47355433.260699995,16893854.685199998,0.35674585833047612,null,1.0944941817396039,4.3577302616648959E-2,0.14952881204194832]
["2022-01-18",64694394.26439999,47844660.925199986,16849733.339200001,0.35217583348626419,null,1.0933963351462264,4.3600185538878546E-2,0.14946390078214397]
["2022-01-19",64774069.588000014,47851785.924000017,16922283.663999997,0.3536395421244381,null,1.0921918510598922,4.3583280734409792E-2,0.14945890315805821]
["2022-01-20",66223655.388399996,50304345.593199998,15919309.7952,0.3164599321882825,null,1.0928676519097327,4.3158946939160413E-2,0.14785306937846848]
["2022-01-21",65896463.782900013,50376342.597700015,15520121.1852,0.30808352462468341,null,1.0919357946999895,4.3071738937836987E-2,0.14749771044337906]
["2022-01-22",65501836.418300003,50492476.377900004,15009360.0404,0.29725933677852706,null,1.0921609861141766,4.2960760596533712E-2,0.14706280992638671]
["2022-01-25",64816741.976599999,50564293.807799995,14252448.168800002,0.28186783786549063,null,1.0927588794168419,4.2830873662579982E-2,0.14648688594067799]
["2022-01-26",63938282.899999999,50223206.899999999,13715076.000000002,0.2730824422922305,null,1.0848464136655758,4.2641641098872862E-2,0.1458030663104482]
["2022-01-27",64178688.499999993,50985830.499999993,13192858.000000002,0.25875538106611806,null,1.0861030059846111,4.2679376994436399E-2,0.14596365433800601]
["2022-01-28",63156272.255999997,49729321.793499999,13426950.4625,0.27000067522044924,null,1.0972675696738323,4.4208009719933265E-2,0.15190141838584725]
["2022-01-29",63787929.706200004,50241499.233000003,13546430.473199999,0.26962631848180058,null,1.0974098491833646,4.4302177249905726E-2,0.15203214506528098]
["2022-02-01",65453147.398800001,51088527.211800002,14364620.186999999,0.28117115467916992,null,1.0994870935376806,4.4475336119127115E-2,0.15266873690988672]
["2022-02-02",66166738.221400008,51043386.969400004,15123351.252,0.29628424267900361,null,1.0988660801279193,4.4549056319068331E-2,0.15302180069775795]
["2022-02-03",66636179.706799991,51117965.844399989,15518213.862399999,0.30357651377671224,null,1.0988336372609899,4.4590280757604503E-2,0.1531015719037879]
["2022-02-04",67189683.726399988,51502174.81939999,15687508.907,0.30459896037420897,null,1.0981266481272254,4.443618760428969E-2,0.15246929599662803]
["2022-02-05",66564838.142199986,51563751.619599983,15001086.522600001,0.29092310104329011,null,1.0982285613078773,4.4410399097515145E-2,0.15235617184053923]
["2022-02-08",66733696.647999994,51571256.948999994,15162439.699000001,0.29400950444148544,null,1.0968892511695409,4.4438065036112091E-2,0.15256404884131958]
["2022-02-09",66711278.995599985,51574114.811199985,15137164.1844,0.29350313116983967,null,1.0967023101389721,4.4446418173490043E-2,0.15260110591801582]
["2022-02-10",67123528.220799997,51541513.897599995,15582014.3232,0.30231968649887814,null,1.0965708599267479,4.4521325642360325E-2,0.15289205806233377]
["2022-02-11",67934406.965600014,51477510.55120001,16456896.414400002,0.31969099201158574,null,1.0964631476729947,4.4555192188098412E-2,0.15305087483194313]
["2022-02-15",66427985.715000011,51605493.426000014,14822492.289000001,0.28722702381006776,null,1.0953449899440475,4.4377409564134031E-2,0.15239968334905393]
["2022-02-16",66026332.1928,51658072.049999997,14368260.1428,0.27814162574423834,null,1.095428977747867,4.4358321736638583E-2,0.1523174920103835]
["2022-02-17",66881518.342799991,51585825.11429999,15295693.228500003,0.29650961663613901,null,1.0952120203515912,4.4471112617445414E-2,0.15276423999942026]
["2022-02-18",66796753.150000006,51523535.906500004,15273217.243500002,0.29643185341969502,null,1.0950179612135831,4.4458635740590613E-2,0.15274660772729481]
["2022-02-19",65918221.690399997,51614166.417199999,14304055.273200002,0.27713428824132463,null,1.0958483256795768,4.4330281392539E-2,0.15218250432691258]
["2022-02-22",65574517.280800007,51672031.778600007,13902485.502200002,0.26905242591907758,null,1.0960711237053142,4.4281912355191848E-2,0.15196977648431303]
["2022-02-23",65192968.425800003,51692385.838600002,13500582.587200001,0.26117158974540455,null,1.0955370126870174,4.4227242958403731E-2,0.15178339485002756]
["2022-02-24",65175948.902000003,51692251.765599996,13483697.136400003,0.26084561372064458,null,1.0950462633588121,4.4199337994104755E-2,0.15168586952790777]
["2022-02-25",64275392.978600003,51871560.744200006,12403832.2344,0.23912587276038208,null,1.0953144193025737,4.4109728002281495E-2,0.1513169703589469]
["2022-02-26",64561976.763600014,51866603.07950002,12695373.684099998,0.24476971558443497,null,1.0963178489712224,4.4190172219747165E-2,0.15151570904922135]
["2022-03-01",65583559.95920001,51791625.088900007,13791934.870300001,0.26629662318234326,null,1.0954567291299013,4.4287622656722724E-2,0.15194113659394679]
["2022-03-02",65591129.700000003,51861496.813000008,13729632.886999998,0.26473653347310294,null,1.0960620624895259,4.4221538143441971E-2,0.15163498477880677]
["2022-03-03",64893723.800800011,51981589.665000007,12912134.1358,0.24839821596479447,null,1.0993306382199095,4.4090818515905954E-2,0.15104034576917902]
["2022-03-04",65688003.387999997,51900597.164799996,13787406.223199999,0.26565024250917268,null,1.0981620363449491,4.4208520581925648E-2,0.15153723646754777]
["2022-03-05",65139773.255999997,51997306.784799993,13142466.4712,0.25275283055702119,null,1.0976911032065013,4.4127357746109985E-2,0.1512432525674608]
["2022-03-08",64534711.927000009,52406103.287800007,12128608.639200002,0.23143504054466701,null,1.0980793415667491,4.3974213230255313E-2,0.15062737361387069]
["2022-03-09",63381224.988000005,52494183.175000004,10887041.812999999,0.20739520370677714,null,1.0991059951458697,4.3947981489650532E-2,0.15049716708967262]
["2022-03-10",63224108.80399999,52501557.647199988,10722551.156799998,0.20423301016806789,null,1.0981172139133029,4.3937489912649431E-2,0.15049579217708473]
["2022-03-11",64684091.130099997,52390131.626899995,12293959.5032,0.23466174108422358,null,1.0973487970563724,4.4172194262705133E-2,0.15138184438100288]
["2022-03-12",64441151.362500004,52405956.017700002,12035195.344800001,0.22965319706666812,null,1.0968035889040635,4.4148348226410832E-2,0.15137635020034129]
["2022-03-15",64146264.847200006,52169475.59920001,11976789.248,0.22957465281064962,null,1.0967871053628619,4.4299579406385951E-2,0.15196944104919097]
["2022-03-16",64261850.668899991,52401852.084099993,11859998.584800001,0.22632785127071139,null,1.0960408496418681,4.4214159787912245E-2,0.15158403494817116]
["2022-03-17",64886379.709999993,52339153.634799995,12547226.075200001,0.23972925054824396,null,1.0966297218002088,4.4342152727417136E-2,0.15200618893509893]
["2022-03-18",66252868.037,52271577.552199997,13981290.484800002,0.26747404879521491,null,1.0965648712811511,4.4502433488832649E-2,0.15271989958977339]
["2022-03-19",67253694.206200004,52194868.401400007,15058825.804799998,0.28851161552878024,null,1.0974470189296428,4.4616057341753876E-2,0.15320130042858138]
["2022-03-23",68145624.065400019,{"$f":"B168-D168","v":52119392.561400026},16026231.503999997,0.3075,null,1.0973466021204108,4.473317907811436E-2,0.15368736313858905]
["2022-03-24",69306904.726000011,52149181.284400016,17157723.441599999,0.32901232615769915,null,1.0957817764080535,4.4842536459604627E-2,0.1541802680361718]
["2022-03-25",68665136.75999999,51957763.118399993,16707373.641600002,0.32155683075746883,null,1.0973402345845702,4.4970832754225767E-2,0.15465828315174757]
["2022-03-26",69733292.127100006,52147230.097500011,17586062.029599998,0.33723866055242485,null,1.0963917040077302,4.4892320533791608E-2,0.15440159541288595]
["2022-03-29",69819083.735000014,52149841.747800015,17669241.987199999,0.33881679013810989,null,1.0962638939163099,4.4944883303902894E-2,0.15460706083280343]
["2022-03-30",70885544.66959998,52101989.80559998,18783554.864,0.36051511533598135,null,1.0967176082395289,4.5075087457416167E-2,0.15516831183703769]
["2022-03-31",70988168.618999988,52094785.482999995,18893383.135999996,0.36267321116362872,null,1.0961745199350401,4.5059419291046073E-2,0.15510005160313939]
["2022-04-01",70729737.583999991,52116820.068799987,18612917.5152,0.35713839583130519,null,1.0961240434396577,4.4990260422963099E-2,0.15487169230056777]
["2022-04-02",70001117.849999994,52191369.049999997,17809748.800000001,0.34123934903753977,null,1.0970589514664444,4.4916843430808151E-2,0.15451284059716422]
["2022-04-05",70351197.909700006,52219692.350500003,18131505.5592,0.34721586327052328,null,1.0973405659444471,4.4983656054387644E-2,0.15477331011730855]
["2022-04-06",70773650.977599993,52182079.215999991,18591571.761599999,0.35628269400004053,null,1.0969398902053455,4.499358014723101E-2,0.15486913242505007]
["2022-04-07",70550078.89379999,52180692.285799988,18369386.608000003,0.35203416825880046,null,1.0957630281005075,4.499524553232457E-2,0.15498418886640161]
["2022-04-08",69778914.187000006,52241828.923000008,17537085.264000002,0.33569049218870511,null,1.0957064673735522,4.4943210598070056E-2,0.15478055292547691]
["2022-04-09",69821719.123999998,52229641.035999998,17592078.088000003,0.33682173070794075,null,1.0951018269287722,4.4944636713955231E-2,0.1547855294507629]
["2022-04-12",70073545.267999992,52200266.147999987,17873279.120000001,0.34239823738302533,null,1.0942567114413748,4.4937190566865612E-2,0.15482726554919518]
["2022-04-13",69559644.640799999,52228657.859999999,17330986.780799996,0.33182906647258803,null,1.0934418701412911,4.4895706270049782E-2,0.15472659346590886]
["2022-04-14",69553398.547999993,52245852.037599996,17307546.510399997,0.33127120786439085,null,1.0942756821792794,4.4898799915418335E-2,0.15467002994840062]
["2022-04-15",70152892.429499999,52224331.150299996,17928561.279200003,0.34329901186483675,null,1.0939581538369794,4.4915009260380931E-2,0.15474322070005669]
["2022-04-16",69900526.467499986,52240780.279499993,17659746.187999997,0.33804522240128038,null,1.0939244876510701,4.4920569792667002E-2,0.1548021495988155]
["2022-04-19",69901852.469900012,52232021.229100011,17669831.240800001,0.33829499270756946,null,1.0938887441162743,4.4923717600286836E-2,0.15484141879757587]
["2022-04-20",70146803.381099999,52216582.437899999,17930220.9432,0.34338174016892059,null,1.094412948886911,4.4983488413079815E-2,0.15506158039560852]
["2022-04-21",71446582.093199998,52187145.784400001,19259436.308799997,0.36904559579414875,null,1.0928696068028074,4.511561585766026E-2,0.15564059426181154]
["2022-04-22",71264133.336700007,52283564.49333401,18980568.843365997,0.36303127048244693,null,1.0938002633360804,4.5208015834466972E-2,0.15592372576026617]
["2022-04-23",70892104.542300016,52561122.239100017,18330982.303199999,0.34875553493345413,null,1.0923903575283462,4.4967447973981022E-2,0.15500455856061948]
["2022-04-26",69870091.039000005,52661832.035800003,17208259.003200002,0.32676909135067062,null,1.0929184888907069,4.4897248357899051E-2,0.15470604406786065]
["2022-04-27",69076471.933200002,52735203.658000007,16341268.275199998,0.30987399576906732,null,1.0925307834566458,4.4778880354092616E-2,0.1541455525608636]
["2022-04-28",68004122.068800002,52869124.747199997,15134997.321600003,0.28627289356443464,null,1.0939346578305544,4.4672245944928884E-2,0.15367293253254311]
["2022-04-29",68637916.466399997,52878193.979999997,15759722.486400001,0.29803821386866514,null,1.0949902891646144,4.478825422190786E-2,0.15408698932820675]
["2022-05-03",68813682.948899999,52881825.516100004,15931857.432799999,0.30127283385762665,null,1.0929433802075297,4.4749090436975711E-2,0.15409934359960545]
["2022-05-07",68649754.1241,52880799.958499998,15768954.165599998,0.29819810173021627,null,1.0911554007445914,4.4765826735983075E-2,0.15418356733862104]
["2022-05-10",67550967.143199995,52545544.863199994,15005422.279999999,0.2855698293559607,null,1.0895158802623996,4.4899059942103484E-2,0.15470122999998051]
["2022-05-11",66209825.409599997,53102911.8112,13106913.598399999,0.24682099627605739,null,1.0896070119879788,4.5541023901138483E-2,0.1567312539713506]
["2022-05-12",66292522.447999991,53083388.29119999,13209134.1568,0.24883743449718285,null,1.0893523986909133,4.5519451125291106E-2,0.15667389714043548]
["2022-05-13",65656520.920699991,53140118.383899994,12516402.536799999,0.23553584217441501,null,1.0898055662821611,4.5441665933999523E-2,0.15635547371490227]
["2022-05-14",65343743.691999994,53186405.627999999,12157338.063999997,0.22857980193344299,null,1.0919812187732956,4.5448648437931317E-2,0.1561741831553434]
["2022-05-14",65326528.944599994,53172907.461399995,12153621.483200001,0.22856793174273429,null,1.092006230643253,4.5447209675590981E-2,0.15617421443220306]
["2022-05-14",65326528.944599994,53175243.461399995,12151285.483200001,0.22851396048653055,null,1.092006230643253,4.5447209675590981E-2,0.15617421443220306]
["2022-05-17",66268302.619299993,52700269.836099997,13568032.783199999,0.25745660933800035,null,1.09144592511164,4.5811645866250625E-2,0.1576650380784422]
["2022-05-18",65553336.707800016,52131001.603800014,13422335.103999998,0.25747318660805468,null,1.0932516470191003,4.622924723117583E-2,0.15929883162198322]
["2022-05-19",66479988.429899991,52048449.011499994,14431539.418399999,0.27727126729965346,null,1.0908633139455122,4.6252481048744458E-2,0.15950677878716674]
["2022-05-20",65636424.753800005,53186393.178600006,12450031.575200001,0.23408302069652989,null,1.0924001959331109,4.6324567764568343E-2,0.15937807421371938]
["2022-05-21",65316768.318000004,53278909.543600008,12037858.7744,0.22594041202267842,null,1.0929844386426304,4.6277948326188041E-2,0.15909888699848548]
["2022-05-24",65718755.343999982,53386340.310399979,12332415.033600001,0.2310031922378761,null,1.0947658283453567,4.6364363008438908E-2,0.15939451280289355]
["2022-05-25",66317439.571999989,53314327.35239999,13003112.219599999,0.24389526915816284,null,1.0930760473238494,4.6390502413409432E-2,0.15959702770668024]
["2022-05-26",65722336.983999997,53398095.181599997,12324241.802399999,0.23079927777361439,null,1.0946426291797,4.6574334538608833E-2,0.16004513541108226]
["2022-05-27",66285913.440000013,53345713.137000009,12940200.302999999,0.24257244944439249,null,1.0950254760493194,4.7032364768450255E-2,0.16215603268297088]
["2022-05-28",66930010.651999995,53305844.756399989,13624165.895600002,0.25558484173471918,null,1.0951697936687785,4.7121990464852187E-2,0.16249659984022907]
["2022-05-31",67779562.799999997,53020635.799999997,14758927.000000002,0.27836193922065344,null,1.0823792271495738,4.6487663841939086E-2,0.16031404406000668]
["2022-06-01",68780162.420000002,53235797.606800005,15544364.813199999,0.29199083158311617,null,1.096283248061571,4.7350607621028051E-2,0.16348340614112933]
["2022-06-02",68836290.968799993,53255132.398399994,15581158.5704,0.29257571746959216,null,1.0926453132184379,4.7143335882191439E-2,0.16276349284656311]
["2022-06-03",68790853.9208,53293523.675999999,15497330.2448,0.29079199827387298,null,1.0927187856825173,4.7173312170517991E-2,0.16291370837339114]
["2022-06-04",69507453.39760001,53223904.304200009,16283549.093399998,0.30594428023039694,null,1.0913396115792557,4.7173236632289207E-2,0.16295206534305168]
["2022-06-07",69185621.443200007,53254463.353600003,15931158.089600002,0.29915160319652451,null,1.0916728874309098,4.7182204994567392E-2,0.16299055222119121]
["2022-06-08",69867644.235999987,53194066.654199988,16673577.581800001,0.31344807100743677,null,1.0913658982180312,4.7052932951388883E-2,0.16249591285547046]
["2022-06-09",70473554.899999991,53146432.464999989,17327122.434999999,0.32602606856840138,null,1.0911919458173946,4.7058635046945803E-2,0.16249936657192837]
["2022-06-10",70591462.051200002,53131983.652400002,17459478.398799997,0.32860580762471386,null,1.0902655578627682,4.7029927288170736E-2,0.16249952289146871]
["2022-06-11",69219384.70480001,53243291.018600009,15976093.6862,0.30005834313695806,null,1.0890709652490231,4.6912592356649754E-2,0.16207338945291414]
["2022-06-14",67784469.809499994,53352821.650299996,14431648.1592,0.27049456266421951,null,1.0896280672560272,4.6936969650939124E-2,0.16220947994884499]
["2022-06-15",65515130.142499998,53554989.968499996,11960140.174000001,0.223324477906442,null,1.0884642413499577,4.6850015273210525E-2,0.16182373859518281]
["2022-06-16",65328981.703999996,53554864.595199995,11774117.1088,0.21985149617678779,null,1.0868715608290664,4.6882021547329157E-2,0.1620862923165895]
["2022-06-17",65873129.851500012,53512829.26030001,12360300.591200002,0.23097826749313433,null,1.0860527306927543,4.6819383369701394E-2,0.1618291763140294]
["2022-06-18",63637746.332999997,53179884.899599999,10457861.433400001,0.19665069702846727,null,1.0879879346559513,4.7046390431278833E-2,0.16268726144324752]
["2022-06-21",64199462.221999995,53167076.366399989,11032385.855600003,0.20750409105760315,null,1.087843636828276,4.7089334476232328E-2,0.1629435461902233]
["2022-06-22",64487614.905000001,53155726.922600001,11331887.9824,0.21318282409909192,null,1.0885621559800809,4.7161378000183919E-2,0.1631491889202033]
["2022-06-23",65722190.810500011,53092386.556100011,12629804.254400002,0.23788352857437917,null,1.0878482800070868,4.7239621739914417E-2,0.16328186775727066]
["2022-06-24",65514062.443000004,53111652.370200008,12402410.072799999,0.23351580151098383,null,1.0895116966850007,4.7218557946554718E-2,0.16307160133119242]
["2022-06-25",65648528.969999984,53122705.566399984,12525823.403599998,0.23579038887512083,null,1.0923021556624533,4.7282162508598867E-2,0.16317039907530759]
["2022-06-28",66904616.233600006,53026917.180800006,13877699.052799998,0.26171046311221041,null,1.0898864503788874,4.722141531624479E-2,0.16297626138762239]
["2022-06-29",67521212.060400009,53205694.942000009,14315517.1184,0.26905986537729598,null,1.0890689331142374,4.723266994360744E-2,0.1628310625595964]
["2022-06-30",67536456.175999999,53759463.081,13776993.094999999,0.25627103221328762,null,1.0904884990718795,4.7241084234766022E-2,0.1627873946701423]
["2022-07-01",67524353.610799998,53882394.984799996,13641958.626,0.25318025729643867,null,1.0907024487328143,4.7213468163321962E-2,0.16263279012447734]
["2022-07-02",67194061.172000006,{"$f":"B239-D239","v":54431180.173356012},12762880.998643998,0.23447738884212932,null,1.0942254454272862,{"$f":"4.31417068771857%*G239","v":4.7206753424181937E-2},{"$f":"14.8370873054926%*G239","v":0.16235118465696172}]
["2022-07-05",67408265.083000004,54459644.632000007,12948620.450999999,0.23776542315870169,null,1.0955803291787267,4.7212277719659156E-2,0.16220773670160088]
["2022-07-06",67861333.558000013,54421292.42400001,13440041.134,0.24696291718483493,null,1.0960651312640093,4.7323923607089327E-2,0.16267582779660245]
["2022-07-07",67441757.919200003,54478728.757600002,12963029.161599999,0.23794661617891744,null,1.0970536866230847,4.7321513932972771E-2,0.16264307927846861]
["2022-07-08",67713613.640000001,54460509,13253104.639999999,0.24335256653587278,null,1.0978564534338444,4.7385022615667918E-2,0.16281637617678413]
["2022-07-09",68514728.598499998,54386206.777599998,14128521.820899999,0.25978134269733816,null,1.0964754985126617,4.7433999191841665E-2,0.16310328466328308]
["2022-07-12",68779946.60800001,54414170.379200011,14365776.228799999,0.26400799881148906,null,1.0955997749384003,4.7438277523240951E-2,0.16311674330909853]
["2022-07-13",68427429.371699989,54663107.50559999,13764321.866099998,0.25180276962281928,null,1.0960671503190897,4.7401221455376716E-2,0.16295115422423717]
["2022-07-14",68054266.01789999,54698485.595199987,13355780.422699999,0.24417093594766767,null,1.0970114325245017,4.7368790219422828E-2,0.16274066663432968]
["2022-07-15",68251454.362200007,54757991.440000005,13493462.922200004,0.24641997573970917,null,1.0971664294390904,4.7373960145343584E-2,0.16277410420475727]
["2022-07-16",68356294.1734,54928824.823200002,13427469.350200001,0.24445215045869159,null,1.0976476303684326,4.743127870720458E-2,0.1629683330502234]
["2022-07-20",69000677.101999983,54879325.175999984,14121351.925999999,0.25731642801204846,null,1.097894352457075,4.7501706891380585E-2,0.16324456675367921]
["2022-07-21",70412023.350099996,54863567.860799998,15548455.489300001,0.28340219376088677,null,1.0967750928888809,4.7586988933766242E-2,0.16355009440382862]
["2022-07-22",71213260.213,55263391.777599998,15949868.435400002,0.28861544545778295,null,1.0971194831596469,4.7651606695708192E-2,0.16376948611994549]
["2022-07-23",71346114.960799992,55261424.68159999,16084690.279199999,0.29106542894750242,null,1.0972627412916978,4.7612161077989976E-2,0.16356875890188802]
["2022-07-26",70597541.950000003,55147151.602880001,15450390.347119998,0.28016660694245393,null,1.0994314292836367,4.7705278199845297E-2,0.16386279720529001]
["2022-07-27",70842716.595600009,55314375.26160001,15528341.334000001,0.28072885683985999,null,1.0990062822017137,4.756040679750085E-2,0.16327502125578977]
["2022-07-28",70643281.590399995,55372467.912,15270813.678399999,0.27578351217195063,null,1.1007718359132315,4.7591574140407426E-2,0.1633491034851807]
["2022-07-29",71534583.299499974,55371823.829599977,16162759.469899999,0.29189501721378941,null,1.1007618618371178,4.7623849037606851E-2,0.16345127405422366]
["2022-07-30",71649090.28639999,55374918.844799988,16274171.4416,0.29389065990709323,null,1.1022244964105321,4.7634346671768246E-2,0.16340817513245651]
["2022-08-02",71799249.220299989,55395885.18159999,16403364.038700001,0.29611159718679714,null,1.1018610433955935,4.7612678625884051E-2,0.16323240514911572]
["2022-08-03",71192957.883099988,55726964.031199992,15465993.8519,0.27753160648121827,null,1.1015766949601156,4.7551402784430728E-2,0.1629659833015408]
["2022-08-04",71703090.188800007,55668895.804800004,16034194.384,0.28802788616866126,null,1.1018286653807354,4.7623247749784992E-2,0.1633215132247571]
["2022-08-05",72283990.138999999,55611104.530400001,16672885.6086,0.29981216430408625,null,1.1006105067528111,4.764417284165498E-2,0.16345903737501644]
["2022-08-06",72316734.972600013,55627046.58160001,16689688.391000003,0.30002830307587319,null,1.1011019447707393,4.7627307492695663E-2,0.16335654650598544]
["2022-08-09",73018563.412700012,55667637.23120001,17350926.181499999,0.31168785032922747,null,1.0999140120597208,4.7656292870010976E-2,0.16358824165342614]
["2022-08-10",73415322.939999998,56182380.464000002,17232942.476,0.30673215220993272,null,1.0996428046223887,4.7614421249319645E-2,0.16348997357955897]
["2022-08-11",73312484.617600009,56190675.299200013,17121809.318399999,0.30470908611137054,null,1.1001554711110864,4.7643535093806838E-2,0.16360814081233294]
["2022-08-13",73889359.155000016,56161078.599600017,17728280.555400003,0.31566844863848936,null,1.0977966434225193,4.7566945415538422E-2,0.16328702165056422]
["2022-08-16",74525660.459599987,56134836.923199989,18390823.536399998,0.32761872207023812,null,1.0972294438521353,4.7595123961922392E-2,0.16340544309418051]
["2022-08-17",74672044.238399997,56126988.332800001,18545055.9056,0.33041245319700274,null,1.0981986947268974,4.7614448667347514E-2,0.16344337864048694]
["2022-08-18",75256918.160300002,56078334.882200003,19178583.278100003,0.34199630424810518,null,1.0975487848833103,4.7639280623866666E-2,0.16358250057494605]
["2022-08-20",75448203.77670002,56067663.606200024,19380540.170499999,0.34566341673557588,null,1.0961457979154725,4.7650161674827683E-2,0.16373635251581212]
["2022-08-23",74954151.422800019,56103978.533600017,18850172.889199998,0.33598638424387051,null,1.0944161398837118,4.7611353991032709E-2,0.16364850235198475]
["2022-08-24",73869845.885199994,56240929.000799991,17628916.884400003,0.31345351503971852,null,1.0939992832960708,4.7566016811462948E-2,0.16349823018390511]
["2022-08-25",73566637.471399993,56264227.530799992,17302409.9406,0.30752061656099994,null,1.0935681659431022,4.7551904555705481E-2,0.1634478941685702]
["2022-08-26",73745058.416599989,56237597.337199986,17507461.079400003,0.31131239434760111,null,1.0933213910323636,4.7586743677320902E-2,0.16358590960626557]
["2022-08-30",73273879.183900014,56298701.68060001,16975177.503300004,0.30151987517590456,null,1.0931295359793014,4.7505037373557407E-2,0.16337690039097372]
["2022-08-31",73060874.459999993,56317164.731999993,16743709.728000002,0.29731094964882088,null,1.0925297318156406,4.7482978847718543E-2,0.16325711889281794]
["2022-09-01",72617201.40080002,56435639.076800019,16181562.324000001,0.28672595169834869,null,1.0922643378201873,4.7458205260502262E-2,0.16318166657610109]
["2022-09-02",72371297.698199987,56470134.841199994,15901162.856999995,0.28158535306699284,null,1.092080095401768,4.7451953297087471E-2,0.16324100633369037,1262000,1890037,628037,1557466,1199400,358066,544669.91,177986.35,368000,384195,16195,1624698.29,424639.96,3091307,2399992,691315,{"$f":"D279-L279-O279-Q279-T279-V279-Y279","v":13604923.546999995},{"$f":"B279-K279-M279-P279-S279-U279-W279","v":63278924.498199992}]
["2022-09-03",72327190.637100011,56594073.533400014,15733117.103700001,0.27799937557798904,null,1.0905452488409078,4.7405307042543442E-2,0.16309252631822324,null,null,null,{"$f":"M279+P279","v":2102135.91},{"$f":"M280-O280","v":1566083.56},{"$f":"O279+Q279","v":536052.35}]
["2022-09-06",72211274.973100007,56622765.177400008,15588509.795699999,0.27530463669269689,null,1.0912361947445777,4.7384009687668989E-2,0.16298527375639266]
["2022-09-07",72144972.945000008,56627628.661200009,15517344.2838,0.27402426431520588,null,1.0910180768243685,4.7382040797090755E-2,0.16298176179194593]
["2022-09-08",72717973.933100015,56564669.942200013,16153303.990900001,0.28557231938957794,null,1.0910843070558256,4.745804253758832E-2,0.16338085832546023,null,1149741,0.3171966555946078,null,null,null,null,null,null,null,null,{"$f":"U279-V286","v":1510876.18}]
["2022-09-09",74046826.382999986,56456023.697999984,17590802.684999999,0.31158415936443595,null,1.0911604196388589,4.7517942300452268E-2,0.16360381297673823,{"$f":"K279-K289","v":1764435},{"$f":"K283+M283","v":1149741},null,null,null,null,null,null,null,null,null,null,60145.205900000001,null,null,107173]
["2022-09-10",74233489.006199986,56436789.938799992,17796699.067399997,0.31533861310501043,null,1.0910282987215598,4.7561484653560054E-2,0.16375436240295005,null,null,null,null,null,null,null,null,null,null,null,null,250672.64409999998,null,null,412397]
["2022-09-13",74873005.755499989,56392126.44219999,18480879.313299999,0.327720915653753,null,1.091183609394478,4.7607974917310655E-2,0.16391875503187811,null,137741,null,null,null,null,null,null,null,null,null,null,{"$f":"V279-V284-V285","v":113822.11000000004},null,null,{"$f":"Y279-Y284-Y285","v":171745}]
["2022-09-14",75479042.308000013,56341737.746400014,19137304.5616,0.33966479074072914,null,1.0899485606653017,4.7555505342488362E-2,0.16375722420946068,null,364694]
["2022-09-15",73933318.163399994,56485762.338799998,17447555.824599996,0.30888413473027154,null,1.0900613565332475,4.7502658406839857E-2,0.16364668412350036,null,{"$f":"K286+K287","v":502435},null,1224977.3541000001,0.29283208762952911,358712.67589999997,null,null,92000,-2E-3,-184]
["2022-09-16",73458499.168199986,56520918.054799989,16937581.113399997,0.29966924983380711,null,1.089405275233871,4.746614675247849E-2,0.1634477461320715,null,{"$f":"L279-K288","v":125602},null,{"$f":"M288+O288","v":1583690.03},null,null,null,null,{"$f":"R288+T288","v":91816}]
["2022-09-17",72762290.043600023,56571333.50000003,16190956.543599997,0.28620425826801466,null,1.0890206270764526,4.7441776079372125E-2,0.16335518411445926]
["2022-09-20",72772148.356000021,56571658.516000018,16200489.84,0.28637113114543133,null,1.0892645807324777,4.7454941692445851E-2,0.16340091643014673,null,null,null,null,null,null,null,null,{"$f":"T279-T288","v":16379}]
["2022-09-21",72624462.158000022,56630889.910800025,15993572.247199999,0.28241781600804194,null,1.0907057969209943,4.7578062031725134E-2,0.16381046153013162,null,null,null,58693.794099999999]
["2022-09-22",72056497.534999996,56712659.581,15343837.954,0.27055401858001604,null,1.089585926194435,4.7534256354762466E-2,0.16374169749444389,null,null,null,358712.67589999997]
["2022-09-23",71457254.742499992,56756723.91399999,14700530.828499999,0.25900950257056449,null,1.0895542504125049,4.7475047834223766E-2,0.16349451730455189,null,null,null,{"$f":"M293+M292","v":417406.47}]
["2022-09-24",71441826.960499987,56756700.155999988,14685126.804499999,0.25873820648728418,null,1.0890975999888601,4.7448908861621536E-2,0.16340273585385387,null,null,null,{"$f":"O280-M294","v":118645.88},null,null,null,null,{"$f":"S279-R291","v":367816}]
["2022-09-27",69189828.798000008,56917296.330400005,12272532.467600003,0.21562043981075643,null,1.0861277777315768,4.7354314233954406E-2,0.16309846086639265]
["2022-09-28",68723029.339999989,56970684.499999985,11752344.84,0.20628758357291641,null,1.0846636496655926,4.7374711855506221E-2,0.16321502411478414,null,null,null,{"$f":"M280-M295","v":1983490.0300000003}]
["2022-09-29",68064739.729599997,56554465.2936,11510274.435999999,0.20352547541993227,null,1.0839273826932119,4.7690244721778734E-2,0.16447232737132597]
["2022-09-30",68036381.016800001,55589363.441799998,12447017.575000001,0.2239100576863336,null,1.0878585742549121,4.8437235104504671E-2,0.16733259501150965]
["2022-10-01",67304197.722399995,55728695.268399999,11575502.454,0.20771170755479162,null,1.0876807189521844,4.838088851393392E-2,0.16713817574429976]
["2022-10-04",67543371.216799989,56341429.138799995,11201942.077999998,0.19882246952599375,null,1.092449048975614,4.8615831798363859E-2,0.16767452809626346]
["2022-10-05",68608604.15519999,55896947.918199986,12711656.237000003,0.22741234916085823,null,1.0952310893196449,4.897762432164153E-2,0.16898315409346476]
["2022-10-06",70145603.884800017,55864952.113800012,14280651.771000003,0.25562810367955785,null,1.0948319181986748,4.8969186357218468E-2,0.16898838269745645]
["2022-10-07",70875486.968799993,56469046.972799994,14406439.996000001,0.25512100466188659,null,1.0950742016145341,4.8934061421731644E-2,0.16880097229066354]
["2022-10-08",70218281.439999998,56514374.765000001,13703906.674999999,0.24248532752921803,null,1.0925659436076336,4.8856793110942293E-2,0.1685955800254049]
["2022-10-11",70190607.370399997,56514612.594899997,13675994.7755,0.24199041889449582,null,1.0923508939963038,4.8842774506563769E-2,0.16854334069966662]
["2022-10-12",68396973.224000007,56636470.896500006,11760502.327500001,0.20764892553054132,null,1.0904165455940087,4.880625410044679E-2,0.16847554848888638]
["2022-10-13",68031598.280000001,56659876.153999999,11371722.126,0.20070149986018271,null,1.0905299025116477,4.879430276762857E-2,0.16838126452134841]
["2022-10-14",68092108.864800006,56649085.946800008,11443022.918,0.20199836814218522,null,1.0912124596101425,4.8842675645689414E-2,0.16861861352182586]
["2022-10-15",69361970,56564236.8125,12797733.187499998,0.22625131900784096,null,1.090407743609358,4.8851156320963776E-2,0.1686144340728023]
["2022-10-18",68773878.255199999,56610553.475199997,12163324.779999999,0.21485966897194389,null,1.0913364735240163,4.8899241476051611E-2,0.16886282806350167]
["2022-10-19",70261026.87120001,56490574.772200011,13770452.098999998,0.24376548042801427,null,1.0926217226276762,4.896636069951648E-2,0.16908683852375189]
["2022-10-20",70993667.183200002,56431748.026200004,14561919.157,0.25804480042403127,null,1.0925245198201905,4.8973657335627217E-2,0.1691624449282973]
["2022-10-21",70635679.136000007,56488921.701000005,14146757.435000002,0.250434191501828,null,1.091740997627038,4.8962697740175649E-2,0.16913769578742488]
["2022-10-22",70460801.255999997,56571034.333499998,13889766.922499999,0.24552789402110711,null,1.0924793416459357,4.900137518481585E-2,0.16929485190005328]
["2022-10-25",71002501.278400019,56524645.060400024,14477856.217999997,0.25613351844190307,null,1.0914166492719686,4.9030977093961453E-2,0.16942503799597525]
["2022-10-26",71522210.843200013,56473730.590700015,15048480.252500001,0.26646867658815787,null,1.0907448694592063,4.8912971505860652E-2,0.1688659599248333]
["2022-10-27",72274493.083999991,56418969.164999992,15855523.919,0.28103179043611654,null,1.0919255422556648,4.8910831703011609E-2,0.16876254790287734]
["2022-10-28",71580896.271999985,56490664.071999982,15090232.200000001,0.26712789534155235,null,1.0930670065751311,4.8869603469666942E-2,0.16852732612725352]
["2022-10-29",71578408.953600004,56502408.872600004,15076000.080999998,0.26682048397251396,null,1.0951557656389823,4.8914242038691033E-2,0.16867382826007216]
["2022-11-01",72986190.811999992,56372717.121999994,16613473.690000001,0.29470769794625412,null,1.0944657632806123,4.8958870151756081E-2,0.16885328472287034]
["2022-11-02",72890784.035200015,56394156.690700009,16496627.344500002,0.29252369948499413,null,1.0940178784068308,4.8956398444861486E-2,0.16885768960537592]
["2022-11-03",72790667.596800014,56607656.624800012,16183010.971999999,0.2858802490140559,null,1.0934482594840087,4.889220123689117E-2,0.16859341520084284]
["2022-11-04",72779215.806400016,56608091.013400018,16171124.793,0.28566808213285344,null,1.0931300171030967,4.8874433132685691E-2,0.16853116937998316]
["2022-11-05",71198202.271999985,56759795.631999984,14438406.640000001,0.25437735423874447,null,1.0929670965386591,4.886040801881443E-2,0.16850591054897585]
["2022-11-08",72224655.652800009,57002761.729300007,15221893.9235,0.26703783223323702,null,1.0930256412422168,4.8879938527495573E-2,0.16853267302117023]
["2022-11-09",73233019.060000002,57495274.958999999,15737744.101000002,0.27372239044378205,null,1.093240448197357,4.8923339820861396E-2,0.16864553171042471]
["2022-11-10",73318517.535999998,57489706.763999999,15828810.772,0.27533295372297822,null,1.0926883153176579,4.8865604191312764E-2,0.16842619952250187]
["2022-11-11",72661547.32159999,57547928.602599993,15113618.719000001,0.26262663289530064,null,1.0957997744307699,4.8926769336055442E-2,0.16859686639136071]
["2022-11-12",74036798.516000003,57454943.820000008,16581854.695999999,0.28860622939514341,null,1.0971292948390512,4.8940936677116645E-2,0.16839370237578577]
["2022-11-15",73985621.797599986,57472943.565599985,16512678.231999999,0.28731220653684325,null,1.0959513432842474,4.892473677027636E-2,0.16843435910110532]
["2022-11-16",73962491.628000006,57500797.980500005,16461693.647499999,0.28628635124477025,null,1.0959789495965628,4.8935847054587263E-2,0.16851516192647151]
["2022-11-17",74261651.144000009,57488920.058000006,16772731.086000001,0.29175589085824116,null,1.0961763949222001,4.8868822800544644E-2,0.16825485044023555]
["2022-11-18",73863986.515200019,57527056.854700014,16336929.660500001,0.28398688467173439,null,1.0973399158319248,4.8851810716756421E-2,0.16811949890952155]
["2022-11-19",73913746.199199989,57539407.715199992,16374338.483999997,0.28457606941397912,null,1.0973827652978292,4.887211536190135E-2,0.16820614144717422]
["2022-11-22",74167337.024800017,57519802.116300017,16647534.908500003,0.2894226735140733,null,1.0972759187401799,4.8885936478776738E-2,0.16824589529977149]
["2022-11-23",74635106.785600007,57541522.053100005,17093584.732499998,0.29706521695282639,null,1.097976020751281,4.8927155633163112E-2,0.16840054716536301]
["2022-11-24",74635180.268800005,57539770.867800005,17095409.401000001,0.29710596936990602,null,1.0980495218373465,4.8932701859542502E-2,0.16842084774557958]
["2022-11-25",74856185.864000008,57563676.209000006,17292509.654999997,0.3004066243478789,null,1.0983812579147414,4.8924888022558143E-2,0.16827102524943799]
["2022-11-26",74939619.496799991,57564159.998799987,17375459.498000003,0.30184509768512596,null,1.0986971116648894,4.8927970846809145E-2,0.16829216989905815]
["2022-11-29",74763605.004000008,57540606.860000007,17222998.144000001,0.2993190215373408,null,1.0974970456228001,4.8891943693946165E-2,0.16818020340062426]
["2022-11-30",73873279.162400007,57614466.136400007,16258813.026000001,0.28220018541016928,null,1.0978721752544049,4.8870096778981409E-2,0.16806243722765496]
["2022-12-01",74009511.368799984,57621986.200799987,16387525.168,0.28439708952227138,null,1.0992056237341301,4.8924945719245203E-2,0.16830085416510734]
["2022-12-02",74997936.033599988,57676112.849599987,17321823.184,0.30032924079279616,null,1.0978742303509714,4.8846495784891447E-2,0.16806348389897474]
["2022-12-03",75208184.384000003,58400534.5845,16807649.799500003,0.28779958812159395,null,1.0980244162039419,4.8667785831174572E-2,0.1673450141768659]
["2022-12-06",74790426.064800009,58440408.17930001,16350017.885499999,0.27977247926360799,null,1.0976760731817543,4.8632075818942938E-2,0.16718087431256085]
["2022-12-07",74666048.359999985,58482646.867999986,16183401.491999999,0.27672142693074803,null,1.0977403422344447,4.8621035761480601E-2,0.16720960917544367]
["2022-12-08",74215166.432000011,58519992.712000012,15695173.719999999,0.26820190831605439,null,1.0984049920671071,4.8594917959261782E-2,0.16708645193822755]
["2022-12-09",73573026.672000006,58333666.183500007,15239360.488499999,0.26124468913991444,null,1.099506958938067,4.8726518505189387E-2,0.16754679047955776]
["2022-12-10",74395535.512000009,58505641.652500004,15889893.859500004,0.2715959249516412,null,1.0985916073259112,4.8590078461803909E-2,0.16703495308786234]
["2022-12-13",74127230.033600017,58535341.14860002,15591888.885,0.26636709685210247,null,1.0987431536816124,4.8613475235853076E-2,0.16713876310438414]
["2022-12-14",74897265.433599979,58450311.013599977,16446954.42,0.2813835227698479,null,1.0978552744852561,4.8654057419111378E-2,0.16733705750931105]
["2022-12-15",74711411.414400011,58483304.894400008,16228106.520000001,0.27748272005664137,null,1.0978016221413756,4.8614375930571059E-2,0.16708364381173363]
["2022-12-16",74552259.615999997,58526271.141000003,16025988.474999998,0.27382555154403387,null,1.0971378958773477,4.8573831836893365E-2,0.16696346942503865]
["2022-12-17",73856229.112800017,58653063.152800016,15203165.960000001,0.25920497827016259,null,1.0971209999720504,4.8531297358602871E-2,0.16684369230290025]
["2022-12-20",73035609.444800004,59144329.192300007,13891280.252499998,0.2348708733737486,null,1.0958348638808864,4.8471448390254392E-2,0.1666511852946316]
["2022-12-21",71911944.701600015,59261992.389600016,12649952.312000001,0.21345810024132705,null,1.0934646508461126,4.8422815002349982E-2,0.16652853970027368]
["2022-12-22",70954921.884799987,59390061.788799986,11564860.096000003,0.19472719420845847,null,1.092602903294966,4.8401566729229309E-2,0.16637421744685599]
["2022-12-23",71895383.604000002,59310986.183000006,12584397.420999996,0.21217649934485486,null,1.0921021389144043,4.8412510488619886E-2,0.16643428646155006]
["2022-12-24",71418271.807999998,59353270.927999996,12065000.880000001,0.20327440579704123,null,1.0921753250162318,4.8418966853754755E-2,0.16651022918836328]
["2022-12-27",71453998.942399994,59347856.178399995,12106142.764000002,0.20398618490293682,null,1.0916963470453447,4.8420216533663914E-2,0.1664881769010188]
["2022-12-28",71831707.324000016,59312750.694000021,12518956.629999997,0.21106686983017287,null,1.0916685164992583,4.8429929644867017E-2,0.16655898908981015]
["2022-12-29",71919559.511999995,59305961.037999995,12613598.473999999,0.21268685732818493,null,1.0910259666274469,4.8413501519778336E-2,0.16655070347766621]
["2022-12-30",71440429.387199998,59339784.083199993,12100645.304000001,0.20392128975450519,null,1.090813966685962,4.8425975402402226E-2,0.16663557651827202]
["2022-12-31",71596465.017600015,59315073.676600017,12281391.340999998,0.20705346178883777,null,1.0904317780718418,4.8414770791277179E-2,0.16656257788632564]
["2023-01-03",71667078.04959999,59320651.401099987,12346426.648500001,0.20813032825649416,null,1.0903138215670021,4.8413021538111459E-2,0.16653705069725319]
["2023-01-04",71671402.926399991,59319433.85989999,12351969.066500003,0.20822803359305067,null,1.0901913062792712,4.8406890582314219E-2,0.16651686312703837]
["2023-01-05",70843316.320000008,59422789.852000006,11420526.468000004,0.19219101789808715,null,1.0909007112387537,4.8369908555404559E-2,0.16632199207899137]
["2023-01-06",72805083.640000015,60240788.230500013,12564295.409500003,0.20856791185110488,null,1.0917370264008668,4.8432979611092428E-2,0.16671829312035252]
["2023-01-07",73383864.903599992,60751350.823599994,12632514.08,0.20793799493743378,null,1.0916043058788285,4.8474958945318371E-2,0.16698485753486664]
["2023-01-10",73384327.477999985,60753458.433999985,12630869.044,0.20790370407837189,null,1.091563135984511,4.8473166963346637E-2,0.16697575941125681]
["2023-01-11",74395531.896800011,60846547.168800011,13548984.728,0.22267466862848459,null,1.0933285563873849,4.8497937201596827E-2,0.16700713778694179]
["2023-01-12",74414791.388399974,60455329.856399968,13959461.532000002,0.23090539023040685,null,1.0937652776634361,4.8764618505547148E-2,0.16804226486400511]
["2023-01-13",75070938.801999986,60398119.070999987,14672819.731000001,0.24293504428095875,null,1.094159227482735,4.8774941930104787E-2,0.16804176787381028]
["2023-01-14",74474894.73120001,60471603.723200008,14003291.008000001,0.23156804426914215,null,1.0946803280199329,4.8746035492584897E-2,0.16781870593325032]
["2023-01-17",74167698.807599992,60503270.77359999,13664428.034,0.22584610483508505,null,1.0943725924860805,4.8731048638014966E-2,0.16776933625816887]
["2023-01-18",74497508.721999973,60499496.252999976,13998012.469000001,0.23137403343760707,null,1.094066308581545,4.8736675158021672E-2,0.16780391475660278]
["2023-01-19",75534886.738399982,60400273.811899982,15134612.926500002,0.25057192577690268,null,1.0944895052470054,4.8743907491734344E-2,0.1678632719357947]
["2023-01-20",73991301.619999975,60562517.899999976,13428783.719999999,0.22173423737390555,null,1.0951553234751705,4.8676096135690607E-2,0.16749816152752492]
["2023-01-21",73861122.144000009,60633153.984000012,13227968.16,0.21816394646880188,null,1.0965981355399645,4.869621129529747E-2,0.16752891127153466]
["2023-01-24",75039789.655599982,60564310.997599982,14475478.658000002,0.23901004435720619,null,1.0967380311767476,4.8769155221555095E-2,0.1678426722594239]
["2023-01-25",76079506.396799982,60463574.294799984,15615932.101999998,0.25827007887198306,null,1.0961787259164943,4.8796285382663153E-2,0.16797557461830148]
["2023-01-26",76105915.366400018,60468834.323900014,15637081.042500002,0.25859736205166967,null,1.0964778926506633,4.8791064016274602E-2,0.167935636847622]
["2023-01-27",75730708.871200025,60514087.135200031,15216621.735999996,0.25145585856733088,null,1.0970081655368451,4.8798655284989681E-2,0.1679195828823597]
["2023-01-28",76367579.803200006,60453098.615700006,15914481.1875,0.26325335759326851,null,1.0966378170608304,4.8832490647207016E-2,0.16809489303779696]
["2023-01-31",76674030.285600007,60419486.142100006,16254544.1435,0.26902817586483763,null,1.0960221100126875,4.8821844128361075E-2,0.16808234659586319]
["2023-02-01",76133804.016400009,60465225.294400007,15668578.722000001,0.25913371935209095,null,1.0961303211806344,4.8836004210538179E-2,0.16814149926817809]
["2023-02-02",76444682.268000007,60457557.538000003,15987124.73,0.26443550452648457,null,1.0961103155644294,4.8842084030309929E-2,0.16812675671692245]
["2023-02-03",76427803.999999985,60351952.262249984,16075851.737750003,0.26636837973185856,null,1.0973246804265107,4.894862471254572E-2,0.16852118050541046]
["2023-02-04",77443832.486399993,60527228.620399997,16916603.866,0.27948750094099728,null,1.0983124095019063,4.8853340075642647E-2,0.16807831185327785]
["2023-02-07",78214935.548799977,60426061.431799978,17788874.116999999,0.29439075947515553,null,1.0978315336311415,4.8896288517431066E-2,0.16836734960458299]
["2023-02-08",77856898.156800017,60450264.146800011,17406634.010000002,0.28794967657592008,null,1.0973100970236673,4.890724167204482E-2,0.1683991352977548]
["2023-02-09",77588730.815999985,60473982.975999981,17114747.84,0.28301009785964071,null,1.0955753336085088,4.8879250145769014E-2,0.16827891282975155]
["2023-02-10",77453105.170399994,60489437.741399989,16963667.429000001,0.28044015719772153,null,1.0952443898094253,4.885689238857481E-2,0.16823318149690075]
["2023-02-11",77204902.922399998,60515455.0634,16689447.858999999,0.27578819066162569,null,1.0953528152505985,4.8860027062254549E-2,0.16825681487252409]
["2023-02-14",77050705.754400015,60521594.098400012,16529111.655999999,0.27311097637524018,null,1.0951446172623973,4.8884346508508238E-2,0.168354808596066]
["2023-02-15",77929452.532799989,60457953.155299991,17471499.377500001,0.28898595578683395,null,1.0948532579834154,4.8914459052743969E-2,0.16849070511072511]
["2023-02-16",78054861.734400019,60435113.700400025,17619748.033999998,0.29154819036740509,null,1.0942565742264017,4.8930345796512953E-2,0.1686064088325398]
["2023-02-17",78627656.724000007,60366754.324000001,18260902.400000006,0.30249932441274258,null,1.0934640221289573,4.8926938213049317E-2,0.16862560884720318]
["2023-02-18",78153304.350400016,60416055.354400016,17737248.995999999,0.29358502292070315,null,1.0934768447927128,4.8912315262734415E-2,0.16859814299993711]
["2023-02-21",78041250.894400015,60473708.213400021,17567542.680999998,0.29049884983086433,null,1.0934430920215206,4.8906591797301335E-2,0.16854077779844626]
["2023-02-22",78013357.195200011,60476709.80470001,17536647.390500002,0.28997356911663741,null,1.0928324847279562,4.8868782441017292E-2,0.16841514749302142]
["2023-02-23",77146955.914399981,60578682.22989998,16568273.6845,0.27350006759180301,null,1.0926967051912564,4.8850559390636338E-2,0.16837957959286839]
["2023-02-25",76996945.836799994,60605315.905299991,16391629.931500003,0.27046521722802436,null,1.0928793421073857,4.8840316406849951E-2,0.16826714069679469]
["2023-02-28",77007516.576000005,60583641.825000003,16423874.751,0.27109421382163668,null,1.0927756596974407,4.8856580414652101E-2,0.16836376663853475]
["2023-03-01",77276837.558799997,60550491.043799996,16726346.514999999,0.27623799950525219,null,1.0921945377510947,4.8852000844676155E-2,0.16836898624515792]
["2023-03-02",77169957.817599997,60660444.771599993,16509513.046000002,0.27216274308838279,null,1.0916383322628584,4.8801004862463485E-2,0.16817131881742986]
["2023-03-03",77172378.783600017,60774687.86560002,16397690.918,0.26981119103832535,null,1.0921867056495587,4.8786281607933198E-2,0.16815232912119912]
["2023-03-04",77775287.883600011,60719110.443600014,17056177.440000001,0.28090295321178865,null,1.0921141787083077,4.8833241001627524E-2,0.16832136921634061]
["2023-03-07",78413466.875999987,60668839.341499984,17744627.534499999,0.29248338565728821,null,1.0919482971388266,4.8842960088533345E-2,0.16833763765337503]
["2023-03-08",78545785.856000021,60659147.303500026,17886638.552499998,0.2948712493930481,null,1.0917436579628992,4.8824223988269556E-2,0.16827245675377042]
["2023-03-09",78175588.505600005,60696786.769600004,17478801.736000001,0.28796914410557006,null,1.0923649741464083,4.8832765874008546E-2,0.16829543250502468]
["2023-03-10",78177621.524800003,60701219.866800003,17476401.658,0.28790857410031334,null,1.0918789125264114,4.8792651153813135E-2,0.16809075276357513]
["2023-03-11",76807191.176000014,60819678.71100001,15987512.465000002,0.26286742718534711,null,1.0916934448997355,4.871055894955123E-2,0.16775565206348253]
["2023-03-14",75364120.527999997,60958311.207999997,14405809.320000002,0.23632231658854461,null,1.0935263492311471,4.8627642770971181E-2,0.16732182220378358]
["2023-03-15",74676790.408799991,61032065.03679999,13644725.372000001,0.22356650334169026,null,1.0966229691728921,4.8606816724124507E-2,0.16717480399062928]
["2023-03-16",75791882.956,60892840.215999998,14899042.74,0.24467642972720424,null,1.0946076945490686,4.8643592135167266E-2,0.16739898359444733]
["2023-03-17",74699311.723999992,61048362.816999987,13650948.907000002,0.22360876323449341,null,1.0972968810590107,4.8621256026982779E-2,0.16719031728880382]
["2023-03-18",75559251.850800008,60951030.831800006,14608221.019000001,0.239671434914903,null,1.0955625542171585,4.8624656737300653E-2,0.16724696439215417]
["2023-03-21",74801078.049199983,61057301.576199979,13743776.473000003,0.22509636224011087,null,1.09690127318262,4.858212982889578E-2,0.16706827801857174]
["2023-03-22",74844044.013999984,61079296.523999982,13764747.490000002,0.22535864480022946,null,1.0973878112016044,4.8610048022812075E-2,0.16716830803471375]
["2023-03-23",75988030.112000003,61018631.749500006,14969398.362499999,0.24532504143904635,null,1.0953536288981356,4.8637189118978789E-2,0.16730707394884806]
["2023-03-24",74906163.326399997,61137280.481899999,13768882.8445,0.2252125501162314,null,1.0948037215823756,4.8585818625909161E-2,0.16710483183255759]
["2023-03-25",75007857.891999975,61143430.46699997,13864427.425000003,0.22675252793483419,null,1.0961990781604443,4.8585629304642317E-2,0.16707735519548633]
["2023-03-28",75081296.614000022,61145801.319000021,13935495.295,0.22790600489963292,null,1.0971500700833647,4.8604020661805442E-2,0.16709082943153969]
["2023-03-29",75242403.487199992,61125658.573699988,14116744.913500002,0.23094630377649447,null,1.0963881486804683,4.8615201442413727E-2,0.16714382673746242]
["2023-03-30",75605614.964799985,61103437.550799981,14502177.414000003,0.23733815960752172,null,1.0963533585831111,4.8654238396540123E-2,0.16731444109585478]
["2023-03-31",76833762.559200004,60979218.301200002,15854544.258000001,0.2599991390458346,null,1.0962675505146708,4.8707876197968208E-2,0.1675852266414628]
["2023-04-01",77770635.912000015,60890463.954500012,16880171.957500003,0.2772219303520761,null,1.0961194638096892,4.8758263322248335E-2,0.16782993420175471]
["2023-04-04",78420588.707199991,60932308.141199991,17488280.566,0.28701162157642152,null,1.0966281679252974,4.8734193604067055E-2,0.16768222021432944]
["2023-04-07",77413525.983999982,61103017.437499978,16310508.546500003,0.26693458409289561,null,1.0973340262211715,4.8664888414082036E-2,0.16738576512261052]
["2023-04-08",77819607.712000012,61056711.82500001,16762895.887,0.27454632563649356,null,1.0974312881666046,4.8684029649147038E-2,0.16747003929339785]
["2023-04-11",78160279.705999985,61023650.745999992,17136628.959999993,0.28081946508458072,null,1.0974238761765263,4.8705385617060025E-2,0.1675803525149982]
["2023-04-12",78571472.456799984,60984843.216799989,17586629.239999998,0.28837705095805294,null,1.0975037589859622,4.8725360301671017E-2,0.16767193886286932]
["2023-04-13",78891678.254799992,60955132.794799991,17936545.460000001,0.29425816395777166,null,1.0964014466143934,4.8722956507146302E-2,0.16771397469338306]
["2023-04-14",78678571.563600019,61002788.225600019,17675783.338,0.28975369572668647,null,1.0966579587817318,4.8734594947892243E-2,0.16773914102475596]
["2023-04-15",79090448.447600007,60964324.923600003,18126123.524,0.29732345181736219,null,1.0962108275342684,4.8738126774393958E-2,0.16774298298148932]
["2023-04-18",79464152.069599986,60921010.793599986,18543141.276000001,0.30438006583351107,null,1.095582047267647,4.8778334857884457E-2,0.16797168578835803]
["2023-04-19",79869361.601999983,60886482.633999988,18982878.967999998,0.31177493175471521,null,1.0952873223392514,4.8795674352909935E-2,0.16805326948422636]
["2023-04-20",79826612.819199994,60886960.550699994,18939652.2685,0.31106253452624116,null,1.0949445601001007,4.8792925702100892E-2,0.16804114670955747]
["2023-04-21",79976307.717599988,60883283.633599982,19093024.084000003,0.31360043257363068,null,1.0939651935637711,4.8789106498525088E-2,0.16805969103151186]
["2023-04-22",79608952.250400007,60987474.576900005,18621477.673499998,0.30533282125036842,null,1.0948818805835001,4.8772965943559329E-2,0.16795705286344645]
["2023-04-25",79525004.30840002,60997407.268900022,18527597.039500002,0.30374400927933265,null,1.0948830758630084,4.8777062400931818E-2,0.16793993405556229]
["2023-04-26",79687402.817599997,60976328.9296,18711073.887999997,0.30685799254334906,null,1.094481533705314,4.8744719945056268E-2,0.16782032361810609]
["2023-04-27",78585408.964000016,61086970.520000011,17498438.444000002,0.28645123984779985,null,1.0955827834584533,4.8693322031892181E-2,0.1675384106774134]
["2023-04-28",78463869.707999974,61112924.250499971,17350945.457500003,0.28391613836672286,null,1.0965846298965718,4.8734754148049918E-2,0.16766969228207554]
["2023-04-29",79624209.876399994,61110460.03639999,18513749.840000004,0.30295549778176151,null,1.0967496514534745,4.8776859474248091E-2,0.16782614023504555]
["2023-05-03",81419306.415999979,61044022.207999974,20375284.208000001,0.333780171604252,null,1.0964430916652579,4.8742498716104518E-2,0.16782615406433291]
["2023-05-09",81017741.230800003,61721765.8178,19295975.412999999,0.31262837602477039,null,1.0966878753047982,4.8402845963589916E-2,0.16647086318785156]
["2023-05-10",81293490.395199984,61705186.492199987,19588303.902999997,0.31744987766103117,null,1.0960419087979154,4.8406058376083076E-2,0.16649417413616269]
["2023-05-11",80880357.327200025,61737902.491200022,19142454.836000003,0.31006001278920231,null,1.0957186752165404,4.8392894101931871E-2,0.16645365213658236]
["2023-05-12",80688441.557999983,61762841.545999981,18925600.012000002,0.30642372562966547,null,1.0960680286584548,4.8379125304682094E-2,0.16635101823051657]
["2023-05-13",80737863.868799999,61762191.346799999,18975672.522,0.30723768228121912,null,1.0965140538058158,4.8385705733738557E-2,0.16635349060707469]
["2023-05-16",81222700.563999996,61713268.718499996,19509431.8455,0.31613026259378141,null,1.0966630495351921,4.8416781045014942E-2,0.16648089102071234]
["2023-05-17",81524615.084400013,61686298.704400018,19838316.379999999,0.32160004404000581,null,1.0959005419492751,4.8414319508617493E-2,0.1664994522678829]
["2023-05-18",81288335.454000026,61710678.013000026,19577657.441000003,0.31724910617374447,null,1.096303779186498,4.8444543186524552E-2,0.16662810017570653]
["2023-05-19",82253777.008000016,61638754.063000016,20615022.945,0.33444905333306552,null,1.0961572574987135,4.8502952094661572E-2,0.16688391997407948]
["2023-05-20",82845331.115199983,61583089.293199986,21262241.822000001,0.3452610459467122,null,1.0946079703574503,4.8530270117876806E-2,0.16707481088275705]
["2023-05-23",82732910.960799992,61607247.289299995,21125663.671499997,0.34290874208835365,null,1.0941893284196444,4.8522376836280745E-2,0.16702060425394721]
["2023-05-25",82397170.685600013,61686471.341600016,20710699.343999997,0.33574135290233648,null,1.0931846215994145,4.8480932408944036E-2,0.16695512141959504]
["2023-05-26",82073140.410399988,61709375.144399986,20363765.266000003,0.32999467614683792,null,1.0934195277829095,4.8497353410481017E-2,0.16704025895801022]
["2023-05-27",82284962.630399987,61673079.715899989,20611882.914500002,0.3342119934572691,null,1.0927318408719913,4.8541474111036903E-2,0.16724064795682841]
["2023-05-30",83439297.335999981,61559776.833999977,21879520.502,0.35541910038107477,null,1.0922699988831075,4.8574555767014069E-2,0.16742390295411161]
["2023-05-31",83270248.268000022,61581346.700000018,21688901.568,0.35219920853078701,null,1.0927060228180752,4.8564880928283177E-2,0.16735230010135668]
["2023-06-01",82930970.857600003,61651292.3292,21279678.528400004,0.34516192158264419,null,1.0941086886417992,4.8533491080479073E-2,0.16718755849061334]
["2023-06-02",82418468.778400019,61773060.724000022,20645408.054399997,0.3342137788289784,null,1.0952227270552837,4.8505877943984886E-2,0.16697523163428191]
["2023-06-03",83267425.049999982,61834795.088099986,21432629.9619,0.34661115851299518,null,1.0958534084031941,4.8554398873536443E-2,0.16712705072353762]
["2023-06-06",84803435.999600008,61697233.365500011,23106202.634099998,0.3745095423844495,null,1.0951045757065554,4.8608863805450563E-2,0.16741182786774664]
["2023-06-07",84565905.313600004,61732689.740200005,22833215.573399998,0.3698723588667987,null,1.0945732538136004,4.8602176254592865E-2,0.16737529203358323]
["2023-06-08",84582446.741999999,61721060.929700002,22861385.812299997,0.37039845828863843,null,1.0943412964671033,4.8597652870745092E-2,0.16739890084409179]
["2023-06-09",84534438.799999997,61721163.031000003,22813275.768999998,0.36961837153881605,null,1.0942717537742737,4.8615446401946177E-2,0.16751182043481835]
["2023-06-10",84682572.560000017,61719854.736000024,22962717.823999994,0.37204750273992909,null,1.0940437268170777,4.8613680794394612E-2,0.16746065119306794]
["2023-06-13",84926270.711999997,61707484.655999996,23218786.056000002,0.37627179564095831,null,1.0946802462487479,4.8642611091979676E-2,0.16756550382987692]
["2023-06-14",85583374.347599998,61648134.781499997,23935239.566100001,0.38825569745027766,null,1.0943588139257152,4.8677583747311383E-2,0.16770875343413247]
["2023-06-15",86315604.768400013,61607234.75410001,24708370.014300004,0.40106279908392806,null,1.0936390581805782,4.8708905107554795E-2,0.16786917552147151]
["2023-06-16",86598570.098000005,61582007.217100009,25016562.880899999,0.40623169025178241,null,1.0941861140059215,4.8740982014106982E-2,0.1679990845936703]
["2023-06-17",87290890.883200005,61512077.165400013,25778813.717799995,0.41908540413101747,null,1.0939456647014045,4.8752021328592417E-2,0.1680728676454358]
["2023-06-20",87835668.85360001,61448220.534200005,26387448.319400005,0.4294257521210666,null,1.0939365865244597,4.8768032346180899E-2,0.16821546002689641]
["2023-06-21",87746286.256000012,61471874.678200014,26274411.577799998,0.42742167398252107,null,1.0933690969905838,4.8752758648808139E-2,0.16817862590097171]
["2023-06-22",87284673.624800012,61588054.724000022,25696618.900799993,0.41723381288719891,null,1.0943803019188854,4.872922042966675E-2,0.16798889533522054]
["2023-06-23",87106655.082399994,61601162.531800002,25505492.550599996,0.41404238982394931,null,1.0943477367719581,4.8737877825651768E-2,0.16802412771344058]
["2023-06-24",87306864.921599984,61543026.537199982,25763838.384400003,0.41863131916053764,null,1.0934529701705211,4.8738844222913358E-2,0.16813305669783402]
["2023-06-27",86883745.939599991,61584325.040499993,25299420.899099998,0.41080942078137933,null,1.0940112214415603,4.8711455154120224E-2,0.16799871646190542]
["2023-06-28",86810118.086399987,61599919.795799986,25210198.290600002,0.4092569986157496,null,1.0953005174415962,4.873448940604528E-2,0.16804566744375268]
["2023-06-29",88072610.71800001,61857258.891900018,26215351.826099996,0.42380396893941252,null,1.0950266804602571,4.8609807309584183E-2,0.16756777681455798]
["2023-06-30",89340298.401600003,62862286.820400007,26478011.581199996,0.42120662356507493,null,1.0978433177367073,4.8462368688117784E-2,0.16691817548392382]
["2023-07-01",89665296.007200003,62814618.516000003,26850677.491199996,0.42745905532102613,null,1.0974965276833306,4.8501981209679891E-2,0.16710710095586456]
["2023-07-04",90458870.551999986,62816083.963799983,27642786.588199999,0.44005905564138864,null,1.096860516282516,4.8495097932206167E-2,0.16706769206061151]
["2023-07-05",90722344.055999994,62921406.461399987,27800937.594600003,0.44183592131963667,null,1.096765668957816,4.8468202806287504E-2,0.1670196047559058]
["2023-07-06",90746504.733599991,62921231.447199985,27825273.286400001,0.44222391466939787,null,1.0967014971316116,4.8466338406666275E-2,0.16701843000872332]
["2023-07-07",90213723.466000006,62953944.020500012,27259779.445499994,0.43301146369198495,null,1.0957878757244377,4.8433890171319133E-2,0.16692765941053356]
["2023-07-08",89125242.62440002,63041300.53070002,26083942.093699999,0.41375958100670168,null,1.0941317768317993,4.8397948064068309E-2,0.16682475078680151]
["2023-07-11",88346241.690399989,63115783.270999998,25230458.419399995,0.39974879676400549,null,1.0937766318326618,4.8373874275351204E-2,0.16669870464712985]
["2023-07-12",88185965.462400019,63224636.224200018,24961329.238200001,0.39480384117490169,null,1.0940600273672421,4.8331309373309012E-2,0.16650360738739256]
["2023-07-13",88389286.393600002,63557413.975000001,24831872.4186,0.39069985491177311,null,1.0956890561321739,4.8239665538577448E-2,0.16607496204016928]
["2023-07-14",88849729.448799983,63611040.434399985,25238689.014399998,0.3967658576568614,null,1.0968608362792966,4.8253623758494235E-2,0.16606379509969063]
["2023-07-15",89330914.711200014,63571085.584400013,25759829.126800001,0.40521298149927015,null,1.0976072712407454,4.8266598994905541E-2,0.16610804219173222]
["2023-07-18",89371765.412000015,63571102.895000011,25800662.517000005,0.40585519744112031,null,1.0977197707099042,4.8275845573222717E-2,0.16613887338465033]
["2023-07-19",89877812.522400007,63557004.547200009,26320807.975199994,0.41412914536670925,null,1.0980161465612488,4.8314016394702154E-2,0.16631751306540987]
["2023-07-20",90436139.412000015,63543111.719200015,26893027.6928,0.42322490928114365,null,1.0987341551956518,4.8326035536807616E-2,0.16630248133950717]
["2023-07-21",90833761.13440001,63557864.289600015,27275896.844799999,0.42915061967025786,null,1.0990388744939141,4.8322965601618036E-2,0.1663180559419456]
["2023-07-22",90648032.226799995,63621715.045099996,27026317.181699999,0.42479705494486675,null,1.0987251530315534,4.8330458140989234E-2,0.16636703828145369]
["2023-07-25",91472529.984000012,63595769.412000015,27876760.572000001,0.43834300346934518,null,1.0990165065903859,4.8363627186498691E-2,0.16652067095150552]
["2023-07-26",91525287.501200005,63595251.305900007,27930036.195300002,0.43918430420148069,null,1.0991749870469512,4.8373911328336988E-2,0.16653835400089306]
["2023-07-27",91609502.683600008,63595159.097500011,28014343.586099993,0.44051062979731215,null,1.0988653065662957,4.8369302714095577E-2,0.16655954891822236]
["2023-07-28",91360839.034000009,63606073.694500007,27754765.339500003,0.4363540103545166,null,1.0987365326695715,4.8337664291354852E-2,0.1664001200384678]
["2023-07-29",90754909.393599987,63667503.60799998,27087405.785600003,0.4254510425346158,null,1.0992753433109079,4.8370395855746075E-2,0.16649683501899631]
["2023-08-01",91994687.150399998,63634799.923599996,28359887.226800002,0.44566632190010674,null,1.0986926504348737,4.8414243878341562E-2,0.16673280025829118]

{"sheet":"運用成績推移","index":2,"n_rows":31,"n_cols":9,"rows_kept":31,"cut":false,"hidden":false,"merged":[]}
[null,"運用総額","元金","利益","利率",null,"レバ\nレッジ","期待\nリターン","リスク"]
["2021-08-01",{"$f":"AVERAGEIFS(資産推移!B:B,資産推移!A:A,\">=\"&A2,資産推移!A:A,\"<\"&A3)","v":54864770.006312504},{"$f":"AVERAGEIFS(資産推移!C:C,資産推移!A:A,\">=\"&A2,資産推移!A:A,\"<\"&A3)","v":40918182.858812496},{"$f":"AVERAGEIFS(資産推移!D:D,資産推移!A:A,\">=\"&A2,資産推移!A:A,\"<\"&A3)","v":13946587.147500001},{"$f":"AVERAGEIFS(資産推移!E:E,資産推移!A:A,\">=\"&A2,資産推移!A:A,\"<\"&A3)","v":0.34084191290563431},null,{"$f":"AVERAGEIFS(資産推移!G:G,資産推移!A:A,\">=\"&A2,資産推移!A:A,\"<\"&A3)","v":1.1139302945951712},{"$f":"AVERAGEIFS(資産推移!H:H,資産推移!A:A,\">=\"&A2,資産推移!A:A,\"<\"&A3)","v":4.3506195191581838E-2},{"$f":"AVERAGEIFS(資産推移!I:I,資産推移!A:A,\">=\"&A2,資産推移!A:A,\"<\"&A3)","v":0.14273795210514231}]
[{"$f":"EDATE(A2,1)","v":"2021-09-01"},{"$f":"AVERAGEIFS(資産推移!B:B,資産推移!A:A,\">=\"&A3,資産推移!A:A,\"<\"&A4)","v":56271395.901072718},{"$f":"AVERAGEIFS(資産推移!C:C,資産推移!A:A,\">=\"&A3,資産推移!A:A,\"<\"&A4)","v":41506565.464036375},{"$f":"AVERAGEIFS(資産推移!D:D,資産推移!A:A,\">=\"&A3,資産推移!A:A,\"<\"&A4)","v":14773133.799713636},{"$f":"AVERAGEIFS(資産推移!E:E,資産推移!A:A,\">=\"&A3,資産推移!A:A,\"<\"&A4)","v":0.35574137073332757},null,{"$f":"IF(ISNA(VLOOKUP(A3,資産推移!A:I,7,FALSE)),IF(ISNA(VLOOKUP(A3-1,資産推移!A:I,7,FALSE)),IF(ISNA(VLOOKUP(A3-2,資産推移!A:I,7,FALSE)),VLOOKUP(A3-3,資産推移!A:I,7,FALSE),VLOOKUP(A3-2,資産推移!A:I,7,FALSE)),VLOOKUP(A3-1,資産推移!A:I,7,FALSE)),VLOOKUP(A3,資産推移!A:I,7,FALSE))","v":1.114492297849963},{"$f":"AVERAGEIFS(資産推移!H:H,資産推移!A:A,\">=\"&A3,資産推移!A:A,\"<\"&A4)","v":4.4625427125672981E-2},{"$f":"AVERAGEIFS(資産推移!I:I,資産推移!A:A,\">=\"&A3,資産推移!A:A,\"<\"&A4)","v":0.15262254008659906}]
[{"$f":"EDATE(A3,1)","v":"2021-10-01"},{"$f":"AVERAGEIFS(資産推移!B:B,資産推移!A:A,\">=\"&A4,資産推移!A:A,\"<\"&A5)","v":56861079.014709093},{"$f":"AVERAGEIFS(資産推移!C:C,資産推移!A:A,\">=\"&A4,資産推移!A:A,\"<\"&A5)","v":41685959.194251582},{"$f":"AVERAGEIFS(資産推移!D:D,資産推移!A:A,\">=\"&A4,資産推移!A:A,\"<\"&A5)","v":15175119.820457501},{"$f":"AVERAGEIFS(資産推移!E:E,資産推移!A:A,\">=\"&A4,資産推移!A:A,\"<\"&A5)","v":0.36404537451020696},null,{"$f":"IF(ISNA(VLOOKUP(A4,資産推移!A:I,7,FALSE)),IF(ISNA(VLOOKUP(A4-1,資産推移!A:I,7,FALSE)),IF(ISNA(VLOOKUP(A4-2,資産推移!A:I,7,FALSE)),VLOOKUP(A4-3,資産推移!A:I,7,FALSE),VLOOKUP(A4-2,資産推移!A:I,7,FALSE)),VLOOKUP(A4-1,資産推移!A:I,7,FALSE)),VLOOKUP(A4,資産推移!A:I,7,FALSE))","v":1.1001573693891225},{"$f":"AVERAGEIFS(資産推移!H:H,資産推移!A:A,\">=\"&A4,資産推移!A:A,\"<\"&A5)","v":4.4313295606578589E-2},{"$f":"AVERAGEIFS(資産推移!I:I,資産推移!A:A,\">=\"&A4,資産推移!A:A,\"<\"&A5)","v":0.15178797529591589}]
["2021-11-01",{"$f":"AVERAGEIFS(資産推移!B:B,資産推移!A:A,\">=\"&A5,資産推移!A:A,\"<\"&A6)","v":59221379.353684999},{"$f":"AVERAGEIFS(資産推移!C:C,資産推移!A:A,\">=\"&A5,資産推移!A:A,\"<\"&A6)","v":41783763.994504988},{"$f":"AVERAGEIFS(資産推移!D:D,資産推移!A:A,\">=\"&A5,資産推移!A:A,\"<\"&A6)","v":17437615.35918},{"$f":"AVERAGEIFS(資産推移!E:E,資産推移!A:A,\">=\"&A5,資産推移!A:A,\"<\"&A6)","v":0.41734169606227212},null,{"$f":"IF(ISNA(VLOOKUP(A5,資産推移!A:I,7,FALSE)),IF(ISNA(VLOOKUP(A5-1,資産推移!A:I,7,FALSE)),IF(ISNA(VLOOKUP(A5-2,資産推移!A:I,7,FALSE)),VLOOKUP(A5-3,資産推移!A:I,7,FALSE),VLOOKUP(A5-2,資産推移!A:I,7,FALSE)),VLOOKUP(A5-1,資産推移!A:I,7,FALSE)),VLOOKUP(A5,資産推移!A:I,7,FALSE))","v":1.0995536468907254},{"$f":"AVERAGEIFS(資産推移!H:H,資産推移!A:A,\">=\"&A5,資産推移!A:A,\"<\"&A6)","v":4.4487310076739048E-2},{"$f":"AVERAGEIFS(資産推移!I:I,資産推移!A:A,\">=\"&A5,資産推移!A:A,\"<\"&A6)","v":0.15247114169769838}]
["2021-12-01",{"$f":"AVERAGEIFS(資産推移!B:B,資産推移!A:A,\">=\"&A6,資産推移!A:A,\"<\"&A7)","v":59005316.002082616},{"$f":"AVERAGEIFS(資産推移!C:C,資産推移!A:A,\">=\"&A6,資産推移!A:A,\"<\"&A7)","v":42359427.109682605},{"$f":"AVERAGEIFS(資産推移!D:D,資産推移!A:A,\">=\"&A6,資産推移!A:A,\"<\"&A7)","v":16645888.8924},{"$f":"AVERAGEIFS(資産推移!E:E,資産推移!A:A,\">=\"&A6,資産推移!A:A,\"<\"&A7)","v":0.39290151804347578},null,{"$f":"IF(ISNA(VLOOKUP(A6,資産推移!A:I,7,FALSE)),IF(ISNA(VLOOKUP(A6-1,資産推移!A:I,7,FALSE)),IF(ISNA(VLOOKUP(A6-2,資産推移!A:I,7,FALSE)),VLOOKUP(A6-3,資産推移!A:I,7,FALSE),VLOOKUP(A6-2,資産推移!A:I,7,FALSE)),VLOOKUP(A6-1,資産推移!A:I,7,FALSE)),VLOOKUP(A6,資産推移!A:I,7,FALSE))","v":1.098706792539476},{"$f":"AVERAGEIFS(資産推移!H:H,資産推移!A:A,\">=\"&A6,資産推移!A:A,\"<\"&A7)","v":4.4172735472587307E-2},{"$f":"AVERAGEIFS(資産推移!I:I,資産推移!A:A,\">=\"&A6,資産推移!A:A,\"<\"&A7)","v":0.151244631697178}]
["2022-01-01",{"$f":"AVERAGEIFS(資産推移!B:B,資産推移!A:A,\">=\"&A7,資産推移!A:A,\"<\"&A8)","v":64404550.413755551},{"$f":"AVERAGEIFS(資産推移!C:C,資産推移!A:A,\">=\"&A7,資産推移!A:A,\"<\"&A8)","v":48269301.298705548},{"$f":"AVERAGEIFS(資産推移!D:D,資産推移!A:A,\">=\"&A7,資産推移!A:A,\"<\"&A8)","v":16135249.115050001},{"$f":"AVERAGEIFS(資産推移!E:E,資産推移!A:A,\">=\"&A7,資産推移!A:A,\"<\"&A8)","v":0.3362523428371158},null,{"$f":"IF(ISNA(VLOOKUP(A7,資産推移!A:I,7,FALSE)),IF(ISNA(VLOOKUP(A7-1,資産推移!A:I,7,FALSE)),IF(ISNA(VLOOKUP(A7-2,資産推移!A:I,7,FALSE)),VLOOKUP(A7-3,資産推移!A:I,7,FALSE),VLOOKUP(A7-2,資産推移!A:I,7,FALSE)),VLOOKUP(A7-1,資産推移!A:I,7,FALSE)),VLOOKUP(A7,資産推移!A:I,7,FALSE))","v":1.0991998765048507},{"$f":"AVERAGEIFS(資産推移!H:H,資産推移!A:A,\">=\"&A7,資産推移!A:A,\"<\"&A8)","v":4.3428621737496877E-2},{"$f":"AVERAGEIFS(資産推移!I:I,資産推移!A:A,\">=\"&A7,資産推移!A:A,\"<\"&A8)","v":0.14880692991400563}]
["2022-02-01",{"$f":"AVERAGEIFS(資産推移!B:B,資産推移!A:A,\">=\"&A8,資産推移!A:A,\"<\"&A9)","v":66176058.603547372},{"$f":"AVERAGEIFS(資産推移!C:C,資産推移!A:A,\">=\"&A8,資産推移!A:A,\"<\"&A9)","v":51540112.041794725},{"$f":"AVERAGEIFS(資産推移!D:D,資産推移!A:A,\">=\"&A8,資産推移!A:A,\"<\"&A9)","v":14635946.561752632},{"$f":"AVERAGEIFS(資産推移!E:E,資産推移!A:A,\">=\"&A8,資産推移!A:A,\"<\"&A9)","v":0.28402562696082007},null,{"$f":"IF(ISNA(VLOOKUP(A8,資産推移!A:I,7,FALSE)),IF(ISNA(VLOOKUP(A8-1,資産推移!A:I,7,FALSE)),IF(ISNA(VLOOKUP(A8-2,資産推移!A:I,7,FALSE)),VLOOKUP(A8-3,資産推移!A:I,7,FALSE),VLOOKUP(A8-2,資産推移!A:I,7,FALSE)),VLOOKUP(A8-1,資産推移!A:I,7,FALSE)),VLOOKUP(A8,資産推移!A:I,7,FALSE))","v":1.0994870935376806},{"$f":"AVERAGEIFS(資産推移!H:H,資産推移!A:A,\">=\"&A8,資産推移!A:A,\"<\"&A9)","v":4.4390863974670652E-2},{"$f":"AVERAGEIFS(資産推移!I:I,資産推移!A:A,\">=\"&A8,資産推移!A:A,\"<\"&A9)","v":0.15238989014135235}]
["2022-03-01",{"$f":"AVERAGEIFS(資産推移!B:B,資産推移!A:A,\">=\"&A9,資産推移!A:A,\"<\"&A10)","v":66432104.113045454},{"$f":"AVERAGEIFS(資産推移!C:C,資産推移!A:A,\">=\"&A9,資産推移!A:A,\"<\"&A10)","v":52173984.483677268},{"$f":"AVERAGEIFS(資産推移!D:D,資産推移!A:A,\">=\"&A9,資産推移!A:A,\"<\"&A10)","v":14258119.629368184},{"$f":"AVERAGEIFS(資産推移!E:E,資産推移!A:A,\">=\"&A9,資産推移!A:A,\"<\"&A10)","v":0.27337013596889781},null,{"$f":"IF(ISNA(VLOOKUP(A9,資産推移!A:I,7,FALSE)),IF(ISNA(VLOOKUP(A9-1,資産推移!A:I,7,FALSE)),IF(ISNA(VLOOKUP(A9-2,資産推移!A:I,7,FALSE)),VLOOKUP(A9-3,資産推移!A:I,7,FALSE),VLOOKUP(A9-2,資産推移!A:I,7,FALSE)),VLOOKUP(A9-1,資産推移!A:I,7,FALSE)),VLOOKUP(A9,資産推移!A:I,7,FALSE))","v":1.0954567291299013},{"$f":"AVERAGEIFS(資産推移!H:H,資産推移!A:A,\">=\"&A9,資産推移!A:A,\"<\"&A10)","v":4.4436760290735497E-2},{"$f":"AVERAGEIFS(資産推移!I:I,資産推移!A:A,\">=\"&A9,資産推移!A:A,\"<\"&A10)","v":0.15250269466373204}]
["2022-04-01",{"$f":"AVERAGEIFS(資産推移!B:B,資産推移!A:A,\">=\"&A10,資産推移!A:A,\"<\"&A11)","v":70023166.724309504},{"$f":"AVERAGEIFS(資産推移!C:C,資産推移!A:A,\">=\"&A10,資産推移!A:A,\"<\"&A11)","v":52339371.476682559},{"$f":"AVERAGEIFS(資産推移!D:D,資産推移!A:A,\">=\"&A10,資産推移!A:A,\"<\"&A11)","v":17683795.247626953},{"$f":"AVERAGEIFS(資産推移!E:E,資産推移!A:A,\">=\"&A10,資産推移!A:A,\"<\"&A11)","v":0.33793946513906448},null,{"$f":"IF(ISNA(VLOOKUP(A10,資産推移!A:I,7,FALSE)),IF(ISNA(VLOOKUP(A10-1,資産推移!A:I,7,FALSE)),IF(ISNA(VLOOKUP(A10-2,資産推移!A:I,7,FALSE)),VLOOKUP(A10-3,資産推移!A:I,7,FALSE),VLOOKUP(A10-2,資産推移!A:I,7,FALSE)),VLOOKUP(A10-1,資産推移!A:I,7,FALSE)),VLOOKUP(A10,資産推移!A:I,7,FALSE))","v":1.0961240434396577},{"$f":"AVERAGEIFS(資産推移!H:H,資産推移!A:A,\">=\"&A10,資産推移!A:A,\"<\"&A11)","v":4.4936648726829752E-2},{"$f":"AVERAGEIFS(資産推移!I:I,資産推移!A:A,\">=\"&A10,資産推移!A:A,\"<\"&A11)","v":0.15478237629573638}]
["2022-05-01",{"$f":"AVERAGEIFS(資産推移!B:B,資産推移!A:A,\">=\"&A11,資産推移!A:A,\"<\"&A12)","v":66358945.709825002},{"$f":"AVERAGEIFS(資産推移!C:C,資産推移!A:A,\">=\"&A11,資産推移!A:A,\"<\"&A12)","v":53014256.254314981},{"$f":"AVERAGEIFS(資産推移!D:D,資産推移!A:A,\">=\"&A11,資産推移!A:A,\"<\"&A12)","v":13344689.455509998},{"$f":"AVERAGEIFS(資産推移!E:E,資産推移!A:A,\">=\"&A11,資産推移!A:A,\"<\"&A12)","v":0.25181690987942512},null,{"$f":"IF(ISNA(VLOOKUP(A11,資産推移!A:I,7,FALSE)),IF(ISNA(VLOOKUP(A11-1,資産推移!A:I,7,FALSE)),IF(ISNA(VLOOKUP(A11-2,資産推移!A:I,7,FALSE)),VLOOKUP(A11-3,資産推移!A:I,7,FALSE),VLOOKUP(A11-2,資産推移!A:I,7,FALSE)),VLOOKUP(A11-1,資産推移!A:I,7,FALSE)),VLOOKUP(A11,資産推移!A:I,7,FALSE))","v":1.0949902891646144},{"$f":"AVERAGEIFS(資産推移!H:H,資産推移!A:A,\">=\"&A11,資産推移!A:A,\"<\"&A12)","v":4.5906314756861542E-2},{"$f":"AVERAGEIFS(資産推移!I:I,資産推移!A:A,\">=\"&A11,資産推移!A:A,\"<\"&A12)","v":0.15801091699941522}]
["2022-06-01",{"$f":"AVERAGEIFS(資産推移!B:B,資産推移!A:A,\">=\"&A12,資産推移!A:A,\"<\"&A13)","v":67314819.531972736},{"$f":"AVERAGEIFS(資産推移!C:C,資産推移!A:A,\">=\"&A12,資産推移!A:A,\"<\"&A13)","v":53262527.658572726},{"$f":"AVERAGEIFS(資産推移!D:D,資産推移!A:A,\">=\"&A12,資産推移!A:A,\"<\"&A13)","v":14052291.873400001},{"$f":"AVERAGEIFS(資産推移!E:E,資産推移!A:A,\">=\"&A12,資産推移!A:A,\"<\"&A13)","v":0.26385500987181987},null,{"$f":"IF(ISNA(VLOOKUP(A12,資産推移!A:I,7,FALSE)),IF(ISNA(VLOOKUP(A12-1,資産推移!A:I,7,FALSE)),IF(ISNA(VLOOKUP(A12-2,資産推移!A:I,7,FALSE)),VLOOKUP(A12-3,資産推移!A:I,7,FALSE),VLOOKUP(A12-2,資産推移!A:I,7,FALSE)),VLOOKUP(A12-1,資産推移!A:I,7,FALSE)),VLOOKUP(A12,資産推移!A:I,7,FALSE))","v":1.096283248061571},{"$f":"AVERAGEIFS(資産推移!H:H,資産推移!A:A,\">=\"&A12,資産推移!A:A,\"<\"&A13)","v":4.7104444971923211E-2},{"$f":"AVERAGEIFS(資産推移!I:I,資産推移!A:A,\">=\"&A12,資産推移!A:A,\"<\"&A13)","v":0.16270539487302546}]
["2022-07-01",{"$f":"AVERAGEIFS(資産推移!B:B,資産推移!A:A,\">=\"&A13,資産推移!A:A,\"<\"&A14)","v":69179371.117261916},{"$f":"AVERAGEIFS(資産推移!C:C,資産推移!A:A,\">=\"&A13,資産推移!A:A,\"<\"&A14)","v":54801475.401877902},{"$f":"AVERAGEIFS(資産推移!D:D,資産推移!A:A,\">=\"&A13,資産推移!A:A,\"<\"&A14)","v":14377895.715383997},{"$f":"AVERAGEIFS(資産推移!E:E,資産推移!A:A,\">=\"&A13,資産推移!A:A,\"<\"&A14)","v":0.26224688055847512},null,{"$f":"IF(ISNA(VLOOKUP(A13,資産推移!A:I,7,FALSE)),IF(ISNA(VLOOKUP(A13-1,資産推移!A:I,7,FALSE)),IF(ISNA(VLOOKUP(A13-2,資産推移!A:I,7,FALSE)),VLOOKUP(A13-3,資産推移!A:I,7,FALSE),VLOOKUP(A13-2,資産推移!A:I,7,FALSE)),VLOOKUP(A13-1,資産推移!A:I,7,FALSE)),VLOOKUP(A13,資産推移!A:I,7,FALSE))","v":1.0907024487328143},{"$f":"AVERAGEIFS(資産推移!H:H,資産推移!A:A,\">=\"&A13,資産推移!A:A,\"<\"&A14)","v":4.7456114531014136E-2},{"$f":"AVERAGEIFS(資産推移!I:I,資産推移!A:A,\">=\"&A13,資産推移!A:A,\"<\"&A14)","v":0.16306955038729076}]
["2022-08-01",{"$f":"AVERAGEIFS(資産推移!B:B,資産推移!A:A,\">=\"&A14,資産推移!A:A,\"<\"&A15)","v":73437106.631789491},{"$f":"AVERAGEIFS(資産推移!C:C,資産推移!A:A,\">=\"&A14,資産推移!A:A,\"<\"&A15)","v":56005373.172789477},{"$f":"AVERAGEIFS(資産推移!D:D,資産推移!A:A,\">=\"&A14,資産推移!A:A,\"<\"&A15)","v":17431733.459000003},{"$f":"AVERAGEIFS(資産推移!E:E,資産推移!A:A,\">=\"&A14,資産推移!A:A,\"<\"&A15)","v":0.31121598556702601},null,{"$f":"IF(ISNA(VLOOKUP(A14,資産推移!A:I,7,FALSE)),IF(ISNA(VLOOKUP(A14-1,資産推移!A:I,7,FALSE)),IF(ISNA(VLOOKUP(A14-2,資産推移!A:I,7,FALSE)),VLOOKUP(A14-3,資産推移!A:I,7,FALSE),VLOOKUP(A14-2,資産推移!A:I,7,FALSE)),VLOOKUP(A14-1,資産推移!A:I,7,FALSE)),VLOOKUP(A14,資産推移!A:I,7,FALSE))","v":1.1022244964105321},{"$f":"AVERAGEIFS(資産推移!H:H,資産推移!A:A,\">=\"&A14,資産推移!A:A,\"<\"&A15)","v":4.7597002858309923E-2},{"$f":"AVERAGEIFS(資産推移!I:I,資産推移!A:A,\">=\"&A14,資産推移!A:A,\"<\"&A15)","v":0.16343637335117056}]
["2022-09-01",{"$f":"AVERAGEIFS(資産推移!B:B,資産推移!A:A,\">=\"&A15,資産推移!A:A,\"<\"&A16)","v":72161025.047800004},{"$f":"AVERAGEIFS(資産推移!C:C,資産推移!A:A,\">=\"&A15,資産推移!A:A,\"<\"&A16)","v":56544547.481581815},{"$f":"AVERAGEIFS(資産推移!D:D,資産推移!A:A,\">=\"&A15,資産推移!A:A,\"<\"&A16)","v":15616477.566218175},{"$f":"AVERAGEIFS(資産推移!E:E,資産推移!A:A,\">=\"&A15,資産推移!A:A,\"<\"&A16)","v":0.27621419335082326},null,{"$f":"IF(ISNA(VLOOKUP(A15,資産推移!A:I,7,FALSE)),IF(ISNA(VLOOKUP(A15-1,資産推移!A:I,7,FALSE)),IF(ISNA(VLOOKUP(A15-2,資産推移!A:I,7,FALSE)),VLOOKUP(A15-3,資産推移!A:I,7,FALSE),VLOOKUP(A15-2,資産推移!A:I,7,FALSE)),VLOOKUP(A15-1,資産推移!A:I,7,FALSE)),VLOOKUP(A15,資産推移!A:I,7,FALSE))","v":1.0922643378201873},{"$f":"AVERAGEIFS(資産推移!H:H,資産推移!A:A,\">=\"&A15,資産推移!A:A,\"<\"&A16)","v":4.7524580443886633E-2},{"$f":"AVERAGEIFS(資産推移!I:I,資産推移!A:A,\">=\"&A15,資産推移!A:A,\"<\"&A16)","v":0.16365070900318238}]
["2022-10-01",{"$f":"AVERAGEIFS(資産推移!B:B,資産推移!A:A,\">=\"&A16,資産推移!A:A,\"<\"&A17)","v":69897731.726666659},{"$f":"AVERAGEIFS(資産推移!C:C,資産推移!A:A,\">=\"&A16,資産推移!A:A,\"<\"&A17)","v":56421094.221452385},{"$f":"AVERAGEIFS(資産推移!D:D,資産推移!A:A,\">=\"&A16,資産推移!A:A,\"<\"&A17)","v":13476637.505214285},{"$f":"AVERAGEIFS(資産推移!E:E,資産推移!A:A,\">=\"&A16,資産推移!A:A,\"<\"&A17)","v":0.2388564711273676},null,{"$f":"IF(ISNA(VLOOKUP(A16,資産推移!A:I,7,FALSE)),IF(ISNA(VLOOKUP(A16-1,資産推移!A:I,7,FALSE)),IF(ISNA(VLOOKUP(A16-2,資産推移!A:I,7,FALSE)),VLOOKUP(A16-3,資産推移!A:I,7,FALSE),VLOOKUP(A16-2,資産推移!A:I,7,FALSE)),VLOOKUP(A16-1,資産推移!A:I,7,FALSE)),VLOOKUP(A16,資産推移!A:I,7,FALSE))","v":1.0876807189521844},{"$f":"AVERAGEIFS(資産推移!H:H,資産推移!A:A,\">=\"&A16,資産推移!A:A,\"<\"&A17)","v":4.8872071767262021E-2},{"$f":"AVERAGEIFS(資産推移!I:I,資産推移!A:A,\">=\"&A16,資産推移!A:A,\"<\"&A17)","v":0.1686958739841011}]
["2022-11-01",{"$f":"AVERAGEIFS(資産推移!B:B,資産推移!A:A,\">=\"&A17,資産推移!A:A,\"<\"&A18)","v":73635336.795418188},{"$f":"AVERAGEIFS(資産推移!C:C,資産推移!A:A,\">=\"&A17,資産推移!A:A,\"<\"&A18)","v":57279371.062418178},{"$f":"AVERAGEIFS(資産推移!D:D,資産推移!A:A,\">=\"&A17,資産推移!A:A,\"<\"&A18)","v":16355965.733000003},{"$f":"AVERAGEIFS(資産推移!E:E,資産推移!A:A,\">=\"&A17,資産推移!A:A,\"<\"&A18)","v":0.28553478695682871},null,{"$f":"IF(ISNA(VLOOKUP(A17,資産推移!A:I,7,FALSE)),IF(ISNA(VLOOKUP(A17-1,資産推移!A:I,7,FALSE)),IF(ISNA(VLOOKUP(A17-2,資産推移!A:I,7,FALSE)),VLOOKUP(A17-3,資産推移!A:I,7,FALSE),VLOOKUP(A17-2,資産推移!A:I,7,FALSE)),VLOOKUP(A17-1,資産推移!A:I,7,FALSE)),VLOOKUP(A17,資産推移!A:I,7,FALSE))","v":1.0944657632806123},{"$f":"AVERAGEIFS(資産推移!H:H,資産推移!A:A,\">=\"&A17,資産推移!A:A,\"<\"&A18)","v":4.8904223888895169E-2},{"$f":"AVERAGEIFS(資産推移!I:I,資産推移!A:A,\">=\"&A17,資産推移!A:A,\"<\"&A18)","v":0.16842452637687677}]
["2022-12-01",{"$f":"AVERAGEIFS(資産推移!B:B,資産推移!A:A,\">=\"&A18,資産推移!A:A,\"<\"&A19)","v":73280805.307130456},{"$f":"AVERAGEIFS(資産推移!C:C,資産推移!A:A,\">=\"&A18,資産推移!A:A,\"<\"&A19)","v":58770058.553586952},{"$f":"AVERAGEIFS(資産推移!D:D,資産推移!A:A,\">=\"&A18,資産推移!A:A,\"<\"&A19)","v":14510746.753543481},{"$f":"AVERAGEIFS(資産推移!E:E,資産推移!A:A,\">=\"&A18,資産推移!A:A,\"<\"&A19)","v":0.24719773709136886},null,{"$f":"IF(ISNA(VLOOKUP(A18,資産推移!A:I,7,FALSE)),IF(ISNA(VLOOKUP(A18-1,資産推移!A:I,7,FALSE)),IF(ISNA(VLOOKUP(A18-2,資産推移!A:I,7,FALSE)),VLOOKUP(A18-3,資産推移!A:I,7,FALSE),VLOOKUP(A18-2,資産推移!A:I,7,FALSE)),VLOOKUP(A18-1,資産推移!A:I,7,FALSE)),VLOOKUP(A18,資産推移!A:I,7,FALSE))","v":1.0992056237341301},{"$f":"AVERAGEIFS(資産推移!H:H,資産推移!A:A,\">=\"&A18,資産推移!A:A,\"<\"&A19)","v":4.8557504042574723E-2},{"$f":"AVERAGEIFS(資産推移!I:I,資産推移!A:A,\">=\"&A18,資産推移!A:A,\"<\"&A19)","v":0.1669751799718581}]
["2023-01-01",{"$f":"AVERAGEIFS(資産推移!B:B,資産推移!A:A,\">=\"&A19,資産推移!A:A,\"<\"&A20)","v":74293394.216514289},{"$f":"AVERAGEIFS(資産推移!C:C,資産推移!A:A,\">=\"&A19,資産推移!A:A,\"<\"&A20)","v":60355341.745347612},{"$f":"AVERAGEIFS(資産推移!D:D,資産推移!A:A,\">=\"&A19,資産推移!A:A,\"<\"&A20)","v":13938052.471166667},{"$f":"AVERAGEIFS(資産推移!E:E,資産推移!A:A,\">=\"&A19,資産推移!A:A,\"<\"&A20)","v":0.23087367920105398},null,{"$f":"IF(ISNA(VLOOKUP(A19,資産推移!A:I,7,FALSE)),IF(ISNA(VLOOKUP(A19-1,資産推移!A:I,7,FALSE)),IF(ISNA(VLOOKUP(A19-2,資産推移!A:I,7,FALSE)),VLOOKUP(A19-3,資産推移!A:I,7,FALSE),VLOOKUP(A19-2,資産推移!A:I,7,FALSE)),VLOOKUP(A19-1,資産推移!A:I,7,FALSE)),VLOOKUP(A19,資産推移!A:I,7,FALSE))","v":1.0904317780718418},{"$f":"AVERAGEIFS(資産推移!H:H,資産推移!A:A,\">=\"&A19,資産推移!A:A,\"<\"&A20)","v":4.8654661558344324E-2},{"$f":"AVERAGEIFS(資産推移!I:I,資産推移!A:A,\">=\"&A19,資産推移!A:A,\"<\"&A20)","v":0.16748947592470284}]
["2023-02-01",{"$f":"AVERAGEIFS(資産推移!B:B,資産推移!A:A,\">=\"&A20,資産推移!A:A,\"<\"&A21)","v":77462668.573578954},{"$f":"AVERAGEIFS(資産推移!C:C,資産推移!A:A,\">=\"&A20,資産推移!A:A,\"<\"&A21)","v":60477510.193960525},{"$f":"AVERAGEIFS(資産推移!D:D,資産推移!A:A,\">=\"&A20,資産推移!A:A,\"<\"&A21)","v":16985158.379618417},{"$f":"AVERAGEIFS(資産推移!E:E,資産推移!A:A,\">=\"&A20,資産推移!A:A,\"<\"&A21)","v":0.28085607230386239},null,{"$f":"IF(ISNA(VLOOKUP(A20,資産推移!A:I,7,FALSE)),IF(ISNA(VLOOKUP(A20-1,資産推移!A:I,7,FALSE)),IF(ISNA(VLOOKUP(A20-2,資産推移!A:I,7,FALSE)),VLOOKUP(A20-3,資産推移!A:I,7,FALSE),VLOOKUP(A20-2,資産推移!A:I,7,FALSE)),VLOOKUP(A20-1,資産推移!A:I,7,FALSE)),VLOOKUP(A20,資産推移!A:I,7,FALSE))","v":1.0961303211806344},{"$f":"AVERAGEIFS(資産推移!H:H,資産推移!A:A,\">=\"&A20,資産推移!A:A,\"<\"&A21)","v":4.8882683584164033E-2},{"$f":"AVERAGEIFS(資産推移!I:I,資産推移!A:A,\">=\"&A20,資産推移!A:A,\"<\"&A21)","v":0.16837080152902315}]
["2023-03-01",{"$f":"AVERAGEIFS(資産推移!B:B,資産推移!A:A,\">=\"&A21,資産推移!A:A,\"<\"&A22)","v":76257205.411669567},{"$f":"AVERAGEIFS(資産推移!C:C,資産推移!A:A,\">=\"&A21,資産推移!A:A,\"<\"&A22)","v":60909698.816082612},{"$f":"AVERAGEIFS(資産推移!D:D,資産推移!A:A,\">=\"&A21,資産推移!A:A,\"<\"&A22)","v":15347506.595586957},{"$f":"AVERAGEIFS(資産推移!E:E,資産推移!A:A,\">=\"&A21,資産推移!A:A,\"<\"&A22)","v":0.25204325430226465},null,{"$f":"IF(ISNA(VLOOKUP(A21,資産推移!A:I,7,FALSE)),IF(ISNA(VLOOKUP(A21-1,資産推移!A:I,7,FALSE)),IF(ISNA(VLOOKUP(A21-2,資産推移!A:I,7,FALSE)),VLOOKUP(A21-3,資産推移!A:I,7,FALSE),VLOOKUP(A21-2,資産推移!A:I,7,FALSE)),VLOOKUP(A21-1,資産推移!A:I,7,FALSE)),VLOOKUP(A21,資産推移!A:I,7,FALSE))","v":1.0921945377510947},{"$f":"AVERAGEIFS(資産推移!H:H,資産推移!A:A,\">=\"&A21,資産推移!A:A,\"<\"&A22)","v":4.8694861059364693E-2},{"$f":"AVERAGEIFS(資産推移!I:I,資産推移!A:A,\">=\"&A21,資産推移!A:A,\"<\"&A22)","v":0.1676069129367683}]
["2023-04-01",{"$f":"AVERAGEIFS(資産推移!B:B,資産推移!A:A,\">=\"&A22,資産推移!A:A,\"<\"&A23)","v":78918320.57248421},{"$f":"AVERAGEIFS(資産推移!C:C,資産推移!A:A,\">=\"&A22,資産推移!A:A,\"<\"&A23)","v":60987502.339957893},{"$f":"AVERAGEIFS(資産推移!D:D,資産推移!A:A,\">=\"&A22,資産推移!A:A,\"<\"&A23)","v":17930818.232526314},{"$f":"AVERAGEIFS(資産推移!E:E,資産推移!A:A,\">=\"&A22,資産推移!A:A,\"<\"&A23)","v":0.2940169448926197},null,{"$f":"IF(ISNA(VLOOKUP(A22,資産推移!A:I,7,FALSE)),IF(ISNA(VLOOKUP(A22-1,資産推移!A:I,7,FALSE)),IF(ISNA(VLOOKUP(A22-2,資産推移!A:I,7,FALSE)),VLOOKUP(A22-3,資産推移!A:I,7,FALSE),VLOOKUP(A22-2,資産推移!A:I,7,FALSE)),VLOOKUP(A22-1,資産推移!A:I,7,FALSE)),VLOOKUP(A22,資産推移!A:I,7,FALSE))","v":1.0961194638096892},{"$f":"AVERAGEIFS(資産推移!H:H,資産推移!A:A,\">=\"&A22,資産推移!A:A,\"<\"&A23)","v":4.8743343394361358E-2},{"$f":"AVERAGEIFS(資産推移!I:I,資産推移!A:A,\">=\"&A22,資産推移!A:A,\"<\"&A23)","v":0.16777335240288901}]
["2023-05-01",{"$f":"AVERAGEIFS(資産推移!B:B,資産推移!A:A,\">=\"&A23,資産推移!A:A,\"<\"&A24)","v":81845275.900752932},{"$f":"AVERAGEIFS(資産推移!C:C,資産推移!A:A,\">=\"&A23,資産推移!A:A,\"<\"&A24)","v":61640193.86584118},{"$f":"AVERAGEIFS(資産推移!D:D,資産推移!A:A,\">=\"&A23,資産推移!A:A,\"<\"&A24)","v":20205082.034911763},{"$f":"AVERAGEIFS(資産推移!E:E,資産推移!A:A,\">=\"&A23,資産推移!A:A,\"<\"&A24)","v":0.32780849597553585},null,{"$f":"IF(ISNA(VLOOKUP(A23,資産推移!A:I,7,FALSE)),IF(ISNA(VLOOKUP(A23-1,資産推移!A:I,7,FALSE)),IF(ISNA(VLOOKUP(A23-2,資産推移!A:I,7,FALSE)),VLOOKUP(A23-3,資産推移!A:I,7,FALSE),VLOOKUP(A23-2,資産推移!A:I,7,FALSE)),VLOOKUP(A23-1,資産推移!A:I,7,FALSE)),VLOOKUP(A23,資産推移!A:I,7,FALSE))","v":1.0967496514534745},{"$f":"AVERAGEIFS(資産推移!H:H,資産推移!A:A,\">=\"&A23,資産推移!A:A,\"<\"&A24)","v":4.848232750652149E-2},{"$f":"AVERAGEIFS(資産推移!I:I,資産推移!A:A,\">=\"&A23,資産推移!A:A,\"<\"&A24)","v":0.16685584484279462}]
["2023-06-01",{"$f":"AVERAGEIFS(資産推移!B:B,資産推移!A:A,\">=\"&A24,資産推移!A:A,\"<\"&A25)","v":85949422.581563652},{"$f":"AVERAGEIFS(資産推移!C:C,資産推移!A:A,\">=\"&A24,資産推移!A:A,\"<\"&A25)","v":61702919.003263637},{"$f":"AVERAGEIFS(資産推移!D:D,資産推移!A:A,\">=\"&A24,資産推移!A:A,\"<\"&A25)","v":24246503.578299999},{"$f":"AVERAGEIFS(資産推移!E:E,資産推移!A:A,\">=\"&A24,資産推移!A:A,\"<\"&A25)","v":0.39296238359900476},null,{"$f":"IF(ISNA(VLOOKUP(A24,資産推移!A:I,7,FALSE)),IF(ISNA(VLOOKUP(A24-1,資産推移!A:I,7,FALSE)),IF(ISNA(VLOOKUP(A24-2,資産推移!A:I,7,FALSE)),VLOOKUP(A24-3,資産推移!A:I,7,FALSE),VLOOKUP(A24-2,資産推移!A:I,7,FALSE)),VLOOKUP(A24-1,資産推移!A:I,7,FALSE)),VLOOKUP(A24,資産推移!A:I,7,FALSE))","v":1.0941086886417992},{"$f":"AVERAGEIFS(資産推移!H:H,資産推移!A:A,\">=\"&A24,資産推移!A:A,\"<\"&A25)","v":4.8654479333898333E-2},{"$f":"AVERAGEIFS(資産推移!I:I,資産推移!A:A,\">=\"&A24,資産推移!A:A,\"<\"&A25)","v":0.1676697372784014}]
["2023-07-01",{"$f":"AVERAGEIFS(資産推移!B:B,資産推移!A:A,\">=\"&A25,資産推移!A:A,\"<\"&A26)","v":90091652.307123795},{"$f":"AVERAGEIFS(資産推移!C:C,資産推移!A:A,\">=\"&A25,資産推移!A:A,\"<\"&A26)","v":63355195.240123816},{"$f":"AVERAGEIFS(資産推移!D:D,資産推移!A:A,\">=\"&A25,資産推移!A:A,\"<\"&A26)","v":26736457.066999998},{"$f":"AVERAGEIFS(資産推移!E:E,資産推移!A:A,\">=\"&A25,資産推移!A:A,\"<\"&A26)","v":0.4220276305103961},null,{"$f":"IF(ISNA(VLOOKUP(A25,資産推移!A:I,7,FALSE)),IF(ISNA(VLOOKUP(A25-1,資産推移!A:I,7,FALSE)),IF(ISNA(VLOOKUP(A25-2,資産推移!A:I,7,FALSE)),VLOOKUP(A25-3,資産推移!A:I,7,FALSE),VLOOKUP(A25-2,資産推移!A:I,7,FALSE)),VLOOKUP(A25-1,資産推移!A:I,7,FALSE)),VLOOKUP(A25,資産推移!A:I,7,FALSE))","v":1.0974965276833306},{"$f":"AVERAGEIFS(資産推移!H:H,資産推移!A:A,\">=\"&A25,資産推移!A:A,\"<\"&A26)","v":4.8362512054963655E-2},{"$f":"AVERAGEIFS(資産推移!I:I,資産推移!A:A,\">=\"&A25,資産推移!A:A,\"<\"&A26)","v":0.16654161144217175}]
["2023-08-01",{"$f":"AVERAGEIFS(資産推移!B:B,資産推移!A:A,\">=\"&A26,資産推移!A:A,\"<\"&A27)","v":91994687.150399998},{"$f":"AVERAGEIFS(資産推移!C:C,資産推移!A:A,\">=\"&A26,資産推移!A:A,\"<\"&A27)","v":63634799.923599996},{"$f":"AVERAGEIFS(資産推移!D:D,資産推移!A:A,\">=\"&A26,資産推移!A:A,\"<\"&A27)","v":28359887.226800002},{"$f":"AVERAGEIFS(資産推移!E:E,資産推移!A:A,\">=\"&A26,資産推移!A:A,\"<\"&A27)","v":0.44566632190010674},null,{"$f":"IF(ISNA(VLOOKUP(A26,資産推移!A:I,7,FALSE)),IF(ISNA(VLOOKUP(A26-1,資産推移!A:I,7,FALSE)),IF(ISNA(VLOOKUP(A26-2,資産推移!A:I,7,FALSE)),VLOOKUP(A26-3,資産推移!A:I,7,FALSE),VLOOKUP(A26-2,資産推移!A:I,7,FALSE)),VLOOKUP(A26-1,資産推移!A:I,7,FALSE)),VLOOKUP(A26,資産推移!A:I,7,FALSE))","v":1.0986926504348737},{"$f":"AVERAGEIFS(資産推移!H:H,資産推移!A:A,\">=\"&A26,資産推移!A:A,\"<\"&A27)","v":4.8414243878341562E-2},{"$f":"AVERAGEIFS(資産推移!I:I,資産推移!A:A,\">=\"&A26,資産推移!A:A,\"<\"&A27)","v":0.16673280025829118}]
["2023-09-01",{"$f":"AVERAGEIFS(資産推移!B:B,資産推移!A:A,\">=\"&A27,資産推移!A:A,\"<\"&A28)","v":{"$error":"#DIV/0!"}},{"$f":"AVERAGEIFS(資産推移!C:C,資産推移!A:A,\">=\"&A27,資産推移!A:A,\"<\"&A28)","v":{"$error":"#DIV/0!"}},{"$f":"AVERAGEIFS(資産推移!D:D,資産推移!A:A,\">=\"&A27,資産推移!A:A,\"<\"&A28)","v":{"$error":"#DIV/0!"}},{"$f":"AVERAGEIFS(資産推移!E:E,資産推移!A:A,\">=\"&A27,資産推移!A:A,\"<\"&A28)","v":{"$error":"#DIV/0!"}},null,{"$f":"IF(ISNA(VLOOKUP(A27,資産推移!A:I,7,FALSE)),IF(ISNA(VLOOKUP(A27-1,資産推移!A:I,7,FALSE)),IF(ISNA(VLOOKUP(A27-2,資産推移!A:I,7,FALSE)),VLOOKUP(A27-3,資産推移!A:I,7,FALSE),VLOOKUP(A27-2,資産推移!A:I,7,FALSE)),VLOOKUP(A27-1,資産推移!A:I,7,FALSE)),VLOOKUP(A27,資産推移!A:I,7,FALSE))","v":{"$error":"#N/A"}},{"$f":"AVERAGEIFS(資産推移!H:H,資産推移!A:A,\">=\"&A27,資産推移!A:A,\"<\"&A28)","v":{"$error":"#DIV/0!"}},{"$f":"AVERAGEIFS(資産推移!I:I,資産推移!A:A,\">=\"&A27,資産推移!A:A,\"<\"&A28)","v":{"$error":"#DIV/0!"}}]
["2023-10-01",{"$f":"AVERAGEIFS(資産推移!B:B,資産推移!A:A,\">=\"&A28,資産推移!A:A,\"<\"&A29)","v":{"$error":"#DIV/0!"}},{"$f":"AVERAGEIFS(資産推移!C:C,資産推移!A:A,\">=\"&A28,資産推移!A:A,\"<\"&A29)","v":{"$error":"#DIV/0!"}},{"$f":"AVERAGEIFS(資産推移!D:D,資産推移!A:A,\">=\"&A28,資産推移!A:A,\"<\"&A29)","v":{"$error":"#DIV/0!"}},{"$f":"AVERAGEIFS(資産推移!E:E,資産推移!A:A,\">=\"&A28,資産推移!A:A,\"<\"&A29)","v":{"$error":"#DIV/0!"}},null,{"$f":"IF(ISNA(VLOOKUP(A28,資産推移!A:I,7,FALSE)),IF(ISNA(VLOOKUP(A28-1,資産推移!A:I,7,FALSE)),IF(ISNA(VLOOKUP(A28-2,資産推移!A:I,7,FALSE)),VLOOKUP(A28-3,資産推移!A:I,7,FALSE),VLOOKUP(A28-2,資産推移!A:I,7,FALSE)),VLOOKUP(A28-1,資産推移!A:I,7,FALSE)),VLOOKUP(A28,資産推移!A:I,7,FALSE))","v":{"$error":"#N/A"}},{"$f":"AVERAGEIFS(資産推移!H:H,資産推移!A:A,\">=\"&A28,資産推移!A:A,\"<\"&A29)","v":{"$error":"#DIV/0!"}},{"$f":"AVERAGEIFS(資産推移!I:I,資産推移!A:A,\">=\"&A28,資産推移!A:A,\"<\"&A29)","v":{"$error":"#DIV/0!"}}]
["2023-11-01",{"$f":"AVERAGEIFS(資産推移!B:B,資産推移!A:A,\">=\"&A29,資産推移!A:A,\"<\"&A30)","v":{"$error":"#DIV/0!"}},{"$f":"AVERAGEIFS(資産推移!C:C,資産推移!A:A,\">=\"&A29,資産推移!A:A,\"<\"&A30)","v":{"$error":"#DIV/0!"}},{"$f":"AVERAGEIFS(資産推移!D:D,資産推移!A:A,\">=\"&A29,資産推移!A:A,\"<\"&A30)","v":{"$error":"#DIV/0!"}},{"$f":"AVERAGEIFS(資産推移!E:E,資産推移!A:A,\">=\"&A29,資産推移!A:A,\"<\"&A30)","v":{"$error":"#DIV/0!"}},null,{"$f":"IF(ISNA(VLOOKUP(A29,資産推移!A:I,7,FALSE)),IF(ISNA(VLOOKUP(A29-1,資産推移!A:I,7,FALSE)),IF(ISNA(VLOOKUP(A29-2,資産推移!A:I,7,FALSE)),VLOOKUP(A29-3,資産推移!A:I,7,FALSE),VLOOKUP(A29-2,資産推移!A:I,7,FALSE)),VLOOKUP(A29-1,資産推移!A:I,7,FALSE)),VLOOKUP(A29,資産推移!A:I,7,FALSE))","v":{"$error":"#N/A"}},{"$f":"AVERAGEIFS(資産推移!H:H,資産推移!A:A,\">=\"&A29,資産推移!A:A,\"<\"&A30)","v":{"$error":"#DIV/0!"}},{"$f":"AVERAGEIFS(資産推移!I:I,資産推移!A:A,\">=\"&A29,資産推移!A:A,\"<\"&A30)","v":{"$error":"#DIV/0!"}}]
["2023-12-01",{"$f":"AVERAGEIFS(資産推移!B:B,資産推移!A:A,\">=\"&A30,資産推移!A:A,\"<\"&A31)","v":{"$error":"#DIV/0!"}},{"$f":"AVERAGEIFS(資産推移!C:C,資産推移!A:A,\">=\"&A30,資産推移!A:A,\"<\"&A31)","v":{"$error":"#DIV/0!"}},{"$f":"AVERAGEIFS(資産推移!D:D,資産推移!A:A,\">=\"&A30,資産推移!A:A,\"<\"&A31)","v":{"$error":"#DIV/0!"}},{"$f":"AVERAGEIFS(資産推移!E:E,資産推移!A:A,\">=\"&A30,資産推移!A:A,\"<\"&A31)","v":{"$error":"#DIV/0!"}},null,{"$f":"IF(ISNA(VLOOKUP(A30,資産推移!A:I,7,FALSE)),IF(ISNA(VLOOKUP(A30-1,資産推移!A:I,7,FALSE)),IF(ISNA(VLOOKUP(A30-2,資産推移!A:I,7,FALSE)),VLOOKUP(A30-3,資産推移!A:I,7,FALSE),VLOOKUP(A30-2,資産推移!A:I,7,FALSE)),VLOOKUP(A30-1,資産推移!A:I,7,FALSE)),VLOOKUP(A30,資産推移!A:I,7,FALSE))","v":{"$error":"#N/A"}},{"$f":"AVERAGEIFS(資産推移!H:H,資産推移!A:A,\">=\"&A30,資産推移!A:A,\"<\"&A31)","v":{"$error":"#DIV/0!"}},{"$f":"AVERAGEIFS(資産推移!I:I,資産推移!A:A,\">=\"&A30,資産推移!A:A,\"<\"&A31)","v":{"$error":"#DIV/0!"}}]
["2024-01-01",{"$f":"AVERAGEIFS(資産推移!B:B,資産推移!A:A,\">=\"&A31,資産推移!A:A,\"<\"&A32)","v":{"$error":"#DIV/0!"}},{"$f":"AVERAGEIFS(資産推移!C:C,資産推移!A:A,\">=\"&A31,資産推移!A:A,\"<\"&A32)","v":{"$error":"#DIV/0!"}},{"$f":"AVERAGEIFS(資産推移!D:D,資産推移!A:A,\">=\"&A31,資産推移!A:A,\"<\"&A32)","v":{"$error":"#DIV/0!"}},{"$f":"AVERAGEIFS(資産推移!E:E,資産推移!A:A,\">=\"&A31,資産推移!A:A,\"<\"&A32)","v":{"$error":"#DIV/0!"}},null,{"$f":"IF(ISNA(VLOOKUP(A31,資産推移!A:I,7,FALSE)),IF(ISNA(VLOOKUP(A31-1,資産推移!A:I,7,FALSE)),IF(ISNA(VLOOKUP(A31-2,資産推移!A:I,7,FALSE)),VLOOKUP(A31-3,資産推移!A:I,7,FALSE),VLOOKUP(A31-2,資産推移!A:I,7,FALSE)),VLOOKUP(A31-1,資産推移!A:I,7,FALSE)),VLOOKUP(A31,資産推移!A:I,7,FALSE))","v":{"$error":"#N/A"}},{"$f":"AVERAGEIFS(資産推移!H:H,資産推移!A:A,\">=\"&A31,資産推移!A:A,\"<\"&A32)","v":{"$error":"#DIV/0!"}},{"$f":"AVERAGEIFS(資産推移!I:I,資産推移!A:A,\">=\"&A31,資産推移!A:A,\"<\"&A32)","v":{"$error":"#DIV/0!"}}]

{"sheet":"15年","index":3,"n_rows":113,"n_cols":32,"rows_kept":113,"cut":false,"hidden":false,"merged":[]}
["■入力",null,null,null,null,null,null,null,null,null,null,null,null,null,null,null,null,"■ソルバー",{"$f":"S7","v":0},{"$f":"T7","v":"リスク"},"リターン","国内債券","外国債券ﾍｯｼﾞ","外国債券","ゴールド","米国株","先進国株","日本株","新興国株","先進国RIET","J-RIET","計"]
[]
[null,null,"Weight（％）","σ（％）","リターン％","国内債券",null,null,null,null,null,null,null,null,null,null,null,null,"想定リスク上限（％）",0.25000000000000017]
[{"$f":"メイン!$D3*100","v":5.7291939184142793},"国内債券",{"$f":"メイン!$J37*100","v":4.3801184922054626},1.8,0.1,1,"外国債券ﾍｯｼﾞ",null,null,null,null,null,null,null,null,{"$f":"メイン!$J37*100","v":4.3801184922054626},{"$f":"P4/100*D4","v":7.8842132859698336E-2}]
[{"$f":"(メイン!$D4+メイン!$D6)*100","v":10.639931562769375},"外国債券ﾍｯｼﾞ",{"$f":"(メイン!$J38+メイン!$J40)*100","v":8.1208690710841971},9.1999999999999993,{"$f":"E4","v":0.1},0.52,1,"外国債券",null,null,null,null,null,null,null,{"$f":"(メイン!$J38+メイン!$J40)*100","v":8.1208690710841971},{"$f":"P5/100*D5","v":0.747119954539746},"■シミュレーション"]
[0,"外国債券",0,9.1999999999999993,{"$f":"E5","v":0.1},-0.18,-0.03,1,"ゴールド",null,null,null,null,null,null,0,0]
[{"$f":"メイン!$D7*100","v":0.50626161282011362},"ゴールド",{"$f":"メイン!$J41*100","v":1.3683712438731865},17,{"$f":"E6","v":0.1},0.22,0.22,-0.1,1,"米国株",null,null,null,null,null,{"$f":"メイン!$J41*100","v":1.3683712438731865},0.23262311145844172,null,null,"リスク","リターン","国内債券","外国債券ﾍｯｼﾞ","外国債券","ゴールド","米国株","先進国株","日本株","新興国株","先進国RIET","J-RIET","計"]
[{"$f":"メイン!$D8*100+メイン!$D9*100","v":3.9484191130348214},"米国株",{"$f":"メイン!$J42*100+メイン!$J43*100","v":4.6088494323718514},18.5,{"$f":"5+E7","v":5.0999999999999996},-0.34,-0.34,0.7,-0.09,1,"先進国株",null,null,null,null,{"$f":"メイン!$J42*100+メイン!$J43*100","v":4.6088494323718514},0.85263714498879251,null,{"$f":"U8/T8","v":0.7174215146299231},0.04,2.8696860585196923E-2,55.592834706025869,12.558162094306166,0,13.236936443086247,6.2183332724997618,8.4379407032495415,0,0,0,3.9557927808323976,{"$f":"SUM(V8:AE8)","v":99.999999999999986}]
[{"$f":"(メイン!$D10)*100","v":45.037569676920675},"先進国株",{"$f":"(メイン!$J44)*100","v":45.335061822771991},19.100000000000001,{"$f":"E8","v":5.0999999999999996},-0.34,-0.34,0.73,-0.09,0.98,1,"日本株",null,null,null,{"$f":"(メイン!$J44)*100","v":45.335061822771991},8.6589968081494497,null,{"$f":"U9/T9","v":0.71884513929869409},{"$f":"T8+0.002","v":4.2000000000000003E-2},3.0191495850545154E-2,47.692185659813489,20.747399227018843,0,12.448527612311402,19.111887500856266,0,0,0,0,0,100.00000000000001]
[{"$f":"(メイン!$D11+メイン!$D12+メイン!$D13)*100","v":22.08555524467128},"日本株",{"$f":"(メイン!$J46)*100+(メイン!$J45)*100","v":24.215800154657863},17.7,{"$f":"E9","v":5.0999999999999996},-0.35,-0.31,0.64,-0.21,0.8,0.82,1,"新興国株",null,null,{"$f":"(メイン!$J46)*100+(メイン!$J45)*100","v":24.215800154657863},4.2861966273744416,null,0.70411155489944643,4.4000000000000004E-2,3.0980908415575648E-2,45.519271836406617,20.928255318364702,0,13.53417362598195,20.018299219246725,0,0,0,0,0,100]
[{"$f":"メイン!$D14*100","v":7.8968382260696428},"新興国株",{"$f":"メイン!$J47*100","v":7.935770816531444},23.7,{"$f":"E10","v":5.0999999999999996},-0.28999999999999998,-0.28999999999999998,0.64,-0.09,0.8,0.87,0.73,1,"先進国RIET",null,{"$f":"メイン!$J47*100","v":7.935770816531444},1.8807776835179522,null,0.69038317903554103,4.6000000000000006E-2,3.1757626235634891E-2,43.162719834732975,21.301598778142942,0,14.436578293711058,20.615790596340517,0,0,0,0,0.48331249707249624,99.999999999999986]
[{"$f":"メイン!$D15*100","v":3.117172983974859},"先進国RIET",{"$f":"メイン!$J48*100","v":3.0367418348046273},21.8,{"$f":"E11","v":5.0999999999999996},-0.1,-0.03,0.51,0.1,0.77,0.76,0.61,0.61,1,"J-RIET",{"$f":"メイン!$J48*100","v":3.0367418348046273},0.66200971998740876,null,0.67768806317156705,4.8000000000000008E-2,3.2529027032235223E-2,40.727011618046895,21.822234155553772,0,15.359259237162957,21.20623324158182,0,0,0,0,0.88526174765455967,99.999999999999986]
[{"$f":"メイン!$D16*100","v":1.0390576613249529},"J-RIET",{"$f":"メイン!$J49*100","v":0.9984171316993864},18.2,{"$f":"E12","v":5.0999999999999996},0.34200000000000003,0.34,0.246,0.1,0.32700000000000001,0.32700000000000001,0.55400000000000005,0.315,0.32600000000000001,1,{"$f":"メイン!$J49*100","v":0.9984171316993864},0.18171191796928832,null,0.66595400031202967,5.000000000000001E-2,3.3297700015601492E-2,38.075283585623779,22.690651803567889,0,16.313916200677014,21.7928256189664,0,0,0,0,1.1273227911649271,100.00000000000001]
[null,"合計",{"$f":"SUM(C4:C13)","v":100.00000000000001},null,null,null,null,null,null,null,null,null,null,null,null,null,null,null,0.65524682370845433,5.2000000000000011E-2,3.4072834832839634E-2,34.524647117852311,25.019307109580105,0,16.821485077489985,22.96213105655454,0,0,0,0,0.67242963852305426,100]
[null,null,null,null,null,null,null,null,null,null,null,null,null,null,null,null,null,null,0.64516081816263737,5.4000000000000013E-2,3.4838684180782425E-2,32.118848175958561,25.490636414921646,0,17.478573044853967,23.62052333567544,0,0,0,0,1.2914190285903826,100]
["■リターンの算出",null,null,null,null,null,null,null,null,null,null,null,null,null,null,null,null,null,0.63570776579374311,5.6000000000000015E-2,3.5599634884449623E-2,29.681114963339308,26.038450665504914,0,18.331404187594867,24.181483164251123,0,0,0,0,1.7675470193097806,99.999999999999986]
[null,null,null,null,null,null,"15年",null,"15年",null,null,null,null,null,null,null,null,null,0.6269532680477421,5.8000000000000017E-2,3.6363289546769054E-2,26.730191925208953,27.543355211635532,0,19.059217326835832,25.3345477014594,0,0,0,0,1.3326878348602689,99.999999999999986]
[null,null,"リターン","リターン×Weight",null,null,"リスク",null,"単利リターン",null,null,null,"実質コスト",null,"リターン",null,null,null,0.61870558942006026,6.0000000000000019E-2,3.7122335365203631E-2,24.23976636436144,28.107638296386433,0,19.851288545247392,25.725515182134483,0,0,0,0,2.0757916118702444,99.999999999999986]
[null,"国内債券",{"$f":"E4/100","v":1E-3},{"$f":"C19*C4/100","v":4.3801184922054628E-5},null,"国内債券",1.8,null,1.9,{"$f":"I19*15","v":28.5},15,{"$f":"(((100+J19)/100) ^(1/K19) -1)*100","v":1.6857762994905157},0.123,{"$f":"M19*1.1","v":0.1353},{"$f":"L19-N19","v":1.5504762994905157},"国内債券",null,null,0.61107694720498484,6.200000000000002E-2,3.7886770726709075E-2,20.476994931787864,30.772243812230347,0,20.205677582210171,26.875234278315698,0,0,0,0,1.6698493954559266,100.00000000000001]
[null,"外国債券ﾍｯｼﾞ",{"$f":"E5/100","v":1E-3},{"$f":"C20*C5/100","v":8.1208690710841969E-5},null,"外国債券ﾍｯｼﾞ",9.1999999999999993,null,3.6,{"$f":"I20*15","v":54},15,{"$f":"(((100+J20)/100) ^(1/K20) -1)*100","v":2.9203800845620576},0.217,{"$f":"M20*1.1","v":0.23870000000000002},{"$f":"L20-N20","v":2.6816800845620574},"外国債券ﾍｯｼﾞ",null,null,0.603804366781866,6.4000000000000015E-2,3.8643479474039434E-2,18.154982914226284,31.143110095851142,0,21.016031021250729,27.404296350901934,0,0,0,0,2.281579617769935,100.00000000000001]
[null,"外国債券",1E-3,0,null,"外国債券",9.1999999999999993,null,3.6,54,15,2.9203800845620576,0.152,{"$f":"M21*1.1","v":0.16720000000000002},2.7531800845620573,"外国債券",null,null,0.59693083997410701,6.6000000000000017E-2,3.9397435438291072E-2,15.706211178043333,31.731914412733069,0,21.932175230289534,27.905523530314763,0,0,0,0,2.7241756486193074,100.00000000000001]
[null,"ゴールド",1E-3,1.3683712438731866E-5,null,"ゴールド",17,null,8.6999999999999993,130.5,15,5.7250896258813189,null,0.46500000000000002,5.260089625881319,"ゴールド",null,null,0.59047856642125074,6.8000000000000019E-2,4.0152542516645059E-2,12.837439663189723,33.194246380305124,0,22.471548355369823,29.286278007138858,0,0,0,0,2.2104875939964774,100]
[null,"米国株",5.0999999999999997E-2,2.3505132105096443E-3,null,"米国株",18.5,null,8.8000000000000007,132,15,5.7708186305330145,null,0.18,5.5908186305330148,"米国株",null,null,0.58438010293990716,7.0000000000000021E-2,4.0906607205793512E-2,10.374712519032235,33.703822071033102,0,23.390801275637756,29.50515395199389,0,0,0,0,3.025510182303,99.999999999999986]
[null,"先進国株",5.0999999999999997E-2,2.3120881529613713E-2,null,"先進国株",19.100000000000001,null,7.9,118.5,15,5.3489220265011683,0.16400000000000001,{"$f":"M24*1.1","v":0.18040000000000003},5.1685220265011687,"先進国株",null,null,0.57859448130668423,7.2000000000000022E-2,4.1658802654081277E-2,7.5018843148344745,34.914647148782905,0,24.242599203342447,29.947737152734568,0,0,0,0,3.3931321803056114,100.00000000000001]
[null,"日本株",5.0999999999999997E-2,1.2350058078875509E-2,null,"日本株",17.7,null,4.5,67.5,15,3.4985631851408128,0.14399999999999999,{"$f":"M25*1.1","v":0.15840000000000001},3.3401631851408129,"日本株",null,null,0.57310345908792348,7.4000000000000024E-2,4.2409655972506351E-2,5.2403027852812043,35.366209932296172,0,24.646553230890486,31.116065710640303,0,0,0,0,3.6308683408918285,99.999999999999986]
[null,"新興国株",5.0999999999999997E-2,4.0472431164310365E-3,null,"新興国株",23.7,null,8,120,15,5.3969828527838049,0.33500000000000002,{"$f":"M26*1.1","v":0.36850000000000005},5.0284828527838048,"新興国株",null,null,0.56786861458936544,7.6000000000000026E-2,4.3158014708791791E-2,2.7185654193399311,36.03062853897562,0,25.699529710145324,31.365920938205853,0,0,0,0,4.1853553933332526,99.999999999999972]
[null,"先進国RIET",5.0999999999999997E-2,1.5487383357503598E-3,null,"先進国RIET",21.8,null,7.8,117,15,5.3005522667772587,0.46400000000000002,{"$f":"M27*1.1","v":0.51040000000000008},4.7901522667772589,"先進国RIET",null,null,0.56295655270814438,7.8000000000000028E-2,4.3910611111235273E-2,0,37.217224260467312,0,26.27292624094693,32.564671950232622,0,0,0,0,3.9451775483531675,100.00000000000003]
[null,"J-RIET",5.0999999999999997E-2,5.0919273716668707E-4,null,"J-RIET",18.2,null,7.3,109.5,15,5.0539214764502072,0.20699999999999999,{"$f":"M28*1.1","v":0.22770000000000001},4.8262214764502076,"J-RIET",null,null,0.55768119054861032,8.0000000000000029E-2,4.4614495243888844E-2,0,34.356899379231734,0,27.765197991123408,32.901198237843417,0,0,0,0,4.9767043918014249,99.999999999999986]
[null,"合計",null,{"$f":"SUM(D19:D28)","v":4.4065320596418579E-2},null,null,null,null,null,null,null,null,null,null,null,null,null,null,0.55224723183505808,8.2000000000000031E-2,4.5284273010474781E-2,0,31.638329953943643,0,29.136299543364213,33.258007980068996,0,0,0,0,5.9673625226231293,99.999999999999986]
[null,null,null,null,null,null,null,null,null,null,null,null,null,null,null,null,null,null,0.54674371940882693,8.4000000000000033E-2,4.5926472430341481E-2,0,29.026664083692545,0,30.456963110683017,33.582590381184197,0,0,0,0,6.9337824244402491,100.00000000000001]
[null,"リターン（％）",{"$f":"D29","v":4.4065320596418579E-2},null,null,null,null,null,null,null,null,null,null,null,null,null,null,null,0.54123090598172208,8.6000000000000035E-2,4.654585791442812E-2,0,26.506543261019733,0,31.727300169178093,33.894117352073962,0,0,0,0,7.8720392177282177,100]
[null,null,null,null,null,null,null,null,null,null,null,null,null,null,null,null,null,null,0.53575042520611194,8.8000000000000037E-2,4.7146037418137873E-2,0,24.065681953882518,0,32.950429448557095,34.203548395416263,0,0,0,0,8.7803402021441403,100.00000000000003]
[null,null,null,null,null,null,null,null,null,null,null,null,null,null,null,null,null,null,0.53033126346312864,9.0000000000000038E-2,4.7729813711681598E-2,0,21.69172386287617,0,34.138831274945943,34.505801476318354,0,0,0,0,9.6636433858595492,100.00000000000001]
["■リスクの算出",null,null,null,null,null,null,null,null,null,null,null,null,null,null,null,null,null,0.52499359199964801,9.200000000000004E-2,4.8299410463967636E-2,0,19.378114947097338,0,35.288617155253625,34.813783221924936,0,0,0,0,10.519484675724071,99.999999999999972]
[null,null,null,null,null,null,null,null,null,null,null,null,null,null,null,null,null,null,0.51975142557131937,9.4000000000000042E-2,4.8856634003704047E-2,0,17.11028924620792,0,36.431546630864283,35.09224177303058,0,0,0,0,11.365922349897216,100]
["　　●前半部分（相関係数を含まない項）",null,null,null,null,null,null,null,null,null,null,null,null,null,null,null,null,null,0.51461411348799446,9.6000000000000044E-2,4.9402954894847494E-2,0,14.89187601076145,0,37.531988045978594,35.390808700928496,0,0,0,0,12.18532724233145,100]
[null,null,"Weight","Weight2乗","σ","σ2乗","Weight2乗×σ2乗",null,null,null,null,null,null,null,null,null,null,null,0.50958791060087738,9.8000000000000045E-2,4.9939615238886008E-2,0,12.702175634245956,0,38.653704043778184,35.63148904086885,0,0,0,0,13.012631281106996,99.999999999999972]
[null,"国内債券",{"$f":"C4/100","v":4.3801184922054627E-2},{"$f":"C38^2","v":1.9185438005760256E-3},{"$f":"D4/100","v":1.8000000000000002E-2},{"$f":"E38^2","v":3.2400000000000007E-4},{"$f":"F38*D38","v":6.2160819138663239E-7},null,null,null,null,null,null,null,null,null,null,null,0.50467639998028502,0.10000000000000005,5.0467639998028523E-2,0,10.554513609732059,0,39.725792485927883,35.905296567523628,0,0,0,0,13.814397336816436,100.00000000000001]
[null,"外国債券ﾍｯｼﾞ",{"$f":"C5/100","v":8.1208690710841969E-2},6.5948514469691905E-3,{"$f":"D5/100","v":9.1999999999999998E-2},8.4639999999999993E-3,{"$f":"F39*D39","v":5.5818822647147221E-5},null,null,null,null,null,null,null,null,null,null,null,0.4998814025014427,0.10200000000000005,5.098790305514718E-2,0,8.4381409679838946,0,40.787610213984593,36.171178995292571,0,0,0,0,14.603069822738952,100]
[null,"外国債券",0,0,9.1999999999999998E-2,8.4639999999999993E-3,0,null,null,null,null,null,null,null,null,null,null,null,0.49520344697303637,0.10400000000000005,5.1501158485195805E-2,0,6.3484406154824136,0,41.842079756472444,36.424390307732118,0,0,0,0,15.385089320313057,{"$f":"SUM(V40:AE40)","v":100.00000000000003}]
[null,"ゴールド",1.3683712438731866E-2,1.8724398610590518E-4,0.17,2.8900000000000006E-2,5.4113511984606603E-6,null,null,null,null,null,null,null,null,null,null,null,0.49064150843820509,{"$f":"T40+0.002","v":0.10600000000000005},5.2007999894449763E-2,0,4.3101843286113564,0,42.789475316263839,36.798763084604296,0,0,0,0,16.101577270520515,100]
[null,"米国株",4.6088494323718511E-2,2.1241493090274335E-3,0.185,3.4224999999999998E-2,7.2699010101463912E-5,null,null,null,null,null,null,null,null,null,null,null,0.48619595659010428,0.10800000000000005,5.2509163311731291E-2,0,2.2498927319632429,0,43.90557870405857,36.941337317879565,0,0,0,0,16.903191246098626,100]
[null,"先進国株",0.45335061822771988,0.20552678304745584,0.191,3.6481E-2,7.4978225723542364E-3,null,null,null,null,null,null,null,null,null,null,null,0.48186345118157758,0.11000000000000006,5.300497962997356E-2,0,0.23086480295197181,0,44.918632959157378,37.188189194503828,0,0,0,0,17.66231304338681,99.999999999999972]
[null,"日本株",0.24215800154657863,5.8640497713032778E-2,0.17699999999999999,3.1328999999999996E-2,1.8371481528516036E-3,null,null,null,null,null,null,null,null,null,null,null,0.47679390633813379,0.11200000000000006,5.3400917509871013E-2,0,0,0,45.520498762310091,41.377518508365192,0,0,0,0,13.10198272932471,100]
[null,"新興国株",7.9357708165314442E-2,6.2976458452512147E-3,0.23699999999999999,5.6168999999999997E-2,3.5373246948191547E-4,null,null,null,null,null,null,null,null,null,null,null,0.47086225454525915,0.11400000000000006,5.3678297018159571E-2,0,0,0,45.943838482528207,44.765082074437977,0,0,0,0,9.2910794430338157,100]
[null,"先進国RIET",3.0367418348046273E-2,9.2218009712525736E-4,0.218,4.7523999999999997E-2,4.3825686935780727E-5,null,null,null,null,null,null,null,null,null,null,null,0.46471187943118408,0.11600000000000006,5.3906578014017381E-2,0,0,0,46.253019248297875,47.575275992137605,0,0,0,0,6.1717047595645118,99.999999999999986]
[null,"J-RIET",9.9841713169938635E-3,9.9683676887082979E-5,0.182,3.3124000000000001E-2,3.3019221132077367E-6,null,null,null,null,null,null,null,null,null,null,null,0.4585291668758088,0.11800000000000006,5.4106441691345465E-2,0,0,0,46.608550856026518,49.987504343659097,0,0,0,0,3.4039448003143882,100.00000000000001]
[null,"合計",null,null,null,null,{"$f":"SUM(G38:G47)","v":9.8703815958752026E-3},"← (σa)*(σa)*(Wa)*(Wa)+(σb)*(σb)*(Wb)*(Wb)+…",null,null,null,null,null,null,null,null,null,null,0.45239420108319772,0.12000000000000006,5.4287304129983754E-2,0,0,0,46.898325312920569,52.188533303852736,0,0,0,0,0.91314138322670335,100]
[null,null,null,null,null,null,null,null,null,null,null,null,null,null,null,null,null,null,0.4462354631506204,0.12200000000000007,5.4440726504375717E-2,0,0,0,44.370459811949942,55.629540188050058,0,0,0,0,0,100]
[null,null,null,null,null,null,null,null,null,null,null,null,null,null,null,null,null,null,0.43989734501782424,0.12400000000000007,5.4547270782210236E-2,0,0,0,41.148961959146902,58.851038040853098,0,0,0,0,0,100]
["　　●後半部分（相関係数を含む項）",null,null,null,null,null,null,null,null,null,null,null,null,null,null,null,null,null,0.43359488731422147,0.12600000000000006,5.4632955801591929E-2,0,0,0,38.558169552779859,61.441830447220141,0,0,0,0,0,100]
[null,null,null,null,"国内債券","外国債券ﾍｯｼﾞ","外国債券","ゴールド","米国株","先進国株","日本株","新興国株","先進国RIET","J-RIET",null,null,null,null,0.42740048566565075,0.12800000000000006,5.4707262165203323E-2,0,0,0,36.31142485950302,63.68857514049698,0,0,0,0,0,100]
[null,null,"σ",null,{"$f":"E38","v":1.8000000000000002E-2},{"$f":"E39","v":9.1999999999999998E-2},{"$f":"E40","v":9.1999999999999998E-2},{"$f":"E41","v":0.17},{"$f":"E42","v":0.185},{"$f":"E43","v":0.191},{"$f":"E44","v":0.17699999999999999},{"$f":"E45","v":0.23699999999999999},{"$f":"E46","v":0.218},{"$f":"E47","v":0.182},null,null,null,null,0.42133902092548847,0.13000000000000006,5.4774072720313524E-2,0,0,0,34.291325195714379,65.708674804285621,0,0,0,0,0,100]
[null,null,null,"Weight",{"$f":"C38","v":4.3801184922054627E-2},{"$f":"C39","v":8.1208690710841969E-2},{"$f":"C40","v":0},{"$f":"C41","v":1.3683712438731866E-2},{"$f":"C42","v":4.6088494323718511E-2},{"$f":"C43","v":0.45335061822771988},{"$f":"C44","v":0.24215800154657863},{"$f":"C45","v":7.9357708165314442E-2},{"$f":"C46","v":3.0367418348046273E-2},{"$f":"C47","v":9.9841713169938635E-3},null,null,null,null,0.41542047738720006,0.13200000000000006,5.4835503015110434E-2,0,0,0,32.433904348649321,67.566095651350679,0,0,0,0,0,100]
[null,"国内債券",{"$f":"E38","v":1.8000000000000002E-2},{"$f":"C38","v":4.3801184922054627E-2},null,null,null,null,null,null,null,null,null,null,null,null,null,null,0.40964812183163107,0.13400000000000006,5.4892848325438587E-2,0,0,0,30.699998053114705,69.300001946885303,0,0,0,0,0,100]
[null,"外国債券ﾍｯｼﾞ",{"$f":"E39","v":9.1999999999999998E-2},{"$f":"C39","v":8.1208690710841969E-2},{"$f":"F5*$C56*$D56*E$53*E$54","v":3.063035597333631E-6},null,null,null,null,null,null,null,null,null,null,null,null,null,0.40402181014078875,0.13600000000000007,5.4946966179147294E-2,0,0,0,29.063677895295317,70.936322104704686,0,0,0,0,0,100]
[null,"外国債券",9.1999999999999998E-2,0,{"$f":"F6*$C57*$D57*E$53*E$54","v":0},0,null,null,null,null,null,null,null,null,null,null,null,null,0.39853955108946865,0.13800000000000007,5.4998458050346699E-2,0,0,0,27.50675756247988,72.493242437520124,0,0,0,0,0,100]
[null,"ゴールド",0.17,1.3683712438731866E-2,4.0349104971654325E-7,3.8235421060699564E-6,0,null,null,null,null,null,null,null,null,null,null,null,0.39319831824902407,0.14000000000000007,5.5047764554863397E-2,0,0,0,26.015914490865388,73.984085509134616,0,0,0,0,0,100]
[null,"米国株",0.185,4.6088494323718511E-2,-2.2856068562548884E-6,-2.1658755650099464E-5,0,-1.7850879505110188E-6,null,null,null,null,null,null,null,null,null,null,0.38799450393348545,0.14200000000000007,5.509521955855496E-2,0,0,0,24.581053833828562,75.418946166171438,0,0,0,0,0,100]
[null,"先進国株",0.191,0.45335061822771988,-2.3211588410513976E-5,-2.1995651625659045E-4,0,-1.8128545016583964E-5,7.235322670628261E-4,null,null,null,null,null,null,null,null,null,0.38292418723883687,0.14400000000000007,5.5141082962392535E-2,0,0,0,23.194317164455565,76.805682835544431,0,0,0,0,0,100]
[null,"日本株",0.17699999999999999,0.24215800154657863,-1.1827650938538632E-5,-9.9271393911164584E-5,0,-2.0938436311432955E-5,2.9236563641801079E-4,3.0433613590739703E-3,null,null,null,null,null,null,null,null,0.37798329866285085,0.14600000000000007,5.5185561604776251E-2,0,0,0,21.849450468214048,78.150549531785956,0,0,0,0,0,100]
[null,"新興国株",0.23699999999999999,7.9357708165314442E-2,-4.3002511961008627E-6,-4.0749829584869731E-5,0,-3.9376112103139172E-6,1.2828967315467051E-4,1.4168513723825976E-3,5.8848095636731071E-4,null,null,null,null,null,null,null,0.37316772399158127,0.14800000000000008,5.5228823150754058E-2,0,0,0,20.541384185265379,79.458615814734628,0,0,0,0,0,100]
[null,"先進国RIET",0.218,3.0367418348046273E-2,-5.2194258297658973E-7,-1.4838020157055885E-6,0,1.5399876087920279E-6,4.346296397557685E-5,4.3565784397745107E-4,1.7308773357504692E-4,7.5950679565081483E-5,null,null,null,null,null,null,0.3684733709545146,0.15000000000000008,5.5271005643177218E-2,0,0,0,19.265944419479297,80.734055580520703,0,0,0,0,0,100]
[null,"J-RIET",0.182,9.9841713169938635E-3,4.8996818711240305E-7,4.6158603963465221E-6,0,4.2270391747096976E-7,5.0663526219921325E-6,5.1451583408750176E-5,4.3148456751435245E-5,1.076543118459529E-5,3.9216188234230879E-6,null,null,null,null,null,0.36389621225753915,0.15200000000000008,5.5312224263145977E-2,0,0,0,18.01964852800873,81.98035147199127,0,0,0,0,0,100]
[null,"合計",null,{"$f":"SUM(D55:D64)","v":1},null,null,null,null,null,null,null,null,null,{"$f":"SUM(E55:N64)","v":6.5796954993139218E-3},"←(Pab)*(σa)*(σb)*(Wa)*(Wb)+(Pac)*(σa)*(σc)*(Wa)*(Wc)+…",null,null,null,0.35943243664678315,0.15400000000000008,5.5352595243604634E-2,0,0,0,16.798982064201777,83.20101793579822,0,0,0,0,0,100]
[null,null,null,null,null,null,null,null,null,null,null,null,null,{"$f":"2*N65","v":1.3159390998627844E-2},"←2*{(Pab)*(σa)*(σb)*(Wa)*(Wb)+(Pac)*(σa)*(σc)*(Wa)*(Wc)+…}",null,null,null,0.35507795604814818,0.15600000000000008,5.539216114351115E-2,0,0,0,15.602658205391908,84.397341794608081,0,0,0,0,0,99.999999999999986]
[null,null,null,null,null,null,null,null,null,null,null,null,null,null,null,null,null,null,0.35082920882648039,0.15800000000000008,5.543101499458393E-2,0,0,0,14.427864022653305,85.57213597734669,0,0,0,0,0,100]
[null,"分散",{"$f":"G48+N66","v":2.3029772594503048E-2},"← (σa)*(σa)*(Wa)*(Wa)+(σb)*(σb)*(Wb)*(Wb)+…+2*{(Pab)*(σa)*(σb)*(Wa)*(Wb)+(Pac)*(σa)*(σc)*(Wa)*(Wc)+…}",null,null,null,null,null,null,null,null,null,null,null,null,null,null,0.34668261604827455,0.16000000000000009,5.5469218567723959E-2,0,0,0,13.272731796489376,86.727268203510619,0,0,0,0,0,100]
[null,"標準偏差（σ）",{"$f":"SQRT(C68)","v":0.15175563447365981},"←√分散",null,null,null,null,null,null,null,null,null,null,null,null,null,null,0.34263472737796691,0.16200000000000009,5.5506825835230672E-2,0,0,0,12.13562960775595,87.864370392244041,0,0,0,0,0,99.999999999999986]
[null,"リスク（％）",{"$f":"C69","v":0.15175563447365981},{"$f":"C70*1.1","v":0.16693119792102579},null,null,null,null,null,null,null,null,null,null,null,null,null,null,0.33868222100604883,0.16400000000000009,5.5543884244992042E-2,0,0,0,11.015122810947963,88.984877189052028,0,0,0,0,0,99.999999999999986]
[null,null,null,null,null,null,null,null,null,null,null,null,null,null,null,null,null,null,0.33482190211874258,0.16600000000000009,5.5580435751711302E-2,0,0,0,9.9099428537880527,90.090057146211947,0,0,0,0,0,100]
[null,null,null,null,null,null,null,null,null,null,null,null,null,null,null,null,null,null,0.3310507002890522,0.16800000000000009,5.56165176485608E-2,0,0,0,8.8189621311416602,91.18103786885834,0,0,0,0,0,{"$f":"SUM(V72:AE72)","v":100}]
[null,null,null,null,null,null,null,null,null,null,null,null,null,null,null,null,null,null,{"$f":"U73/T73","v":0.32736566614794477},{"$f":"T72+0.002","v":0.1700000000000001},5.565216324515064E-2,0,0,0,7.7411734858010499,92.258826514198944,0,0,0,0,0,100]
["本スプレッドシートは個人の非商用に限り自由にご利用いただけます。",null,null,null,null,null,null,null,null,null,null,null,null,null,null,null,null,null,0.32376396758592985,0.1720000000000001,5.5687402424779965E-2,0,0,0,6.6756733593017445,93.324326640698246,0,0,0,0,0,99.999999999999986]
["ただし、再配布はご遠慮ください。",null,null,null,null,null,null,null,null,null,null,null,null,null,null,null,null,null,0.32024288566560632,0.1740000000000001,5.5722262105815532E-2,0,0,0,5.6216478415741706,94.378352158425827,0,0,0,0,0,100]
["なお、作者は本スプレッドシートに関する一切の責任を負わないものとします。",null,null,null,null,null,null,null,null,null,null,null,null,null,null,null,null,null,0.31679981038264016,0.1760000000000001,5.5756766627344696E-2,0,0,0,4.5783610102454313,95.421638989754584,0,0,0,0,0,100.00000000000001]
[null,null,null,null,null,null,null,null,null,null,null,null,null,null,null,null,null,null,0.31343223636453732,0.1780000000000001,5.5790938072887673E-2,0,0,0,3.5451451428019096,96.454854857198086,0,0,0,0,0,100]
["Copyright© 初心者が失敗しない株式投資入門（雑司が谷の愚人） All Rights Reserved. ",null,null,null,null,null,null,null,null,null,null,null,null,null,null,null,null,null,0.31013775857894649,0.1800000000000001,5.5824796544210402E-2,0,0,0,2.521392437520718,97.478607562479283,0,0,0,0,0,100]
[null,null,null,null,null,null,null,null,null,null,null,null,null,null,null,null,null,null,0.30691406810210387,0.18200000000000011,5.5858360394582939E-2,0,0,0,1.5065479606082532,98.493452039391741,0,0,0,0,0,100]
[null,null,null,null,null,null,"モルガン",null,null,null,null,"モルガン",null,null,null,null,null,null,0.30375894797703679,0.18400000000000011,5.5891646427774805E-2,0,0,0,0.50010362933755426,99.499896370662455,0,0,0,0,0,100.00000000000001]
[null,null,null,null,null,null,"リスク","リターン","単利リターン",null,null,"リターン","実質コスト",null,"リターン",null,null,null,0.3005816468028501,0.18600000000000011,5.5908186305330156E-2,0,0,0,0,100.00000000000001,0,0,0,0,0,100.00000000000001]
[null,null,null,null,null,"国内債券",2,null,null,null,null,0.75,0.123,{"$f":"M82*1.1","v":0.1353},{"$f":"L82-N82","v":0.61470000000000002},"国内債券",null,null,0.29738396970920278,0.18800000000000011,5.5908186305330156E-2,0,0,0,0,100.00000000000001,0,0,0,0,0,100.00000000000001]
[null,null,null,null,null,"外国債券ﾍｯｼﾞ",3.5,null,null,null,null,1,0.217,{"$f":"M83*1.1","v":0.23870000000000002},{"$f":"L83-N83","v":0.76129999999999998},"外国債券ﾍｯｼﾞ",null,null,0.29425361213331641,0.19000000000000011,5.5908186305330156E-2,0,0,0,0,100.00000000000001,0,0,0,0,0,100.00000000000001]
[null,null,null,null,null,"外国債券",9.5,null,null,null,null,1.25,0.152,{"$f":"M84*1.1","v":0.16720000000000002},1.0828,"外国債券",null,null,0.29118847034026107,0.19200000000000012,5.5908186305330156E-2,0,0,0,0,100.00000000000001,0,0,0,0,0,100.00000000000001]
[null,null,null,null,null,"ゴールド",15.5,null,null,null,null,0.75,null,0.46500000000000002,0.28499999999999998,"ゴールド",null,null,0.28818652734706246,0.19400000000000012,5.5908186305330156E-2,0,0,0,0,100.00000000000001,0,0,0,0,0,100.00000000000001]
[null,null,null,null,null,"米国株",18.25,null,null,null,null,3.5,null,0.18,3.32,"米国株",null,null,0.28524584849658224,0.19600000000000012,5.5908186305330156E-2,0,0,0,0,100.00000000000001,0,0,0,0,0,100.00000000000001]
[null,null,null,null,null,"先進国株",19.25,null,null,null,null,4,0.16400000000000001,{"$f":"M87*1.1","v":0.18040000000000003},3.8195999999999999,"先進国株",null,null,0.28236457729964709,0.19800000000000012,5.5908186305330156E-2,0,0,0,0,100.00000000000001,0,0,0,0,0,100.00000000000001]
[null,null,null,null,null,"日本株",18,null,null,null,null,5,0.14399999999999999,{"$f":"M88*1.1","v":0.15840000000000001},4.8415999999999997,"日本株",null,null,0.2795409315266506,0.20000000000000012,5.5908186305330156E-2,0,0,0,0,100.00000000000001,0,0,0,0,0,100.00000000000001]
[null,null,null,null,null,"新興国株",23,null,null,null,null,6.75,0.33500000000000002,{"$f":"M89*1.1","v":0.36850000000000005},6.3815,"新興国株",null,null,0.27677319953133722,0.20200000000000012,5.5908186305330156E-2,0,0,0,0,100.00000000000001,0,0,0,0,0,100.00000000000001]
[null,null,null,null,null,"先進国RIET",17.5,null,null,null,null,4.5,0.46400000000000002,{"$f":"M90*1.1","v":0.51040000000000008},3.9895999999999998,"先進国RIET",null,null,0.27405973679083395,0.20400000000000013,5.5908186305330156E-2,0,0,0,0,100.00000000000001,0,0,0,0,0,100.00000000000001]
[null,null,null,null,null,"J-RIET",17.5,null,null,null,null,4.5,0.20699999999999999,{"$f":"M91*1.1","v":0.22770000000000001},4.2722999999999995,"J-RIET",null,null,0.27139896264723362,0.20600000000000013,5.5908186305330156E-2,0,0,0,0,100.00000000000001,0,0,0,0,0,100.00000000000001]
[null,null,null,null,null,null,null,null,null,null,null,null,null,null,null,null,null,null,0.26878935723716402,0.20800000000000013,5.5908186305330156E-2,0,0,0,0,100.00000000000001,0,0,0,0,0,100.00000000000001]
[null,null,null,null,null,null,null,null,null,null,null,null,null,null,null,null,null,null,0.26622945859681008,0.21000000000000013,5.5908186305330156E-2,0,0,0,0,100.00000000000001,0,0,0,0,0,100.00000000000001]
[null,null,null,null,null,null,null,null,null,null,null,null,null,null,null,null,null,null,0.26371785993080243,0.21200000000000013,5.5908186305330156E-2,0,0,0,0,100.00000000000001,0,0,0,0,0,100.00000000000001]
[null,null,null,null,null,null,null,null,null,null,null,null,null,null,null,null,null,null,0.26125320703425292,0.21400000000000013,5.5908186305330156E-2,0,0,0,0,100.00000000000001,0,0,0,0,0,100.00000000000001]
[null,null,null,null,null,null,null,null,null,null,null,null,null,null,null,null,null,null,0.25883419585800982,0.21600000000000014,5.5908186305330156E-2,0,0,0,0,100.00000000000001,0,0,0,0,0,100.00000000000001]
[null,null,null,null,null,null,null,null,null,null,null,null,null,null,null,null,null,null,0.2564595702079363,0.21800000000000014,5.5908186305330156E-2,0,0,0,0,100.00000000000001,0,0,0,0,0,100.00000000000001]
[null,null,null,null,null,null,null,null,null,null,null,null,null,null,null,null,null,null,0.25412811956968234,0.22000000000000014,5.5908186305330156E-2,0,0,0,0,100.00000000000001,0,0,0,0,0,100.00000000000001]
[null,null,null,null,null,null,null,null,null,null,null,null,null,null,null,null,null,null,0.25183867705103657,0.22200000000000014,5.5908186305330156E-2,0,0,0,0,100.00000000000001,0,0,0,0,0,100.00000000000001]
[null,null,null,null,null,null,null,null,null,null,null,null,null,null,null,null,null,null,0.24959011743450946,0.22400000000000014,5.5908186305330156E-2,0,0,0,0,100.00000000000001,0,0,0,0,0,100.00000000000001]
[null,null,null,null,null,null,null,null,null,null,null,null,null,null,null,null,null,null,0.24738135533331912,0.22600000000000015,5.5908186305330156E-2,0,0,0,0,100.00000000000001,0,0,0,0,0,100.00000000000001]
[null,null,null,null,null,null,null,null,null,null,null,null,null,null,null,null,null,null,0.24521134344443035,0.22800000000000015,5.5908186305330156E-2,0,0,0,0,100.00000000000001,0,0,0,0,0,100.00000000000001]
[null,null,null,null,null,null,null,null,null,null,null,null,null,null,null,null,null,null,0.24307907089273964,0.23000000000000015,5.5908186305330156E-2,0,0,0,0,100.00000000000001,0,0,0,0,0,100.00000000000001]
[null,null,null,null,null,null,null,null,null,null,null,null,null,null,null,null,null,null,0.24098356166090568,0.23200000000000015,5.5908186305330156E-2,0,0,0,0,100.00000000000001,0,0,0,0,0,{"$f":"SUM(V104:AE104)","v":100.00000000000001}]
[null,null,null,null,null,null,null,null,null,null,null,null,null,null,null,null,null,null,0.23892387309970137,{"$f":"T104+0.002","v":0.23400000000000015},5.5908186305330156E-2,0,0,0,0,100.00000000000001,0,0,0,0,0,100.00000000000001]
[null,null,null,null,null,null,null,null,null,null,null,null,null,null,null,null,null,null,0.23689909451411068,0.23600000000000015,5.5908186305330156E-2,0,0,0,0,100.00000000000001,0,0,0,0,0,100.00000000000001]
[null,null,null,null,null,null,null,null,null,null,null,null,null,null,null,null,null,null,0.23490834582071479,0.23800000000000016,5.5908186305330156E-2,0,0,0,0,100.00000000000001,0,0,0,0,0,100.00000000000001]
[null,null,null,null,null,null,null,null,null,null,null,null,null,null,null,null,null,null,0.23295077627220884,0.24000000000000016,5.5908186305330156E-2,0,0,0,0,100.00000000000001,0,0,0,0,0,100.00000000000001]
[null,null,null,null,null,null,null,null,null,null,null,null,null,null,null,null,null,null,0.23102556324516579,0.24200000000000016,5.5908186305330156E-2,0,0,0,0,100.00000000000001,0,0,0,0,0,100.00000000000001]
[null,null,null,null,null,null,null,null,null,null,null,null,null,null,null,null,null,null,0.22913191108741851,0.24400000000000016,5.5908186305330156E-2,0,0,0,0,100.00000000000001,0,0,0,0,0,100.00000000000001]
[null,null,null,null,null,null,null,null,null,null,null,null,null,null,null,null,null,null,0.22726905002166714,0.24600000000000016,5.5908186305330156E-2,0,0,0,0,100.00000000000001,0,0,0,0,0,100.00000000000001]
[null,null,null,null,null,null,null,null,null,null,null,null,null,null,null,null,null,null,0.22543623510213756,0.24800000000000016,5.5908186305330156E-2,0,0,0,0,100.00000000000001,0,0,0,0,0,100.00000000000001]
[null,null,null,null,null,null,null,null,null,null,null,null,null,null,null,null,null,null,0.22363274522132048,0.25000000000000017,5.5908186305330156E-2,0,0,0,0,100.00000000000001,0,0,0,0,0,100.00000000000001]

{"sheet":"株比率","index":4,"n_rows":157,"n_cols":11,"rows_kept":157,"cut":false,"hidden":false,"merged":[]}
[]
["選\n択","バフェット\n指数","株比率",null,null,"株比率","債権比率",null,null,"CAPEレシオ"]
[null,50,90,null,null,95,{"$f":"100-F3","v":5},null,null,15]
[null,51,{"$f":"C3*(1+((95/90)^(1/50)-1))","v":90.097373636017437},null,{"$f":"C4-C3","v":9.7373636017437093E-2},{"$f":"F3-E4","v":94.902626363982563},{"$f":"100-F4","v":5.0973736360174371},null,null,{"$f":"J3+10/50","v":15.2}]
[null,52,{"$f":"C4*(1+((95/90)^(1/50)-1))","v":90.194852623423671},null,9.7478987406233841E-2,94.805147376576329,5.1948526234236709,null,null,{"$f":"J4+10/50","v":15.399999999999999}]
[null,53,90.292437076201452,null,9.7584452777780939E-2,94.707562923798548,5.2924370762014519,null,null,15.599999999999998]
[null,54,90.390127108456852,null,9.7690032255400183E-2,94.609872891543148,5.3901271084568521,null,null,15.799999999999997]
[null,55,90.487922834419393,null,9.7795725962541269E-2,94.512077165580607,5.4879228344193933,null,null,15.999999999999996]
[null,56,90.585824368442204,null,9.790153402281021E-2,94.414175631557796,5.5858243684422035,null,null,16.199999999999996]
[null,57,90.683831825002116,null,9.8007456559912498E-2,94.316168174997884,5.683831825002116,null,null,16.399999999999995]
[null,58,90.78194531869984,null,9.8113493697724152E-2,94.21805468130016,5.7819453186998402,null,null,16.599999999999994]
[null,59,90.880164964260047,null,9.8219645560206459E-2,94.119835035739953,5.8801649642600466,null,null,16.799999999999994]
[null,60,90.978490876531552,null,9.8325912271505445E-2,94.021509123468448,5.9784908765315521,null,null,16.999999999999993]
[null,61,91.076923170487419,null,9.8432293955866612E-2,93.923076829512581,6.0769231704874187,null,null,17.199999999999992]
[null,62,91.175461961225096,null,9.8538790737677573E-2,93.824538038774904,6.1754619612250963,null,null,17.399999999999991]
[null,63,91.274107363966593,null,9.8645402741496468E-2,93.725892636033407,6.2741073639665927,null,null,17.599999999999991]
[null,64,91.372859494058545,null,9.8752130091952495E-2,93.627140505941455,6.3728594940585452,null,null,17.79999999999999]
[null,65,91.471718466972405,null,9.8858972913859589E-2,93.528281533027595,6.4717184669724048,null,null,17.999999999999989]
[null,66,91.57068439830455,null,9.8965931332145374E-2,93.42931560169545,6.5706843983045502,null,null,18.199999999999989]
[null,67,91.669757403776416,null,9.9073005471865372E-2,93.330242596223584,6.6697574037764156,null,null,18.399999999999988]
[null,68,91.768937599234661,null,9.9180195458245635E-2,93.231062400765339,6.7689375992346612,null,null,18.599999999999987]
[null,69,91.868225100651273,null,9.928750141661169E-2,93.131774899348727,6.8682251006512729,null,null,18.799999999999986]
[null,70,91.967620024123704,null,9.9394923472431174E-2,93.032379975876296,6.9676200241237041,null,null,18.999999999999986]
[null,71,92.067122485875032,null,9.9502461751328042E-2,92.932877514124968,7.0671224858750321,null,null,19.199999999999985]
[null,72,92.166732602254058,null,9.9610116379025726E-2,92.833267397745942,7.1667326022540578,null,null,19.399999999999984]
[null,73,92.26645048973549,null,9.9717887481432399E-2,92.73354951026451,7.2664504897354902,null,null,19.599999999999984]
[null,74,92.366276264920032,null,9.9825775184541499E-2,92.633723735079968,7.3662762649200317,null,null,19.799999999999983]
[null,75,92.466210044534549,null,9.9933779614516993E-2,92.533789955465451,7.4662100445345487,null,null,19.999999999999982]
[null,76,92.566251945432199,null,0.10004190089765075,92.433748054567801,7.5662519454321995,null,null,20.199999999999982]
[null,77,92.666402084592576,null,0.10015013916037674,92.333597915407424,7.6664020845925762,null,null,20.399999999999981]
[null,78,92.766660579121805,null,0.10025849452922841,92.233339420878195,7.7666605791218046,null,null,20.59999999999998]
[null,79,92.867027546252743,null,0.10036696713093818,92.132972453747257,7.8670275462527428,null,null,20.799999999999979]
[null,80,92.967503103345081,null,0.10047555709233791,92.032496896654919,7.9675031033450807,null,null,20.999999999999979]
[null,81,93.068087367885468,null,0.10058426454038738,91.931912632114532,8.0680873678854681,null,null,21.199999999999978]
[null,82,93.168780457487685,null,0.1006930896022169,91.831219542512315,8.168780457487685,null,null,21.399999999999977]
[null,83,93.269582489892755,null,{"$f":"C36-C35","v":0.10080203240507046},{"$f":"F35-E36","v":91.730417510107245},8.2695824898927555,null,null,21.599999999999977]
[null,84,93.37049358296909,null,0.10091109307633417,91.62950641703091,8.3704935829690896,null,null,21.799999999999976]
[null,85,93.471513854712612,null,0.10102027174352202,91.528486145287388,8.4715138547126116,null,null,21.999999999999975]
[null,86,93.57264342324693,null,0.10112956853431854,91.42735657675307,8.5726434232469302,null,null,22.199999999999974]
[null,87,93.673882406823438,null,0.10123898357650774,91.326117593176562,8.6738824068234379,null,null,22.399999999999974]
[null,88,93.775230923821468,null,0.10134851699802994,91.224769076178532,8.7752309238214679,null,null,22.599999999999973]
[null,89,93.876689092748435,null,0.10145816892696757,91.123310907251565,8.8766890927484354,null,null,22.799999999999972]
[null,90,93.978257032239995,null,0.1015679394915594,91.021742967760005,8.9782570322399948,null,null,22.999999999999972]
[null,91,94.07993486106011,null,0.10167782882011522,90.92006513893989,9.0799348610601101,null,null,23.199999999999971]
[null,92,94.181722698101282,null,0.10178783704117222,90.818277301898718,9.1817226981012823,null,null,23.39999999999997]
[null,93,94.283620662384621,null,0.10189796428333864,90.716379337615379,9.2836206623846209,null,null,23.599999999999969]
[null,94,94.385628873060014,null,0.10200821067539323,90.614371126939986,9.3856288730600141,null,null,23.799999999999969]
[null,95,94.487747449406271,null,0.10211857634625687,90.512252550593729,9.487747449406271,null,null,23.999999999999968]
[null,96,94.589976510831235,null,0.10222906142496413,90.410023489168765,9.5899765108312351,null,null,24.199999999999967]
[null,97,94.692316176871941,null,0.10233966604070588,90.307683823128059,9.692316176871941,null,null,24.399999999999967]
[null,98,94.79476656719477,null,0.10245039032282932,90.20523343280523,9.7947665671947703,null,null,24.599999999999966]
[null,99,94.89732780159558,null,0.10256123440080955,90.10267219840442,9.8973278015955799,null,null,24.799999999999965]
[null,100,{"$f":"C52*(1+((95/90)^(1/50)-1))","v":94.999999999999801},80,0.10267219840422115,90.000000000000199,9.999999999999801,null,null,24.999999999999964]
[null,101,null,{"$f":"D53*(1+((90/80)^(1/50)-1))","v":80.18867499694052},{"$f":"D54-D53","v":0.18867499694052015},89.811325003059679,10.188674996940321,null,null,25.199999999999964]
[null,102,null,{"$f":"D54*(1+((90/80)^(1/50)-1))","v":80.37779497206192},{"$f":"D55-D54","v":0.18911997512140033},89.622205027938278,10.377794972061722,null,null,25.399999999999963]
[null,103,null,80.567360974817404,0.18956600275548396,89.432639025182795,10.567360974817205,null,null,25.599999999999962]
[null,104,null,80.757374057135266,0.1900130823178614,89.242625942864933,10.757374057135067,null,null,25.799999999999962]
[null,105,null,80.947835273424687,0.19046121628942103,89.052164726575512,10.947835273424488,null,null,25.999999999999961]
[null,106,null,81.138745680581621,0.19091040715693453,88.861254319418578,11.138745680581422,null,null,26.19999999999996]
[null,107,null,81.330106337994636,0.19136065741301422,88.669893662005563,11.330106337994437,null,null,26.399999999999959]
[null,108,null,81.521918307550791,0.19181196955615576,88.478081692449408,11.521918307550592,null,null,26.599999999999959]
[null,109,null,81.714182653641572,0.19226434609078069,88.285817346358627,11.714182653641373,null,null,26.799999999999958]
[null,110,null,81.906900443168723,0.19271778952715124,88.093099556831476,11.906900443168524,null,null,26.999999999999957]
[null,111,null,82.10007274555025,0.19317230238152661,87.899927254449949,12.100072745550051,null,null,27.199999999999957]
[null,112,null,82.293700632726285,0.19362788717603507,87.706299367273914,12.293700632726086,null,null,27.399999999999956]
[null,113,null,82.487785179165073,0.1940845464387877,87.512214820835126,12.487785179164874,null,null,27.599999999999955]
[null,114,null,82.682327461868937,0.19454228270386409,87.317672538131262,12.682327461868738,null,null,27.799999999999955]
[null,115,null,82.877328560380221,0.195001098511284,{"$f":"F67-E68","v":87.122671439619978},{"$f":"100-F68","v":12.877328560380022},null,null,27.999999999999954]
[null,116,null,83.072789556787313,0.19546099640709258,86.927210443212886,13.072789556787114,null,null,{"$f":"J68+10/50","v":28.199999999999953}]
[null,117,null,83.268711535730645,0.19592197894333196,86.731288464269554,13.268711535730446,null,null,28.399999999999952]
[null,118,null,83.465095584408701,0.19638404867805548,86.534904415591498,13.465095584408502,null,null,28.599999999999952]
[null,119,null,83.661942792584057,0.19684720817535606,86.338057207416142,13.661942792583858,null,null,28.799999999999951]
[null,120,null,83.859254252589409,0.19731146000535205,86.14074574741079,13.85925425258921,null,null,28.99999999999995]
[null,121,null,84.057031059333681,0.19777680674427245,85.942968940666518,14.057031059333482,null,null,29.19999999999995]
[null,122,null,84.255274310308039,0.19824325097435747,85.74472568969216,14.25527431030784,null,null,29.399999999999949]
[null,123,null,84.453985105592039,0.1987107952840006,85.54601489440816,14.45398510559184,null,null,29.599999999999948]
[null,124,null,84.653164547859689,0.19917944226764916,85.34683545214051,14.65316454785949,null,null,29.799999999999947]
[null,125,null,84.852813742385592,0.19964919452590379,85.147186257614607,14.852813742385393,null,null,29.999999999999947]
[null,126,null,85.052933797051082,0.20012005466548999,84.947066202949117,15.052933797050883,null,null,30.199999999999946]
[null,127,null,85.25352582235034,0.20059202529925813,84.746474177649858,15.253525822350142,null,null,30.399999999999945]
[null,128,null,85.454590931396595,0.20106510904625452,84.545409068603604,15.454590931396396,null,null,30.599999999999945]
[null,129,null,85.656130239928274,0.20153930853167878,84.343869760071925,15.656130239928075,null,null,30.799999999999944]
[null,130,null,85.858144866315214,0.20201462638694068,84.141855133684984,15.858144866315016,null,null,30.999999999999943]
[null,131,null,86.060635931564846,0.20249106524963167,83.939364068435353,16.060635931564647,null,null,31.199999999999942]
[null,132,null,86.263604559328428,0.20296862776358182,83.736395440671771,16.263604559328229,null,null,31.399999999999942]
[null,133,null,86.467051875907288,0.20344731657885973,83.532948124092911,16.467051875907089,null,null,31.599999999999941]
[null,134,null,86.67097901025906,0.20392713435177257,83.329020989741139,16.670979010258861,null,null,31.79999999999994]
[1,135,null,86.875387094003969,0.20440808374490871,83.12461290599623,16.87538709400377,null,null,31.99999999999994]
[null,136,null,87.080277261431064,0.20489016742709509,82.919722738569135,17.080277261430865,null,null,32.199999999999939]
[null,137,null,87.285650649504561,0.2053733880734967,82.714349350495638,17.285650649504362,null,null,32.399999999999942]
[null,138,null,87.491508397870135,0.20585774836557391,82.508491602130064,17.491508397869936,null,null,32.599999999999945]
[null,139,null,87.697851648861246,0.20634325099111095,82.302148351138953,17.697851648861047,null,null,32.799999999999947]
[null,140,null,87.904681547505476,0.20682989864423007,82.095318452494723,17.904681547505277,null,null,32.99999999999995]
[null,141,null,88.111999241530881,0.20731769402540579,81.888000758469317,18.111999241530683,null,null,33.199999999999953]
[null,142,null,88.319805881372361,0.20780663984147907,81.680194118627838,18.319805881372162,null,null,33.399999999999956]
[null,143,null,88.528102620178046,0.20829673880568578,81.471897379822153,18.528102620177847,null,null,33.599999999999959]
[null,144,null,88.736890613815689,0.20878799363764244,81.26310938618451,18.73689061381549,null,null,33.799999999999962]
[null,145,null,88.946171020879092,0.20928040706340312,81.053828979121107,18.946171020878893,null,null,33.999999999999964]
[null,146,null,89.155945002694523,0.20977398181543094,80.844054997305676,19.155945002694324,null,null,34.199999999999967]
[null,147,null,89.366213723327178,0.210268720632655,{"$f":"F99-E100","v":80.633786276673021},19.366213723326979,null,null,34.39999999999997]
[null,148,null,89.576978349587606,0.21076462626042769,80.423021650412593,19.576978349587407,null,null,34.599999999999973]
[null,149,null,89.788240051038215,0.21126170145060996,80.211759948961983,19.788240051038017,null,null,34.799999999999976]
[null,150,null,89.999999999999773,0.21175994896155714,80.000000000000426,19.999999999999574,null,null,34.999999999999979]
[null,151,null,90.212259371557849,0.21225937155807628,79.78774062844235,20.21225937155765,null,null,35.199999999999982]
[null,152,null,90.425019343569417,0.21275997201156827,79.574980656430782,20.425019343569218,null,null,35.399999999999984]
[null,153,null,90.638281096669346,0.21326175309992834,79.361718903330853,20.638281096669147,null,null,35.599999999999987]
[null,154,null,90.852045814276948,0.21376471760760296,79.14795418572325,20.85204581427675,null,null,35.79999999999999]
[null,155,null,91.066314682602552,0.21426886832560399,78.933685317397646,21.066314682602354,null,null,35.999999999999993]
[null,156,null,91.281088890654104,0.21477420805155134,78.718911109346095,21.281088890653905,null,null,36.199999999999996]
[null,157,null,91.496369630243748,0.21528073958964455,78.503630369756451,21.496369630243549,null,null,36.4]
[null,158,null,91.712158095994425,0.21578846575067701,78.287841904005774,21.712158095994226,null,null,36.6]
[null,159,null,91.928455485346547,0.21629738935212117,78.071544514653652,21.928455485346348,null,null,36.800000000000004]
[null,null,null,92.145262998564604,{"$f":"D113-D112","v":0.21680751321805758},{"$f":"F112-E113","v":77.854737001435595},{"$f":"100-F113","v":22.145262998564405},null,null,37.000000000000007]
[null,null,null,92.362581838743822,0.21731884017921743,77.637418161256377,22.362581838743623,null,null,37.20000000000001]
[null,null,null,92.580413211816861,0.21783137307303946,77.419586788183338,22.580413211816662,null,null,37.400000000000013]
[null,null,null,92.798758326560502,0.21834511474364149,77.201241673439696,22.798758326560304,null,null,37.600000000000016]
[null,null,null,93.017618394602351,0.21886006804184888,76.982381605397848,23.017618394602152,null,null,37.800000000000018]
[null,null,null,93.236994630427546,0.2193762358251945,76.763005369572653,23.236994630427347,null,null,38.000000000000021]
[null,null,null,{"$f":"D118*(1+((90/80)^(1/50)-1))","v":93.456888251385536},0.21989362095798981,76.543111748614663,23.456888251385337,null,null,38.200000000000024]
[null,null,null,93.677300477696789,0.22041222631125379,76.322699522303409,23.677300477696591,null,null,38.400000000000027]
[null,null,null,93.898232532459602,0.22093205476281241,76.101767467540597,23.898232532459403,null,null,38.60000000000003]
[null,null,null,94.119685641656872,0.22145310919727024,75.880314358343327,24.119685641656673,null,null,38.800000000000033]
[null,null,null,94.341661034162897,0.2219753925060246,75.658338965837302,24.341661034162698,null,null,39.000000000000036]
[null,null,null,94.564159941750191,0.22249890758729407,75.435840058250008,24.564159941749992,null,null,39.200000000000038]
[null,null,null,94.787183599096338,0.22302365734614682,75.212816400903861,24.787183599096139,null,null,39.400000000000041]
[null,null,null,95.010733243790838,0.22354964469450067,74.989266756209361,25.010733243790639,null,null,39.600000000000044]
[null,null,null,95.234810116341947,{"$f":"D127-D126","v":0.22407687255110886},{"$f":"F126-E127","v":74.765189883658252},{"$f":"100-F127","v":25.234810116341748},null,null,39.800000000000047]
[null,null,null,95.459415460183592,{"$f":"D128-D127","v":0.22460534384164532},{"$f":"F127-E128","v":74.540584539816606},{"$f":"100-F128","v":25.459415460183394},null,null,40.00000000000005]
[null,null,null,95.684550521682269,{"$f":"D129-D128","v":0.22513506149867624},{"$f":"F128-E129","v":74.31544947831793},{"$f":"100-F129","v":25.68455052168207},null,null,40.200000000000053]
[null,null,null,95.910216550143929,{"$f":"D130-D129","v":0.22566602846166006},{"$f":"F129-E130","v":74.08978344985627},{"$f":"100-F130","v":25.91021655014373},null,null,40.400000000000055]
[null,null,null,96.136414797820962,0.22619824767703278,73.863585202179237,26.136414797820763,null,null,40.600000000000058]
[null,null,null,96.363146519919098,0.22673172209813686,73.636853480081101,26.363146519918899,null,null,40.800000000000061]
[null,null,null,96.590412974604405,0.22726645468530648,73.409587025395794,26.590412974604206,null,null,{"$f":"J132+10/50","v":41.000000000000064}]
[null,null,null,96.818215423010244,0.22780244840583919,73.181784576989955,26.818215423010045,null,null,41.200000000000067]
[null,null,null,97.046555129244283,0.22833970623403843,72.953444870755916,27.046555129244084,null,null,41.40000000000007]
[null,null,null,97.27543336039551,0.22887823115122785,72.724566639604689,27.275433360395311,null,null,41.600000000000072]
[null,null,null,97.504851386541262,0.22941802614575124,72.495148613458937,27.504851386541063,null,null,41.800000000000075]
[null,null,null,97.734810480754277,0.22995909421301519,72.265189519245922,27.734810480754078,null,null,42.000000000000078]
[null,null,null,97.965311919109752,0.23050143835547487,72.034688080890447,27.965311919109553,null,null,42.200000000000081]
[null,null,null,98.196356980692443,0.23104506158269089,71.803643019307756,28.196356980692244,null,null,42.400000000000084]
[null,null,null,98.427946947603715,0.23158996691127243,71.572053052396484,28.427946947603516,null,null,42.600000000000087]
[null,null,null,98.66008310496872,0.23213615736500515,71.339916895031479,28.660083104968521,null,null,42.80000000000009]
[null,null,null,98.892766740943486,0.23268363597476593,{"$f":"F142-E143","v":71.107233259056713},28.892766740943287,null,null,43.000000000000092]
[null,null,null,99.125999146722066,0.23323240577857973,70.874000853278133,29.125999146721867,null,null,43.200000000000095]
[null,null,null,99.359781616543728,0.23378246982166218,70.640218383456471,29.359781616543529,null,null,43.400000000000098]
[null,null,null,99.594115447700119,0.23433383115639117,70.40588455230008,29.59411544769992,null,null,43.600000000000101]
[null,null,null,99.829001940542469,0.23488649284234953,70.17099805945773,29.82900194054227,null,null,43.800000000000104]
[null,null,null,100.06444239848881,0.23544045794633917,69.935557601511391,30.064442398488609,null,null,44.000000000000107]
[null,null,null,100.30043812803117,0.23599572954236692,69.699561871969024,30.300438128030976,null,null,44.200000000000109]
[null,null,null,100.5369904387429,0.23655231071172977,69.463009561257294,30.536990438742706,null,null,44.400000000000112]
[null,null,null,100.77410064328589,0.23711020454298648,69.225899356714308,30.774100643285692,null,null,44.600000000000115]
[null,null,null,101.01177005741783,0.23766941413194331,68.988229942582365,31.011770057417635,null,null,44.800000000000118]
[null,null,null,101.24999999999957,0.23822994258173935,68.750000000000625,31.249999999999375,null,null,45.000000000000121]
[null,null,null,101.48879179300242,0.23879179300284648,68.511208206997779,31.488791793002221,null,null,45.200000000000124]
[]
[]
[null,"https://www.gurufocus.com/stock-market-valuations.php",null,null,null,null,null,null,null,null,"https://www.multpl.com/shiller-pe"]

{"sheet":"個別履歴","index":5,"n_rows":17,"n_cols":16,"rows_kept":17,"cut":false,"hidden":false,"merged":[]}
["SBI",null,null,null,"財形",null,null,null,null,"ネオモバイル",null,null,null,"楽天(夫)SPXL","利益"]
["2018-10-12","ＴＯＰＩＸ連動型上場投資信託",17550,null,"2021/10",5032,125374,{"$f":"(F2+G2)*0.75","v":97804.5},null,2023,"譲渡益税徴収額合計",0,null,"2021-09-11",1661.73,"USD"]
["２０１７年　５月　１日 ",null,-15910,null,"2021/4",4976,122778,95815.5,null,2023,"損益額合計",0,null,"2022-06-06",191.55]
[null,null,{"$f":"SUM(C2:C3)","v":1640},null,"2020/10",4909,118139,92286,null,2023,"配当所得税徴収額合計",-7399,null,"2022-06-30",42.53]
[null,null,null,null,"2020/4",9889,115666,94166.25,null,2023,"配当金額合計",37104]
[null,null,null,null,"2019/10",14735,113232,95975.25,null,2022,"譲渡益税徴収額合計",-53476]
[null,null,null,null,"2019/4",14630,110858,94116,null,2022,"損益額合計",0]
[null,null,null,null,"2018/10",14149,108516,91998.75,null,2022,"配当所得税徴収額合計",-386]
[null,null,null,null,"2018/4",13571,106232,89852.25,null,2022,"配当金額合計",55377]
[null,null,null,null,null,null,null,null,null,2021,"譲渡益税徴収額合計",0]
[null,null,null,null,null,null,null,null,null,2021,"損益額合計",-31880]
[null,null,null,null,null,null,null,null,null,2021,"配当所得税徴収額合計",-172]
[null,null,null,null,null,null,null,null,null,2021,"配当金額合計",32729]
[null,null,null,null,null,null,null,null,null,2020,"譲渡益税徴収額合計",0]
[null,null,null,null,null,null,null,null,null,2020,"損益額合計",-14039]
[null,null,null,null,null,null,null,null,null,2020,"配当所得税徴収額合計",-737]
[null,null,null,null,null,null,null,null,null,2020,"配当金額合計",17672]

{"sheet":"銘柄データ","index":6,"n_rows":255,"n_cols":16,"rows_kept":255,"cut":false,"hidden":false,"merged":[]}
["コード","会社名","業種17","業種","評価額","損益",null,null,null,"時価総額","企業総合ｽｺｱ","財務健全性","収益性","割安性","安定性","株価ﾓﾒﾝﾀﾑ"]
["3636","三菱総合研究所","情報通信・サービスその他","情報・通信業",{"$f":"IF(ISERROR(VLOOKUP(A2,ﾈｵﾓﾊﾞ一覧!A:C,3,FALSE)),\"\",VLOOKUP(A2,ﾈｵﾓﾊﾞ一覧!A:C,3,FALSE))","v":""},{"$f":"IF(ISERROR(VLOOKUP(A2,ﾈｵﾓﾊﾞ一覧!A:D,4,FALSE)),\"\",VLOOKUP(A2,ﾈｵﾓﾊﾞ一覧!A:D,4,FALSE))","v":""},{"$f":"F2/(E2-F2)","v":{"$error":"#VALUE!"}},{"$f":"E2/SUM(E:E)","v":{"$error":"#VALUE!"}},{"$f":"VLOOKUP(C2,ﾈｵﾓﾊﾞｻﾏﾘ!A:Z,12,FALSE)","v":44949.4631292962},null,8,5,"-",6,9,9]
["4661","オリエンタルランド","情報通信・サービスその他","サービス業",{"$f":"IF(ISERROR(VLOOKUP(A3,ﾈｵﾓﾊﾞ一覧!A:C,3,FALSE)),\"\",VLOOKUP(A3,ﾈｵﾓﾊﾞ一覧!A:C,3,FALSE))","v":""},{"$f":"IF(ISERROR(VLOOKUP(A3,ﾈｵﾓﾊﾞ一覧!A:D,4,FALSE)),\"\",VLOOKUP(A3,ﾈｵﾓﾊﾞ一覧!A:D,4,FALSE))","v":""},{"$error":"#VALUE!"},{"$error":"#VALUE!"},{"$f":"VLOOKUP(C3,ﾈｵﾓﾊﾞｻﾏﾘ!A:Z,12,FALSE)","v":44949.4631292962},"46,170億円",9,10,8,1,8,9]
["4676","フジ・メディア・ホールディングス","情報通信・サービスその他","情報・通信業",{"$f":"IF(ISERROR(VLOOKUP(A4,ﾈｵﾓﾊﾞ一覧!A:C,3,FALSE)),\"\",VLOOKUP(A4,ﾈｵﾓﾊﾞ一覧!A:C,3,FALSE))","v":""},{"$f":"IF(ISERROR(VLOOKUP(A4,ﾈｵﾓﾊﾞ一覧!A:D,4,FALSE)),\"\",VLOOKUP(A4,ﾈｵﾓﾊﾞ一覧!A:D,4,FALSE))","v":""},{"$error":"#VALUE!"},{"$error":"#VALUE!"},{"$f":"VLOOKUP(C4,ﾈｵﾓﾊﾞｻﾏﾘ!A:Z,12,FALSE)","v":44949.4631292962},null,7,6,2,7,10,6]
["4704","トレンドマイクロ","情報通信・サービスその他","情報・通信業",{"$f":"IF(ISERROR(VLOOKUP(A5,ﾈｵﾓﾊﾞ一覧!A:C,3,FALSE)),\"\",VLOOKUP(A5,ﾈｵﾓﾊﾞ一覧!A:C,3,FALSE))","v":""},{"$f":"IF(ISERROR(VLOOKUP(A5,ﾈｵﾓﾊﾞ一覧!A:D,4,FALSE)),\"\",VLOOKUP(A5,ﾈｵﾓﾊﾞ一覧!A:D,4,FALSE))","v":""},{"$error":"#VALUE!"},{"$error":"#VALUE!"},{"$f":"VLOOKUP(C5,ﾈｵﾓﾊﾞｻﾏﾘ!A:Z,12,FALSE)","v":44949.4631292962},null,5,7,2,1,8,9]
["9735","セコム","情報通信・サービスその他","サービス業",{"$f":"IF(ISERROR(VLOOKUP(A6,ﾈｵﾓﾊﾞ一覧!A:C,3,FALSE)),\"\",VLOOKUP(A6,ﾈｵﾓﾊﾞ一覧!A:C,3,FALSE))","v":""},{"$f":"IF(ISERROR(VLOOKUP(A6,ﾈｵﾓﾊﾞ一覧!A:D,4,FALSE)),\"\",VLOOKUP(A6,ﾈｵﾓﾊﾞ一覧!A:D,4,FALSE))","v":""},{"$error":"#VALUE!"},{"$error":"#VALUE!"},{"$f":"VLOOKUP(C6,ﾈｵﾓﾊﾞｻﾏﾘ!A:Z,12,FALSE)","v":44949.4631292962},null,7,4,6,2,9,9]
["2475","ＷＤＢホールディングス","情報通信・サービスその他","サービス業",{"$f":"IF(ISERROR(VLOOKUP(A7,ﾈｵﾓﾊﾞ一覧!A:C,3,FALSE)),\"\",VLOOKUP(A7,ﾈｵﾓﾊﾞ一覧!A:C,3,FALSE))","v":""},{"$f":"IF(ISERROR(VLOOKUP(A7,ﾈｵﾓﾊﾞ一覧!A:D,4,FALSE)),\"\",VLOOKUP(A7,ﾈｵﾓﾊﾞ一覧!A:D,4,FALSE))","v":""},{"$error":"#VALUE!"},{"$error":"#VALUE!"},{"$f":"VLOOKUP(C7,ﾈｵﾓﾊﾞｻﾏﾘ!A:Z,12,FALSE)","v":44949.4631292962},null,8,7,8,8,7,6]
["4708","りらいあコミュニケーションズ","情報通信・サービスその他","サービス業",{"$f":"IF(ISERROR(VLOOKUP(A8,ﾈｵﾓﾊﾞ一覧!A:C,3,FALSE)),\"\",VLOOKUP(A8,ﾈｵﾓﾊﾞ一覧!A:C,3,FALSE))","v":""},{"$f":"IF(ISERROR(VLOOKUP(A8,ﾈｵﾓﾊﾞ一覧!A:D,4,FALSE)),\"\",VLOOKUP(A8,ﾈｵﾓﾊﾞ一覧!A:D,4,FALSE))","v":""},{"$error":"#VALUE!"},{"$error":"#VALUE!"},{"$f":"VLOOKUP(C8,ﾈｵﾓﾊﾞｻﾏﾘ!A:Z,12,FALSE)","v":44949.4631292962}]
["3738","ティーガイア","情報通信・サービスその他","情報・通信業",{"$f":"IF(ISERROR(VLOOKUP(A9,ﾈｵﾓﾊﾞ一覧!A:C,3,FALSE)),\"\",VLOOKUP(A9,ﾈｵﾓﾊﾞ一覧!A:C,3,FALSE))","v":""},{"$f":"IF(ISERROR(VLOOKUP(A9,ﾈｵﾓﾊﾞ一覧!A:D,4,FALSE)),\"\",VLOOKUP(A9,ﾈｵﾓﾊﾞ一覧!A:D,4,FALSE))","v":""},{"$error":"#VALUE!"},{"$error":"#VALUE!"},{"$f":"VLOOKUP(C9,ﾈｵﾓﾊﾞｻﾏﾘ!A:Z,12,FALSE)","v":44949.4631292962},null,5,3,3,7,9,4]
["4478","フリー","情報通信・サービスその他","情報・通信業",{"$f":"IF(ISERROR(VLOOKUP(A10,ﾈｵﾓﾊﾞ一覧!A:C,3,FALSE)),\"\",VLOOKUP(A10,ﾈｵﾓﾊﾞ一覧!A:C,3,FALSE))","v":""},{"$f":"IF(ISERROR(VLOOKUP(A10,ﾈｵﾓﾊﾞ一覧!A:D,4,FALSE)),\"\",VLOOKUP(A10,ﾈｵﾓﾊﾞ一覧!A:D,4,FALSE))","v":""},{"$error":"#VALUE!"},{"$error":"#VALUE!"},{"$f":"VLOOKUP(C10,ﾈｵﾓﾊﾞｻﾏﾘ!A:Z,12,FALSE)","v":44949.4631292962},null,2,7,2,2,2,3]
["4768","大塚商会","情報通信・サービスその他","情報・通信業",{"$f":"IF(ISERROR(VLOOKUP(A11,ﾈｵﾓﾊﾞ一覧!A:C,3,FALSE)),\"\",VLOOKUP(A11,ﾈｵﾓﾊﾞ一覧!A:C,3,FALSE))","v":""},{"$f":"IF(ISERROR(VLOOKUP(A11,ﾈｵﾓﾊﾞ一覧!A:D,4,FALSE)),\"\",VLOOKUP(A11,ﾈｵﾓﾊﾞ一覧!A:D,4,FALSE))","v":""},{"$error":"#VALUE!"},{"$error":"#VALUE!"},{"$f":"VLOOKUP(C11,ﾈｵﾓﾊﾞｻﾏﾘ!A:Z,12,FALSE)","v":44949.4631292962},null,6,3,9,2,9,8]
["2389","デジタルホールディングス","情報通信・サービスその他","サービス業",{"$f":"IF(ISERROR(VLOOKUP(A12,ﾈｵﾓﾊﾞ一覧!A:C,3,FALSE)),\"\",VLOOKUP(A12,ﾈｵﾓﾊﾞ一覧!A:C,3,FALSE))","v":""},{"$f":"IF(ISERROR(VLOOKUP(A12,ﾈｵﾓﾊﾞ一覧!A:D,4,FALSE)),\"\",VLOOKUP(A12,ﾈｵﾓﾊﾞ一覧!A:D,4,FALSE))","v":""},{"$error":"#VALUE!"},{"$error":"#VALUE!"},{"$f":"VLOOKUP(C12,ﾈｵﾓﾊﾞｻﾏﾘ!A:Z,12,FALSE)","v":44949.4631292962},null,4,4,7,6,4,1]
["7844","マーベラス","情報通信・サービスその他","情報・通信業",{"$f":"IF(ISERROR(VLOOKUP(A13,ﾈｵﾓﾊﾞ一覧!A:C,3,FALSE)),\"\",VLOOKUP(A13,ﾈｵﾓﾊﾞ一覧!A:C,3,FALSE))","v":""},{"$f":"IF(ISERROR(VLOOKUP(A13,ﾈｵﾓﾊﾞ一覧!A:D,4,FALSE)),\"\",VLOOKUP(A13,ﾈｵﾓﾊﾞ一覧!A:D,4,FALSE))","v":""},{"$error":"#VALUE!"},{"$error":"#VALUE!"},{"$f":"VLOOKUP(C13,ﾈｵﾓﾊﾞｻﾏﾘ!A:Z,12,FALSE)","v":44949.4631292962},null,3,2,"-",3,9,1]
["9743","丹青社","情報通信・サービスその他","サービス業",{"$f":"IF(ISERROR(VLOOKUP(A14,ﾈｵﾓﾊﾞ一覧!A:C,3,FALSE)),\"\",VLOOKUP(A14,ﾈｵﾓﾊﾞ一覧!A:C,3,FALSE))","v":""},{"$f":"IF(ISERROR(VLOOKUP(A14,ﾈｵﾓﾊﾞ一覧!A:D,4,FALSE)),\"\",VLOOKUP(A14,ﾈｵﾓﾊﾞ一覧!A:D,4,FALSE))","v":""},{"$error":"#VALUE!"},{"$error":"#VALUE!"},{"$f":"VLOOKUP(C14,ﾈｵﾓﾊﾞｻﾏﾘ!A:Z,12,FALSE)","v":44949.4631292962},null,6,3,9,3,6,8]
["1954","日本工営","情報通信・サービスその他","サービス業",{"$f":"IF(ISERROR(VLOOKUP(A15,ﾈｵﾓﾊﾞ一覧!A:C,3,FALSE)),\"\",VLOOKUP(A15,ﾈｵﾓﾊﾞ一覧!A:C,3,FALSE))","v":""},{"$f":"IF(ISERROR(VLOOKUP(A15,ﾈｵﾓﾊﾞ一覧!A:D,4,FALSE)),\"\",VLOOKUP(A15,ﾈｵﾓﾊﾞ一覧!A:D,4,FALSE))","v":""},{"$error":"#VALUE!"},{"$error":"#VALUE!"},{"$f":"VLOOKUP(C15,ﾈｵﾓﾊﾞｻﾏﾘ!A:Z,12,FALSE)","v":44949.4631292962}]
["3626","TIS","情報通信・サービスその他","情報・通信業",{"$f":"IF(ISERROR(VLOOKUP(A16,ﾈｵﾓﾊﾞ一覧!A:C,3,FALSE)),\"\",VLOOKUP(A16,ﾈｵﾓﾊﾞ一覧!A:C,3,FALSE))","v":32427},{"$f":"IF(ISERROR(VLOOKUP(A16,ﾈｵﾓﾊﾞ一覧!A:D,4,FALSE)),\"\",VLOOKUP(A16,ﾈｵﾓﾊﾞ一覧!A:D,4,FALSE))","v":16641},1.0541619156214368,1.3075190226739855E-2,{"$f":"VLOOKUP(C16,ﾈｵﾓﾊﾞｻﾏﾘ!A:Z,12,FALSE)","v":44949.4631292962},null,6,6,5,3,8,8]
["2309","シミックホールディングス","情報通信・サービスその他","サービス業",{"$f":"IF(ISERROR(VLOOKUP(A17,ﾈｵﾓﾊﾞ一覧!A:C,3,FALSE)),\"\",VLOOKUP(A17,ﾈｵﾓﾊﾞ一覧!A:C,3,FALSE))","v":25584},{"$f":"IF(ISERROR(VLOOKUP(A17,ﾈｵﾓﾊﾞ一覧!A:D,4,FALSE)),\"\",VLOOKUP(A17,ﾈｵﾓﾊﾞ一覧!A:D,4,FALSE))","v":4264},0.2,1.0315960981925941E-2,{"$f":"VLOOKUP(C17,ﾈｵﾓﾊﾞｻﾏﾘ!A:Z,12,FALSE)","v":44949.4631292962},null,8,9,8,10,5,3]
["3635","コーエーテクモＨＬＤＧ","情報通信・サービスその他","情報・通信業",{"$f":"IF(ISERROR(VLOOKUP(A18,ﾈｵﾓﾊﾞ一覧!A:C,3,FALSE)),\"\",VLOOKUP(A18,ﾈｵﾓﾊﾞ一覧!A:C,3,FALSE))","v":24320},{"$f":"IF(ISERROR(VLOOKUP(A18,ﾈｵﾓﾊﾞ一覧!A:D,4,FALSE)),\"\",VLOOKUP(A18,ﾈｵﾓﾊﾞ一覧!A:D,4,FALSE))","v":14660},1.5175983436853002,9.8062918652454222E-3,{"$f":"VLOOKUP(C18,ﾈｵﾓﾊﾞｻﾏﾘ!A:Z,12,FALSE)","v":44949.4631292962},null,6,4,10,2,7,7]
["4684","オービック","情報通信・サービスその他","情報・通信業",{"$f":"IF(ISERROR(VLOOKUP(A19,ﾈｵﾓﾊﾞ一覧!A:C,3,FALSE)),\"\",VLOOKUP(A19,ﾈｵﾓﾊﾞ一覧!A:C,3,FALSE))","v":23270},{"$f":"IF(ISERROR(VLOOKUP(A19,ﾈｵﾓﾊﾞ一覧!A:D,4,FALSE)),\"\",VLOOKUP(A19,ﾈｵﾓﾊﾞ一覧!A:D,4,FALSE))","v":10290},0.79275808936825887,9.3829116654712569E-3,{"$f":"VLOOKUP(C19,ﾈｵﾓﾊﾞｻﾏﾘ!A:Z,12,FALSE)","v":44949.4631292962},"12,002億円",9,9,10,1,8,9]
["7832","バンダイナムコホールディングス","情報通信・サービスその他","その他製品",{"$f":"IF(ISERROR(VLOOKUP(A20,ﾈｵﾓﾊﾞ一覧!A:C,3,FALSE)),\"\",VLOOKUP(A20,ﾈｵﾓﾊﾞ一覧!A:C,3,FALSE))","v":19284},{"$f":"IF(ISERROR(VLOOKUP(A20,ﾈｵﾓﾊﾞ一覧!A:D,4,FALSE)),\"\",VLOOKUP(A20,ﾈｵﾓﾊﾞ一覧!A:D,4,FALSE))","v":9462},0.96334758704948076,7.7756797832809503E-3,{"$f":"VLOOKUP(C20,ﾈｵﾓﾊﾞｻﾏﾘ!A:Z,12,FALSE)","v":44949.4631292962},"14,656億円",5,5,2,2,8,10]
["4326","インテージホールディングス","情報通信・サービスその他","情報・通信業",{"$f":"IF(ISERROR(VLOOKUP(A21,ﾈｵﾓﾊﾞ一覧!A:C,3,FALSE)),\"\",VLOOKUP(A21,ﾈｵﾓﾊﾞ一覧!A:C,3,FALSE))","v":18667},{"$f":"IF(ISERROR(VLOOKUP(A21,ﾈｵﾓﾊﾞ一覧!A:D,4,FALSE)),\"\",VLOOKUP(A21,ﾈｵﾓﾊﾞ一覧!A:D,4,FALSE))","v":8844},0.90033594624860025,7.5268935135088932E-3,{"$f":"VLOOKUP(C21,ﾈｵﾓﾊﾞｻﾏﾘ!A:Z,12,FALSE)","v":44949.4631292962},null,4,5,4,3,9,3]
["9605","東映","情報通信・サービスその他","情報・通信業",{"$f":"IF(ISERROR(VLOOKUP(A22,ﾈｵﾓﾊﾞ一覧!A:C,3,FALSE)),\"\",VLOOKUP(A22,ﾈｵﾓﾊﾞ一覧!A:C,3,FALSE))","v":18070},{"$f":"IF(ISERROR(VLOOKUP(A22,ﾈｵﾓﾊﾞ一覧!A:D,4,FALSE)),\"\",VLOOKUP(A22,ﾈｵﾓﾊﾞ一覧!A:D,4,FALSE))","v":4560},0.33752775721687639,7.2861716284944389E-3,{"$f":"VLOOKUP(C22,ﾈｵﾓﾊﾞｻﾏﾘ!A:Z,12,FALSE)","v":44949.4631292962},null,9,10,10,4,9,6]
["9433","KDDI","情報通信・サービスその他","情報・通信業",{"$f":"IF(ISERROR(VLOOKUP(A23,ﾈｵﾓﾊﾞ一覧!A:C,3,FALSE)),\"\",VLOOKUP(A23,ﾈｵﾓﾊﾞ一覧!A:C,3,FALSE))","v":16748},{"$f":"IF(ISERROR(VLOOKUP(A23,ﾈｵﾓﾊﾞ一覧!A:D,4,FALSE)),\"\",VLOOKUP(A23,ﾈｵﾓﾊﾞ一覧!A:D,4,FALSE))","v":5256},0.45736164288200487,6.7531157960168718E-3,{"$f":"VLOOKUP(C23,ﾈｵﾓﾊﾞｻﾏﾘ!A:Z,12,FALSE)","v":44949.4631292962},"80,624億円",3,2,2,4,8,3]
["7911","凸版印刷","情報通信・サービスその他","その他製品",{"$f":"IF(ISERROR(VLOOKUP(A24,ﾈｵﾓﾊﾞ一覧!A:C,3,FALSE)),\"\",VLOOKUP(A24,ﾈｵﾓﾊﾞ一覧!A:C,3,FALSE))","v":16710},{"$f":"IF(ISERROR(VLOOKUP(A24,ﾈｵﾓﾊﾞ一覧!A:D,4,FALSE)),\"\",VLOOKUP(A24,ﾈｵﾓﾊﾞ一覧!A:D,4,FALSE))","v":6260},0.59904306220095693,6.7377934649774252E-3,{"$f":"VLOOKUP(C24,ﾈｵﾓﾊﾞｻﾏﾘ!A:Z,12,FALSE)","v":44949.4631292962},null,6,2,9,3,9,5]
["9602","東宝","情報通信・サービスその他","情報・通信業",{"$f":"IF(ISERROR(VLOOKUP(A25,ﾈｵﾓﾊﾞ一覧!A:C,3,FALSE)),\"\",VLOOKUP(A25,ﾈｵﾓﾊﾞ一覧!A:C,3,FALSE))","v":16620},{"$f":"IF(ISERROR(VLOOKUP(A25,ﾈｵﾓﾊﾞ一覧!A:D,4,FALSE)),\"\",VLOOKUP(A25,ﾈｵﾓﾊﾞ一覧!A:D,4,FALSE))","v":6480},0.63905325443786987,6.7015037335682115E-3,{"$f":"VLOOKUP(C25,ﾈｵﾓﾊﾞｻﾏﾘ!A:Z,12,FALSE)","v":44949.4631292962},null,7,9,5,2,8,9]
["9432","日本電信電話","情報通信・サービスその他","情報・通信業",{"$f":"IF(ISERROR(VLOOKUP(A26,ﾈｵﾓﾊﾞ一覧!A:C,3,FALSE)),\"\",VLOOKUP(A26,ﾈｵﾓﾊﾞ一覧!A:C,3,FALSE))","v":16290},{"$f":"IF(ISERROR(VLOOKUP(A26,ﾈｵﾓﾊﾞ一覧!A:D,4,FALSE)),\"\",VLOOKUP(A26,ﾈｵﾓﾊﾞ一覧!A:D,4,FALSE))","v":5590},0.52242990654205612,6.5684413850677593E-3,{"$f":"VLOOKUP(C26,ﾈｵﾓﾊﾞｻﾏﾘ!A:Z,12,FALSE)","v":44949.4631292962},null,4,2,3,6,6,5]
["9744","メイテック","情報通信・サービスその他","サービス業",{"$f":"IF(ISERROR(VLOOKUP(A27,ﾈｵﾓﾊﾞ一覧!A:C,3,FALSE)),\"\",VLOOKUP(A27,ﾈｵﾓﾊﾞ一覧!A:C,3,FALSE))","v":15525},{"$f":"IF(ISERROR(VLOOKUP(A27,ﾈｵﾓﾊﾞ一覧!A:D,4,FALSE)),\"\",VLOOKUP(A27,ﾈｵﾓﾊﾞ一覧!A:D,4,FALSE))","v":2145},0.16031390134529147,6.259978668089439E-3,{"$f":"VLOOKUP(C27,ﾈｵﾓﾊﾞｻﾏﾘ!A:Z,12,FALSE)","v":44949.4631292962},null,9,10,6,4,10,8]
["3765","ガンホー・オンライン・エンターテイメント","情報通信・サービスその他","情報・通信業",{"$f":"IF(ISERROR(VLOOKUP(A28,ﾈｵﾓﾊﾞ一覧!A:C,3,FALSE)),\"\",VLOOKUP(A28,ﾈｵﾓﾊﾞ一覧!A:C,3,FALSE))","v":13947.5},{"$f":"IF(ISERROR(VLOOKUP(A28,ﾈｵﾓﾊﾞ一覧!A:D,4,FALSE)),\"\",VLOOKUP(A28,ﾈｵﾓﾊﾞ一覧!A:D,4,FALSE))","v":3447},0.32827008237702965,5.6239003203334918E-3,{"$f":"VLOOKUP(C28,ﾈｵﾓﾊﾞｻﾏﾘ!A:Z,12,FALSE)","v":44949.4631292962},null,7,9,8,7,5,5]
["9759","ＮＳＤ","情報通信・サービスその他","情報・通信業",{"$f":"IF(ISERROR(VLOOKUP(A29,ﾈｵﾓﾊﾞ一覧!A:C,3,FALSE)),\"\",VLOOKUP(A29,ﾈｵﾓﾊﾞ一覧!A:C,3,FALSE))","v":13915},{"$f":"IF(ISERROR(VLOOKUP(A29,ﾈｵﾓﾊﾞ一覧!A:D,4,FALSE)),\"\",VLOOKUP(A29,ﾈｵﾓﾊﾞ一覧!A:D,4,FALSE))","v":3575},0.34574468085106386,5.6107956951023863E-3,{"$f":"VLOOKUP(C29,ﾈｵﾓﾊﾞｻﾏﾘ!A:Z,12,FALSE)","v":44949.4631292962},null,8,8,5,2,9,10]
["7984","コクヨ","情報通信・サービスその他","サービス業",{"$f":"IF(ISERROR(VLOOKUP(A30,ﾈｵﾓﾊﾞ一覧!A:C,3,FALSE)),\"\",VLOOKUP(A30,ﾈｵﾓﾊﾞ一覧!A:C,3,FALSE))","v":13680},{"$f":"IF(ISERROR(VLOOKUP(A30,ﾈｵﾓﾊﾞ一覧!A:D,4,FALSE)),\"\",VLOOKUP(A30,ﾈｵﾓﾊﾞ一覧!A:D,4,FALSE))","v":3366},0.32635253054101221,5.5160391742005493E-3,{"$f":"VLOOKUP(C30,ﾈｵﾓﾊﾞｻﾏﾘ!A:Z,12,FALSE)","v":44949.4631292962},null,6,4,6,5,7,7]
["4665","ダスキン","情報通信・サービスその他","サービス業",{"$f":"IF(ISERROR(VLOOKUP(A31,ﾈｵﾓﾊﾞ一覧!A:C,3,FALSE)),\"\",VLOOKUP(A31,ﾈｵﾓﾊﾞ一覧!A:C,3,FALSE))","v":12840},{"$f":"IF(ISERROR(VLOOKUP(A31,ﾈｵﾓﾊﾞ一覧!A:D,4,FALSE)),\"\",VLOOKUP(A31,ﾈｵﾓﾊﾞ一覧!A:D,4,FALSE))","v":1944},0.17841409691629956,5.1773350143812175E-3,{"$f":"VLOOKUP(C31,ﾈｵﾓﾊﾞｻﾏﾘ!A:Z,12,FALSE)","v":44949.4631292962},null,7,3,7,3,9,9]
["4298","プロトコーポレーション","情報通信・サービスその他","情報・通信業",{"$f":"IF(ISERROR(VLOOKUP(A32,ﾈｵﾓﾊﾞ一覧!A:C,3,FALSE)),\"\",VLOOKUP(A32,ﾈｵﾓﾊﾞ一覧!A:C,3,FALSE))","v":12720},{"$f":"IF(ISERROR(VLOOKUP(A32,ﾈｵﾓﾊﾞ一覧!A:D,4,FALSE)),\"\",VLOOKUP(A32,ﾈｵﾓﾊﾞ一覧!A:D,4,FALSE))","v":980},8.3475298126064731E-2,5.1289487058355987E-3,{"$f":"VLOOKUP(C32,ﾈｵﾓﾊﾞｻﾏﾘ!A:Z,12,FALSE)","v":44949.4631292962},null,6,6,4,8,5,7]
["4318","クイック","情報通信・サービスその他","サービス業",{"$f":"IF(ISERROR(VLOOKUP(A33,ﾈｵﾓﾊﾞ一覧!A:C,3,FALSE)),\"\",VLOOKUP(A33,ﾈｵﾓﾊﾞ一覧!A:C,3,FALSE))","v":12175},{"$f":"IF(ISERROR(VLOOKUP(A33,ﾈｵﾓﾊﾞ一覧!A:D,4,FALSE)),\"\",VLOOKUP(A33,ﾈｵﾓﾊﾞ一覧!A:D,4,FALSE))","v":2175},0.2175,4.9091942211909132E-3,{"$f":"VLOOKUP(C33,ﾈｵﾓﾊﾞｻﾏﾘ!A:Z,12,FALSE)","v":44949.4631292962},null,8,10,"-",3,5,10]
["4307","野村総合研究所","情報通信・サービスその他","情報・通信業",{"$f":"IF(ISERROR(VLOOKUP(A34,ﾈｵﾓﾊﾞ一覧!A:C,3,FALSE)),\"\",VLOOKUP(A34,ﾈｵﾓﾊﾞ一覧!A:C,3,FALSE))","v":12093},{"$f":"IF(ISERROR(VLOOKUP(A34,ﾈｵﾓﾊﾞ一覧!A:D,4,FALSE)),\"\",VLOOKUP(A34,ﾈｵﾓﾊﾞ一覧!A:D,4,FALSE))","v":3492},0.4059993024066969,4.8761302436847401E-3,{"$f":"VLOOKUP(C34,ﾈｵﾓﾊﾞｻﾏﾘ!A:Z,12,FALSE)","v":44949.4631292962},null,3,2,2,1,6,8]
["9436","沖縄セルラー電話","情報通信・サービスその他","情報・通信業",{"$f":"IF(ISERROR(VLOOKUP(A35,ﾈｵﾓﾊﾞ一覧!A:C,3,FALSE)),\"\",VLOOKUP(A35,ﾈｵﾓﾊﾞ一覧!A:C,3,FALSE))","v":12020},{"$f":"IF(ISERROR(VLOOKUP(A35,ﾈｵﾓﾊﾞ一覧!A:D,4,FALSE)),\"\",VLOOKUP(A35,ﾈｵﾓﾊﾞ一覧!A:D,4,FALSE))","v":3280},0.37528604118993136,4.8466952393194885E-3,{"$f":"VLOOKUP(C35,ﾈｵﾓﾊﾞｻﾏﾘ!A:Z,12,FALSE)","v":44949.4631292962},null,6,5,8,4,10,2]
["7981","タカラスタンダード","情報通信・サービスその他","その他製品",{"$f":"IF(ISERROR(VLOOKUP(A36,ﾈｵﾓﾊﾞ一覧!A:C,3,FALSE)),\"\",VLOOKUP(A36,ﾈｵﾓﾊﾞ一覧!A:C,3,FALSE))","v":11172},{"$f":"IF(ISERROR(VLOOKUP(A36,ﾈｵﾓﾊﾞ一覧!A:D,4,FALSE)),\"\",VLOOKUP(A36,ﾈｵﾓﾊﾞ一覧!A:D,4,FALSE))","v":2322},0.26237288135593223,4.5047653255971152E-3,{"$f":"VLOOKUP(C36,ﾈｵﾓﾊﾞｻﾏﾘ!A:Z,12,FALSE)","v":44949.4631292962},null,7,2,"-",5,8,9]
["6028","テクノプロ・ホールディングス","情報通信・サービスその他","サービス業",{"$f":"IF(ISERROR(VLOOKUP(A37,ﾈｵﾓﾊﾞ一覧!A:C,3,FALSE)),\"\",VLOOKUP(A37,ﾈｵﾓﾊﾞ一覧!A:C,3,FALSE))","v":11019},{"$f":"IF(ISERROR(VLOOKUP(A37,ﾈｵﾓﾊﾞ一覧!A:D,4,FALSE)),\"\",VLOOKUP(A37,ﾈｵﾓﾊﾞ一覧!A:D,4,FALSE))","v":2598},0.30851442821517633,4.4430727822014513E-3,{"$f":"VLOOKUP(C37,ﾈｵﾓﾊﾞｻﾏﾘ!A:Z,12,FALSE)","v":44949.4631292962},null,2,2,3,2,3,7]
["9715","トランス・コスモス","情報通信・サービスその他","サービス業",{"$f":"IF(ISERROR(VLOOKUP(A38,ﾈｵﾓﾊﾞ一覧!A:C,3,FALSE)),\"\",VLOOKUP(A38,ﾈｵﾓﾊﾞ一覧!A:C,3,FALSE))","v":10440},{"$f":"IF(ISERROR(VLOOKUP(A38,ﾈｵﾓﾊﾞ一覧!A:D,4,FALSE)),\"\",VLOOKUP(A38,ﾈｵﾓﾊﾞ一覧!A:D,4,FALSE))","v":975},0.10301109350237718,4.20960884346884E-3,{"$f":"VLOOKUP(C38,ﾈｵﾓﾊﾞｻﾏﾘ!A:Z,12,FALSE)","v":44949.4631292962},null,9,6,6,9,9,9]
["4671","ファルコＨＬＤＧ","情報通信・サービスその他","サービス業",{"$f":"IF(ISERROR(VLOOKUP(A39,ﾈｵﾓﾊﾞ一覧!A:C,3,FALSE)),\"\",VLOOKUP(A39,ﾈｵﾓﾊﾞ一覧!A:C,3,FALSE))","v":9390},{"$f":"IF(ISERROR(VLOOKUP(A39,ﾈｵﾓﾊﾞ一覧!A:D,4,FALSE)),\"\",VLOOKUP(A39,ﾈｵﾓﾊﾞ一覧!A:D,4,FALSE))","v":-5},-5.3219797764768491E-4,3.7862286436946752E-3,{"$f":"VLOOKUP(C39,ﾈｵﾓﾊﾞｻﾏﾘ!A:Z,12,FALSE)","v":44949.4631292962},null,8,6,10,8,5,5]
["4694","ビー・エム・エル","情報通信・サービスその他","サービス業",{"$f":"IF(ISERROR(VLOOKUP(A40,ﾈｵﾓﾊﾞ一覧!A:C,3,FALSE)),\"\",VLOOKUP(A40,ﾈｵﾓﾊﾞ一覧!A:C,3,FALSE))","v":9015},{"$f":"IF(ISERROR(VLOOKUP(A40,ﾈｵﾓﾊﾞ一覧!A:D,4,FALSE)),\"\",VLOOKUP(A40,ﾈｵﾓﾊﾞ一覧!A:D,4,FALSE))","v":-1575},-0.14872521246458922,3.6350214294896166E-3,{"$f":"VLOOKUP(C40,ﾈｵﾓﾊﾞｻﾏﾘ!A:Z,12,FALSE)","v":44949.4631292962},null,6,4,5,8,8,5]
["4544","Ｈ．Ｕ．グループホールディングス","情報通信・サービスその他","サービス業",{"$f":"IF(ISERROR(VLOOKUP(A41,ﾈｵﾓﾊﾞ一覧!A:C,3,FALSE)),\"\",VLOOKUP(A41,ﾈｵﾓﾊﾞ一覧!A:C,3,FALSE))","v":8424},{"$f":"IF(ISERROR(VLOOKUP(A41,ﾈｵﾓﾊﾞ一覧!A:D,4,FALSE)),\"\",VLOOKUP(A41,ﾈｵﾓﾊﾞ一覧!A:D,4,FALSE))","v":-252},-2.9045643153526972E-2,3.3967188599024435E-3,{"$f":"VLOOKUP(C41,ﾈｵﾓﾊﾞｻﾏﾘ!A:Z,12,FALSE)","v":44949.4631292962},null,5,3,5,6,9,4]
["4553","東和薬品","医薬品","医薬品",{"$f":"IF(ISERROR(VLOOKUP(A42,ﾈｵﾓﾊﾞ一覧!A:C,3,FALSE)),\"\",VLOOKUP(A42,ﾈｵﾓﾊﾞ一覧!A:C,3,FALSE))","v":""},{"$f":"IF(ISERROR(VLOOKUP(A42,ﾈｵﾓﾊﾞ一覧!A:D,4,FALSE)),\"\",VLOOKUP(A42,ﾈｵﾓﾊﾞ一覧!A:D,4,FALSE))","v":""},{"$error":"#VALUE!"},{"$error":"#VALUE!"},{"$f":"VLOOKUP(C42,ﾈｵﾓﾊﾞｻﾏﾘ!A:Z,12,FALSE)","v":26246.295386446145},null,1,3,1,5,5,1]
["4516","日本新薬","医薬品","医薬品",{"$f":"IF(ISERROR(VLOOKUP(A43,ﾈｵﾓﾊﾞ一覧!A:C,3,FALSE)),\"\",VLOOKUP(A43,ﾈｵﾓﾊﾞ一覧!A:C,3,FALSE))","v":""},{"$f":"IF(ISERROR(VLOOKUP(A43,ﾈｵﾓﾊﾞ一覧!A:D,4,FALSE)),\"\",VLOOKUP(A43,ﾈｵﾓﾊﾞ一覧!A:D,4,FALSE))","v":""},{"$error":"#VALUE!"},{"$error":"#VALUE!"},{"$f":"VLOOKUP(C43,ﾈｵﾓﾊﾞｻﾏﾘ!A:Z,12,FALSE)","v":26246.295386446145}]
["4519","中外製薬","医薬品","医薬品",{"$f":"IF(ISERROR(VLOOKUP(A44,ﾈｵﾓﾊﾞ一覧!A:C,3,FALSE)),\"\",VLOOKUP(A44,ﾈｵﾓﾊﾞ一覧!A:C,3,FALSE))","v":""},{"$f":"IF(ISERROR(VLOOKUP(A44,ﾈｵﾓﾊﾞ一覧!A:D,4,FALSE)),\"\",VLOOKUP(A44,ﾈｵﾓﾊﾞ一覧!A:D,4,FALSE))","v":""},{"$error":"#VALUE!"},{"$error":"#VALUE!"},{"$f":"VLOOKUP(C44,ﾈｵﾓﾊﾞｻﾏﾘ!A:Z,12,FALSE)","v":26246.295386446145},"65,567億円",5,4,9,3,7,3]
["4527","ロート製薬","医薬品","医薬品",{"$f":"IF(ISERROR(VLOOKUP(A45,ﾈｵﾓﾊﾞ一覧!A:C,3,FALSE)),\"\",VLOOKUP(A45,ﾈｵﾓﾊﾞ一覧!A:C,3,FALSE))","v":18180},{"$f":"IF(ISERROR(VLOOKUP(A45,ﾈｵﾓﾊﾞ一覧!A:D,4,FALSE)),\"\",VLOOKUP(A45,ﾈｵﾓﾊﾞ一覧!A:D,4,FALSE))","v":9162},1.0159680638722555,7.3305257446612563E-3,{"$f":"VLOOKUP(C45,ﾈｵﾓﾊﾞｻﾏﾘ!A:Z,12,FALSE)","v":26246.295386446145},null,8,9,9,2,7,8]
["4886","あすか製薬ＨＬＤＧ","医薬品","医薬品",{"$f":"IF(ISERROR(VLOOKUP(A46,ﾈｵﾓﾊﾞ一覧!A:C,3,FALSE)),\"\",VLOOKUP(A46,ﾈｵﾓﾊﾞ一覧!A:C,3,FALSE))","v":15600},{"$f":"IF(ISERROR(VLOOKUP(A46,ﾈｵﾓﾊﾞ一覧!A:D,4,FALSE)),\"\",VLOOKUP(A46,ﾈｵﾓﾊﾞ一覧!A:D,4,FALSE))","v":5740},0.58215010141987833,6.2902201109304515E-3,{"$f":"VLOOKUP(C46,ﾈｵﾓﾊﾞｻﾏﾘ!A:Z,12,FALSE)","v":26246.295386446145},null,8,6,9,8,5,7]
["4528","小野薬品工業","医薬品","医薬品",{"$f":"IF(ISERROR(VLOOKUP(A47,ﾈｵﾓﾊﾞ一覧!A:C,3,FALSE)),\"\",VLOOKUP(A47,ﾈｵﾓﾊﾞ一覧!A:C,3,FALSE))","v":13007.5},{"$f":"IF(ISERROR(VLOOKUP(A47,ﾈｵﾓﾊﾞ一覧!A:D,4,FALSE)),\"\",VLOOKUP(A47,ﾈｵﾓﾊﾞ一覧!A:D,4,FALSE))","v":2567},0.24586945069680571,5.244874236726144E-3,{"$f":"VLOOKUP(C47,ﾈｵﾓﾊﾞｻﾏﾘ!A:Z,12,FALSE)","v":26246.295386446145},null,5,10,1,7,6,1]
["4547","キッセイ薬品工業","医薬品","医薬品",{"$f":"IF(ISERROR(VLOOKUP(A48,ﾈｵﾓﾊﾞ一覧!A:C,3,FALSE)),\"\",VLOOKUP(A48,ﾈｵﾓﾊﾞ一覧!A:C,3,FALSE))","v":12040},{"$f":"IF(ISERROR(VLOOKUP(A48,ﾈｵﾓﾊﾞ一覧!A:D,4,FALSE)),\"\",VLOOKUP(A48,ﾈｵﾓﾊﾞ一覧!A:D,4,FALSE))","v":1984},0.19729514717581542,4.8547596240770922E-3,{"$f":"VLOOKUP(C48,ﾈｵﾓﾊﾞｻﾏﾘ!A:Z,12,FALSE)","v":26246.295386446145},null,7,6,8,5,7,6]
["4507","塩野義製薬","医薬品","医薬品",{"$f":"IF(ISERROR(VLOOKUP(A49,ﾈｵﾓﾊﾞ一覧!A:C,3,FALSE)),\"\",VLOOKUP(A49,ﾈｵﾓﾊﾞ一覧!A:C,3,FALSE))","v":11864},{"$f":"IF(ISERROR(VLOOKUP(A49,ﾈｵﾓﾊﾞ一覧!A:D,4,FALSE)),\"\",VLOOKUP(A49,ﾈｵﾓﾊﾞ一覧!A:D,4,FALSE))","v":998},9.1846125529173567E-2,4.7837930382101839E-3,{"$f":"VLOOKUP(C49,ﾈｵﾓﾊﾞｻﾏﾘ!A:Z,12,FALSE)","v":26246.295386446145},null,6,8,5,6,8,1]
["4521","科研製薬","医薬品","医薬品",{"$f":"IF(ISERROR(VLOOKUP(A50,ﾈｵﾓﾊﾞ一覧!A:C,3,FALSE)),\"\",VLOOKUP(A50,ﾈｵﾓﾊﾞ一覧!A:C,3,FALSE))","v":10623},{"$f":"IF(ISERROR(VLOOKUP(A50,ﾈｵﾓﾊﾞ一覧!A:D,4,FALSE)),\"\",VLOOKUP(A50,ﾈｵﾓﾊﾞ一覧!A:D,4,FALSE))","v":-927},-8.0259740259740253E-2,4.283397964000909E-3,{"$f":"VLOOKUP(C50,ﾈｵﾓﾊﾞｻﾏﾘ!A:Z,12,FALSE)","v":26246.295386446145},null,3,4,5,2,8,1]
["4577","ダイト","医薬品","医薬品",{"$f":"IF(ISERROR(VLOOKUP(A51,ﾈｵﾓﾊﾞ一覧!A:C,3,FALSE)),\"\",VLOOKUP(A51,ﾈｵﾓﾊﾞ一覧!A:C,3,FALSE))","v":9360},{"$f":"IF(ISERROR(VLOOKUP(A51,ﾈｵﾓﾊﾞ一覧!A:D,4,FALSE)),\"\",VLOOKUP(A51,ﾈｵﾓﾊﾞ一覧!A:D,4,FALSE))","v":-1368},-0.12751677852348994,3.7741320665582705E-3,{"$f":"VLOOKUP(C51,ﾈｵﾓﾊﾞｻﾏﾘ!A:Z,12,FALSE)","v":26246.295386446145},null,6,4,10,8,5,1]
["4548","生化学工業","医薬品","医薬品",{"$f":"IF(ISERROR(VLOOKUP(A52,ﾈｵﾓﾊﾞ一覧!A:C,3,FALSE)),\"\",VLOOKUP(A52,ﾈｵﾓﾊﾞ一覧!A:C,3,FALSE))","v":9288},{"$f":"IF(ISERROR(VLOOKUP(A52,ﾈｵﾓﾊﾞ一覧!A:D,4,FALSE)),\"\",VLOOKUP(A52,ﾈｵﾓﾊﾞ一覧!A:D,4,FALSE))","v":-168},-1.7766497461928935E-2,3.7451002814308993E-3,{"$f":"VLOOKUP(C52,ﾈｵﾓﾊﾞｻﾏﾘ!A:Z,12,FALSE)","v":26246.295386446145},null,3,7,1,4,7,1]
["4540","ツムラ","医薬品","医薬品",{"$f":"IF(ISERROR(VLOOKUP(A53,ﾈｵﾓﾊﾞ一覧!A:C,3,FALSE)),\"\",VLOOKUP(A53,ﾈｵﾓﾊﾞ一覧!A:C,3,FALSE))","v":7936.5},{"$f":"IF(ISERROR(VLOOKUP(A53,ﾈｵﾓﾊﾞ一覧!A:D,4,FALSE)),\"\",VLOOKUP(A53,ﾈｵﾓﾊﾞ一覧!A:D,4,FALSE))","v":-1303},-0.14102494723740461,3.2001494814358671E-3,{"$f":"VLOOKUP(C53,ﾈｵﾓﾊﾞｻﾏﾘ!A:Z,12,FALSE)","v":26246.295386446145},null,5,4,5,6,9,1]
["4549","栄研化学","医薬品","医薬品",{"$f":"IF(ISERROR(VLOOKUP(A54,ﾈｵﾓﾊﾞ一覧!A:C,3,FALSE)),\"\",VLOOKUP(A54,ﾈｵﾓﾊﾞ一覧!A:C,3,FALSE))","v":7545},{"$f":"IF(ISERROR(VLOOKUP(A54,ﾈｵﾓﾊﾞ一覧!A:D,4,FALSE)),\"\",VLOOKUP(A54,ﾈｵﾓﾊﾞ一覧!A:D,4,FALSE))","v":-2175},-0.22376543209876543,3.0422891498057855E-3,{"$f":"VLOOKUP(C54,ﾈｵﾓﾊﾞｻﾏﾘ!A:Z,12,FALSE)","v":26246.295386446145},null,6,5,8,6,6,4]
["7550","ゼンショーホールディングス","小売","小売業",{"$f":"IF(ISERROR(VLOOKUP(A55,ﾈｵﾓﾊﾞ一覧!A:C,3,FALSE)),\"\",VLOOKUP(A55,ﾈｵﾓﾊﾞ一覧!A:C,3,FALSE))","v":""},{"$f":"IF(ISERROR(VLOOKUP(A55,ﾈｵﾓﾊﾞ一覧!A:D,4,FALSE)),\"\",VLOOKUP(A55,ﾈｵﾓﾊﾞ一覧!A:D,4,FALSE))","v":""},{"$error":"#VALUE!"},{"$error":"#VALUE!"},{"$f":"VLOOKUP(C55,ﾈｵﾓﾊﾞｻﾏﾘ!A:Z,12,FALSE)","v":17773.61276977681},null,4,5,7,1,5,7]
["3050","ＤＣＭホールディングス","小売","小売業",{"$f":"IF(ISERROR(VLOOKUP(A56,ﾈｵﾓﾊﾞ一覧!A:C,3,FALSE)),\"\",VLOOKUP(A56,ﾈｵﾓﾊﾞ一覧!A:C,3,FALSE))","v":""},{"$f":"IF(ISERROR(VLOOKUP(A56,ﾈｵﾓﾊﾞ一覧!A:D,4,FALSE)),\"\",VLOOKUP(A56,ﾈｵﾓﾊﾞ一覧!A:D,4,FALSE))","v":""},{"$error":"#VALUE!"},{"$error":"#VALUE!"},{"$f":"VLOOKUP(C56,ﾈｵﾓﾊﾞｻﾏﾘ!A:Z,12,FALSE)","v":17773.61276977681},null,5,4,3,9,6,4]
["9956","バローホールディングス","小売","小売業",{"$f":"IF(ISERROR(VLOOKUP(A57,ﾈｵﾓﾊﾞ一覧!A:C,3,FALSE)),\"\",VLOOKUP(A57,ﾈｵﾓﾊﾞ一覧!A:C,3,FALSE))","v":""},{"$f":"IF(ISERROR(VLOOKUP(A57,ﾈｵﾓﾊﾞ一覧!A:D,4,FALSE)),\"\",VLOOKUP(A57,ﾈｵﾓﾊﾞ一覧!A:D,4,FALSE))","v":""},{"$error":"#VALUE!"},{"$error":"#VALUE!"},{"$f":"VLOOKUP(C57,ﾈｵﾓﾊﾞｻﾏﾘ!A:Z,12,FALSE)","v":17773.61276977681},null,3,4,2,8,7,1]
["8255","アクシアル　リテイリング","小売","小売業",{"$f":"IF(ISERROR(VLOOKUP(A58,ﾈｵﾓﾊﾞ一覧!A:C,3,FALSE)),\"\",VLOOKUP(A58,ﾈｵﾓﾊﾞ一覧!A:C,3,FALSE))","v":""},{"$f":"IF(ISERROR(VLOOKUP(A58,ﾈｵﾓﾊﾞ一覧!A:D,4,FALSE)),\"\",VLOOKUP(A58,ﾈｵﾓﾊﾞ一覧!A:D,4,FALSE))","v":""},{"$error":"#VALUE!"},{"$error":"#VALUE!"},{"$f":"VLOOKUP(C58,ﾈｵﾓﾊﾞｻﾏﾘ!A:Z,12,FALSE)","v":17773.61276977681},null,5,8,4,7,4,4]
["7532","パン・パシフィック・インターナショナルホールディングス","小売","小売業",{"$f":"IF(ISERROR(VLOOKUP(A59,ﾈｵﾓﾊﾞ一覧!A:C,3,FALSE)),\"\",VLOOKUP(A59,ﾈｵﾓﾊﾞ一覧!A:C,3,FALSE))","v":""},{"$f":"IF(ISERROR(VLOOKUP(A59,ﾈｵﾓﾊﾞ一覧!A:D,4,FALSE)),\"\",VLOOKUP(A59,ﾈｵﾓﾊﾞ一覧!A:D,4,FALSE))","v":""},{"$error":"#VALUE!"},{"$error":"#VALUE!"},{"$f":"VLOOKUP(C59,ﾈｵﾓﾊﾞｻﾏﾘ!A:Z,12,FALSE)","v":17773.61276977681},"11,372億円",5,6,9,3,4,4]
["3341","日本調剤","小売","小売業",{"$f":"IF(ISERROR(VLOOKUP(A60,ﾈｵﾓﾊﾞ一覧!A:C,3,FALSE)),\"\",VLOOKUP(A60,ﾈｵﾓﾊﾞ一覧!A:C,3,FALSE))","v":""},{"$f":"IF(ISERROR(VLOOKUP(A60,ﾈｵﾓﾊﾞ一覧!A:D,4,FALSE)),\"\",VLOOKUP(A60,ﾈｵﾓﾊﾞ一覧!A:D,4,FALSE))","v":""},{"$error":"#VALUE!"},{"$error":"#VALUE!"},{"$f":"VLOOKUP(C60,ﾈｵﾓﾊﾞｻﾏﾘ!A:Z,12,FALSE)","v":17773.61276977681},null,4,4,1,10,4,5]
["7649","スギホールディングス","小売","小売業",{"$f":"IF(ISERROR(VLOOKUP(A61,ﾈｵﾓﾊﾞ一覧!A:C,3,FALSE)),\"\",VLOOKUP(A61,ﾈｵﾓﾊﾞ一覧!A:C,3,FALSE))","v":""},{"$f":"IF(ISERROR(VLOOKUP(A61,ﾈｵﾓﾊﾞ一覧!A:D,4,FALSE)),\"\",VLOOKUP(A61,ﾈｵﾓﾊﾞ一覧!A:D,4,FALSE))","v":""},{"$error":"#VALUE!"},{"$error":"#VALUE!"},{"$f":"VLOOKUP(C61,ﾈｵﾓﾊﾞｻﾏﾘ!A:Z,12,FALSE)","v":17773.61276977681},null,6,8,8,4,7,2]
["8282","ケーズホールディングス","小売","小売業",{"$f":"IF(ISERROR(VLOOKUP(A62,ﾈｵﾓﾊﾞ一覧!A:C,3,FALSE)),\"\",VLOOKUP(A62,ﾈｵﾓﾊﾞ一覧!A:C,3,FALSE))","v":""},{"$f":"IF(ISERROR(VLOOKUP(A62,ﾈｵﾓﾊﾞ一覧!A:D,4,FALSE)),\"\",VLOOKUP(A62,ﾈｵﾓﾊﾞ一覧!A:D,4,FALSE))","v":""},{"$error":"#VALUE!"},{"$error":"#VALUE!"},{"$f":"VLOOKUP(C62,ﾈｵﾓﾊﾞｻﾏﾘ!A:Z,12,FALSE)","v":17773.61276977681},null,3,1,2,7,7,2]
["3186","ネクステージ","小売","小売業",{"$f":"IF(ISERROR(VLOOKUP(A63,ﾈｵﾓﾊﾞ一覧!A:C,3,FALSE)),\"\",VLOOKUP(A63,ﾈｵﾓﾊﾞ一覧!A:C,3,FALSE))","v":""},{"$f":"IF(ISERROR(VLOOKUP(A63,ﾈｵﾓﾊﾞ一覧!A:D,4,FALSE)),\"\",VLOOKUP(A63,ﾈｵﾓﾊﾞ一覧!A:D,4,FALSE))","v":""},{"$error":"#VALUE!"},{"$error":"#VALUE!"},{"$f":"VLOOKUP(C63,ﾈｵﾓﾊﾞｻﾏﾘ!A:Z,12,FALSE)","v":17773.61276977681},null,7,6,9,3,3,10]
["3382","セブン＆アイ・ホールディングス","小売","小売業",{"$f":"IF(ISERROR(VLOOKUP(A64,ﾈｵﾓﾊﾞ一覧!A:C,3,FALSE)),\"\",VLOOKUP(A64,ﾈｵﾓﾊﾞ一覧!A:C,3,FALSE))","v":17679},{"$f":"IF(ISERROR(VLOOKUP(A64,ﾈｵﾓﾊﾞ一覧!A:D,4,FALSE)),\"\",VLOOKUP(A64,ﾈｵﾓﾊﾞ一覧!A:D,4,FALSE))","v":7953},0.81770512029611353,7.1285129064832982E-3,{"$f":"VLOOKUP(C64,ﾈｵﾓﾊﾞｻﾏﾘ!A:Z,12,FALSE)","v":17773.61276977681},"37,284億円",5,5,5,5,8,4]
["2730","エディオン","小売","小売業",{"$f":"IF(ISERROR(VLOOKUP(A65,ﾈｵﾓﾊﾞ一覧!A:C,3,FALSE)),\"\",VLOOKUP(A65,ﾈｵﾓﾊﾞ一覧!A:C,3,FALSE))","v":14620},{"$f":"IF(ISERROR(VLOOKUP(A65,ﾈｵﾓﾊﾞ一覧!A:D,4,FALSE)),\"\",VLOOKUP(A65,ﾈｵﾓﾊﾞ一覧!A:D,4,FALSE))","v":3680},0.33638025594149906,5.8950652578078971E-3,{"$f":"VLOOKUP(C65,ﾈｵﾓﾊﾞｻﾏﾘ!A:Z,12,FALSE)","v":17773.61276977681},null,6,2,5,7,8,7]
["8227","しまむら","小売","小売業",{"$f":"IF(ISERROR(VLOOKUP(A66,ﾈｵﾓﾊﾞ一覧!A:C,3,FALSE)),\"\",VLOOKUP(A66,ﾈｵﾓﾊﾞ一覧!A:C,3,FALSE))","v":14085},{"$f":"IF(ISERROR(VLOOKUP(A66,ﾈｵﾓﾊﾞ一覧!A:D,4,FALSE)),\"\",VLOOKUP(A66,ﾈｵﾓﾊﾞ一覧!A:D,4,FALSE))","v":3985},{"$f":"F66/(E66-F66)","v":0.39455445544554457},{"$f":"E66/SUM(E:E)","v":5.6793429655420131E-3},{"$f":"VLOOKUP(C66,ﾈｵﾓﾊﾞｻﾏﾘ!A:Z,12,FALSE)","v":17773.61276977681},null,7,9,5,5,9,4]
["8276","平和堂","小売","小売業",{"$f":"IF(ISERROR(VLOOKUP(A67,ﾈｵﾓﾊﾞ一覧!A:C,3,FALSE)),\"\",VLOOKUP(A67,ﾈｵﾓﾊﾞ一覧!A:C,3,FALSE))","v":12100},{"$f":"IF(ISERROR(VLOOKUP(A67,ﾈｵﾓﾊﾞ一覧!A:D,4,FALSE)),\"\",VLOOKUP(A67,ﾈｵﾓﾊﾞ一覧!A:D,4,FALSE))","v":2305},0.23532414497192444,4.8789527783499017E-3,{"$f":"VLOOKUP(C67,ﾈｵﾓﾊﾞｻﾏﾘ!A:Z,12,FALSE)","v":17773.61276977681},null,7,6,10,5,5,5]
["8218","コメリ","小売","小売業",{"$f":"IF(ISERROR(VLOOKUP(A68,ﾈｵﾓﾊﾞ一覧!A:C,3,FALSE)),\"\",VLOOKUP(A68,ﾈｵﾓﾊﾞ一覧!A:C,3,FALSE))","v":11920},{"$f":"IF(ISERROR(VLOOKUP(A68,ﾈｵﾓﾊﾞ一覧!A:D,4,FALSE)),\"\",VLOOKUP(A68,ﾈｵﾓﾊﾞ一覧!A:D,4,FALSE))","v":1200},0.11194029850746269,4.8063733155314725E-3,{"$f":"VLOOKUP(C68,ﾈｵﾓﾊﾞｻﾏﾘ!A:Z,12,FALSE)","v":17773.61276977681},null,8,5,10,9,6,5]
["2702","日本マクドナルドホールディングス","小売","小売業",{"$f":"IF(ISERROR(VLOOKUP(A69,ﾈｵﾓﾊﾞ一覧!A:C,3,FALSE)),\"\",VLOOKUP(A69,ﾈｵﾓﾊﾞ一覧!A:C,3,FALSE))","v":11200},{"$f":"IF(ISERROR(VLOOKUP(A69,ﾈｵﾓﾊﾞ一覧!A:D,4,FALSE)),\"\",VLOOKUP(A69,ﾈｵﾓﾊﾞ一覧!A:D,4,FALSE))","v":1440},0.14754098360655737,4.5160554642577596E-3,{"$f":"VLOOKUP(C69,ﾈｵﾓﾊﾞｻﾏﾘ!A:Z,12,FALSE)","v":17773.61276977681},null,6,5,7,2,10,4]
["7593","ＶＴホールディングス","小売","小売業",{"$f":"IF(ISERROR(VLOOKUP(A70,ﾈｵﾓﾊﾞ一覧!A:C,3,FALSE)),\"\",VLOOKUP(A70,ﾈｵﾓﾊﾞ一覧!A:C,3,FALSE))","v":11193},{"$f":"IF(ISERROR(VLOOKUP(A70,ﾈｵﾓﾊﾞ一覧!A:D,4,FALSE)),\"\",VLOOKUP(A70,ﾈｵﾓﾊﾞ一覧!A:D,4,FALSE))","v":1155},0.11506276150627615,4.5132329295925989E-3,{"$f":"VLOOKUP(C70,ﾈｵﾓﾊﾞｻﾏﾘ!A:Z,12,FALSE)","v":17773.61276977681},null,6,4,4,10,6,6]
["8273","イズミ","小売","小売業",{"$f":"IF(ISERROR(VLOOKUP(A71,ﾈｵﾓﾊﾞ一覧!A:C,3,FALSE)),\"\",VLOOKUP(A71,ﾈｵﾓﾊﾞ一覧!A:C,3,FALSE))","v":10740},{"$f":"IF(ISERROR(VLOOKUP(A71,ﾈｵﾓﾊﾞ一覧!A:D,4,FALSE)),\"\",VLOOKUP(A71,ﾈｵﾓﾊﾞ一覧!A:D,4,FALSE))","v":2079},0.2400415656390717,4.330574614832888E-3,{"$f":"VLOOKUP(C71,ﾈｵﾓﾊﾞｻﾏﾘ!A:Z,12,FALSE)","v":17773.61276977681},null,8,7,8,7,8,4]
["7516","コーナン商事","小売","小売業",{"$f":"IF(ISERROR(VLOOKUP(A72,ﾈｵﾓﾊﾞ一覧!A:C,3,FALSE)),\"\",VLOOKUP(A72,ﾈｵﾓﾊﾞ一覧!A:C,3,FALSE))","v":10440},{"$f":"IF(ISERROR(VLOOKUP(A72,ﾈｵﾓﾊﾞ一覧!A:D,4,FALSE)),\"\",VLOOKUP(A72,ﾈｵﾓﾊﾞ一覧!A:D,4,FALSE))","v":120},1.1627906976744186E-2,4.20960884346884E-3,{"$f":"VLOOKUP(C72,ﾈｵﾓﾊﾞｻﾏﾘ!A:Z,12,FALSE)","v":17773.61276977681},null,7,3,"-",9,6,7]
["3319","ゴルフダイジェスト・オンライン","小売","小売業",{"$f":"IF(ISERROR(VLOOKUP(A73,ﾈｵﾓﾊﾞ一覧!A:C,3,FALSE)),\"\",VLOOKUP(A73,ﾈｵﾓﾊﾞ一覧!A:C,3,FALSE))","v":7047},{"$f":"IF(ISERROR(VLOOKUP(A73,ﾈｵﾓﾊﾞ一覧!A:D,4,FALSE)),\"\",VLOOKUP(A73,ﾈｵﾓﾊﾞ一覧!A:D,4,FALSE))","v":-3510},-0.33248081841432225,2.8414859693414673E-3,{"$f":"VLOOKUP(C73,ﾈｵﾓﾊﾞｻﾏﾘ!A:Z,12,FALSE)","v":17773.61276977681},null,2,2,5,5,3,4]
["2270","雪印メグミルク","食品","食料品",{"$f":"IF(ISERROR(VLOOKUP(A74,ﾈｵﾓﾊﾞ一覧!A:C,3,FALSE)),\"\",VLOOKUP(A74,ﾈｵﾓﾊﾞ一覧!A:C,3,FALSE))","v":""},{"$f":"IF(ISERROR(VLOOKUP(A74,ﾈｵﾓﾊﾞ一覧!A:D,4,FALSE)),\"\",VLOOKUP(A74,ﾈｵﾓﾊﾞ一覧!A:D,4,FALSE))","v":""},{"$error":"#VALUE!"},{"$error":"#VALUE!"},{"$f":"VLOOKUP(C74,ﾈｵﾓﾊﾞｻﾏﾘ!A:Z,12,FALSE)","v":8896.7473180869711},null,4,5,4,6,5,3]
["2587","サントリー食品インターナショナル","食品","食料品",{"$f":"IF(ISERROR(VLOOKUP(A75,ﾈｵﾓﾊﾞ一覧!A:C,3,FALSE)),\"\",VLOOKUP(A75,ﾈｵﾓﾊﾞ一覧!A:C,3,FALSE))","v":""},{"$f":"IF(ISERROR(VLOOKUP(A75,ﾈｵﾓﾊﾞ一覧!A:D,4,FALSE)),\"\",VLOOKUP(A75,ﾈｵﾓﾊﾞ一覧!A:D,4,FALSE))","v":""},{"$error":"#VALUE!"},{"$error":"#VALUE!"},{"$f":"VLOOKUP(C75,ﾈｵﾓﾊﾞｻﾏﾘ!A:Z,12,FALSE)","v":8896.7473180869711},null,7,7,9,4,9,3]
["2875","東洋水産","食品","食料品",{"$f":"IF(ISERROR(VLOOKUP(A76,ﾈｵﾓﾊﾞ一覧!A:C,3,FALSE)),\"\",VLOOKUP(A76,ﾈｵﾓﾊﾞ一覧!A:C,3,FALSE))","v":""},{"$f":"IF(ISERROR(VLOOKUP(A76,ﾈｵﾓﾊﾞ一覧!A:D,4,FALSE)),\"\",VLOOKUP(A76,ﾈｵﾓﾊﾞ一覧!A:D,4,FALSE))","v":""},{"$error":"#VALUE!"},{"$error":"#VALUE!"},{"$f":"VLOOKUP(C76,ﾈｵﾓﾊﾞｻﾏﾘ!A:Z,12,FALSE)","v":8896.7473180869711},null,9,9,10,4,9,5]
["2281","プリマハム","食品","食料品",{"$f":"IF(ISERROR(VLOOKUP(A77,ﾈｵﾓﾊﾞ一覧!A:C,3,FALSE)),\"\",VLOOKUP(A77,ﾈｵﾓﾊﾞ一覧!A:C,3,FALSE))","v":""},{"$f":"IF(ISERROR(VLOOKUP(A77,ﾈｵﾓﾊﾞ一覧!A:D,4,FALSE)),\"\",VLOOKUP(A77,ﾈｵﾓﾊﾞ一覧!A:D,4,FALSE))","v":""},{"$error":"#VALUE!"},{"$error":"#VALUE!"},{"$f":"VLOOKUP(C77,ﾈｵﾓﾊﾞｻﾏﾘ!A:Z,12,FALSE)","v":8896.7473180869711},null,2,3,1,5,7,1]
["2819","エバラ食品工業","食品","食料品",{"$f":"IF(ISERROR(VLOOKUP(A78,ﾈｵﾓﾊﾞ一覧!A:C,3,FALSE)),\"\",VLOOKUP(A78,ﾈｵﾓﾊﾞ一覧!A:C,3,FALSE))","v":14775},{"$f":"IF(ISERROR(VLOOKUP(A78,ﾈｵﾓﾊﾞ一覧!A:D,4,FALSE)),\"\",VLOOKUP(A78,ﾈｵﾓﾊﾞ一覧!A:D,4,FALSE))","v":3800},0.34624145785876992,5.9575642396793218E-3,{"$f":"VLOOKUP(C78,ﾈｵﾓﾊﾞｻﾏﾘ!A:Z,12,FALSE)","v":8896.7473180869711},null,7,7,9,4,10,1]
["2264","森永乳業","食品","食料品",{"$f":"IF(ISERROR(VLOOKUP(A79,ﾈｵﾓﾊﾞ一覧!A:C,3,FALSE)),\"\",VLOOKUP(A79,ﾈｵﾓﾊﾞ一覧!A:C,3,FALSE))","v":14391},{"$f":"IF(ISERROR(VLOOKUP(A79,ﾈｵﾓﾊﾞ一覧!A:D,4,FALSE)),\"\",VLOOKUP(A79,ﾈｵﾓﾊﾞ一覧!A:D,4,FALSE))","v":3861},0.36666666666666664,5.8027280523333408E-3,{"$f":"VLOOKUP(C79,ﾈｵﾓﾊﾞｻﾏﾘ!A:Z,12,FALSE)","v":8896.7473180869711},null,3,2,5,8,5,1]
["2579","コカ・コーラ　ボトラーズジャパンホールディングス","食品","食料品",{"$f":"IF(ISERROR(VLOOKUP(A80,ﾈｵﾓﾊﾞ一覧!A:C,3,FALSE)),\"\",VLOOKUP(A80,ﾈｵﾓﾊﾞ一覧!A:C,3,FALSE))","v":11476.5},{"$f":"IF(ISERROR(VLOOKUP(A80,ﾈｵﾓﾊﾞ一覧!A:D,4,FALSE)),\"\",VLOOKUP(A80,ﾈｵﾓﾊﾞ一覧!A:D,4,FALSE))","v":1151},0.11147159943828386,4.6275455835316235E-3,{"$f":"VLOOKUP(C80,ﾈｵﾓﾊﾞｻﾏﾘ!A:Z,12,FALSE)","v":8896.7473180869711},null,5,5,5,9,6,2]
["2296","伊藤ハム米久ＨＬＤＧ","食品","食料品",{"$f":"IF(ISERROR(VLOOKUP(A81,ﾈｵﾓﾊﾞ一覧!A:C,3,FALSE)),\"\",VLOOKUP(A81,ﾈｵﾓﾊﾞ一覧!A:C,3,FALSE))","v":10830},{"$f":"IF(ISERROR(VLOOKUP(A81,ﾈｵﾓﾊﾞ一覧!A:D,4,FALSE)),\"\",VLOOKUP(A81,ﾈｵﾓﾊﾞ一覧!A:D,4,FALSE))","v":780},7.7611940298507459E-2,4.3668643462421016E-3,{"$f":"VLOOKUP(C81,ﾈｵﾓﾊﾞｻﾏﾘ!A:Z,12,FALSE)","v":8896.7473180869711},null,4,2,4,7,8,2]
["2292","Ｓ　Ｆｏｏｄｓ","食品","食料品",{"$f":"IF(ISERROR(VLOOKUP(A82,ﾈｵﾓﾊﾞ一覧!A:C,3,FALSE)),\"\",VLOOKUP(A82,ﾈｵﾓﾊﾞ一覧!A:C,3,FALSE))","v":10050},{"$f":"IF(ISERROR(VLOOKUP(A82,ﾈｵﾓﾊﾞ一覧!A:D,4,FALSE)),\"\",VLOOKUP(A82,ﾈｵﾓﾊﾞ一覧!A:D,4,FALSE))","v":1299},0.14844017826534112,4.0523533406955792E-3,{"$f":"VLOOKUP(C82,ﾈｵﾓﾊﾞｻﾏﾘ!A:Z,12,FALSE)","v":8896.7473180869711},null,9,8,9,9,9,3]
["2922","なとり","食品","食料品",{"$f":"IF(ISERROR(VLOOKUP(A83,ﾈｵﾓﾊﾞ一覧!A:C,3,FALSE)),\"\",VLOOKUP(A83,ﾈｵﾓﾊﾞ一覧!A:C,3,FALSE))","v":9820},{"$f":"IF(ISERROR(VLOOKUP(A83,ﾈｵﾓﾊﾞ一覧!A:D,4,FALSE)),\"\",VLOOKUP(A83,ﾈｵﾓﾊﾞ一覧!A:D,4,FALSE))","v":-360},-3.536345776031434E-2,3.959612915983143E-3,{"$f":"VLOOKUP(C83,ﾈｵﾓﾊﾞｻﾏﾘ!A:Z,12,FALSE)","v":8896.7473180869711},null,3,1,7,2,9,1]
["2809","キユーピー","食品","食料品",{"$f":"IF(ISERROR(VLOOKUP(A84,ﾈｵﾓﾊﾞ一覧!A:C,3,FALSE)),\"\",VLOOKUP(A84,ﾈｵﾓﾊﾞ一覧!A:C,3,FALSE))","v":9230},{"$f":"IF(ISERROR(VLOOKUP(A84,ﾈｵﾓﾊﾞ一覧!A:D,4,FALSE)),\"\",VLOOKUP(A84,ﾈｵﾓﾊﾞ一覧!A:D,4,FALSE))","v":-34},-3.6701208981001726E-3,3.7217135656338503E-3,{"$f":"VLOOKUP(C84,ﾈｵﾓﾊﾞｻﾏﾘ!A:Z,12,FALSE)","v":8896.7473180869711},null,4,5,5,2,8,3]
["8940","インテリックス","不動産","不動産業",{"$f":"IF(ISERROR(VLOOKUP(A85,ﾈｵﾓﾊﾞ一覧!A:C,3,FALSE)),\"\",VLOOKUP(A85,ﾈｵﾓﾊﾞ一覧!A:C,3,FALSE))","v":""},{"$f":"IF(ISERROR(VLOOKUP(A85,ﾈｵﾓﾊﾞ一覧!A:D,4,FALSE)),\"\",VLOOKUP(A85,ﾈｵﾓﾊﾞ一覧!A:D,4,FALSE))","v":""},{"$error":"#VALUE!"},{"$error":"#VALUE!"},{"$f":"VLOOKUP(C85,ﾈｵﾓﾊﾞｻﾏﾘ!A:Z,12,FALSE)","v":5643.1136938875425},null,2,1,"-",5,7,1]
["8830","住友不動産","不動産","不動産業",{"$f":"IF(ISERROR(VLOOKUP(A86,ﾈｵﾓﾊﾞ一覧!A:C,3,FALSE)),\"\",VLOOKUP(A86,ﾈｵﾓﾊﾞ一覧!A:C,3,FALSE))","v":15224},{"$f":"IF(ISERROR(VLOOKUP(A86,ﾈｵﾓﾊﾞ一覧!A:D,4,FALSE)),\"\",VLOOKUP(A86,ﾈｵﾓﾊﾞ一覧!A:D,4,FALSE))","v":5420},0.55283557731538147,6.138609677487512E-3,{"$f":"VLOOKUP(C86,ﾈｵﾓﾊﾞｻﾏﾘ!A:Z,12,FALSE)","v":5643.1136938875425},"15,692億円",5,4,10,6,5,2]
["3003","ヒューリック","不動産","不動産業",{"$f":"IF(ISERROR(VLOOKUP(A87,ﾈｵﾓﾊﾞ一覧!A:C,3,FALSE)),\"\",VLOOKUP(A87,ﾈｵﾓﾊﾞ一覧!A:C,3,FALSE))","v":12095},{"$f":"IF(ISERROR(VLOOKUP(A87,ﾈｵﾓﾊﾞ一覧!A:D,4,FALSE)),\"\",VLOOKUP(A87,ﾈｵﾓﾊﾞ一覧!A:D,4,FALSE))","v":2015},0.19990079365079366,4.8769366821605001E-3,{"$f":"VLOOKUP(C87,ﾈｵﾓﾊﾞｻﾏﾘ!A:Z,12,FALSE)","v":5643.1136938875425},null,9,7,10,6,9,6]
["8850","スターツコーポレーション","不動産","不動産業",{"$f":"IF(ISERROR(VLOOKUP(A88,ﾈｵﾓﾊﾞ一覧!A:C,3,FALSE)),\"\",VLOOKUP(A88,ﾈｵﾓﾊﾞ一覧!A:C,3,FALSE))","v":11780},{"$f":"IF(ISERROR(VLOOKUP(A88,ﾈｵﾓﾊﾞ一覧!A:D,4,FALSE)),\"\",VLOOKUP(A88,ﾈｵﾓﾊﾞ一覧!A:D,4,FALSE))","v":1160},0.10922787193973635,4.7499226222282509E-3,{"$f":"VLOOKUP(C88,ﾈｵﾓﾊﾞｻﾏﾘ!A:Z,12,FALSE)","v":5643.1136938875425},null,10,10,8,9,10,4]
["3252","地主","不動産","不動産業",{"$f":"IF(ISERROR(VLOOKUP(A89,ﾈｵﾓﾊﾞ一覧!A:C,3,FALSE)),\"\",VLOOKUP(A89,ﾈｵﾓﾊﾞ一覧!A:C,3,FALSE))","v":9530},{"$f":"IF(ISERROR(VLOOKUP(A89,ﾈｵﾓﾊﾞ一覧!A:D,4,FALSE)),\"\",VLOOKUP(A89,ﾈｵﾓﾊﾞ一覧!A:D,4,FALSE))","v":-870},-8.3653846153846148E-2,3.8426793369978974E-3,{"$f":"VLOOKUP(C89,ﾈｵﾓﾊﾞｻﾏﾘ!A:Z,12,FALSE)","v":5643.1136938875425},null,10,9,8,7,10,5]
["9076","セイノーＨＬＤＧ","運輸・物流","陸運業",{"$f":"IF(ISERROR(VLOOKUP(A90,ﾈｵﾓﾊﾞ一覧!A:C,3,FALSE)),\"\",VLOOKUP(A90,ﾈｵﾓﾊﾞ一覧!A:C,3,FALSE))","v":""},{"$f":"IF(ISERROR(VLOOKUP(A90,ﾈｵﾓﾊﾞ一覧!A:D,4,FALSE)),\"\",VLOOKUP(A90,ﾈｵﾓﾊﾞ一覧!A:D,4,FALSE))","v":""},{"$error":"#VALUE!"},{"$error":"#VALUE!"},{"$f":"VLOOKUP(C90,ﾈｵﾓﾊﾞｻﾏﾘ!A:Z,12,FALSE)","v":5491.358659908612},null,3,4,3,3,5,6]
["9022","東海旅客鉄道","運輸・物流","陸運業",{"$f":"IF(ISERROR(VLOOKUP(A91,ﾈｵﾓﾊﾞ一覧!A:C,3,FALSE)),\"\",VLOOKUP(A91,ﾈｵﾓﾊﾞ一覧!A:C,3,FALSE))","v":""},{"$f":"IF(ISERROR(VLOOKUP(A91,ﾈｵﾓﾊﾞ一覧!A:D,4,FALSE)),\"\",VLOOKUP(A91,ﾈｵﾓﾊﾞ一覧!A:D,4,FALSE))","v":""},{"$error":"#VALUE!"},{"$error":"#VALUE!"},{"$f":"VLOOKUP(C91,ﾈｵﾓﾊﾞｻﾏﾘ!A:Z,12,FALSE)","v":5491.358659908612},"45,639億円",8,10,8,4,8,2]
["9364","上組","運輸・物流","倉庫・運輸関連業",{"$f":"IF(ISERROR(VLOOKUP(A92,ﾈｵﾓﾊﾞ一覧!A:C,3,FALSE)),\"\",VLOOKUP(A92,ﾈｵﾓﾊﾞ一覧!A:C,3,FALSE))","v":""},{"$f":"IF(ISERROR(VLOOKUP(A92,ﾈｵﾓﾊﾞ一覧!A:D,4,FALSE)),\"\",VLOOKUP(A92,ﾈｵﾓﾊﾞ一覧!A:D,4,FALSE))","v":""},{"$error":"#VALUE!"},{"$error":"#VALUE!"},{"$f":"VLOOKUP(C92,ﾈｵﾓﾊﾞｻﾏﾘ!A:Z,12,FALSE)","v":5491.358659908612},null,9,8,9,4,10,6]
["9099","Ｃ＆Ｆロジホールディングス","運輸・物流","陸運業",{"$f":"IF(ISERROR(VLOOKUP(A93,ﾈｵﾓﾊﾞ一覧!A:C,3,FALSE)),\"\",VLOOKUP(A93,ﾈｵﾓﾊﾞ一覧!A:C,3,FALSE))","v":""},{"$f":"IF(ISERROR(VLOOKUP(A93,ﾈｵﾓﾊﾞ一覧!A:D,4,FALSE)),\"\",VLOOKUP(A93,ﾈｵﾓﾊﾞ一覧!A:D,4,FALSE))","v":""},{"$error":"#VALUE!"},{"$error":"#VALUE!"},{"$f":"VLOOKUP(C93,ﾈｵﾓﾊﾞｻﾏﾘ!A:Z,12,FALSE)","v":5491.358659908612},null,6,5,8,8,4,4]
["2384","ＳＢＳホールディングス","運輸・物流","陸運業",{"$f":"IF(ISERROR(VLOOKUP(A94,ﾈｵﾓﾊﾞ一覧!A:C,3,FALSE)),\"\",VLOOKUP(A94,ﾈｵﾓﾊﾞ一覧!A:C,3,FALSE))","v":16850},{"$f":"IF(ISERROR(VLOOKUP(A94,ﾈｵﾓﾊﾞ一覧!A:D,4,FALSE)),\"\",VLOOKUP(A94,ﾈｵﾓﾊﾞ一覧!A:D,4,FALSE))","v":7725},0.84657534246575339,6.7942441582806478E-3,{"$f":"VLOOKUP(C94,ﾈｵﾓﾊﾞｻﾏﾘ!A:Z,12,FALSE)","v":5491.358659908612},null,9,6,9,9,6,7]
["9037","ハマキョウレックス","運輸・物流","陸運業",{"$f":"IF(ISERROR(VLOOKUP(A95,ﾈｵﾓﾊﾞ一覧!A:C,3,FALSE)),\"\",VLOOKUP(A95,ﾈｵﾓﾊﾞ一覧!A:C,3,FALSE))","v":15700},{"$f":"IF(ISERROR(VLOOKUP(A95,ﾈｵﾓﾊﾞ一覧!A:D,4,FALSE)),\"\",VLOOKUP(A95,ﾈｵﾓﾊﾞ一覧!A:D,4,FALSE))","v":4132},0.35719225449515907,6.3305420347184666E-3,{"$f":"VLOOKUP(C95,ﾈｵﾓﾊﾞｻﾏﾘ!A:Z,12,FALSE)","v":5491.358659908612},null,10,8,10,8,9,9]
["9072","ニッコンホールディングス","運輸・物流","陸運業",{"$f":"IF(ISERROR(VLOOKUP(A96,ﾈｵﾓﾊﾞ一覧!A:C,3,FALSE)),\"\",VLOOKUP(A96,ﾈｵﾓﾊﾞ一覧!A:C,3,FALSE))","v":14927.5},{"$f":"IF(ISERROR(VLOOKUP(A96,ﾈｵﾓﾊﾞ一覧!A:D,4,FALSE)),\"\",VLOOKUP(A96,ﾈｵﾓﾊﾞ一覧!A:D,4,FALSE))","v":4552},0.43872584453761265,6.0190551734560453E-3,{"$f":"VLOOKUP(C96,ﾈｵﾓﾊﾞｻﾏﾘ!A:Z,12,FALSE)","v":5491.358659908612},null,10,7,9,5,10,9]
["9302","三井倉庫ＨＬＤＧ","運輸・物流","倉庫・運輸関連業",{"$f":"IF(ISERROR(VLOOKUP(A97,ﾈｵﾓﾊﾞ一覧!A:C,3,FALSE)),\"\",VLOOKUP(A97,ﾈｵﾓﾊﾞ一覧!A:C,3,FALSE))","v":14500},{"$f":"IF(ISERROR(VLOOKUP(A97,ﾈｵﾓﾊﾞ一覧!A:D,4,FALSE)),\"\",VLOOKUP(A97,ﾈｵﾓﾊﾞ一覧!A:D,4,FALSE))","v":2924},0.25259156876295785,5.8466789492622783E-3,{"$f":"VLOOKUP(C97,ﾈｵﾓﾊﾞｻﾏﾘ!A:Z,12,FALSE)","v":5491.358659908612},null,9,9,10,9,6,5]
["9025","鴻池運輸","運輸・物流","陸運業",{"$f":"IF(ISERROR(VLOOKUP(A98,ﾈｵﾓﾊﾞ一覧!A:C,3,FALSE)),\"\",VLOOKUP(A98,ﾈｵﾓﾊﾞ一覧!A:C,3,FALSE))","v":14248},{"$f":"IF(ISERROR(VLOOKUP(A98,ﾈｵﾓﾊﾞ一覧!A:D,4,FALSE)),\"\",VLOOKUP(A98,ﾈｵﾓﾊﾞ一覧!A:D,4,FALSE))","v":3920},0.37955073586367155,5.7450677013164784E-3,{"$f":"VLOOKUP(C98,ﾈｵﾓﾊﾞｻﾏﾘ!A:Z,12,FALSE)","v":5491.358659908612},null,9,7,5,8,7,10]
["9069","センコーグループホールディングス","運輸・物流","陸運業",{"$f":"IF(ISERROR(VLOOKUP(A99,ﾈｵﾓﾊﾞ一覧!A:C,3,FALSE)),\"\",VLOOKUP(A99,ﾈｵﾓﾊﾞ一覧!A:C,3,FALSE))","v":10290},{"$f":"IF(ISERROR(VLOOKUP(A99,ﾈｵﾓﾊﾞ一覧!A:D,4,FALSE)),\"\",VLOOKUP(A99,ﾈｵﾓﾊﾞ一覧!A:D,4,FALSE))","v":580},5.9732234809474767E-2,4.1491259577868169E-3,{"$f":"VLOOKUP(C99,ﾈｵﾓﾊﾞｻﾏﾘ!A:Z,12,FALSE)","v":5491.358659908612},null,7,4,4,9,10,6]
["9147","ＮＩＰＰＯＮ　ＥＸＰＲＥＳＳ","運輸・物流","陸運業",{"$f":"IF(ISERROR(VLOOKUP(A100,ﾈｵﾓﾊﾞ一覧!A:C,3,FALSE)),\"\",VLOOKUP(A100,ﾈｵﾓﾊﾞ一覧!A:C,3,FALSE))","v":8335},{"$f":"IF(ISERROR(VLOOKUP(A100,ﾈｵﾓﾊﾞ一覧!A:D,4,FALSE)),\"\",VLOOKUP(A100,ﾈｵﾓﾊﾞ一覧!A:D,4,FALSE))","v":265},3.2837670384138783E-2,3.3608323477311098E-3,{"$f":"VLOOKUP(C100,ﾈｵﾓﾊﾞｻﾏﾘ!A:Z,12,FALSE)","v":5491.358659908612},null,7,7,5,9,9,2]
["9502","中部電力","電気・ガス","電気・ガス業",{"$f":"IF(ISERROR(VLOOKUP(A101,ﾈｵﾓﾊﾞ一覧!A:C,3,FALSE)),\"\",VLOOKUP(A101,ﾈｵﾓﾊﾞ一覧!A:C,3,FALSE))","v":""},{"$f":"IF(ISERROR(VLOOKUP(A101,ﾈｵﾓﾊﾞ一覧!A:D,4,FALSE)),\"\",VLOOKUP(A101,ﾈｵﾓﾊﾞ一覧!A:D,4,FALSE))","v":""},{"$error":"#VALUE!"},{"$error":"#VALUE!"},{"$f":"VLOOKUP(C101,ﾈｵﾓﾊﾞｻﾏﾘ!A:Z,12,FALSE)","v":4464.4332148360481},null,10,10,8,7,10,6]
["9503","関西電力","電気・ガス","電気・ガス業",{"$f":"IF(ISERROR(VLOOKUP(A102,ﾈｵﾓﾊﾞ一覧!A:C,3,FALSE)),\"\",VLOOKUP(A102,ﾈｵﾓﾊﾞ一覧!A:C,3,FALSE))","v":""},{"$f":"IF(ISERROR(VLOOKUP(A102,ﾈｵﾓﾊﾞ一覧!A:D,4,FALSE)),\"\",VLOOKUP(A102,ﾈｵﾓﾊﾞ一覧!A:D,4,FALSE))","v":""},{"$error":"#VALUE!"},{"$error":"#VALUE!"},{"$f":"VLOOKUP(C102,ﾈｵﾓﾊﾞｻﾏﾘ!A:Z,12,FALSE)","v":4464.4332148360481},"11,622億円",7,8,9,5,4,6]
["9507","四国電力","電気・ガス","電気・ガス業",{"$f":"IF(ISERROR(VLOOKUP(A103,ﾈｵﾓﾊﾞ一覧!A:C,3,FALSE)),\"\",VLOOKUP(A103,ﾈｵﾓﾊﾞ一覧!A:C,3,FALSE))","v":""},{"$f":"IF(ISERROR(VLOOKUP(A103,ﾈｵﾓﾊﾞ一覧!A:D,4,FALSE)),\"\",VLOOKUP(A103,ﾈｵﾓﾊﾞ一覧!A:D,4,FALSE))","v":""},{"$error":"#VALUE!"},{"$error":"#VALUE!"},{"$f":"VLOOKUP(C103,ﾈｵﾓﾊﾞｻﾏﾘ!A:Z,12,FALSE)","v":4464.4332148360481},null,6,5,4,10,4,5]
["9534","北海道瓦斯","電気・ガス","電気・ガス業",{"$f":"IF(ISERROR(VLOOKUP(A104,ﾈｵﾓﾊﾞ一覧!A:C,3,FALSE)),\"\",VLOOKUP(A104,ﾈｵﾓﾊﾞ一覧!A:C,3,FALSE))","v":""},{"$f":"IF(ISERROR(VLOOKUP(A104,ﾈｵﾓﾊﾞ一覧!A:D,4,FALSE)),\"\",VLOOKUP(A104,ﾈｵﾓﾊﾞ一覧!A:D,4,FALSE))","v":""},{"$error":"#VALUE!"},{"$error":"#VALUE!"},{"$f":"VLOOKUP(C104,ﾈｵﾓﾊﾞｻﾏﾘ!A:Z,12,FALSE)","v":4464.4332148360481},null,10,8,"-",10,8,6]
["9543","静岡ガス","電気・ガス","電気・ガス業",{"$f":"IF(ISERROR(VLOOKUP(A105,ﾈｵﾓﾊﾞ一覧!A:C,3,FALSE)),\"\",VLOOKUP(A105,ﾈｵﾓﾊﾞ一覧!A:C,3,FALSE))","v":""},{"$f":"IF(ISERROR(VLOOKUP(A105,ﾈｵﾓﾊﾞ一覧!A:D,4,FALSE)),\"\",VLOOKUP(A105,ﾈｵﾓﾊﾞ一覧!A:D,4,FALSE))","v":""},{"$error":"#VALUE!"},{"$error":"#VALUE!"},{"$f":"VLOOKUP(C105,ﾈｵﾓﾊﾞｻﾏﾘ!A:Z,12,FALSE)","v":4464.4332148360481},null,8,7,"-",10,7,3]
["9513","電源開発","電気・ガス","電気・ガス業",{"$f":"IF(ISERROR(VLOOKUP(A106,ﾈｵﾓﾊﾞ一覧!A:C,3,FALSE)),\"\",VLOOKUP(A106,ﾈｵﾓﾊﾞ一覧!A:C,3,FALSE))","v":6750},{"$f":"IF(ISERROR(VLOOKUP(A106,ﾈｵﾓﾊﾞ一覧!A:D,4,FALSE)),\"\",VLOOKUP(A106,ﾈｵﾓﾊﾞ一覧!A:D,4,FALSE))","v":816},0.13751263902932254,2.7217298556910605E-3,{"$f":"VLOOKUP(C106,ﾈｵﾓﾊﾞｻﾏﾘ!A:Z,12,FALSE)","v":4464.4332148360481},null,9,10,7,10,7,3]
["9531","東京瓦斯","電気・ガス","電気・ガス業",{"$f":"IF(ISERROR(VLOOKUP(A107,ﾈｵﾓﾊﾞ一覧!A:C,3,FALSE)),\"\",VLOOKUP(A107,ﾈｵﾓﾊﾞ一覧!A:C,3,FALSE))","v":3225},{"$f":"IF(ISERROR(VLOOKUP(A107,ﾈｵﾓﾊﾞ一覧!A:D,4,FALSE)),\"\",VLOOKUP(A107,ﾈｵﾓﾊﾞ一覧!A:D,4,FALSE))","v":630},0.24277456647398843,1.3003820421635067E-3,{"$f":"VLOOKUP(C107,ﾈｵﾓﾊﾞｻﾏﾘ!A:Z,12,FALSE)","v":4464.4332148360481},null,10,10,7,9,9,5]
["9532","大阪瓦斯","電気・ガス","電気・ガス業",{"$f":"IF(ISERROR(VLOOKUP(A108,ﾈｵﾓﾊﾞ一覧!A:C,3,FALSE)),\"\",VLOOKUP(A108,ﾈｵﾓﾊﾞ一覧!A:C,3,FALSE))","v":2238},{"$f":"IF(ISERROR(VLOOKUP(A108,ﾈｵﾓﾊﾞ一覧!A:D,4,FALSE)),\"\",VLOOKUP(A108,ﾈｵﾓﾊﾞ一覧!A:D,4,FALSE))","v":269},0.13661757237176231,9.0240465437579161E-4,{"$f":"VLOOKUP(C108,ﾈｵﾓﾊﾞｻﾏﾘ!A:Z,12,FALSE)","v":4464.4332148360481},null,5,2,5,8,8,2]
["9509","北海道電力","電気・ガス","電気・ガス業",{"$f":"IF(ISERROR(VLOOKUP(A109,ﾈｵﾓﾊﾞ一覧!A:C,3,FALSE)),\"\",VLOOKUP(A109,ﾈｵﾓﾊﾞ一覧!A:C,3,FALSE))","v":1991.4},{"$f":"IF(ISERROR(VLOOKUP(A109,ﾈｵﾓﾊﾞ一覧!A:D,4,FALSE)),\"\",VLOOKUP(A109,ﾈｵﾓﾊﾞ一覧!A:D,4,FALSE))","v":437},0.28113741636644363,8.0297079031454489E-4,{"$f":"VLOOKUP(C109,ﾈｵﾓﾊﾞｻﾏﾘ!A:Z,12,FALSE)","v":4464.4332148360481},null,7,2,9,10,6,4]
["9508","九州電力","電気・ガス","電気・ガス業",{"$f":"IF(ISERROR(VLOOKUP(A110,ﾈｵﾓﾊﾞ一覧!A:C,3,FALSE)),\"\",VLOOKUP(A110,ﾈｵﾓﾊﾞ一覧!A:C,3,FALSE))","v":1932.6},{"$f":"IF(ISERROR(VLOOKUP(A110,ﾈｵﾓﾊﾞ一覧!A:D,4,FALSE)),\"\",VLOOKUP(A110,ﾈｵﾓﾊﾞ一覧!A:D,4,FALSE))","v":2},1.0359473738734072E-3,7.7926149912719168E-4,{"$f":"VLOOKUP(C110,ﾈｵﾓﾊﾞｻﾏﾘ!A:Z,12,FALSE)","v":4464.4332148360481},null,6,3,10,10,4,4]
["9506","東北電力","電気・ガス","電気・ガス業",{"$f":"IF(ISERROR(VLOOKUP(A111,ﾈｵﾓﾊﾞ一覧!A:C,3,FALSE)),\"\",VLOOKUP(A111,ﾈｵﾓﾊﾞ一覧!A:C,3,FALSE))","v":1893},{"$f":"IF(ISERROR(VLOOKUP(A111,ﾈｵﾓﾊﾞ一覧!A:D,4,FALSE)),\"\",VLOOKUP(A111,ﾈｵﾓﾊﾞ一覧!A:D,4,FALSE))","v":-63},-3.2208588957055216E-2,7.6329401730713747E-4,{"$f":"VLOOKUP(C111,ﾈｵﾓﾊﾞｻﾏﾘ!A:Z,12,FALSE)","v":4464.4332148360481},null,5,2,4,10,3,5]
["9505","北陸電力","電気・ガス","電気・ガス業",{"$f":"IF(ISERROR(VLOOKUP(A112,ﾈｵﾓﾊﾞ一覧!A:C,3,FALSE)),\"\",VLOOKUP(A112,ﾈｵﾓﾊﾞ一覧!A:C,3,FALSE))","v":1734.2},{"$f":"IF(ISERROR(VLOOKUP(A112,ﾈｵﾓﾊﾞ一覧!A:D,4,FALSE)),\"\",VLOOKUP(A112,ﾈｵﾓﾊﾞ一覧!A:D,4,FALSE))","v":232},0.15444015444015444,6.9926280233176849E-4,{"$f":"VLOOKUP(C112,ﾈｵﾓﾊﾞｻﾏﾘ!A:Z,12,FALSE)","v":4464.4332148360481},null,4,2,2,10,4,6]
["9511","沖縄電力","電気・ガス","電気・ガス業",{"$f":"IF(ISERROR(VLOOKUP(A113,ﾈｵﾓﾊﾞ一覧!A:C,3,FALSE)),\"\",VLOOKUP(A113,ﾈｵﾓﾊﾞ一覧!A:C,3,FALSE))","v":1155},{"$f":"IF(ISERROR(VLOOKUP(A113,ﾈｵﾓﾊﾞ一覧!A:D,4,FALSE)),\"\",VLOOKUP(A113,ﾈｵﾓﾊﾞ一覧!A:D,4,FALSE))","v":-215},-0.15693430656934307,4.6571821975158146E-4,{"$f":"VLOOKUP(C113,ﾈｵﾓﾊﾞｻﾏﾘ!A:Z,12,FALSE)","v":4464.4332148360481},null,4,1,"-",10,6,1]
["9504","中国電力","電気・ガス","電気・ガス業",{"$f":"IF(ISERROR(VLOOKUP(A114,ﾈｵﾓﾊﾞ一覧!A:C,3,FALSE)),\"\",VLOOKUP(A114,ﾈｵﾓﾊﾞ一覧!A:C,3,FALSE))","v":986.8},{"$f":"IF(ISERROR(VLOOKUP(A114,ﾈｵﾓﾊﾞ一覧!A:D,4,FALSE)),\"\",VLOOKUP(A114,ﾈｵﾓﾊﾞ一覧!A:D,4,FALSE))","v":-238},-0.19431743958197256,3.9789674394013905E-4,{"$f":"VLOOKUP(C114,ﾈｵﾓﾊﾞｻﾏﾘ!A:Z,12,FALSE)","v":4464.4332148360481},null,6,2,7,10,4,4]
["5440","共英製鋼","鉄鋼・非鉄","鉄鋼",{"$f":"IF(ISERROR(VLOOKUP(A115,ﾈｵﾓﾊﾞ一覧!A:C,3,FALSE)),\"\",VLOOKUP(A115,ﾈｵﾓﾊﾞ一覧!A:C,3,FALSE))","v":""},{"$f":"IF(ISERROR(VLOOKUP(A115,ﾈｵﾓﾊﾞ一覧!A:D,4,FALSE)),\"\",VLOOKUP(A115,ﾈｵﾓﾊﾞ一覧!A:D,4,FALSE))","v":""},{"$error":"#VALUE!"},{"$error":"#VALUE!"},{"$f":"VLOOKUP(C115,ﾈｵﾓﾊﾞｻﾏﾘ!A:Z,12,FALSE)","v":-489.45074575574836},null,10,7,9,10,5,10]
["5423","東京製鐵","鉄鋼・非鉄","鉄鋼",{"$f":"IF(ISERROR(VLOOKUP(A116,ﾈｵﾓﾊﾞ一覧!A:C,3,FALSE)),\"\",VLOOKUP(A116,ﾈｵﾓﾊﾞ一覧!A:C,3,FALSE))","v":""},{"$f":"IF(ISERROR(VLOOKUP(A116,ﾈｵﾓﾊﾞ一覧!A:D,4,FALSE)),\"\",VLOOKUP(A116,ﾈｵﾓﾊﾞ一覧!A:D,4,FALSE))","v":""},{"$error":"#VALUE!"},{"$error":"#VALUE!"},{"$f":"VLOOKUP(C116,ﾈｵﾓﾊﾞｻﾏﾘ!A:Z,12,FALSE)","v":-489.45074575574836},null,10,10,9,9,3,8]
["5480","日本冶金工業","鉄鋼・非鉄","鉄鋼",{"$f":"IF(ISERROR(VLOOKUP(A117,ﾈｵﾓﾊﾞ一覧!A:C,3,FALSE)),\"\",VLOOKUP(A117,ﾈｵﾓﾊﾞ一覧!A:C,3,FALSE))","v":21775},{"$f":"IF(ISERROR(VLOOKUP(A117,ﾈｵﾓﾊﾞ一覧!A:D,4,FALSE)),\"\",VLOOKUP(A117,ﾈｵﾓﾊﾞ一覧!A:D,4,FALSE))","v":12550},1.3604336043360434,8.7800989048404214E-3,{"$f":"VLOOKUP(C117,ﾈｵﾓﾊﾞｻﾏﾘ!A:Z,12,FALSE)","v":-489.45074575574836},null,10,8,8,10,4,9]
["5401","日本製鉄","鉄鋼・非鉄","鉄鋼",{"$f":"IF(ISERROR(VLOOKUP(A118,ﾈｵﾓﾊﾞ一覧!A:C,3,FALSE)),\"\",VLOOKUP(A118,ﾈｵﾓﾊﾞ一覧!A:C,3,FALSE))","v":16230},{"$f":"IF(ISERROR(VLOOKUP(A118,ﾈｵﾓﾊﾞ一覧!A:D,4,FALSE)),\"\",VLOOKUP(A118,ﾈｵﾓﾊﾞ一覧!A:D,4,FALSE))","v":6130},0.60693069306930691,6.5442482307949499E-3,{"$f":"VLOOKUP(C118,ﾈｵﾓﾊﾞｻﾏﾘ!A:Z,12,FALSE)","v":-489.45074575574836},null,9,9,8,9,5,6]
["5020","ＥＮＥＯＳ　ＨＬＤＧ","エネルギー資源","石油・石炭製品",{"$f":"IF(ISERROR(VLOOKUP(A119,ﾈｵﾓﾊﾞ一覧!A:C,3,FALSE)),\"\",VLOOKUP(A119,ﾈｵﾓﾊﾞ一覧!A:C,3,FALSE))","v":11854.2},{"$f":"IF(ISERROR(VLOOKUP(A119,ﾈｵﾓﾊﾞ一覧!A:D,4,FALSE)),\"\",VLOOKUP(A119,ﾈｵﾓﾊﾞ一覧!A:D,4,FALSE))","v":1389},0.13272560486182777,4.7798414896789588E-3,{"$f":"VLOOKUP(C119,ﾈｵﾓﾊﾞｻﾏﾘ!A:Z,12,FALSE)","v":-1938.0214455766109},null,5,1,6,9,9,2]
["5019","出光興産","エネルギー資源","石油・石炭製品",{"$f":"IF(ISERROR(VLOOKUP(A120,ﾈｵﾓﾊﾞ一覧!A:C,3,FALSE)),\"\",VLOOKUP(A120,ﾈｵﾓﾊﾞ一覧!A:C,3,FALSE))","v":9000},{"$f":"IF(ISERROR(VLOOKUP(A120,ﾈｵﾓﾊﾞ一覧!A:D,4,FALSE)),\"\",VLOOKUP(A120,ﾈｵﾓﾊﾞ一覧!A:D,4,FALSE))","v":-660},-6.8322981366459631E-2,3.628973140921414E-3,{"$f":"VLOOKUP(C120,ﾈｵﾓﾊﾞｻﾏﾘ!A:Z,12,FALSE)","v":-1938.0214455766109},null,7,6,4,10,10,2]
["6460","セガサミーＨＬＤＧ","機械","機械",{"$f":"IF(ISERROR(VLOOKUP(A121,ﾈｵﾓﾊﾞ一覧!A:C,3,FALSE)),\"\",VLOOKUP(A121,ﾈｵﾓﾊﾞ一覧!A:C,3,FALSE))","v":""},{"$f":"IF(ISERROR(VLOOKUP(A121,ﾈｵﾓﾊﾞ一覧!A:D,4,FALSE)),\"\",VLOOKUP(A121,ﾈｵﾓﾊﾞ一覧!A:D,4,FALSE))","v":""},{"$error":"#VALUE!"},{"$error":"#VALUE!"},{"$f":"VLOOKUP(C121,ﾈｵﾓﾊﾞｻﾏﾘ!A:Z,12,FALSE)","v":-3161.6619084546401},null,9,8,8,4,7,10]
["6371","椿本チエイン","機械","機械",{"$f":"IF(ISERROR(VLOOKUP(A122,ﾈｵﾓﾊﾞ一覧!A:C,3,FALSE)),\"\",VLOOKUP(A122,ﾈｵﾓﾊﾞ一覧!A:C,3,FALSE))","v":""},{"$f":"IF(ISERROR(VLOOKUP(A122,ﾈｵﾓﾊﾞ一覧!A:D,4,FALSE)),\"\",VLOOKUP(A122,ﾈｵﾓﾊﾞ一覧!A:D,4,FALSE))","v":""},{"$error":"#VALUE!"},{"$error":"#VALUE!"},{"$f":"VLOOKUP(C122,ﾈｵﾓﾊﾞｻﾏﾘ!A:Z,12,FALSE)","v":-3161.6619084546401},null,10,8,9,8,10,6]
["6143","ソディック","機械","機械",{"$f":"IF(ISERROR(VLOOKUP(A123,ﾈｵﾓﾊﾞ一覧!A:C,3,FALSE)),\"\",VLOOKUP(A123,ﾈｵﾓﾊﾞ一覧!A:C,3,FALSE))","v":""},{"$f":"IF(ISERROR(VLOOKUP(A123,ﾈｵﾓﾊﾞ一覧!A:D,4,FALSE)),\"\",VLOOKUP(A123,ﾈｵﾓﾊﾞ一覧!A:D,4,FALSE))","v":""},{"$error":"#VALUE!"},{"$error":"#VALUE!"},{"$f":"VLOOKUP(C123,ﾈｵﾓﾊﾞｻﾏﾘ!A:Z,12,FALSE)","v":-3161.6619084546401},null,7,2,8,9,8,4]
["6368","オルガノ","機械","機械",{"$f":"IF(ISERROR(VLOOKUP(A124,ﾈｵﾓﾊﾞ一覧!A:C,3,FALSE)),\"\",VLOOKUP(A124,ﾈｵﾓﾊﾞ一覧!A:C,3,FALSE))","v":32920},{"$f":"IF(ISERROR(VLOOKUP(A124,ﾈｵﾓﾊﾞ一覧!A:D,4,FALSE)),\"\",VLOOKUP(A124,ﾈｵﾓﾊﾞ一覧!A:D,4,FALSE))","v":21800},1.960431654676259,1.3273977311014772E-2,{"$f":"VLOOKUP(C124,ﾈｵﾓﾊﾞｻﾏﾘ!A:Z,12,FALSE)","v":-3161.6619084546401},null,5,4,2,3,7,9]
["6367","ダイキン工業","機械","機械",{"$f":"IF(ISERROR(VLOOKUP(A125,ﾈｵﾓﾊﾞ一覧!A:C,3,FALSE)),\"\",VLOOKUP(A125,ﾈｵﾓﾊﾞ一覧!A:C,3,FALSE))","v":28690},{"$f":"IF(ISERROR(VLOOKUP(A125,ﾈｵﾓﾊﾞ一覧!A:D,4,FALSE)),\"\",VLOOKUP(A125,ﾈｵﾓﾊﾞ一覧!A:D,4,FALSE))","v":16530},1.359375,1.1568359934781707E-2,{"$f":"VLOOKUP(C125,ﾈｵﾓﾊﾞｻﾏﾘ!A:Z,12,FALSE)","v":-3161.6619084546401},"44,480億円",4,3,2,2,7,10]
["7004","日立造船","機械","機械",{"$f":"IF(ISERROR(VLOOKUP(A126,ﾈｵﾓﾊﾞ一覧!A:C,3,FALSE)),\"\",VLOOKUP(A126,ﾈｵﾓﾊﾞ一覧!A:C,3,FALSE))","v":23375},{"$f":"IF(ISERROR(VLOOKUP(A126,ﾈｵﾓﾊﾞ一覧!A:D,4,FALSE)),\"\",VLOOKUP(A126,ﾈｵﾓﾊﾞ一覧!A:D,4,FALSE))","v":13050},1.2639225181598064,9.4252496854486736E-3,{"$f":"VLOOKUP(C126,ﾈｵﾓﾊﾞｻﾏﾘ!A:Z,12,FALSE)","v":-3161.6619084546401},null,5,8,2,9,5,4]
["6420","フクシマガリレイ","機械","機械",{"$f":"IF(ISERROR(VLOOKUP(A127,ﾈｵﾓﾊﾞ一覧!A:C,3,FALSE)),\"\",VLOOKUP(A127,ﾈｵﾓﾊﾞ一覧!A:C,3,FALSE))","v":15120},{"$f":"IF(ISERROR(VLOOKUP(A127,ﾈｵﾓﾊﾞ一覧!A:D,4,FALSE)),\"\",VLOOKUP(A127,ﾈｵﾓﾊﾞ一覧!A:D,4,FALSE))","v":5145},0.51578947368421058,6.0966748767479761E-3,{"$f":"VLOOKUP(C127,ﾈｵﾓﾊﾞｻﾏﾘ!A:Z,12,FALSE)","v":-3161.6619084546401},null,9,9,"-",5,6,9]
["6134","ＦＵＪＩ","機械","機械",{"$f":"IF(ISERROR(VLOOKUP(A128,ﾈｵﾓﾊﾞ一覧!A:C,3,FALSE)),\"\",VLOOKUP(A128,ﾈｵﾓﾊﾞ一覧!A:C,3,FALSE))","v":12997.5},{"$f":"IF(ISERROR(VLOOKUP(A128,ﾈｵﾓﾊﾞ一覧!A:D,4,FALSE)),\"\",VLOOKUP(A128,ﾈｵﾓﾊﾞ一覧!A:D,4,FALSE))","v":3497},0.36808589021630439,5.2408420443473425E-3,{"$f":"VLOOKUP(C128,ﾈｵﾓﾊﾞｻﾏﾘ!A:Z,12,FALSE)","v":-3161.6619084546401},null,7,6,8,3,7,9]
["6465","ホシザキ","機械","機械",{"$f":"IF(ISERROR(VLOOKUP(A129,ﾈｵﾓﾊﾞ一覧!A:C,3,FALSE)),\"\",VLOOKUP(A129,ﾈｵﾓﾊﾞ一覧!A:C,3,FALSE))","v":10896},{"$f":"IF(ISERROR(VLOOKUP(A129,ﾈｵﾓﾊﾞ一覧!A:D,4,FALSE)),\"\",VLOOKUP(A129,ﾈｵﾓﾊﾞ一覧!A:D,4,FALSE))","v":1666},0.18049837486457204,4.3934768159421917E-3,{"$f":"VLOOKUP(C129,ﾈｵﾓﾊﾞｻﾏﾘ!A:Z,12,FALSE)","v":-3161.6619084546401},null,6,4,8,2,9,5]
["1801","大成建設","建設・資材","建設業",{"$f":"IF(ISERROR(VLOOKUP(A130,ﾈｵﾓﾊﾞ一覧!A:C,3,FALSE)),\"\",VLOOKUP(A130,ﾈｵﾓﾊﾞ一覧!A:C,3,FALSE))","v":""},{"$f":"IF(ISERROR(VLOOKUP(A130,ﾈｵﾓﾊﾞ一覧!A:D,4,FALSE)),\"\",VLOOKUP(A130,ﾈｵﾓﾊﾞ一覧!A:D,4,FALSE))","v":""},{"$f":"F130/(E130-F130)","v":{"$error":"#VALUE!"}},{"$f":"E130/SUM(E:E)","v":{"$error":"#VALUE!"}},{"$f":"VLOOKUP(C130,ﾈｵﾓﾊﾞｻﾏﾘ!A:Z,12,FALSE)","v":-5501.2305193478678},null,5,1,1,3,10,10]
["1835","東鉄工業","建設・資材","建設業",{"$f":"IF(ISERROR(VLOOKUP(A131,ﾈｵﾓﾊﾞ一覧!A:C,3,FALSE)),\"\",VLOOKUP(A131,ﾈｵﾓﾊﾞ一覧!A:C,3,FALSE))","v":""},{"$f":"IF(ISERROR(VLOOKUP(A131,ﾈｵﾓﾊﾞ一覧!A:D,4,FALSE)),\"\",VLOOKUP(A131,ﾈｵﾓﾊﾞ一覧!A:D,4,FALSE))","v":""},{"$error":"#VALUE!"},{"$error":"#VALUE!"},{"$f":"VLOOKUP(C131,ﾈｵﾓﾊﾞｻﾏﾘ!A:Z,12,FALSE)","v":-5501.2305193478678},null,9,5,9,5,9,8]
["5214","日本電気硝子","建設・資材","ガラス・土石製品",{"$f":"IF(ISERROR(VLOOKUP(A132,ﾈｵﾓﾊﾞ一覧!A:C,3,FALSE)),\"\",VLOOKUP(A132,ﾈｵﾓﾊﾞ一覧!A:C,3,FALSE))","v":""},{"$f":"IF(ISERROR(VLOOKUP(A132,ﾈｵﾓﾊﾞ一覧!A:D,4,FALSE)),\"\",VLOOKUP(A132,ﾈｵﾓﾊﾞ一覧!A:D,4,FALSE))","v":""},{"$error":"#VALUE!"},{"$error":"#VALUE!"},{"$f":"VLOOKUP(C132,ﾈｵﾓﾊﾞｻﾏﾘ!A:Z,12,FALSE)","v":-5501.2305193478678},null,5,3,1,4,9,7]
["1925","大和ハウス工業","建設・資材","建設業",{"$f":"IF(ISERROR(VLOOKUP(A133,ﾈｵﾓﾊﾞ一覧!A:C,3,FALSE)),\"\",VLOOKUP(A133,ﾈｵﾓﾊﾞ一覧!A:C,3,FALSE))","v":15448},{"$f":"IF(ISERROR(VLOOKUP(A133,ﾈｵﾓﾊﾞ一覧!A:D,4,FALSE)),\"\",VLOOKUP(A133,ﾈｵﾓﾊﾞ一覧!A:D,4,FALSE))","v":5840},0.60782681099084102,6.2289307867726676E-3,{"$f":"VLOOKUP(C133,ﾈｵﾓﾊﾞｻﾏﾘ!A:Z,12,FALSE)","v":-5501.2305193478678},"19,794億円",8,5,10,8,8,4]
["1878","大東建託","建設・資材","建設業",{"$f":"IF(ISERROR(VLOOKUP(A134,ﾈｵﾓﾊﾞ一覧!A:C,3,FALSE)),\"\",VLOOKUP(A134,ﾈｵﾓﾊﾞ一覧!A:C,3,FALSE))","v":15290},{"$f":"IF(ISERROR(VLOOKUP(A134,ﾈｵﾓﾊﾞ一覧!A:D,4,FALSE)),\"\",VLOOKUP(A134,ﾈｵﾓﾊﾞ一覧!A:D,4,FALSE))","v":5630},0.582815734989648,6.1652221471876021E-3,{"$f":"VLOOKUP(C134,ﾈｵﾓﾊﾞｻﾏﾘ!A:Z,12,FALSE)","v":-5501.2305193478678},"8,758億円",2,3,2,4,5,3]
["1942","関電工","建設・資材","建設業",{"$f":"IF(ISERROR(VLOOKUP(A135,ﾈｵﾓﾊﾞ一覧!A:C,3,FALSE)),\"\",VLOOKUP(A135,ﾈｵﾓﾊﾞ一覧!A:C,3,FALSE))","v":14952},{"$f":"IF(ISERROR(VLOOKUP(A135,ﾈｵﾓﾊﾞ一覧!A:D,4,FALSE)),\"\",VLOOKUP(A135,ﾈｵﾓﾊﾞ一覧!A:D,4,FALSE))","v":4536},0.43548387096774194,6.0289340447841093E-3,{"$f":"VLOOKUP(C135,ﾈｵﾓﾊﾞｻﾏﾘ!A:Z,12,FALSE)","v":-5501.2305193478678},null,null,null,null,null,null,10]
["1802","大林組","建設・資材","建設業",{"$f":"IF(ISERROR(VLOOKUP(A136,ﾈｵﾓﾊﾞ一覧!A:C,3,FALSE)),\"\",VLOOKUP(A136,ﾈｵﾓﾊﾞ一覧!A:C,3,FALSE))","v":14459.5},{"$f":"IF(ISERROR(VLOOKUP(A136,ﾈｵﾓﾊﾞ一覧!A:D,4,FALSE)),\"\",VLOOKUP(A136,ﾈｵﾓﾊﾞ一覧!A:D,4,FALSE))","v":4735},0.48691449431847394,5.8303485701281322E-3,{"$f":"VLOOKUP(C136,ﾈｵﾓﾊﾞｻﾏﾘ!A:Z,12,FALSE)","v":-5501.2305193478678},null,7,3,7,5,8,9]
["1786","オリエンタル白石","建設・資材","建設業",{"$f":"IF(ISERROR(VLOOKUP(A137,ﾈｵﾓﾊﾞ一覧!A:C,3,FALSE)),\"\",VLOOKUP(A137,ﾈｵﾓﾊﾞ一覧!A:C,3,FALSE))","v":13062},{"$f":"IF(ISERROR(VLOOKUP(A137,ﾈｵﾓﾊﾞ一覧!A:D,4,FALSE)),\"\",VLOOKUP(A137,ﾈｵﾓﾊﾞ一覧!A:D,4,FALSE))","v":2940},0.29045643153526973,5.2668496851906122E-3,{"$f":"VLOOKUP(C137,ﾈｵﾓﾊﾞｻﾏﾘ!A:Z,12,FALSE)","v":-5501.2305193478678},null,9,8,8,7,7,8]
["1417","ミライト・ホールディングス","建設・資材","建設業",{"$f":"IF(ISERROR(VLOOKUP(A138,ﾈｵﾓﾊﾞ一覧!A:C,3,FALSE)),\"\",VLOOKUP(A138,ﾈｵﾓﾊﾞ一覧!A:C,3,FALSE))","v":12775},{"$f":"IF(ISERROR(VLOOKUP(A138,ﾈｵﾓﾊﾞ一覧!A:D,4,FALSE)),\"\",VLOOKUP(A138,ﾈｵﾓﾊﾞ一覧!A:D,4,FALSE))","v":2016},0.18737800910865321,5.1511257639190074E-3,{"$f":"VLOOKUP(C138,ﾈｵﾓﾊﾞｻﾏﾘ!A:Z,12,FALSE)","v":-5501.2305193478678},null,7,1,8,8,10,7]
["3861","王子ホールディングス","素材・科学","パルプ・紙",{"$f":"IF(ISERROR(VLOOKUP(A139,ﾈｵﾓﾊﾞ一覧!A:C,3,FALSE)),\"\",VLOOKUP(A139,ﾈｵﾓﾊﾞ一覧!A:C,3,FALSE))","v":""},{"$f":"IF(ISERROR(VLOOKUP(A139,ﾈｵﾓﾊﾞ一覧!A:D,4,FALSE)),\"\",VLOOKUP(A139,ﾈｵﾓﾊﾞ一覧!A:D,4,FALSE))","v":""},{"$error":"#VALUE!"},{"$error":"#VALUE!"},{"$f":"VLOOKUP(C139,ﾈｵﾓﾊﾞｻﾏﾘ!A:Z,12,FALSE)","v":-10488.402076669241},"6,654億円",4,2,4,9,7,1]
["3401","帝人","素材・科学","繊維製品",{"$f":"IF(ISERROR(VLOOKUP(A140,ﾈｵﾓﾊﾞ一覧!A:C,3,FALSE)),\"\",VLOOKUP(A140,ﾈｵﾓﾊﾞ一覧!A:C,3,FALSE))","v":""},{"$f":"IF(ISERROR(VLOOKUP(A140,ﾈｵﾓﾊﾞ一覧!A:D,4,FALSE)),\"\",VLOOKUP(A140,ﾈｵﾓﾊﾞ一覧!A:D,4,FALSE))","v":""},{"$error":"#VALUE!"},{"$error":"#VALUE!"},{"$f":"VLOOKUP(C140,ﾈｵﾓﾊﾞｻﾏﾘ!A:Z,12,FALSE)","v":-10488.402076669241},null,2,2,1,5,8,2]
["4912","ライオン","素材・科学","化学",{"$f":"IF(ISERROR(VLOOKUP(A141,ﾈｵﾓﾊﾞ一覧!A:C,3,FALSE)),\"\",VLOOKUP(A141,ﾈｵﾓﾊﾞ一覧!A:C,3,FALSE))","v":""},{"$f":"IF(ISERROR(VLOOKUP(A141,ﾈｵﾓﾊﾞ一覧!A:D,4,FALSE)),\"\",VLOOKUP(A141,ﾈｵﾓﾊﾞ一覧!A:D,4,FALSE))","v":""},{"$error":"#VALUE!"},{"$error":"#VALUE!"},{"$f":"VLOOKUP(C141,ﾈｵﾓﾊﾞｻﾏﾘ!A:Z,12,FALSE)","v":-10488.402076669241},null,3,2,7,4,7,1]
["3002","グンゼ","素材・科学","繊維製品",{"$f":"IF(ISERROR(VLOOKUP(A142,ﾈｵﾓﾊﾞ一覧!A:C,3,FALSE)),\"\",VLOOKUP(A142,ﾈｵﾓﾊﾞ一覧!A:C,3,FALSE))","v":""},{"$f":"IF(ISERROR(VLOOKUP(A142,ﾈｵﾓﾊﾞ一覧!A:D,4,FALSE)),\"\",VLOOKUP(A142,ﾈｵﾓﾊﾞ一覧!A:D,4,FALSE))","v":""},{"$error":"#VALUE!"},{"$error":"#VALUE!"},{"$f":"VLOOKUP(C142,ﾈｵﾓﾊﾞｻﾏﾘ!A:Z,12,FALSE)","v":-10488.402076669241},null,6,2,8,6,8,4]
["4043","トクヤマ","素材・科学","化学",{"$f":"IF(ISERROR(VLOOKUP(A143,ﾈｵﾓﾊﾞ一覧!A:C,3,FALSE)),\"\",VLOOKUP(A143,ﾈｵﾓﾊﾞ一覧!A:C,3,FALSE))","v":""},{"$f":"IF(ISERROR(VLOOKUP(A143,ﾈｵﾓﾊﾞ一覧!A:D,4,FALSE)),\"\",VLOOKUP(A143,ﾈｵﾓﾊﾞ一覧!A:D,4,FALSE))","v":""},{"$error":"#VALUE!"},{"$error":"#VALUE!"},{"$f":"VLOOKUP(C143,ﾈｵﾓﾊﾞｻﾏﾘ!A:Z,12,FALSE)","v":-10488.402076669241},null,6,1,6,7,7,9]
["3880","大王製紙","素材・科学","パルプ・紙",{"$f":"IF(ISERROR(VLOOKUP(A144,ﾈｵﾓﾊﾞ一覧!A:C,3,FALSE)),\"\",VLOOKUP(A144,ﾈｵﾓﾊﾞ一覧!A:C,3,FALSE))","v":""},{"$f":"IF(ISERROR(VLOOKUP(A144,ﾈｵﾓﾊﾞ一覧!A:D,4,FALSE)),\"\",VLOOKUP(A144,ﾈｵﾓﾊﾞ一覧!A:D,4,FALSE))","v":""},{"$error":"#VALUE!"},{"$error":"#VALUE!"},{"$f":"VLOOKUP(C144,ﾈｵﾓﾊﾞｻﾏﾘ!A:Z,12,FALSE)","v":-10488.402076669241},null,3,1,9,5,4,1]
["4042","東ソー","素材・科学","化学",{"$f":"IF(ISERROR(VLOOKUP(A145,ﾈｵﾓﾊﾞ一覧!A:C,3,FALSE)),\"\",VLOOKUP(A145,ﾈｵﾓﾊﾞ一覧!A:C,3,FALSE))","v":""},{"$f":"IF(ISERROR(VLOOKUP(A145,ﾈｵﾓﾊﾞ一覧!A:D,4,FALSE)),\"\",VLOOKUP(A145,ﾈｵﾓﾊﾞ一覧!A:D,4,FALSE))","v":""},{"$error":"#VALUE!"},{"$error":"#VALUE!"},{"$f":"VLOOKUP(C145,ﾈｵﾓﾊﾞｻﾏﾘ!A:Z,12,FALSE)","v":-10488.402076669241},null,6,1,7,7,9,4]
["4118","カネカ","素材・科学","化学",{"$f":"IF(ISERROR(VLOOKUP(A146,ﾈｵﾓﾊﾞ一覧!A:C,3,FALSE)),\"\",VLOOKUP(A146,ﾈｵﾓﾊﾞ一覧!A:C,3,FALSE))","v":""},{"$f":"IF(ISERROR(VLOOKUP(A146,ﾈｵﾓﾊﾞ一覧!A:D,4,FALSE)),\"\",VLOOKUP(A146,ﾈｵﾓﾊﾞ一覧!A:D,4,FALSE))","v":""},{"$error":"#VALUE!"},{"$error":"#VALUE!"},{"$f":"VLOOKUP(C146,ﾈｵﾓﾊﾞｻﾏﾘ!A:Z,12,FALSE)","v":-10488.402076669241},null,9,3,9,8,10,7]
["4966","上村工業","素材・科学","化学",{"$f":"IF(ISERROR(VLOOKUP(A147,ﾈｵﾓﾊﾞ一覧!A:C,3,FALSE)),\"\",VLOOKUP(A147,ﾈｵﾓﾊﾞ一覧!A:C,3,FALSE))","v":37600},{"$f":"IF(ISERROR(VLOOKUP(A147,ﾈｵﾓﾊﾞ一覧!A:D,4,FALSE)),\"\",VLOOKUP(A147,ﾈｵﾓﾊﾞ一覧!A:D,4,FALSE))","v":23120},1.5966850828729282,1.5161043344293908E-2,{"$f":"VLOOKUP(C147,ﾈｵﾓﾊﾞｻﾏﾘ!A:Z,12,FALSE)","v":-10488.402076669241},null,7,9,6,2,6,10]
["4216","旭有機材","素材・科学","化学",{"$f":"IF(ISERROR(VLOOKUP(A148,ﾈｵﾓﾊﾞ一覧!A:C,3,FALSE)),\"\",VLOOKUP(A148,ﾈｵﾓﾊﾞ一覧!A:C,3,FALSE))","v":30835},{"$f":"IF(ISERROR(VLOOKUP(A148,ﾈｵﾓﾊﾞ一覧!A:D,4,FALSE)),\"\",VLOOKUP(A148,ﾈｵﾓﾊﾞ一覧!A:D,4,FALSE))","v":20825},2.0804195804195804,1.2433265200034646E-2,{"$f":"VLOOKUP(C148,ﾈｵﾓﾊﾞｻﾏﾘ!A:Z,12,FALSE)","v":-10488.402076669241},null,10,9,10,7,6,10]
["4403","日油","素材・科学","化学",{"$f":"IF(ISERROR(VLOOKUP(A149,ﾈｵﾓﾊﾞ一覧!A:C,3,FALSE)),\"\",VLOOKUP(A149,ﾈｵﾓﾊﾞ一覧!A:C,3,FALSE))","v":30655},{"$f":"IF(ISERROR(VLOOKUP(A149,ﾈｵﾓﾊﾞ一覧!A:D,4,FALSE)),\"\",VLOOKUP(A149,ﾈｵﾓﾊﾞ一覧!A:D,4,FALSE))","v":12295},0.66966230936819171,1.2360685737216217E-2,{"$f":"VLOOKUP(C149,ﾈｵﾓﾊﾞｻﾏﾘ!A:Z,12,FALSE)","v":-10488.402076669241},null,9,8,8,4,10,8]
["4063","信越化学工業","素材・科学","化学",{"$f":"IF(ISERROR(VLOOKUP(A150,ﾈｵﾓﾊﾞ一覧!A:C,3,FALSE)),\"\",VLOOKUP(A150,ﾈｵﾓﾊﾞ一覧!A:C,3,FALSE))","v":23395},{"$f":"IF(ISERROR(VLOOKUP(A150,ﾈｵﾓﾊﾞ一覧!A:D,4,FALSE)),\"\",VLOOKUP(A150,ﾈｵﾓﾊﾞ一覧!A:D,4,FALSE))","v":12335},1.1152802893309222,9.4333140702062765E-3,{"$f":"VLOOKUP(C150,ﾈｵﾓﾊﾞｻﾏﾘ!A:Z,12,FALSE)","v":-10488.402076669241},null,7,9,5,3,7,8]
["4046","大阪ソーダ","素材・科学","化学",{"$f":"IF(ISERROR(VLOOKUP(A151,ﾈｵﾓﾊﾞ一覧!A:C,3,FALSE)),\"\",VLOOKUP(A151,ﾈｵﾓﾊﾞ一覧!A:C,3,FALSE))","v":17340},{"$f":"IF(ISERROR(VLOOKUP(A151,ﾈｵﾓﾊﾞ一覧!A:D,4,FALSE)),\"\",VLOOKUP(A151,ﾈｵﾓﾊﾞ一覧!A:D,4,FALSE))","v":7725},0.80343213728549145,6.9918215848419245E-3,{"$f":"VLOOKUP(C151,ﾈｵﾓﾊﾞｻﾏﾘ!A:Z,12,FALSE)","v":-10488.402076669241},null,6,7,3,3,6,10]
["3405","クラレ","素材・科学","化学",{"$f":"IF(ISERROR(VLOOKUP(A152,ﾈｵﾓﾊﾞ一覧!A:C,3,FALSE)),\"\",VLOOKUP(A152,ﾈｵﾓﾊﾞ一覧!A:C,3,FALSE))","v":14295},{"$f":"IF(ISERROR(VLOOKUP(A152,ﾈｵﾓﾊﾞ一覧!A:D,4,FALSE)),\"\",VLOOKUP(A152,ﾈｵﾓﾊﾞ一覧!A:D,4,FALSE))","v":3315},0.30191256830601093,5.7640190054968465E-3,{"$f":"VLOOKUP(C152,ﾈｵﾓﾊﾞｻﾏﾘ!A:Z,12,FALSE)","v":-10488.402076669241},null,10,8,9,9,10,8]
["3941","レンゴー","素材・科学","パルプ・紙",{"$f":"IF(ISERROR(VLOOKUP(A153,ﾈｵﾓﾊﾞ一覧!A:C,3,FALSE)),\"\",VLOOKUP(A153,ﾈｵﾓﾊﾞ一覧!A:C,3,FALSE))","v":12677},{"$f":"IF(ISERROR(VLOOKUP(A153,ﾈｵﾓﾊﾞ一覧!A:D,4,FALSE)),\"\",VLOOKUP(A153,ﾈｵﾓﾊﾞ一覧!A:D,4,FALSE))","v":1575},0.14186633039092056,5.1116102786067522E-3,{"$f":"VLOOKUP(C153,ﾈｵﾓﾊﾞｻﾏﾘ!A:Z,12,FALSE)","v":-10488.402076669241},null,3,3,1,9,5,1]
["4078","堺化学工業","素材・科学","化学",{"$f":"IF(ISERROR(VLOOKUP(A154,ﾈｵﾓﾊﾞ一覧!A:C,3,FALSE)),\"\",VLOOKUP(A154,ﾈｵﾓﾊﾞ一覧!A:C,3,FALSE))","v":9915},{"$f":"IF(ISERROR(VLOOKUP(A154,ﾈｵﾓﾊﾞ一覧!A:D,4,FALSE)),\"\",VLOOKUP(A154,ﾈｵﾓﾊﾞ一覧!A:D,4,FALSE))","v":650},7.0156502968159742E-2,3.9979187435817583E-3,{"$f":"VLOOKUP(C154,ﾈｵﾓﾊﾞｻﾏﾘ!A:Z,12,FALSE)","v":-10488.402076669241},null,7,1,4,8,10,8]
["4061","デンカ","素材・科学","化学",{"$f":"IF(ISERROR(VLOOKUP(A155,ﾈｵﾓﾊﾞ一覧!A:C,3,FALSE)),\"\",VLOOKUP(A155,ﾈｵﾓﾊﾞ一覧!A:C,3,FALSE))","v":8416.5},{"$f":"IF(ISERROR(VLOOKUP(A155,ﾈｵﾓﾊﾞ一覧!A:D,4,FALSE)),\"\",VLOOKUP(A155,ﾈｵﾓﾊﾞ一覧!A:D,4,FALSE))","v":-1363},-0.13937317858786236,3.3936947156183424E-3,{"$f":"VLOOKUP(C155,ﾈｵﾓﾊﾞｻﾏﾘ!A:Z,12,FALSE)","v":-10488.402076669241},null,3,1,2,6,9,4]
["6995","東海理化電機製作所","自動車・輸送機","輸送用機器",{"$f":"IF(ISERROR(VLOOKUP(A156,ﾈｵﾓﾊﾞ一覧!A:C,3,FALSE)),\"\",VLOOKUP(A156,ﾈｵﾓﾊﾞ一覧!A:C,3,FALSE))","v":""},{"$f":"IF(ISERROR(VLOOKUP(A156,ﾈｵﾓﾊﾞ一覧!A:D,4,FALSE)),\"\",VLOOKUP(A156,ﾈｵﾓﾊﾞ一覧!A:D,4,FALSE))","v":""},{"$error":"#VALUE!"},{"$error":"#VALUE!"},{"$f":"VLOOKUP(C156,ﾈｵﾓﾊﾞｻﾏﾘ!A:Z,12,FALSE)","v":-14145.053845872055},null,8,7,4,7,9,8]
["6455","モリタホールディングス","自動車・輸送機","輸送用機器",{"$f":"IF(ISERROR(VLOOKUP(A157,ﾈｵﾓﾊﾞ一覧!A:C,3,FALSE)),\"\",VLOOKUP(A157,ﾈｵﾓﾊﾞ一覧!A:C,3,FALSE))","v":""},{"$f":"IF(ISERROR(VLOOKUP(A157,ﾈｵﾓﾊﾞ一覧!A:D,4,FALSE)),\"\",VLOOKUP(A157,ﾈｵﾓﾊﾞ一覧!A:D,4,FALSE))","v":""},{"$error":"#VALUE!"},{"$error":"#VALUE!"},{"$f":"VLOOKUP(C157,ﾈｵﾓﾊﾞｻﾏﾘ!A:Z,12,FALSE)","v":-14145.053845872055},null,5,2,"-",4,8,8]
["7272\t","ヤマハ発動機","自動車・輸送機","輸送用機器",{"$f":"IF(ISERROR(VLOOKUP(A158,ﾈｵﾓﾊﾞ一覧!A:C,3,FALSE)),\"\",VLOOKUP(A158,ﾈｵﾓﾊﾞ一覧!A:C,3,FALSE))","v":""},{"$f":"IF(ISERROR(VLOOKUP(A158,ﾈｵﾓﾊﾞ一覧!A:D,4,FALSE)),\"\",VLOOKUP(A158,ﾈｵﾓﾊﾞ一覧!A:D,4,FALSE))","v":""},{"$error":"#VALUE!"},{"$error":"#VALUE!"},{"$f":"VLOOKUP(C158,ﾈｵﾓﾊﾞｻﾏﾘ!A:Z,12,FALSE)","v":-14145.053845872055},null,10,7,10,9,8,10]
["7313","テイ・エス　テック","自動車・輸送機","輸送用機器",{"$f":"IF(ISERROR(VLOOKUP(A159,ﾈｵﾓﾊﾞ一覧!A:C,3,FALSE)),\"\",VLOOKUP(A159,ﾈｵﾓﾊﾞ一覧!A:C,3,FALSE))","v":""},{"$f":"IF(ISERROR(VLOOKUP(A159,ﾈｵﾓﾊﾞ一覧!A:D,4,FALSE)),\"\",VLOOKUP(A159,ﾈｵﾓﾊﾞ一覧!A:D,4,FALSE))","v":""},{"$error":"#VALUE!"},{"$error":"#VALUE!"},{"$f":"VLOOKUP(C159,ﾈｵﾓﾊﾞｻﾏﾘ!A:Z,12,FALSE)","v":-14145.053845872055},null,5,5,2,4,9,5]
["7259","アイシン","自動車・輸送機","輸送用機器",{"$f":"IF(ISERROR(VLOOKUP(A160,ﾈｵﾓﾊﾞ一覧!A:C,3,FALSE)),\"\",VLOOKUP(A160,ﾈｵﾓﾊﾞ一覧!A:C,3,FALSE))","v":""},{"$f":"IF(ISERROR(VLOOKUP(A160,ﾈｵﾓﾊﾞ一覧!A:D,4,FALSE)),\"\",VLOOKUP(A160,ﾈｵﾓﾊﾞ一覧!A:D,4,FALSE))","v":""},{"$error":"#VALUE!"},{"$error":"#VALUE!"},{"$f":"VLOOKUP(C160,ﾈｵﾓﾊﾞｻﾏﾘ!A:Z,12,FALSE)","v":-14145.053845872055},null,4,3,3,7,6,4]
["7283","愛三工業","自動車・輸送機","輸送用機器",{"$f":"IF(ISERROR(VLOOKUP(A161,ﾈｵﾓﾊﾞ一覧!A:C,3,FALSE)),\"\",VLOOKUP(A161,ﾈｵﾓﾊﾞ一覧!A:C,3,FALSE))","v":""},{"$f":"IF(ISERROR(VLOOKUP(A161,ﾈｵﾓﾊﾞ一覧!A:D,4,FALSE)),\"\",VLOOKUP(A161,ﾈｵﾓﾊﾞ一覧!A:D,4,FALSE))","v":""},{"$error":"#VALUE!"},{"$error":"#VALUE!"},{"$f":"VLOOKUP(C161,ﾈｵﾓﾊﾞｻﾏﾘ!A:Z,12,FALSE)","v":-14145.053845872055},null,9,10,3,10,7,9]
["7309","シマノ","自動車・輸送機","輸送用機器",{"$f":"IF(ISERROR(VLOOKUP(A162,ﾈｵﾓﾊﾞ一覧!A:C,3,FALSE)),\"\",VLOOKUP(A162,ﾈｵﾓﾊﾞ一覧!A:C,3,FALSE))","v":43100},{"$f":"IF(ISERROR(VLOOKUP(A162,ﾈｵﾓﾊﾞ一覧!A:D,4,FALSE)),\"\",VLOOKUP(A162,ﾈｵﾓﾊﾞ一覧!A:D,4,FALSE))","v":14420},0.50278940027894004,1.7378749152634772E-2,{"$f":"VLOOKUP(C162,ﾈｵﾓﾊﾞｻﾏﾘ!A:Z,12,FALSE)","v":-14145.053845872055},"14,464億円",8,9,9,3,5,7]
["7203","トヨタ自動車","自動車・輸送機","輸送用機器",{"$f":"IF(ISERROR(VLOOKUP(A163,ﾈｵﾓﾊﾞ一覧!A:C,3,FALSE)),\"\",VLOOKUP(A163,ﾈｵﾓﾊﾞ一覧!A:C,3,FALSE))","v":23860},{"$f":"IF(ISERROR(VLOOKUP(A163,ﾈｵﾓﾊﾞ一覧!A:D,4,FALSE)),\"\",VLOOKUP(A163,ﾈｵﾓﾊﾞ一覧!A:D,4,FALSE))","v":5910},0.32924791086350974,9.6208110158205497E-3,{"$f":"VLOOKUP(C163,ﾈｵﾓﾊﾞｻﾏﾘ!A:Z,12,FALSE)","v":-14145.053845872055},null,5,2,5,6,7,7]
["7278","エクセディ","自動車・輸送機","輸送用機器",{"$f":"IF(ISERROR(VLOOKUP(A164,ﾈｵﾓﾊﾞ一覧!A:C,3,FALSE)),\"\",VLOOKUP(A164,ﾈｵﾓﾊﾞ一覧!A:C,3,FALSE))","v":22374},{"$f":"IF(ISERROR(VLOOKUP(A164,ﾈｵﾓﾊﾞ一覧!A:D,4,FALSE)),\"\",VLOOKUP(A164,ﾈｵﾓﾊﾞ一覧!A:D,4,FALSE))","v":7614},0.51585365853658538,9.0216272283306365E-3,{"$f":"VLOOKUP(C164,ﾈｵﾓﾊﾞｻﾏﾘ!A:Z,12,FALSE)","v":-14145.053845872055},null,5,3,3,5,10,6]
["7240","ＮＯＫ","自動車・輸送機","輸送用機器",{"$f":"IF(ISERROR(VLOOKUP(A165,ﾈｵﾓﾊﾞ一覧!A:C,3,FALSE)),\"\",VLOOKUP(A165,ﾈｵﾓﾊﾞ一覧!A:C,3,FALSE))","v":21380},{"$f":"IF(ISERROR(VLOOKUP(A165,ﾈｵﾓﾊﾞ一覧!A:D,4,FALSE)),\"\",VLOOKUP(A165,ﾈｵﾓﾊﾞ一覧!A:D,4,FALSE))","v":9570},0.81033022861981374,8.6208273058777599E-3,{"$f":"VLOOKUP(C165,ﾈｵﾓﾊﾞｻﾏﾘ!A:Z,12,FALSE)","v":-14145.053845872055},null,6,3,8,4,6,6]
["7272","ヤマハ発動機","自動車・輸送機","輸送用機器",{"$f":"IF(ISERROR(VLOOKUP(A166,ﾈｵﾓﾊﾞ一覧!A:C,3,FALSE)),\"\",VLOOKUP(A166,ﾈｵﾓﾊﾞ一覧!A:C,3,FALSE))","v":16640},{"$f":"IF(ISERROR(VLOOKUP(A166,ﾈｵﾓﾊﾞ一覧!A:D,4,FALSE)),\"\",VLOOKUP(A166,ﾈｵﾓﾊﾞ一覧!A:D,4,FALSE))","v":6780},0.68762677484787016,6.7095681183258144E-3,{"$f":"VLOOKUP(C166,ﾈｵﾓﾊﾞｻﾏﾘ!A:Z,12,FALSE)","v":-14145.053845872055},null,10,7,10,9,8,10]
["7246","プレス工業","自動車・輸送機","輸送用機器",{"$f":"IF(ISERROR(VLOOKUP(A167,ﾈｵﾓﾊﾞ一覧!A:C,3,FALSE)),\"\",VLOOKUP(A167,ﾈｵﾓﾊﾞ一覧!A:C,3,FALSE))","v":15900},{"$f":"IF(ISERROR(VLOOKUP(A167,ﾈｵﾓﾊﾞ一覧!A:D,4,FALSE)),\"\",VLOOKUP(A167,ﾈｵﾓﾊﾞ一覧!A:D,4,FALSE))","v":5650},0.551219512195122,6.4111858822944985E-3,{"$f":"VLOOKUP(C167,ﾈｵﾓﾊﾞｻﾏﾘ!A:Z,12,FALSE)","v":-14145.053845872055},null,10,8,9,8,10,8]
["7224","新明和工業","自動車・輸送機","輸送用機器",{"$f":"IF(ISERROR(VLOOKUP(A168,ﾈｵﾓﾊﾞ一覧!A:C,3,FALSE)),\"\",VLOOKUP(A168,ﾈｵﾓﾊﾞ一覧!A:C,3,FALSE))","v":14340},{"$f":"IF(ISERROR(VLOOKUP(A168,ﾈｵﾓﾊﾞ一覧!A:D,4,FALSE)),\"\",VLOOKUP(A168,ﾈｵﾓﾊﾞ一覧!A:D,4,FALSE))","v":3740},0.35283018867924526,5.7821638712014529E-3,{"$f":"VLOOKUP(C168,ﾈｵﾓﾊﾞｻﾏﾘ!A:Z,12,FALSE)","v":-14145.053845872055},null,7,1,"-",6,10,9]
["7261","マツダ","自動車・輸送機","輸送用機器",{"$f":"IF(ISERROR(VLOOKUP(A169,ﾈｵﾓﾊﾞ一覧!A:C,3,FALSE)),\"\",VLOOKUP(A169,ﾈｵﾓﾊﾞ一覧!A:C,3,FALSE))","v":14055},{"$f":"IF(ISERROR(VLOOKUP(A169,ﾈｵﾓﾊﾞ一覧!A:D,4,FALSE)),\"\",VLOOKUP(A169,ﾈｵﾓﾊﾞ一覧!A:D,4,FALSE))","v":3315},0.30865921787709499,5.6672463884056088E-3,{"$f":"VLOOKUP(C169,ﾈｵﾓﾊﾞｻﾏﾘ!A:Z,12,FALSE)","v":-14145.053845872055},null,9,9,7,10,6,5]
["7250","太平洋工業","自動車・輸送機","輸送用機器",{"$f":"IF(ISERROR(VLOOKUP(A170,ﾈｵﾓﾊﾞ一覧!A:C,3,FALSE)),\"\",VLOOKUP(A170,ﾈｵﾓﾊﾞ一覧!A:C,3,FALSE))","v":13660},{"$f":"IF(ISERROR(VLOOKUP(A170,ﾈｵﾓﾊﾞ一覧!A:D,4,FALSE)),\"\",VLOOKUP(A170,ﾈｵﾓﾊﾞ一覧!A:D,4,FALSE))","v":3420},0.333984375,5.5079747894429465E-3,{"$f":"VLOOKUP(C170,ﾈｵﾓﾊﾞｻﾏﾘ!A:Z,12,FALSE)","v":-14145.053845872055},null,9,7,10,9,6,5]
["7267","本田技研工業","自動車・輸送機","輸送用機器",{"$f":"IF(ISERROR(VLOOKUP(A171,ﾈｵﾓﾊﾞ一覧!A:C,3,FALSE)),\"\",VLOOKUP(A171,ﾈｵﾓﾊﾞ一覧!A:C,3,FALSE))","v":13539},{"$f":"IF(ISERROR(VLOOKUP(A171,ﾈｵﾓﾊﾞ一覧!A:D,4,FALSE)),\"\",VLOOKUP(A171,ﾈｵﾓﾊﾞ一覧!A:D,4,FALSE))","v":3372},0.33166125700796695,5.4591852616594477E-3,{"$f":"VLOOKUP(C171,ﾈｵﾓﾊﾞｻﾏﾘ!A:Z,12,FALSE)","v":-14145.053845872055},null,8,7,4,8,9,7]
["7228","デイトナ","自動車・輸送機","輸送用機器",{"$f":"IF(ISERROR(VLOOKUP(A172,ﾈｵﾓﾊﾞ一覧!A:C,3,FALSE)),\"\",VLOOKUP(A172,ﾈｵﾓﾊﾞ一覧!A:C,3,FALSE))","v":13200},{"$f":"IF(ISERROR(VLOOKUP(A172,ﾈｵﾓﾊﾞ一覧!A:D,4,FALSE)),\"\",VLOOKUP(A172,ﾈｵﾓﾊﾞ一覧!A:D,4,FALSE))","v":8880},2.0555555555555554,5.322493940018074E-3,{"$f":"VLOOKUP(C172,ﾈｵﾓﾊﾞｻﾏﾘ!A:Z,12,FALSE)","v":-14145.053845872055},null,8,9,6,8,6,5]
["7296","エフ・シー・シー","自動車・輸送機","輸送用機器",{"$f":"IF(ISERROR(VLOOKUP(A173,ﾈｵﾓﾊﾞ一覧!A:C,3,FALSE)),\"\",VLOOKUP(A173,ﾈｵﾓﾊﾞ一覧!A:C,3,FALSE))","v":13034},{"$f":"IF(ISERROR(VLOOKUP(A173,ﾈｵﾓﾊﾞ一覧!A:D,4,FALSE)),\"\",VLOOKUP(A173,ﾈｵﾓﾊﾞ一覧!A:D,4,FALSE))","v":3633},0.38644825018615042,5.2555595465299679E-3,{"$f":"VLOOKUP(C173,ﾈｵﾓﾊﾞｻﾏﾘ!A:Z,12,FALSE)","v":-14145.053845872055},null,10,9,3,9,10,8]
["7202","いすゞ自動車","自動車・輸送機","輸送用機器",{"$f":"IF(ISERROR(VLOOKUP(A174,ﾈｵﾓﾊﾞ一覧!A:C,3,FALSE)),\"\",VLOOKUP(A174,ﾈｵﾓﾊﾞ一覧!A:C,3,FALSE))","v":12894},{"$f":"IF(ISERROR(VLOOKUP(A174,ﾈｵﾓﾊﾞ一覧!A:D,4,FALSE)),\"\",VLOOKUP(A174,ﾈｵﾓﾊﾞ一覧!A:D,4,FALSE))","v":2086},0.19300518134715025,5.1991088532267462E-3,{"$f":"VLOOKUP(C174,ﾈｵﾓﾊﾞｻﾏﾘ!A:Z,12,FALSE)","v":-14145.053845872055},null,10,9,10,9,6,5]
["7226","極東開発工業","自動車・輸送機","輸送用機器",{"$f":"IF(ISERROR(VLOOKUP(A175,ﾈｵﾓﾊﾞ一覧!A:C,3,FALSE)),\"\",VLOOKUP(A175,ﾈｵﾓﾊﾞ一覧!A:C,3,FALSE))","v":12761},{"$f":"IF(ISERROR(VLOOKUP(A175,ﾈｵﾓﾊﾞ一覧!A:D,4,FALSE)),\"\",VLOOKUP(A175,ﾈｵﾓﾊﾞ一覧!A:D,4,FALSE))","v":3115},0.32293178519593613,5.1454806945886852E-3,{"$f":"VLOOKUP(C175,ﾈｵﾓﾊﾞｻﾏﾘ!A:Z,12,FALSE)","v":-14145.053845872055},null,5,1,"-",4,9,9]
["7292","村上開明堂","自動車・輸送機","輸送用機器",{"$f":"IF(ISERROR(VLOOKUP(A176,ﾈｵﾓﾊﾞ一覧!A:C,3,FALSE)),\"\",VLOOKUP(A176,ﾈｵﾓﾊﾞ一覧!A:C,3,FALSE))","v":5792},{"$f":"IF(ISERROR(VLOOKUP(A176,ﾈｵﾓﾊﾞ一覧!A:D,4,FALSE)),\"\",VLOOKUP(A176,ﾈｵﾓﾊﾞ一覧!A:D,4,FALSE))","v":1712},0.41960784313725491,2.3354458258018703E-3,{"$f":"VLOOKUP(C176,ﾈｵﾓﾊﾞｻﾏﾘ!A:Z,12,FALSE)","v":-14145.053845872055},null,10,10,"-",9,8,9]
["6754","アンリツ","電機・精密","電気機器",{"$f":"IF(ISERROR(VLOOKUP(A177,ﾈｵﾓﾊﾞ一覧!A:C,3,FALSE)),\"\",VLOOKUP(A177,ﾈｵﾓﾊﾞ一覧!A:C,3,FALSE))","v":""},{"$f":"IF(ISERROR(VLOOKUP(A177,ﾈｵﾓﾊﾞ一覧!A:D,4,FALSE)),\"\",VLOOKUP(A177,ﾈｵﾓﾊﾞ一覧!A:D,4,FALSE))","v":""},{"$error":"#VALUE!"},{"$error":"#VALUE!"},{"$f":"VLOOKUP(C177,ﾈｵﾓﾊﾞｻﾏﾘ!A:Z,12,FALSE)","v":-14355.068913697323},null,2,3,1,5,9,1]
["6501","日立製作所","電機・精密","電気機器",{"$f":"IF(ISERROR(VLOOKUP(A178,ﾈｵﾓﾊﾞ一覧!A:C,3,FALSE)),\"\",VLOOKUP(A178,ﾈｵﾓﾊﾞ一覧!A:C,3,FALSE))","v":""},{"$f":"IF(ISERROR(VLOOKUP(A178,ﾈｵﾓﾊﾞ一覧!A:D,4,FALSE)),\"\",VLOOKUP(A178,ﾈｵﾓﾊﾞ一覧!A:D,4,FALSE))","v":""},{"$error":"#VALUE!"},{"$error":"#VALUE!"},{"$f":"VLOOKUP(C178,ﾈｵﾓﾊﾞｻﾏﾘ!A:Z,12,FALSE)","v":-14355.068913697323},"40,693億円",5,4,2,5,9,6]
["6588","東芝テック","電機・精密","電気機器",{"$f":"IF(ISERROR(VLOOKUP(A179,ﾈｵﾓﾊﾞ一覧!A:C,3,FALSE)),\"\",VLOOKUP(A179,ﾈｵﾓﾊﾞ一覧!A:C,3,FALSE))","v":""},{"$f":"IF(ISERROR(VLOOKUP(A179,ﾈｵﾓﾊﾞ一覧!A:D,4,FALSE)),\"\",VLOOKUP(A179,ﾈｵﾓﾊﾞ一覧!A:D,4,FALSE))","v":""},{"$error":"#VALUE!"},{"$error":"#VALUE!"},{"$f":"VLOOKUP(C179,ﾈｵﾓﾊﾞｻﾏﾘ!A:Z,12,FALSE)","v":-14355.068913697323},null,3,4,4,6,7,1]
["6750","エレコム","電機・精密","電気機器",{"$f":"IF(ISERROR(VLOOKUP(A180,ﾈｵﾓﾊﾞ一覧!A:C,3,FALSE)),\"\",VLOOKUP(A180,ﾈｵﾓﾊﾞ一覧!A:C,3,FALSE))","v":""},{"$f":"IF(ISERROR(VLOOKUP(A180,ﾈｵﾓﾊﾞ一覧!A:D,4,FALSE)),\"\",VLOOKUP(A180,ﾈｵﾓﾊﾞ一覧!A:D,4,FALSE))","v":""},{"$error":"#VALUE!"},{"$error":"#VALUE!"},{"$f":"VLOOKUP(C180,ﾈｵﾓﾊﾞｻﾏﾘ!A:Z,12,FALSE)","v":-14355.068913697323},null,6,5,9,4,6,4]
["6594","日本電産","電機・精密","電気機器",{"$f":"IF(ISERROR(VLOOKUP(A181,ﾈｵﾓﾊﾞ一覧!A:C,3,FALSE)),\"\",VLOOKUP(A181,ﾈｵﾓﾊﾞ一覧!A:C,3,FALSE))","v":""},{"$f":"IF(ISERROR(VLOOKUP(A181,ﾈｵﾓﾊﾞ一覧!A:D,4,FALSE)),\"\",VLOOKUP(A181,ﾈｵﾓﾊﾞ一覧!A:D,4,FALSE))","v":""},{"$error":"#VALUE!"},{"$error":"#VALUE!"},{"$f":"VLOOKUP(C181,ﾈｵﾓﾊﾞｻﾏﾘ!A:Z,12,FALSE)","v":-14355.068913697323},null,2,1,5,2,6,3]
["7751\t","キヤノン","電機・精密","電気機器",{"$f":"IF(ISERROR(VLOOKUP(A182,ﾈｵﾓﾊﾞ一覧!A:C,3,FALSE)),\"\",VLOOKUP(A182,ﾈｵﾓﾊﾞ一覧!A:C,3,FALSE))","v":""},{"$f":"IF(ISERROR(VLOOKUP(A182,ﾈｵﾓﾊﾞ一覧!A:D,4,FALSE)),\"\",VLOOKUP(A182,ﾈｵﾓﾊﾞ一覧!A:D,4,FALSE))","v":""},{"$error":"#VALUE!"},{"$error":"#VALUE!"},{"$f":"VLOOKUP(C182,ﾈｵﾓﾊﾞｻﾏﾘ!A:Z,12,FALSE)","v":-14355.068913697323},null,8,7,8,5,9,6]
["6967","新光電気工業","電機・精密","電気機器",{"$f":"IF(ISERROR(VLOOKUP(A183,ﾈｵﾓﾊﾞ一覧!A:C,3,FALSE)),\"\",VLOOKUP(A183,ﾈｵﾓﾊﾞ一覧!A:C,3,FALSE))","v":""},{"$f":"IF(ISERROR(VLOOKUP(A183,ﾈｵﾓﾊﾞ一覧!A:D,4,FALSE)),\"\",VLOOKUP(A183,ﾈｵﾓﾊﾞ一覧!A:D,4,FALSE))","v":""},{"$error":"#VALUE!"},{"$error":"#VALUE!"},{"$f":"VLOOKUP(C183,ﾈｵﾓﾊﾞｻﾏﾘ!A:Z,12,FALSE)","v":-14355.068913697323},null,6,7,7,3,4,7]
["7735","ＳＣＲＥＥＮホールディングス","電機・精密","電気機器",{"$f":"IF(ISERROR(VLOOKUP(A184,ﾈｵﾓﾊﾞ一覧!A:C,3,FALSE)),\"\",VLOOKUP(A184,ﾈｵﾓﾊﾞ一覧!A:C,3,FALSE))","v":""},{"$f":"IF(ISERROR(VLOOKUP(A184,ﾈｵﾓﾊﾞ一覧!A:D,4,FALSE)),\"\",VLOOKUP(A184,ﾈｵﾓﾊﾞ一覧!A:D,4,FALSE))","v":""},{"$error":"#VALUE!"},{"$error":"#VALUE!"},{"$f":"VLOOKUP(C184,ﾈｵﾓﾊﾞｻﾏﾘ!A:Z,12,FALSE)","v":-14355.068913697323},null,7,8,3,4,6,9]
["6753","シャープ","電機・精密","電気機器",{"$f":"IF(ISERROR(VLOOKUP(A185,ﾈｵﾓﾊﾞ一覧!A:C,3,FALSE)),\"\",VLOOKUP(A185,ﾈｵﾓﾊﾞ一覧!A:C,3,FALSE))","v":""},{"$f":"IF(ISERROR(VLOOKUP(A185,ﾈｵﾓﾊﾞ一覧!A:D,4,FALSE)),\"\",VLOOKUP(A185,ﾈｵﾓﾊﾞ一覧!A:D,4,FALSE))","v":""},{"$error":"#VALUE!"},{"$error":"#VALUE!"},{"$f":"VLOOKUP(C185,ﾈｵﾓﾊﾞｻﾏﾘ!A:Z,12,FALSE)","v":-14355.068913697323},null,1,1,1,5,2,1]
["6718","アイホン","電機・精密","電気機器",{"$f":"IF(ISERROR(VLOOKUP(A186,ﾈｵﾓﾊﾞ一覧!A:C,3,FALSE)),\"\",VLOOKUP(A186,ﾈｵﾓﾊﾞ一覧!A:C,3,FALSE))","v":""},{"$f":"IF(ISERROR(VLOOKUP(A186,ﾈｵﾓﾊﾞ一覧!A:D,4,FALSE)),\"\",VLOOKUP(A186,ﾈｵﾓﾊﾞ一覧!A:D,4,FALSE))","v":""},{"$error":"#VALUE!"},{"$error":"#VALUE!"},{"$f":"VLOOKUP(C186,ﾈｵﾓﾊﾞｻﾏﾘ!A:Z,12,FALSE)","v":-14355.068913697323},null,6,2,9,5,9,4]
["6737","ＥＩＺＯ","電機・精密","電気機器",{"$f":"IF(ISERROR(VLOOKUP(A187,ﾈｵﾓﾊﾞ一覧!A:C,3,FALSE)),\"\",VLOOKUP(A187,ﾈｵﾓﾊﾞ一覧!A:C,3,FALSE))","v":""},{"$f":"IF(ISERROR(VLOOKUP(A187,ﾈｵﾓﾊﾞ一覧!A:D,4,FALSE)),\"\",VLOOKUP(A187,ﾈｵﾓﾊﾞ一覧!A:D,4,FALSE))","v":""},{"$error":"#VALUE!"},{"$error":"#VALUE!"},{"$f":"VLOOKUP(C187,ﾈｵﾓﾊﾞｻﾏﾘ!A:Z,12,FALSE)","v":-14355.068913697323},null,5,1,9,4,7,7]
["6875","メガチップス","電機・精密","電気機器",{"$f":"IF(ISERROR(VLOOKUP(A188,ﾈｵﾓﾊﾞ一覧!A:C,3,FALSE)),\"\",VLOOKUP(A188,ﾈｵﾓﾊﾞ一覧!A:C,3,FALSE))","v":""},{"$f":"IF(ISERROR(VLOOKUP(A188,ﾈｵﾓﾊﾞ一覧!A:D,4,FALSE)),\"\",VLOOKUP(A188,ﾈｵﾓﾊﾞ一覧!A:D,4,FALSE))","v":""},{"$error":"#VALUE!"},{"$error":"#VALUE!"},{"$f":"VLOOKUP(C188,ﾈｵﾓﾊﾞｻﾏﾘ!A:Z,12,FALSE)","v":-14355.068913697323},null,6,3,6,5,4,10]
["6758","ソニー","電機・精密","電気機器",{"$f":"IF(ISERROR(VLOOKUP(A189,ﾈｵﾓﾊﾞ一覧!A:C,3,FALSE)),\"\",VLOOKUP(A189,ﾈｵﾓﾊﾞ一覧!A:C,3,FALSE))","v":39945},{"$f":"IF(ISERROR(VLOOKUP(A189,ﾈｵﾓﾊﾞ一覧!A:D,4,FALSE)),\"\",VLOOKUP(A189,ﾈｵﾓﾊﾞ一覧!A:D,4,FALSE))","v":21813},1.2030112508272668,1.6106592457122877E-2,{"$f":"VLOOKUP(C189,ﾈｵﾓﾊﾞｻﾏﾘ!A:Z,12,FALSE)","v":-14355.068913697323},"92,534億円",6,3,9,3,7,7]
["6645","オムロン","電機・精密","電気機器",{"$f":"IF(ISERROR(VLOOKUP(A190,ﾈｵﾓﾊﾞ一覧!A:C,3,FALSE)),\"\",VLOOKUP(A190,ﾈｵﾓﾊﾞ一覧!A:C,3,FALSE))","v":38110},{"$f":"IF(ISERROR(VLOOKUP(A190,ﾈｵﾓﾊﾞ一覧!A:D,4,FALSE)),\"\",VLOOKUP(A190,ﾈｵﾓﾊﾞ一覧!A:D,4,FALSE))","v":9460},0.33019197207678885,1.5366685155612788E-2,{"$f":"VLOOKUP(C190,ﾈｵﾓﾊﾞｻﾏﾘ!A:Z,12,FALSE)","v":-14355.068913697323},null,7,8,9,3,6,8]
["6702","富士通","電機・精密","電気機器",{"$f":"IF(ISERROR(VLOOKUP(A191,ﾈｵﾓﾊﾞ一覧!A:C,3,FALSE)),\"\",VLOOKUP(A191,ﾈｵﾓﾊﾞ一覧!A:C,3,FALSE))","v":36770},{"$f":"IF(ISERROR(VLOOKUP(A191,ﾈｵﾓﾊﾞ一覧!A:D,4,FALSE)),\"\",VLOOKUP(A191,ﾈｵﾓﾊﾞ一覧!A:D,4,FALSE))","v":16842},0.84514251304696908,1.4826371376853378E-2,{"$f":"VLOOKUP(C191,ﾈｵﾓﾊﾞｻﾏﾘ!A:Z,12,FALSE)","v":-14355.068913697323},null,2,2,1,4,5,6]
["6701","日本電気","電機・精密","電気機器",{"$f":"IF(ISERROR(VLOOKUP(A192,ﾈｵﾓﾊﾞ一覧!A:C,3,FALSE)),\"\",VLOOKUP(A192,ﾈｵﾓﾊﾞ一覧!A:C,3,FALSE))","v":28732},{"$f":"IF(ISERROR(VLOOKUP(A192,ﾈｵﾓﾊﾞ一覧!A:D,4,FALSE)),\"\",VLOOKUP(A192,ﾈｵﾓﾊﾞ一覧!A:D,4,FALSE))","v":11740},0.69091337099811678,1.1585295142772675E-2,{"$f":"VLOOKUP(C192,ﾈｵﾓﾊﾞｻﾏﾘ!A:Z,12,FALSE)","v":-14355.068913697323},null,6,2,8,5,4,10]
["6651","日東工業","電機・精密","電気機器",{"$f":"IF(ISERROR(VLOOKUP(A193,ﾈｵﾓﾊﾞ一覧!A:C,3,FALSE)),\"\",VLOOKUP(A193,ﾈｵﾓﾊﾞ一覧!A:C,3,FALSE))","v":21810},{"$f":"IF(ISERROR(VLOOKUP(A193,ﾈｵﾓﾊﾞ一覧!A:D,4,FALSE)),\"\",VLOOKUP(A193,ﾈｵﾓﾊﾞ一覧!A:D,4,FALSE))","v":12726},1.4009247027741083,8.7942115781662264E-3,{"$f":"VLOOKUP(C193,ﾈｵﾓﾊﾞｻﾏﾘ!A:Z,12,FALSE)","v":-14355.068913697323},null,8,5,10,3,8,8]
["6804","ホシデン","電機・精密","電気機器",{"$f":"IF(ISERROR(VLOOKUP(A194,ﾈｵﾓﾊﾞ一覧!A:C,3,FALSE)),\"\",VLOOKUP(A194,ﾈｵﾓﾊﾞ一覧!A:C,3,FALSE))","v":18370},{"$f":"IF(ISERROR(VLOOKUP(A194,ﾈｵﾓﾊﾞ一覧!A:D,4,FALSE)),\"\",VLOOKUP(A194,ﾈｵﾓﾊﾞ一覧!A:D,4,FALSE))","v":7410},{"$f":"F194/(E194-F194)","v":0.67609489051094895},{"$f":"E194/SUM(E:E)","v":7.4071373998584869E-3},{"$f":"VLOOKUP(C194,ﾈｵﾓﾊﾞｻﾏﾘ!A:Z,12,FALSE)","v":-14355.068913697323},null,10,8,"-",7,8,10]
["6976","太陽誘電","電機・精密","電気機器",{"$f":"IF(ISERROR(VLOOKUP(A195,ﾈｵﾓﾊﾞ一覧!A:C,3,FALSE)),\"\",VLOOKUP(A195,ﾈｵﾓﾊﾞ一覧!A:C,3,FALSE))","v":16936},{"$f":"IF(ISERROR(VLOOKUP(A195,ﾈｵﾓﾊﾞ一覧!A:D,4,FALSE)),\"\",VLOOKUP(A195,ﾈｵﾓﾊﾞ一覧!A:D,4,FALSE))","v":7048},0.71278317152103565,6.8289210127383407E-3,{"$f":"VLOOKUP(C195,ﾈｵﾓﾊﾞｻﾏﾘ!A:Z,12,FALSE)","v":-14355.068913697323},null,1,1,2,2,4,4]
["6856","堀場製作所","電機・精密","電気機器",{"$f":"IF(ISERROR(VLOOKUP(A196,ﾈｵﾓﾊﾞ一覧!A:C,3,FALSE)),\"\",VLOOKUP(A196,ﾈｵﾓﾊﾞ一覧!A:C,3,FALSE))","v":16762},{"$f":"IF(ISERROR(VLOOKUP(A196,ﾈｵﾓﾊﾞ一覧!A:D,4,FALSE)),\"\",VLOOKUP(A196,ﾈｵﾓﾊﾞ一覧!A:D,4,FALSE))","v":5302},0.46265270506108203,6.758760865347194E-3,{"$f":"VLOOKUP(C196,ﾈｵﾓﾊﾞｻﾏﾘ!A:Z,12,FALSE)","v":-14355.068913697323},null,10,10,10,7,9,4]
["6981","村田製作所","電機・精密","電気機器",{"$f":"IF(ISERROR(VLOOKUP(A197,ﾈｵﾓﾊﾞ一覧!A:C,3,FALSE)),\"\",VLOOKUP(A197,ﾈｵﾓﾊﾞ一覧!A:C,3,FALSE))","v":16650},{"$f":"IF(ISERROR(VLOOKUP(A197,ﾈｵﾓﾊﾞ一覧!A:D,4,FALSE)),\"\",VLOOKUP(A197,ﾈｵﾓﾊﾞ一覧!A:D,4,FALSE))","v":7100},0.74345549738219896,6.7136003107046158E-3,{"$f":"VLOOKUP(C197,ﾈｵﾓﾊﾞｻﾏﾘ!A:Z,12,FALSE)","v":-14355.068913697323},"35,142億円",6,5,7,2,8,7]
["6745","ホーチキ","電機・精密","電気機器",{"$f":"IF(ISERROR(VLOOKUP(A198,ﾈｵﾓﾊﾞ一覧!A:C,3,FALSE)),\"\",VLOOKUP(A198,ﾈｵﾓﾊﾞ一覧!A:C,3,FALSE))","v":16236},{"$f":"IF(ISERROR(VLOOKUP(A198,ﾈｵﾓﾊﾞ一覧!A:D,4,FALSE)),\"\",VLOOKUP(A198,ﾈｵﾓﾊﾞ一覧!A:D,4,FALSE))","v":5436},0.5033333333333333,6.5466675462222314E-3,{"$f":"VLOOKUP(C198,ﾈｵﾓﾊﾞｻﾏﾘ!A:Z,12,FALSE)","v":-14355.068913697323},null,7,3,"-",6,7,9]
["7729","東京精密","電機・精密","精密機器",{"$f":"IF(ISERROR(VLOOKUP(A199,ﾈｵﾓﾊﾞ一覧!A:C,3,FALSE)),\"\",VLOOKUP(A199,ﾈｵﾓﾊﾞ一覧!A:C,3,FALSE))","v":15740},{"$f":"IF(ISERROR(VLOOKUP(A199,ﾈｵﾓﾊﾞ一覧!A:D,4,FALSE)),\"\",VLOOKUP(A199,ﾈｵﾓﾊﾞ一覧!A:D,4,FALSE))","v":6390},0.68342245989304817,6.3466708042336731E-3,{"$f":"VLOOKUP(C199,ﾈｵﾓﾊﾞｻﾏﾘ!A:Z,12,FALSE)","v":-14355.068913697323},null,6,5,5,3,7,7]
["6971","京セラ","電機・精密","電気機器",{"$f":"IF(ISERROR(VLOOKUP(A200,ﾈｵﾓﾊﾞ一覧!A:C,3,FALSE)),\"\",VLOOKUP(A200,ﾈｵﾓﾊﾞ一覧!A:C,3,FALSE))","v":15288},{"$f":"IF(ISERROR(VLOOKUP(A200,ﾈｵﾓﾊﾞ一覧!A:D,4,FALSE)),\"\",VLOOKUP(A200,ﾈｵﾓﾊﾞ一覧!A:D,4,FALSE))","v":1926},0.14414009878760664,6.1644157087118422E-3,{"$f":"VLOOKUP(C200,ﾈｵﾓﾊﾞｻﾏﾘ!A:Z,12,FALSE)","v":-14355.068913697323},null,6,3,5,3,10,7]
["7751","キヤノン","電機・精密","電気機器",{"$f":"IF(ISERROR(VLOOKUP(A201,ﾈｵﾓﾊﾞ一覧!A:C,3,FALSE)),\"\",VLOOKUP(A201,ﾈｵﾓﾊﾞ一覧!A:C,3,FALSE))","v":14692},{"$f":"IF(ISERROR(VLOOKUP(A201,ﾈｵﾓﾊﾞ一覧!A:D,4,FALSE)),\"\",VLOOKUP(A201,ﾈｵﾓﾊﾞ一覧!A:D,4,FALSE))","v":3236},0.28247206703910616,5.9240970429352688E-3,{"$f":"VLOOKUP(C201,ﾈｵﾓﾊﾞｻﾏﾘ!A:Z,12,FALSE)","v":-14355.068913697323},null,8,7,8,5,9,6]
["6516","山洋電気","電機・精密","電気機器",{"$f":"IF(ISERROR(VLOOKUP(A202,ﾈｵﾓﾊﾞ一覧!A:C,3,FALSE)),\"\",VLOOKUP(A202,ﾈｵﾓﾊﾞ一覧!A:C,3,FALSE))","v":14400},{"$f":"IF(ISERROR(VLOOKUP(A202,ﾈｵﾓﾊﾞ一覧!A:D,4,FALSE)),\"\",VLOOKUP(A202,ﾈｵﾓﾊﾞ一覧!A:D,4,FALSE))","v":2300},0.19008264462809918,5.8063570254742623E-3,{"$f":"VLOOKUP(C202,ﾈｵﾓﾊﾞｻﾏﾘ!A:Z,12,FALSE)","v":-14355.068913697323},null,10,8,8,9,8,7]
["6789","ローランド　ディー　ジー","電機・精密","電気機器",{"$f":"IF(ISERROR(VLOOKUP(A203,ﾈｵﾓﾊﾞ一覧!A:C,3,FALSE)),\"\",VLOOKUP(A203,ﾈｵﾓﾊﾞ一覧!A:C,3,FALSE))","v":14240},{"$f":"IF(ISERROR(VLOOKUP(A203,ﾈｵﾓﾊﾞ一覧!A:D,4,FALSE)),\"\",VLOOKUP(A203,ﾈｵﾓﾊﾞ一覧!A:D,4,FALSE))","v":2804},0.24519062609303952,5.7418419474134378E-3,{"$f":"VLOOKUP(C203,ﾈｵﾓﾊﾞｻﾏﾘ!A:Z,12,FALSE)","v":-14355.068913697323},null,10,7,7,8,8,9]
["4543","テルモ","電機・精密","精密機器",{"$f":"IF(ISERROR(VLOOKUP(A204,ﾈｵﾓﾊﾞ一覧!A:C,3,FALSE)),\"\",VLOOKUP(A204,ﾈｵﾓﾊﾞ一覧!A:C,3,FALSE))","v":13953},{"$f":"IF(ISERROR(VLOOKUP(A204,ﾈｵﾓﾊﾞ一覧!A:D,4,FALSE)),\"\",VLOOKUP(A204,ﾈｵﾓﾊﾞ一覧!A:D,4,FALSE))","v":4911},0.54313205043132051,5.626118026141832E-3,{"$f":"VLOOKUP(C204,ﾈｵﾓﾊﾞｻﾏﾘ!A:Z,12,FALSE)","v":-14355.068913697323},"28,626億円",6,5,7,1,9,6]
["7740","タムロン","電機・精密","精密機器",{"$f":"IF(ISERROR(VLOOKUP(A205,ﾈｵﾓﾊﾞ一覧!A:C,3,FALSE)),\"\",VLOOKUP(A205,ﾈｵﾓﾊﾞ一覧!A:C,3,FALSE))","v":13485},{"$f":"IF(ISERROR(VLOOKUP(A205,ﾈｵﾓﾊﾞ一覧!A:D,4,FALSE)),\"\",VLOOKUP(A205,ﾈｵﾓﾊﾞ一覧!A:D,4,FALSE))","v":3315},0.32595870206489674,5.4374114228139189E-3,{"$f":"VLOOKUP(C205,ﾈｵﾓﾊﾞｻﾏﾘ!A:Z,12,FALSE)","v":-14355.068913697323},null,9,10,7,6,7,9]
["6845","アズビル","電機・精密","電気機器",{"$f":"IF(ISERROR(VLOOKUP(A206,ﾈｵﾓﾊﾞ一覧!A:C,3,FALSE)),\"\",VLOOKUP(A206,ﾈｵﾓﾊﾞ一覧!A:C,3,FALSE))","v":13440},{"$f":"IF(ISERROR(VLOOKUP(A206,ﾈｵﾓﾊﾞ一覧!A:D,4,FALSE)),\"\",VLOOKUP(A206,ﾈｵﾓﾊﾞ一覧!A:D,4,FALSE))","v":2790},0.26197183098591548,5.4192665571093116E-3,{"$f":"VLOOKUP(C206,ﾈｵﾓﾊﾞｻﾏﾘ!A:Z,12,FALSE)","v":-14355.068913697323},null,3,4,1,2,5,9]
["6508","明電舎","電機・精密","電気機器",{"$f":"IF(ISERROR(VLOOKUP(A207,ﾈｵﾓﾊﾞ一覧!A:C,3,FALSE)),\"\",VLOOKUP(A207,ﾈｵﾓﾊﾞ一覧!A:C,3,FALSE))","v":12702},{"$f":"IF(ISERROR(VLOOKUP(A207,ﾈｵﾓﾊﾞ一覧!A:D,4,FALSE)),\"\",VLOOKUP(A207,ﾈｵﾓﾊﾞ一覧!A:D,4,FALSE))","v":2532},0.24896755162241888,5.1216907595537558E-3,{"$f":"VLOOKUP(C207,ﾈｵﾓﾊﾞｻﾏﾘ!A:Z,12,FALSE)","v":-14355.068913697323},null,3,4,2,6,7,1]
["3105","日清紡ホールディングス","電機・精密","電気機器",{"$f":"IF(ISERROR(VLOOKUP(A208,ﾈｵﾓﾊﾞ一覧!A:C,3,FALSE)),\"\",VLOOKUP(A208,ﾈｵﾓﾊﾞ一覧!A:C,3,FALSE))","v":12210},{"$f":"IF(ISERROR(VLOOKUP(A208,ﾈｵﾓﾊﾞ一覧!A:D,4,FALSE)),\"\",VLOOKUP(A208,ﾈｵﾓﾊﾞ一覧!A:D,4,FALSE))","v":2640},0.27586206896551724,4.9233068945167182E-3,{"$f":"VLOOKUP(C208,ﾈｵﾓﾊﾞｻﾏﾘ!A:Z,12,FALSE)","v":-14355.068913697323},null,9,7,8,9,9,5]
["6652","ＩＤＥＣ","電機・精密","電気機器",{"$f":"IF(ISERROR(VLOOKUP(A209,ﾈｵﾓﾊﾞ一覧!A:C,3,FALSE)),\"\",VLOOKUP(A209,ﾈｵﾓﾊﾞ一覧!A:C,3,FALSE))","v":12080},{"$f":"IF(ISERROR(VLOOKUP(A209,ﾈｵﾓﾊﾞ一覧!A:D,4,FALSE)),\"\",VLOOKUP(A209,ﾈｵﾓﾊﾞ一覧!A:D,4,FALSE))","v":1216},0.11192930780559647,4.8708883935922979E-3,{"$f":"VLOOKUP(C209,ﾈｵﾓﾊﾞｻﾏﾘ!A:Z,12,FALSE)","v":-14355.068913697323},null,8,9,2,8,8,8]
["6507","シンフォニアテクノロジー","電機・精密","電気機器",{"$f":"IF(ISERROR(VLOOKUP(A210,ﾈｵﾓﾊﾞ一覧!A:C,3,FALSE)),\"\",VLOOKUP(A210,ﾈｵﾓﾊﾞ一覧!A:C,3,FALSE))","v":12054},{"$f":"IF(ISERROR(VLOOKUP(A210,ﾈｵﾓﾊﾞ一覧!A:D,4,FALSE)),\"\",VLOOKUP(A210,ﾈｵﾓﾊﾞ一覧!A:D,4,FALSE))","v":1932},0.1908713692946058,4.8604046934074144E-3,{"$f":"VLOOKUP(C210,ﾈｵﾓﾊﾞｻﾏﾘ!A:Z,12,FALSE)","v":-14355.068913697323},null,6,9,2,9,6,4]
["6724","セイコーエプソン","電機・精密","電気機器",{"$f":"IF(ISERROR(VLOOKUP(A211,ﾈｵﾓﾊﾞ一覧!A:C,3,FALSE)),\"\",VLOOKUP(A211,ﾈｵﾓﾊﾞ一覧!A:C,3,FALSE))","v":11662.5},{"$f":"IF(ISERROR(VLOOKUP(A211,ﾈｵﾓﾊﾞ一覧!A:D,4,FALSE)),\"\",VLOOKUP(A211,ﾈｵﾓﾊﾞ一覧!A:D,4,FALSE))","v":777},7.1379357861375226E-2,4.7025443617773324E-3,{"$f":"VLOOKUP(C211,ﾈｵﾓﾊﾞｻﾏﾘ!A:Z,12,FALSE)","v":-14355.068913697323},null,9,6,7,8,8,8]
["6448","ブラザー工業","電機・精密","電気機器",{"$f":"IF(ISERROR(VLOOKUP(A212,ﾈｵﾓﾊﾞ一覧!A:C,3,FALSE)),\"\",VLOOKUP(A212,ﾈｵﾓﾊﾞ一覧!A:C,3,FALSE))","v":11067.5},{"$f":"IF(ISERROR(VLOOKUP(A212,ﾈｵﾓﾊﾞ一覧!A:D,4,FALSE)),\"\",VLOOKUP(A212,ﾈｵﾓﾊﾞ一覧!A:D,4,FALSE))","v":497},4.7017643441653656E-2,4.462628915238639E-3,{"$f":"VLOOKUP(C212,ﾈｵﾓﾊﾞｻﾏﾘ!A:Z,12,FALSE)","v":-14355.068913697323},null,3,2,2,6,8,3]
["6622","ダイヘン","電機・精密","電気機器",{"$f":"IF(ISERROR(VLOOKUP(A213,ﾈｵﾓﾊﾞ一覧!A:C,3,FALSE)),\"\",VLOOKUP(A213,ﾈｵﾓﾊﾞ一覧!A:C,3,FALSE))","v":10960},{"$f":"IF(ISERROR(VLOOKUP(A213,ﾈｵﾓﾊﾞ一覧!A:D,4,FALSE)),\"\",VLOOKUP(A213,ﾈｵﾓﾊﾞ一覧!A:D,4,FALSE))","v":2770},0.33821733821733824,4.4192828471665219E-3,{"$f":"VLOOKUP(C213,ﾈｵﾓﾊﾞｻﾏﾘ!A:Z,12,FALSE)","v":-14355.068913697323},null,8,5,10,7,8,5]
["6960","フクダ電子","電機・精密","電気機器",{"$f":"IF(ISERROR(VLOOKUP(A214,ﾈｵﾓﾊﾞ一覧!A:C,3,FALSE)),\"\",VLOOKUP(A214,ﾈｵﾓﾊﾞ一覧!A:C,3,FALSE))","v":9020},{"$f":"IF(ISERROR(VLOOKUP(A214,ﾈｵﾓﾊﾞ一覧!A:D,4,FALSE)),\"\",VLOOKUP(A214,ﾈｵﾓﾊﾞ一覧!A:D,4,FALSE))","v":1450},0.19154557463672392,3.6370375256790173E-3,{"$f":"VLOOKUP(C214,ﾈｵﾓﾊﾞｻﾏﾘ!A:Z,12,FALSE)","v":-14355.068913697323},null,8,7,10,7,6,3]
["8591","オリックス","金融（除く銀行）","その他金融業",{"$f":"IF(ISERROR(VLOOKUP(A215,ﾈｵﾓﾊﾞ一覧!A:C,3,FALSE)),\"\",VLOOKUP(A215,ﾈｵﾓﾊﾞ一覧!A:C,3,FALSE))","v":""},{"$f":"IF(ISERROR(VLOOKUP(A215,ﾈｵﾓﾊﾞ一覧!A:D,4,FALSE)),\"\",VLOOKUP(A215,ﾈｵﾓﾊﾞ一覧!A:D,4,FALSE))","v":""},{"$error":"#VALUE!"},{"$error":"#VALUE!"},{"$f":"VLOOKUP(C215,ﾈｵﾓﾊﾞｻﾏﾘ!A:Z,12,FALSE)","v":-18887.829717151428},"23,625億円",6,4,3,5,8,7]
["8725","ＭＳ＆ＡＤインシュアランスグループホールディングス","金融（除く銀行）","保険業",{"$f":"IF(ISERROR(VLOOKUP(A216,ﾈｵﾓﾊﾞ一覧!A:C,3,FALSE)),\"\",VLOOKUP(A216,ﾈｵﾓﾊﾞ一覧!A:C,3,FALSE))","v":""},{"$f":"IF(ISERROR(VLOOKUP(A216,ﾈｵﾓﾊﾞ一覧!A:D,4,FALSE)),\"\",VLOOKUP(A216,ﾈｵﾓﾊﾞ一覧!A:D,4,FALSE))","v":""},{"$error":"#VALUE!"},{"$error":"#VALUE!"},{"$f":"VLOOKUP(C216,ﾈｵﾓﾊﾞｻﾏﾘ!A:Z,12,FALSE)","v":-18887.829717151428},"19,395億円",7,1,7,6,9,8]
["8572","アコム","金融（除く銀行）","その他金融業",{"$f":"IF(ISERROR(VLOOKUP(A217,ﾈｵﾓﾊﾞ一覧!A:C,3,FALSE)),\"\",VLOOKUP(A217,ﾈｵﾓﾊﾞ一覧!A:C,3,FALSE))","v":""},{"$f":"IF(ISERROR(VLOOKUP(A217,ﾈｵﾓﾊﾞ一覧!A:D,4,FALSE)),\"\",VLOOKUP(A217,ﾈｵﾓﾊﾞ一覧!A:D,4,FALSE))","v":""},{"$error":"#VALUE!"},{"$error":"#VALUE!"},{"$f":"VLOOKUP(C217,ﾈｵﾓﾊﾞｻﾏﾘ!A:Z,12,FALSE)","v":-18887.829717151428},null,6,5,6,6,9,5]
["8697","日本取引所グループ","金融（除く銀行）","その他金融業",{"$f":"IF(ISERROR(VLOOKUP(A218,ﾈｵﾓﾊﾞ一覧!A:C,3,FALSE)),\"\",VLOOKUP(A218,ﾈｵﾓﾊﾞ一覧!A:C,3,FALSE))","v":""},{"$f":"IF(ISERROR(VLOOKUP(A218,ﾈｵﾓﾊﾞ一覧!A:D,4,FALSE)),\"\",VLOOKUP(A218,ﾈｵﾓﾊﾞ一覧!A:D,4,FALSE))","v":""},{"$error":"#VALUE!"},{"$error":"#VALUE!"},{"$f":"VLOOKUP(C218,ﾈｵﾓﾊﾞｻﾏﾘ!A:Z,12,FALSE)","v":-18887.829717151428},null,5,7,1,2,7,8]
["8604","野村ホールディングス","金融（除く銀行）","その他金融業",{"$f":"IF(ISERROR(VLOOKUP(A219,ﾈｵﾓﾊﾞ一覧!A:C,3,FALSE)),\"\",VLOOKUP(A219,ﾈｵﾓﾊﾞ一覧!A:C,3,FALSE))","v":""},{"$f":"IF(ISERROR(VLOOKUP(A219,ﾈｵﾓﾊﾞ一覧!A:D,4,FALSE)),\"\",VLOOKUP(A219,ﾈｵﾓﾊﾞ一覧!A:D,4,FALSE))","v":""},{"$error":"#VALUE!"},{"$error":"#VALUE!"},{"$f":"VLOOKUP(C219,ﾈｵﾓﾊﾞｻﾏﾘ!A:Z,12,FALSE)","v":-18887.829717151428},null,3,1,4,5,6,2]
["8425","みずほリース","金融（除く銀行）","その他金融業",{"$f":"IF(ISERROR(VLOOKUP(A220,ﾈｵﾓﾊﾞ一覧!A:C,3,FALSE)),\"\",VLOOKUP(A220,ﾈｵﾓﾊﾞ一覧!A:C,3,FALSE))","v":24400},{"$f":"IF(ISERROR(VLOOKUP(A220,ﾈｵﾓﾊﾞ一覧!A:D,4,FALSE)),\"\",VLOOKUP(A220,ﾈｵﾓﾊﾞ一覧!A:D,4,FALSE))","v":11400},0.87692307692307692,9.8385494042758335E-3,{"$f":"VLOOKUP(C220,ﾈｵﾓﾊﾞｻﾏﾘ!A:Z,12,FALSE)","v":-18887.829717151428},null,8,3,"-",8,9,8]
["8630","ＳＯＭＰＯホールディングス","金融（除く銀行）","保険業",{"$f":"IF(ISERROR(VLOOKUP(A221,ﾈｵﾓﾊﾞ一覧!A:C,3,FALSE)),\"\",VLOOKUP(A221,ﾈｵﾓﾊﾞ一覧!A:C,3,FALSE))","v":18873},{"$f":"IF(ISERROR(VLOOKUP(A221,ﾈｵﾓﾊﾞ一覧!A:D,4,FALSE)),\"\",VLOOKUP(A221,ﾈｵﾓﾊﾞ一覧!A:D,4,FALSE))","v":8013},0.73784530386740332,7.6099566765122058E-3,{"$f":"VLOOKUP(C221,ﾈｵﾓﾊﾞｻﾏﾘ!A:Z,12,FALSE)","v":-18887.829717151428},null,7,4,7,6,7,9]
["8593","三菱ＨＣキャピタル","金融（除く銀行）","その他金融業",{"$f":"IF(ISERROR(VLOOKUP(A222,ﾈｵﾓﾊﾞ一覧!A:C,3,FALSE)),\"\",VLOOKUP(A222,ﾈｵﾓﾊﾞ一覧!A:C,3,FALSE))","v":18798},{"$f":"IF(ISERROR(VLOOKUP(A222,ﾈｵﾓﾊﾞ一覧!A:D,4,FALSE)),\"\",VLOOKUP(A222,ﾈｵﾓﾊﾞ一覧!A:D,4,FALSE))","v":8918},0.90263157894736845,7.5797152336711934E-3,{"$f":"VLOOKUP(C222,ﾈｵﾓﾊﾞｻﾏﾘ!A:Z,12,FALSE)","v":-18887.829717151428},null,9,4,9,6,10,8]
["8795","Ｔ＆Ｄホールディングス","金融（除く銀行）","保険業",{"$f":"IF(ISERROR(VLOOKUP(A223,ﾈｵﾓﾊﾞ一覧!A:C,3,FALSE)),\"\",VLOOKUP(A223,ﾈｵﾓﾊﾞ一覧!A:C,3,FALSE))","v":18488},{"$f":"IF(ISERROR(VLOOKUP(A223,ﾈｵﾓﾊﾞ一覧!A:D,4,FALSE)),\"\",VLOOKUP(A223,ﾈｵﾓﾊﾞ一覧!A:D,4,FALSE))","v":8840},0.91625207296849087,7.4547172699283449E-3,{"$f":"VLOOKUP(C223,ﾈｵﾓﾊﾞｻﾏﾘ!A:Z,12,FALSE)","v":-18887.829717151428},null,5,2,6,6,6,7]
["8793","ＮＥＣキャピタルソリューション","金融（除く銀行）","その他金融業",{"$f":"IF(ISERROR(VLOOKUP(A224,ﾈｵﾓﾊﾞ一覧!A:C,3,FALSE)),\"\",VLOOKUP(A224,ﾈｵﾓﾊﾞ一覧!A:C,3,FALSE))","v":16225},{"$f":"IF(ISERROR(VLOOKUP(A224,ﾈｵﾓﾊﾞ一覧!A:D,4,FALSE)),\"\",VLOOKUP(A224,ﾈｵﾓﾊﾞ一覧!A:D,4,FALSE))","v":5945},0.578307392996109,6.5422321346055492E-3,{"$f":"VLOOKUP(C224,ﾈｵﾓﾊﾞｻﾏﾘ!A:Z,12,FALSE)","v":-18887.829717151428},null,10,4,"-",8,10,10]
["8424","芙蓉総合リース","金融（除く銀行）","その他金融業",{"$f":"IF(ISERROR(VLOOKUP(A225,ﾈｵﾓﾊﾞ一覧!A:C,3,FALSE)),\"\",VLOOKUP(A225,ﾈｵﾓﾊﾞ一覧!A:C,3,FALSE))","v":11730},{"$f":"IF(ISERROR(VLOOKUP(A225,ﾈｵﾓﾊﾞ一覧!A:D,4,FALSE)),\"\",VLOOKUP(A225,ﾈｵﾓﾊﾞ一覧!A:D,4,FALSE))","v":4600},0.64516129032258063,4.7297616603342429E-3,{"$f":"VLOOKUP(C225,ﾈｵﾓﾊﾞｻﾏﾘ!A:Z,12,FALSE)","v":-18887.829717151428},null,9,4,8,8,9,9]
["8616","東海東京フィナンシャル・ホールディングス","金融（除く銀行）","証券・商品先物取引業",{"$f":"IF(ISERROR(VLOOKUP(A226,ﾈｵﾓﾊﾞ一覧!A:C,3,FALSE)),\"\",VLOOKUP(A226,ﾈｵﾓﾊﾞ一覧!A:C,3,FALSE))","v":5256},{"$f":"IF(ISERROR(VLOOKUP(A226,ﾈｵﾓﾊﾞ一覧!A:D,4,FALSE)),\"\",VLOOKUP(A226,ﾈｵﾓﾊﾞ一覧!A:D,4,FALSE))","v":348},7.090464547677261E-2,2.1193203142981058E-3,{"$f":"VLOOKUP(C226,ﾈｵﾓﾊﾞｻﾏﾘ!A:Z,12,FALSE)","v":-18887.829717151428},null,1,1,3,1,7,2]
["8354","ふくおかフィナンシャルグループ","銀行","銀行業",{"$f":"IF(ISERROR(VLOOKUP(A227,ﾈｵﾓﾊﾞ一覧!A:C,3,FALSE)),\"\",VLOOKUP(A227,ﾈｵﾓﾊﾞ一覧!A:C,3,FALSE))","v":""},{"$f":"IF(ISERROR(VLOOKUP(A227,ﾈｵﾓﾊﾞ一覧!A:D,4,FALSE)),\"\",VLOOKUP(A227,ﾈｵﾓﾊﾞ一覧!A:D,4,FALSE))","v":""},{"$error":"#VALUE!"},{"$error":"#VALUE!"},{"$f":"VLOOKUP(C227,ﾈｵﾓﾊﾞｻﾏﾘ!A:Z,12,FALSE)","v":-20240.882804533336},null,5,3,5,3,8,7]
["8359","八十二銀行","銀行","銀行業",{"$f":"IF(ISERROR(VLOOKUP(A228,ﾈｵﾓﾊﾞ一覧!A:C,3,FALSE)),\"\",VLOOKUP(A228,ﾈｵﾓﾊﾞ一覧!A:C,3,FALSE))","v":""},{"$f":"IF(ISERROR(VLOOKUP(A228,ﾈｵﾓﾊﾞ一覧!A:D,4,FALSE)),\"\",VLOOKUP(A228,ﾈｵﾓﾊﾞ一覧!A:D,4,FALSE))","v":""},{"$error":"#VALUE!"},{"$error":"#VALUE!"},{"$f":"VLOOKUP(C228,ﾈｵﾓﾊﾞｻﾏﾘ!A:Z,12,FALSE)","v":-20240.882804533336},null,7,4,8,5,8,7]
["8331","千葉銀行","銀行","銀行業",{"$f":"IF(ISERROR(VLOOKUP(A229,ﾈｵﾓﾊﾞ一覧!A:C,3,FALSE)),\"\",VLOOKUP(A229,ﾈｵﾓﾊﾞ一覧!A:C,3,FALSE))","v":""},{"$f":"IF(ISERROR(VLOOKUP(A229,ﾈｵﾓﾊﾞ一覧!A:D,4,FALSE)),\"\",VLOOKUP(A229,ﾈｵﾓﾊﾞ一覧!A:D,4,FALSE))","v":""},{"$error":"#VALUE!"},{"$error":"#VALUE!"},{"$f":"VLOOKUP(C229,ﾈｵﾓﾊﾞｻﾏﾘ!A:Z,12,FALSE)","v":-20240.882804533336},null,5,6,5,4,6,5]
["8377","ほくほくフィナンシャルグループ","銀行","銀行業",{"$f":"IF(ISERROR(VLOOKUP(A230,ﾈｵﾓﾊﾞ一覧!A:C,3,FALSE)),\"\",VLOOKUP(A230,ﾈｵﾓﾊﾞ一覧!A:C,3,FALSE))","v":""},{"$f":"IF(ISERROR(VLOOKUP(A230,ﾈｵﾓﾊﾞ一覧!A:D,4,FALSE)),\"\",VLOOKUP(A230,ﾈｵﾓﾊﾞ一覧!A:D,4,FALSE))","v":""},{"$error":"#VALUE!"},{"$error":"#VALUE!"},{"$f":"VLOOKUP(C230,ﾈｵﾓﾊﾞｻﾏﾘ!A:Z,12,FALSE)","v":-20240.882804533336},null,6,3,"-",6,6,7]
["8316","三井住友フィナンシャルグループ ","銀行","銀行業",{"$f":"IF(ISERROR(VLOOKUP(A231,ﾈｵﾓﾊﾞ一覧!A:C,3,FALSE)),\"\",VLOOKUP(A231,ﾈｵﾓﾊﾞ一覧!A:C,3,FALSE))","v":46858},{"$f":"IF(ISERROR(VLOOKUP(A231,ﾈｵﾓﾊﾞ一覧!A:D,4,FALSE)),\"\",VLOOKUP(A231,ﾈｵﾓﾊﾞ一覧!A:D,4,FALSE))","v":28210},1.5127627627627627,1.8894047048588401E-2,{"$f":"VLOOKUP(C231,ﾈｵﾓﾊﾞｻﾏﾘ!A:Z,12,FALSE)","v":-20240.882804533336},"53,938億円",7,6,6,4,10,6]
["8308","りそなホールディングス","銀行","銀行業",{"$f":"IF(ISERROR(VLOOKUP(A232,ﾈｵﾓﾊﾞ一覧!A:C,3,FALSE)),\"\",VLOOKUP(A232,ﾈｵﾓﾊﾞ一覧!A:C,3,FALSE))","v":16262.4},{"$f":"IF(ISERROR(VLOOKUP(A232,ﾈｵﾓﾊﾞ一覧!A:D,4,FALSE)),\"\",VLOOKUP(A232,ﾈｵﾓﾊﾞ一覧!A:D,4,FALSE))","v":6224},0.62001912655403257,6.5573125341022668E-3,{"$f":"VLOOKUP(C232,ﾈｵﾓﾊﾞｻﾏﾘ!A:Z,12,FALSE)","v":-20240.882804533336},null,4,3,6,4,5,5]
["8341","七十七銀行","銀行","銀行業",{"$f":"IF(ISERROR(VLOOKUP(A233,ﾈｵﾓﾊﾞ一覧!A:C,3,FALSE)),\"\",VLOOKUP(A233,ﾈｵﾓﾊﾞ一覧!A:C,3,FALSE))","v":15125},{"$f":"IF(ISERROR(VLOOKUP(A233,ﾈｵﾓﾊﾞ一覧!A:D,4,FALSE)),\"\",VLOOKUP(A233,ﾈｵﾓﾊﾞ一覧!A:D,4,FALSE))","v":7275},0.92675159235668791,6.0986909729373769E-3,{"$f":"VLOOKUP(C233,ﾈｵﾓﾊﾞｻﾏﾘ!A:Z,12,FALSE)","v":-20240.882804533336},null,7,8,"-",4,7,7]
["8410","セブン銀行","銀行","銀行業",{"$f":"IF(ISERROR(VLOOKUP(A234,ﾈｵﾓﾊﾞ一覧!A:C,3,FALSE)),\"\",VLOOKUP(A234,ﾈｵﾓﾊﾞ一覧!A:C,3,FALSE))","v":12660.8},{"$f":"IF(ISERROR(VLOOKUP(A234,ﾈｵﾓﾊﾞ一覧!A:D,4,FALSE)),\"\",VLOOKUP(A234,ﾈｵﾓﾊﾞ一覧!A:D,4,FALSE))","v":2984},0.30836640211640215,5.1050781269530929E-3,{"$f":"VLOOKUP(C234,ﾈｵﾓﾊﾞｻﾏﾘ!A:Z,12,FALSE)","v":-20240.882804533336},null,4,8,1,5,8,3]
["8306","三菱ＵＦＪフィナンシャル・グループ","銀行","銀行業",{"$f":"IF(ISERROR(VLOOKUP(A235,ﾈｵﾓﾊﾞ一覧!A:C,3,FALSE)),\"\",VLOOKUP(A235,ﾈｵﾓﾊﾞ一覧!A:C,3,FALSE))","v":12606},{"$f":"IF(ISERROR(VLOOKUP(A235,ﾈｵﾓﾊﾞ一覧!A:D,4,FALSE)),\"\",VLOOKUP(A235,ﾈｵﾓﾊﾞ一覧!A:D,4,FALSE))","v":7667},1.5523385300668151,5.0829817127172605E-3,{"$f":"VLOOKUP(C235,ﾈｵﾓﾊﾞｻﾏﾘ!A:Z,12,FALSE)","v":-20240.882804533336},null,7,8,5,5,8,5]
["7189","西日本フィナンシャルホールディングス","銀行","銀行業",{"$f":"IF(ISERROR(VLOOKUP(A236,ﾈｵﾓﾊﾞ一覧!A:C,3,FALSE)),\"\",VLOOKUP(A236,ﾈｵﾓﾊﾞ一覧!A:C,3,FALSE))","v":10584},{"$f":"IF(ISERROR(VLOOKUP(A236,ﾈｵﾓﾊﾞ一覧!A:D,4,FALSE)),\"\",VLOOKUP(A236,ﾈｵﾓﾊﾞ一覧!A:D,4,FALSE))","v":5964},1.290909090909091,4.2676724137235833E-3,{"$f":"VLOOKUP(C236,ﾈｵﾓﾊﾞｻﾏﾘ!A:Z,12,FALSE)","v":-20240.882804533336},null,6,7,"-",4,3,8]
["8418","山口フィナンシャルグループ","銀行","銀行業",{"$f":"IF(ISERROR(VLOOKUP(A237,ﾈｵﾓﾊﾞ一覧!A:C,3,FALSE)),\"\",VLOOKUP(A237,ﾈｵﾓﾊﾞ一覧!A:C,3,FALSE))","v":8840},{"$f":"IF(ISERROR(VLOOKUP(A237,ﾈｵﾓﾊﾞ一覧!A:D,4,FALSE)),\"\",VLOOKUP(A237,ﾈｵﾓﾊﾞ一覧!A:D,4,FALSE))","v":4000},0.82644628099173556,3.5644580628605891E-3,{"$f":"VLOOKUP(C237,ﾈｵﾓﾊﾞｻﾏﾘ!A:Z,12,FALSE)","v":-20240.882804533336},null,3,5,2,4,5,6]
["8411","みずほフィナンシャルグループ","銀行","銀行業",{"$f":"IF(ISERROR(VLOOKUP(A238,ﾈｵﾓﾊﾞ一覧!A:C,3,FALSE)),\"\",VLOOKUP(A238,ﾈｵﾓﾊﾞ一覧!A:C,3,FALSE))","v":7212},{"$f":"IF(ISERROR(VLOOKUP(A238,ﾈｵﾓﾊﾞ一覧!A:D,4,FALSE)),\"\",VLOOKUP(A238,ﾈｵﾓﾊﾞ一覧!A:D,4,FALSE))","v":3288},0.8379204892966361,2.9080171435916934E-3,{"$f":"VLOOKUP(C238,ﾈｵﾓﾊﾞｻﾏﾘ!A:Z,12,FALSE)","v":-20240.882804533336},null,8,3,9,7,10,5]
["7182","ゆうちょ銀行","銀行","銀行業",{"$f":"IF(ISERROR(VLOOKUP(A239,ﾈｵﾓﾊﾞ一覧!A:C,3,FALSE)),\"\",VLOOKUP(A239,ﾈｵﾓﾊﾞ一覧!A:C,3,FALSE))","v":5915},{"$f":"IF(ISERROR(VLOOKUP(A239,ﾈｵﾓﾊﾞ一覧!A:D,4,FALSE)),\"\",VLOOKUP(A239,ﾈｵﾓﾊﾞ一覧!A:D,4,FALSE))","v":855},0.16897233201581027,2.3850417920611294E-3,{"$f":"VLOOKUP(C239,ﾈｵﾓﾊﾞｻﾏﾘ!A:Z,12,FALSE)","v":-20240.882804533336},null,4,3,5,5,9,2]
["8304","あおぞら銀行","銀行","銀行業",{"$f":"IF(ISERROR(VLOOKUP(A240,ﾈｵﾓﾊﾞ一覧!A:C,3,FALSE)),\"\",VLOOKUP(A240,ﾈｵﾓﾊﾞ一覧!A:C,3,FALSE))","v":5843},{"$f":"IF(ISERROR(VLOOKUP(A240,ﾈｵﾓﾊﾞ一覧!A:D,4,FALSE)),\"\",VLOOKUP(A240,ﾈｵﾓﾊﾞ一覧!A:D,4,FALSE))","v":447},8.2839140103780573E-2,2.3560100069337582E-3,{"$f":"VLOOKUP(C240,ﾈｵﾓﾊﾞｻﾏﾘ!A:Z,12,FALSE)","v":-20240.882804533336},null,2,3,1,2,10,1]
["7350","おきなわフィナンシャルグループ","銀行","銀行業",{"$f":"IF(ISERROR(VLOOKUP(A241,ﾈｵﾓﾊﾞ一覧!A:C,3,FALSE)),\"\",VLOOKUP(A241,ﾈｵﾓﾊﾞ一覧!A:C,3,FALSE))","v":4476},{"$f":"IF(ISERROR(VLOOKUP(A241,ﾈｵﾓﾊﾞ一覧!A:D,4,FALSE)),\"\",VLOOKUP(A241,ﾈｵﾓﾊﾞ一覧!A:D,4,FALSE))","v":-324},-6.7500000000000004E-2,1.8048093087515832E-3,{"$f":"VLOOKUP(C241,ﾈｵﾓﾊﾞｻﾏﾘ!A:Z,12,FALSE)","v":-20240.882804533336},null,5,8,"-",7,5,1]
["2784","アルフレッサ　ホールディングス","商社・卸売","卸売業",{"$f":"IF(ISERROR(VLOOKUP(A242,ﾈｵﾓﾊﾞ一覧!A:C,3,FALSE)),\"\",VLOOKUP(A242,ﾈｵﾓﾊﾞ一覧!A:C,3,FALSE))","v":""},{"$f":"IF(ISERROR(VLOOKUP(A242,ﾈｵﾓﾊﾞ一覧!A:D,4,FALSE)),\"\",VLOOKUP(A242,ﾈｵﾓﾊﾞ一覧!A:D,4,FALSE))","v":""},{"$error":"#VALUE!"},{"$error":"#VALUE!"},{"$f":"VLOOKUP(C242,ﾈｵﾓﾊﾞｻﾏﾘ!A:Z,12,FALSE)","v":-24257.422195179679},null,7,2,10,5,7,6]
["7459","メディパルＨＬＤＧ","商社・卸売","卸売業",{"$f":"IF(ISERROR(VLOOKUP(A243,ﾈｵﾓﾊﾞ一覧!A:C,3,FALSE)),\"\",VLOOKUP(A243,ﾈｵﾓﾊﾞ一覧!A:C,3,FALSE))","v":""},{"$f":"IF(ISERROR(VLOOKUP(A243,ﾈｵﾓﾊﾞ一覧!A:D,4,FALSE)),\"\",VLOOKUP(A243,ﾈｵﾓﾊﾞ一覧!A:D,4,FALSE))","v":""},{"$error":"#VALUE!"},{"$error":"#VALUE!"},{"$f":"VLOOKUP(C243,ﾈｵﾓﾊﾞｻﾏﾘ!A:Z,12,FALSE)","v":-24257.422195179679},null,7,3,9,7,9,4]
["8031","三井物産","商社・卸売","卸売業",{"$f":"IF(ISERROR(VLOOKUP(A244,ﾈｵﾓﾊﾞ一覧!A:C,3,FALSE)),\"\",VLOOKUP(A244,ﾈｵﾓﾊﾞ一覧!A:C,3,FALSE))","v":33246},{"$f":"IF(ISERROR(VLOOKUP(A244,ﾈｵﾓﾊﾞ一覧!A:D,4,FALSE)),\"\",VLOOKUP(A244,ﾈｵﾓﾊﾞ一覧!A:D,4,FALSE))","v":22488},2.090351366424986,1.3405426782563705E-2,{"$f":"VLOOKUP(C244,ﾈｵﾓﾊﾞｻﾏﾘ!A:Z,12,FALSE)","v":-24257.422195179679},null,10,7,10,8,6,8]
["1662","石油資源開発","商社・卸売","卸売業",{"$f":"IF(ISERROR(VLOOKUP(A245,ﾈｵﾓﾊﾞ一覧!A:C,3,FALSE)),\"\",VLOOKUP(A245,ﾈｵﾓﾊﾞ一覧!A:C,3,FALSE))","v":29280},{"$f":"IF(ISERROR(VLOOKUP(A245,ﾈｵﾓﾊﾞ一覧!A:D,4,FALSE)),\"\",VLOOKUP(A245,ﾈｵﾓﾊﾞ一覧!A:D,4,FALSE))","v":19338},1.9450814725407364,1.1806259285131E-2,{"$f":"VLOOKUP(C245,ﾈｵﾓﾊﾞｻﾏﾘ!A:Z,12,FALSE)","v":-24257.422195179679},null,10,10,10,9,8,3]
["8001","伊藤忠商事","商社・卸売","卸売業",{"$f":"IF(ISERROR(VLOOKUP(A246,ﾈｵﾓﾊﾞ一覧!A:C,3,FALSE)),\"\",VLOOKUP(A246,ﾈｵﾓﾊﾞ一覧!A:C,3,FALSE))","v":28750},{"$f":"IF(ISERROR(VLOOKUP(A246,ﾈｵﾓﾊﾞ一覧!A:D,4,FALSE)),\"\",VLOOKUP(A246,ﾈｵﾓﾊﾞ一覧!A:D,4,FALSE))","v":18695},1.8592739930382893,1.1592553089054517E-2,{"$f":"VLOOKUP(C246,ﾈｵﾓﾊﾞｻﾏﾘ!A:Z,12,FALSE)","v":-24257.422195179679},"39,012億円",8,4,8,7,8,7]
["8154","加賀電子","商社・卸売","卸売業",{"$f":"IF(ISERROR(VLOOKUP(A247,ﾈｵﾓﾊﾞ一覧!A:C,3,FALSE)),\"\",VLOOKUP(A247,ﾈｵﾓﾊﾞ一覧!A:C,3,FALSE))","v":25440},{"$f":"IF(ISERROR(VLOOKUP(A247,ﾈｵﾓﾊﾞ一覧!A:D,4,FALSE)),\"\",VLOOKUP(A247,ﾈｵﾓﾊﾞ一覧!A:D,4,FALSE))","v":16076},1.716787697565143,1.0257897411671197E-2,{"$f":"VLOOKUP(C247,ﾈｵﾓﾊﾞｻﾏﾘ!A:Z,12,FALSE)","v":-24257.422195179679},null,10,9,9,9,7,10]
["3132","マクニカ・富士エレＨＬＤＧ","商社・卸売","卸売業",{"$f":"IF(ISERROR(VLOOKUP(A248,ﾈｵﾓﾊﾞ一覧!A:C,3,FALSE)),\"\",VLOOKUP(A248,ﾈｵﾓﾊﾞ一覧!A:C,3,FALSE))","v":23800},{"$f":"IF(ISERROR(VLOOKUP(A248,ﾈｵﾓﾊﾞ一覧!A:D,4,FALSE)),\"\",VLOOKUP(A248,ﾈｵﾓﾊﾞ一覧!A:D,4,FALSE))","v":13520},1.3151750972762646,9.5966178615477394E-3,{"$f":"VLOOKUP(C248,ﾈｵﾓﾊﾞｻﾏﾘ!A:Z,12,FALSE)","v":-24257.422195179679},null,9,6,"-",9,4,10]
["8088","岩谷産業","商社・卸売","卸売業",{"$f":"IF(ISERROR(VLOOKUP(A249,ﾈｵﾓﾊﾞ一覧!A:C,3,FALSE)),\"\",VLOOKUP(A249,ﾈｵﾓﾊﾞ一覧!A:C,3,FALSE))","v":22764},{"$f":"IF(ISERROR(VLOOKUP(A249,ﾈｵﾓﾊﾞ一覧!A:D,4,FALSE)),\"\",VLOOKUP(A249,ﾈｵﾓﾊﾞ一覧!A:D,4,FALSE))","v":12024},1.1195530726256984,9.1788827311038972E-3,{"$f":"VLOOKUP(C249,ﾈｵﾓﾊﾞｻﾏﾘ!A:Z,12,FALSE)","v":-24257.422195179679},null,8,6,9,6,6,7]
[]
[]
[]
[null,null,1544]
[null,null,7]
[null,null,{"$f":"C254*C253","v":10808}]

{"sheet":"ﾈｵﾓﾊﾞｻﾏﾘ","index":7,"n_rows":19,"n_cols":17,"rows_kept":19,"cut":false,"hidden":false,"merged":[]}
["業種別分散","業種別分散",null,null,null,null,"時価総額","時価総額比率",null,null,null,null,"銘柄別分散",null,null,null,"時価総額別分散"]
["情報通信・サービスその他","その他製品、情報・通信業、サービス業","その他製品","情報・通信業","サービス業",null,{"$f":"IF(C2<>\"\",VLOOKUP(C2,業種別時価総額!A:C,3,FALSE))+IF(D2<>\"\",VLOOKUP(D2,業種別時価総額!A:C,3,FALSE))+IF(E2<>\"\",VLOOKUP(E2,業種別時価総額!A:C,3,FALSE))","v":129405089},{"$f":"G2/G$19","v":0.181978875476906},{"$f":"SUMIF(銘柄データ!C:C,A2,銘柄データ!E:E)","v":406365.5},{"$f":"I2/SUM(I$2:I$18)","v":0.16385438721078896},{"$f":"SUM(I$2:I$18)*H2","v":451314.9631292962},{"$f":"K2-I2","v":44949.4631292962}]
["医薬品","医薬品","医薬品",null,null,null,{"$f":"IF(C3<>\"\",VLOOKUP(C3,業種別時価総額!A:C,3,FALSE))+IF(D3<>\"\",VLOOKUP(D3,業種別時価総額!A:C,3,FALSE))+IF(E3<>\"\",VLOOKUP(E3,業種別時価総額!A:C,3,FALSE))","v":40626717},5.7132252920737148E-2,{"$f":"SUMIF(銘柄データ!C:C,A3,銘柄データ!E:E)","v":115444},4.6549241697836849E-2,141690.29538644615,26246.295386446145]
["小売","小売業","小売業",null,null,null,{"$f":"IF(C4<>\"\",VLOOKUP(C4,業種別時価総額!A:C,3,FALSE))+IF(D4<>\"\",VLOOKUP(D4,業種別時価総額!A:C,3,FALSE))+IF(E4<>\"\",VLOOKUP(E4,業種別時価総額!A:C,3,FALSE))","v":39797301},5.5965867640614557E-2,{"$f":"SUMIF(銘柄データ!C:C,A4,銘柄データ!E:E)","v":121024},4.8799205045208127E-2,138797.61276977681,17773.61276977681]
["食品","水産・農林業、食料品","水産・農林業","食料品",null,null,{"$f":"IF(C5<>\"\",VLOOKUP(C5,業種別時価総額!A:C,3,FALSE))+IF(D5<>\"\",VLOOKUP(D5,業種別時価総額!A:C,3,FALSE))+IF(E5<>\"\",VLOOKUP(E5,業種別時価総額!A:C,3,FALSE))","v":25653428},3.6075721717310313E-2,{"$f":"SUMIF(銘柄データ!C:C,A5,銘柄データ!E:E)","v":80572.5},3.2488382044098957E-2,89469.247318086971,8896.7473180869711]
["不動産","不動産業","不動産業",null,null,null,{"$f":"IF(C6<>\"\",VLOOKUP(C6,業種別時価総額!A:C,3,FALSE))+IF(D6<>\"\",VLOOKUP(D6,業種別時価総額!A:C,3,FALSE))+IF(E6<>\"\",VLOOKUP(E6,業種別時価総額!A:C,3,FALSE))","v":15561389},2.188356032179457E-2,{"$f":"SUMIF(銘柄データ!C:C,A6,銘柄データ!E:E)","v":48629},1.9608148318874159E-2,54272.113693887542,5643.1136938875425]
["運輸・物流","陸運業、海運業、空運業、倉庫・運輸関連業","陸運業","海運業","空運業","倉庫・運輸関連業",{"$f":"IF(C7<>\"\",VLOOKUP(C7,業種別時価総額!A:C,3,FALSE))+IF(D7<>\"\",VLOOKUP(D7,業種別時価総額!A:C,3,FALSE))+IF(E7<>\"\",VLOOKUP(E7,業種別時価総額!A:C,3,FALSE))","v":28770921},4.0459767776326788E-2,{"$f":"SUMIF(銘柄データ!C:C,A7,銘柄データ!E:E)","v":94850.5},3.8245546322551838E-2,100341.85865990861,5491.358659908612]
["電気・ガス","電気・ガス業","電気・ガス業",null,null,null,{"$f":"IF(C8<>\"\",VLOOKUP(C8,業種別時価総額!A:C,3,FALSE))+IF(D8<>\"\",VLOOKUP(D8,業種別時価総額!A:C,3,FALSE))+IF(E8<>\"\",VLOOKUP(E8,業種別時価総額!A:C,3,FALSE))","v":7561168},1.0633065983455771E-2,{"$f":"SUMIF(銘柄データ!C:C,A8,銘柄データ!E:E)","v":21906},8.8329206250027208E-3,26370.433214836048,4464.4332148360481]
["鉄鋼・非鉄","鉄鋼、非鉄金属","鉄鋼","非鉄金属",null,null,{"$f":"IF(C9<>\"\",VLOOKUP(C9,業種別時価総額!A:C,3,FALSE))+IF(D9<>\"\",VLOOKUP(D9,業種別時価総額!A:C,3,FALSE))+IF(E9<>\"\",VLOOKUP(E9,業種別時価総額!A:C,3,FALSE))","v":10756796},1.5126991178951861E-2,{"$f":"SUMIF(銘柄データ!C:C,A9,銘柄データ!E:E)","v":38005},1.532434713563537E-2,37515.549254244252,-489.45074575574836]
["エネルギー資源","鉱業、石油・石炭製品","鉱業","石油・石炭製品",null,null,{"$f":"IF(C10<>\"\",VLOOKUP(C10,業種別時価総額!A:C,3,FALSE))+IF(D10<>\"\",VLOOKUP(D10,業種別時価総額!A:C,3,FALSE))+IF(E10<>\"\",VLOOKUP(E10,業種別時価総額!A:C,3,FALSE))","v":5423817},7.6273671003195698E-3,{"$f":"SUMIF(銘柄データ!C:C,A10,銘柄データ!E:E)","v":20854.2},8.4088146306003711E-3,18916.17855442339,-1938.0214455766109]
["機械","機械","機械",null,null,null,{"$f":"IF(C11<>\"\",VLOOKUP(C11,業種別時価総額!A:C,3,FALSE))+IF(D11<>\"\",VLOOKUP(D11,業種別時価総額!A:C,3,FALSE))+IF(E11<>\"\",VLOOKUP(E11,業種別時価総額!A:C,3,FALSE))","v":34647426},4.8723737763120854E-2,{"$f":"SUMIF(銘柄データ!C:C,A11,銘柄データ!E:E)","v":123998.5},4.9998580668282652E-2,120836.83809154536,-3161.6619084546401]
["建設・資材","建設業、金属製品、ガラス・土石製品","建設業","金属製品","ガラス・土石製品",null,{"$f":"IF(C12<>\"\",VLOOKUP(C12,業種別時価総額!A:C,3,FALSE))+IF(D12<>\"\",VLOOKUP(D12,業種別時価総額!A:C,3,FALSE))+IF(E12<>\"\",VLOOKUP(E12,業種別時価総額!A:C,3,FALSE))","v":23077461},3.2453209020567614E-2,{"$f":"SUMIF(銘柄データ!C:C,A12,銘柄データ!E:E)","v":85986.5},3.4671410997982127E-2,80485.269480652132,-5501.2305193478678]
["素材・科学","繊維製品、パルプ・紙、化学","繊維製品","パルプ・紙","化学",null,{"$f":"IF(C13<>\"\",VLOOKUP(C13,業種別時価総額!A:C,3,FALSE))+IF(D13<>\"\",VLOOKUP(D13,業種別時価総額!A:C,3,FALSE))+IF(E13<>\"\",VLOOKUP(E13,業種別時価総額!A:C,3,FALSE))","v":50074381},7.0418247187961427E-2,{"$f":"SUMIF(銘柄データ!C:C,A13,銘柄データ!E:E)","v":185128.5},7.4647372679896656E-2,174640.09792333076,-10488.402076669241]
["自動車・輸送機","ゴム製品、輸送用機器","ゴム製品","輸送用機器",null,null,{"$f":"IF(C14<>\"\",VLOOKUP(C14,業種別時価総額!A:C,3,FALSE))+IF(D14<>\"\",VLOOKUP(D14,業種別時価総額!A:C,3,FALSE))+IF(E14<>\"\",VLOOKUP(E14,業種別時価総額!A:C,3,FALSE))","v":69498507},9.7733870042652493E-2,{"$f":"SUMIF(銘柄データ!C:C,A14,銘柄データ!E:E)","v":256529},0.10343742787415881,242383.94615412795,-14145.053845872055]
["電機・精密","電気機器、精密機器","電気機器","精密機器",null,null,{"$f":"IF(C15<>\"\",VLOOKUP(C15,業種別時価総額!A:C,3,FALSE))+IF(D15<>\"\",VLOOKUP(D15,業種別時価総額!A:C,3,FALSE))+IF(E15<>\"\",VLOOKUP(E15,業種別時価総額!A:C,3,FALSE))","v":127009459},0.17860996582406585,{"$f":"SUMIF(銘柄データ!C:C,A15,銘柄データ!E:E)","v":457315},0.18439820577116403,442959.93108630268,-14355.068913697323]
["金融（除く銀行）","証券、商品先物取引業、保険業、その他金融業","証券、商品先物取引業","保険業","その他金融業",null,{"$f":"IF(C16<>\"\",VLOOKUP(C16,業種別時価総額!A:C,3,FALSE))+IF(D16<>\"\",VLOOKUP(D16,業種別時価総額!A:C,3,FALSE))+IF(E16<>\"\",VLOOKUP(E16,業種別時価総額!A:C,3,FALSE))","v":27205470},3.8258316389865488E-2,{"$f":"SUMIF(銘柄データ!C:C,A16,銘柄データ!E:E)","v":113770},4.5874252693625467E-2,94882.170282848572,-18887.829717151428]
["銀行","銀行業","銀行業",null,null,null,{"$f":"IF(C17<>\"\",VLOOKUP(C17,業種別時価総額!A:C,3,FALSE))+IF(D17<>\"\",VLOOKUP(D17,業種別時価総額!A:C,3,FALSE))+IF(E17<>\"\",VLOOKUP(E17,業種別時価総額!A:C,3,FALSE))","v":36168374},5.0862605784755224E-2,{"$f":"SUMIF(銘柄データ!C:C,A17,銘柄データ!E:E)","v":146382.20000000001},5.9024119123220732E-2,126141.31719546668,-20240.882804533336]
["商社・卸売","卸売業","卸売業",null,null,null,{"$f":"IF(C18<>\"\",VLOOKUP(C18,業種別時価総額!A:C,3,FALSE))+IF(D18<>\"\",VLOOKUP(D18,業種別時価総額!A:C,3,FALSE))+IF(E18<>\"\",VLOOKUP(E18,業種別時価総額!A:C,3,FALSE))","v":39861805},5.6056577870594482E-2,{"$f":"SUMIF(銘柄データ!C:C,A18,銘柄データ!E:E)","v":163280},6.5837637161072049E-2,139022.57780482032,-24257.422195179679]
[null,null,null,null,null,null,{"$f":"SUM(G2:G18)","v":711099509},{"$f":"SUM(H2:H18)","v":1},{"$f":"SUM(I2:I18)","v":2480040.4000000004},null,{"$f":"SUM(K2:K18)","v":2480040.4000000004},{"$f":"SUM(L2:L18)","v":4.0745362639427185E-10}]

{"sheet":"ﾈｵﾓﾊﾞ一覧","index":8,"n_rows":172,"n_cols":10,"rows_kept":172,"cut":false,"hidden":false,"merged":[]}
[]
[null,null,47988]
["1417","ミライト・ワン",12775,2016,{"$f":"COUNTIF(銘柄データ!A:A,A3)","v":1}]
["1662","石油資源開発",29280,19338,{"$f":"COUNTIF(銘柄データ!A:A,A4)","v":1}]
["1786","オリエンタル白石",13062,2940,{"$f":"COUNTIF(銘柄データ!A:A,A5)","v":1}]
["1802","大林組",14459.5,4735,{"$f":"COUNTIF(銘柄データ!A:A,A6)","v":1}]
["1878","大東建託",15290,5630,{"$f":"COUNTIF(銘柄データ!A:A,A7)","v":1}]
["1925","大和ハウス工業",15448,5840,{"$f":"COUNTIF(銘柄データ!A:A,A8)","v":1}]
["1942","関電工",14952,4536,{"$f":"COUNTIF(銘柄データ!A:A,A9)","v":1}]
["2264","森永乳業",14391,3861,{"$f":"COUNTIF(銘柄データ!A:A,A10)","v":1}]
["2292","Ｓ　Ｆｏｏｄｓ",10050,1299,{"$f":"COUNTIF(銘柄データ!A:A,A11)","v":1}]
["2296","伊藤ハム米久ホールディングス",10830,780,{"$f":"COUNTIF(銘柄データ!A:A,A12)","v":1}]
["2309","シミックホールディングス",25584,4264,{"$f":"COUNTIF(銘柄データ!A:A,A13)","v":1}]
["2384","ＳＢＳホールディングス",16850,7725,{"$f":"COUNTIF(銘柄データ!A:A,A14)","v":1}]
["2579","コカ・コーラ　ボトラーズジャパンホールディングス",11476.5,1151,{"$f":"COUNTIF(銘柄データ!A:A,A15)","v":1}]
["2702","日本マクドナルドホールディングス",11200,1440,{"$f":"COUNTIF(銘柄データ!A:A,A16)","v":1}]
["2730","エディオン",14620,3680,{"$f":"COUNTIF(銘柄データ!A:A,A17)","v":1}]
["2809","キユーピー",9230,-34,{"$f":"COUNTIF(銘柄データ!A:A,A18)","v":1},null,28285,124987,{"$f":"G18+H18","v":153272},153272]
["2819","エバラ食品工業",14775,3800,{"$f":"COUNTIF(銘柄データ!A:A,A19)","v":1}]
["2922","なとり",9820,-360,{"$f":"COUNTIF(銘柄データ!A:A,A20)","v":1}]
["3003","ヒューリック",12095,2015,{"$f":"COUNTIF(銘柄データ!A:A,A21)","v":1}]
["3105","日清紡ホールディングス",12210,2640,{"$f":"COUNTIF(銘柄データ!A:A,A22)","v":1}]
["3132","マクニカホールディングス",23800,13520,{"$f":"COUNTIF(銘柄データ!A:A,A23)","v":1}]
["3252","地主",9530,-870,{"$f":"COUNTIF(銘柄データ!A:A,A24)","v":1}]
["3319","ゴルフダイジェスト・オンライン",7047,-3510,{"$f":"COUNTIF(銘柄データ!A:A,A25)","v":1}]
["3382","セブン＆アイ・ホールディングス",17679,7953,{"$f":"COUNTIF(銘柄データ!A:A,A26)","v":1}]
["3405","クラレ",14295,3315,{"$f":"COUNTIF(銘柄データ!A:A,A27)","v":1}]
["3626","ＴＩＳ",32427,16641,{"$f":"COUNTIF(銘柄データ!A:A,A28)","v":1}]
["3635","コーエーテクモホールディングス",24320,14660,{"$f":"COUNTIF(銘柄データ!A:A,A29)","v":1}]
["3765","ガンホー・オンライン・エンターテイメント",13947.5,3447,{"$f":"COUNTIF(銘柄データ!A:A,A30)","v":1}]
["3941","レンゴー",12677,1575,{"$f":"COUNTIF(銘柄データ!A:A,A31)","v":1}]
["4046","大阪ソーダ",17340,7725,{"$f":"COUNTIF(銘柄データ!A:A,A32)","v":1}]
["4061","デンカ",8416.5,-1363,{"$f":"COUNTIF(銘柄データ!A:A,A33)","v":1}]
["4063","信越化学工業",23395,12335,{"$f":"COUNTIF(銘柄データ!A:A,A34)","v":1}]
["4078","堺化学工業",9915,650,{"$f":"COUNTIF(銘柄データ!A:A,A35)","v":1}]
["4216","旭有機材",30835,20825,{"$f":"COUNTIF(銘柄データ!A:A,A36)","v":1}]
["4298","プロトコーポレーション",12720,980,{"$f":"COUNTIF(銘柄データ!A:A,A37)","v":1}]
["4307","野村総合研究所",12093,3492,{"$f":"COUNTIF(銘柄データ!A:A,A38)","v":1}]
["4318","クイック",12175,2175,{"$f":"COUNTIF(銘柄データ!A:A,A39)","v":1}]
["4326","インテージホールディングス",18667,8844,{"$f":"COUNTIF(銘柄データ!A:A,A40)","v":1}]
["4403","日油",30655,12295,{"$f":"COUNTIF(銘柄データ!A:A,A41)","v":1}]
["4507","塩野義製薬",11864,998,{"$f":"COUNTIF(銘柄データ!A:A,A42)","v":1}]
["4521","科研製薬",10623,-927,{"$f":"COUNTIF(銘柄データ!A:A,A43)","v":1}]
["4527","ロート製薬",18180,9162,{"$f":"COUNTIF(銘柄データ!A:A,A44)","v":1}]
["4528","小野薬品工業",13007.5,2567,{"$f":"COUNTIF(銘柄データ!A:A,A45)","v":1}]
["4540","ツムラ",7936.5,-1303,{"$f":"COUNTIF(銘柄データ!A:A,A46)","v":1}]
["4543","テルモ",13953,4911,{"$f":"COUNTIF(銘柄データ!A:A,A47)","v":1}]
["4544","Ｈ．Ｕ．グループホールディングス",8424,-252,{"$f":"COUNTIF(銘柄データ!A:A,A48)","v":1}]
["4547","キッセイ薬品工業",12040,1984,{"$f":"COUNTIF(銘柄データ!A:A,A49)","v":1}]
["4548","生化学工業",9288,-168,{"$f":"COUNTIF(銘柄データ!A:A,A50)","v":1}]
["4549","栄研化学",7545,-2175,{"$f":"COUNTIF(銘柄データ!A:A,A51)","v":1}]
["4577","ダイト",9360,-1368,{"$f":"COUNTIF(銘柄データ!A:A,A52)","v":1}]
["4665","ダスキン",12840,1944,{"$f":"COUNTIF(銘柄データ!A:A,A53)","v":1}]
["4671","ファルコホールディングス",9390,-5,{"$f":"COUNTIF(銘柄データ!A:A,A54)","v":1}]
["4684","オービック",23270,10290,{"$f":"COUNTIF(銘柄データ!A:A,A55)","v":1}]
["4694","ビー・エム・エル",9015,-1575,{"$f":"COUNTIF(銘柄データ!A:A,A56)","v":1}]
["4886","あすか製薬ホールディングス",15600,5740,{"$f":"COUNTIF(銘柄データ!A:A,A57)","v":1}]
["4966","上村工業",37600,23120,{"$f":"COUNTIF(銘柄データ!A:A,A58)","v":1}]
["5019","出光興産",9000,-660,{"$f":"COUNTIF(銘柄データ!A:A,A59)","v":1}]
["5020","ＥＮＥＯＳホールディングス",11854.2,1389,{"$f":"COUNTIF(銘柄データ!A:A,A60)","v":1}]
["5401","日本製鉄",16230,6130,{"$f":"COUNTIF(銘柄データ!A:A,A61)","v":1}]
["5480","日本冶金工業",21775,12550,{"$f":"COUNTIF(銘柄データ!A:A,A62)","v":1}]
["6028","テクノプロ・ホールディングス",11019,2598,{"$f":"COUNTIF(銘柄データ!A:A,A63)","v":1}]
["6134","ＦＵＪＩ",12997.5,3497,{"$f":"COUNTIF(銘柄データ!A:A,A64)","v":1}]
["6367","ダイキン工業",28690,16530,{"$f":"COUNTIF(銘柄データ!A:A,A65)","v":1}]
["6368","オルガノ",32920,21800,{"$f":"COUNTIF(銘柄データ!A:A,A66)","v":1}]
["6420","フクシマガリレイ",15120,5145,{"$f":"COUNTIF(銘柄データ!A:A,A67)","v":1}]
["6448","ブラザー工業",11067.5,497,{"$f":"COUNTIF(銘柄データ!A:A,A68)","v":1}]
["6465","ホシザキ",10896,1666,{"$f":"COUNTIF(銘柄データ!A:A,A69)","v":1}]
["6507","シンフォニアテクノロジー",12054,1932,{"$f":"COUNTIF(銘柄データ!A:A,A70)","v":1}]
["6508","明電舎",12702,2532,{"$f":"COUNTIF(銘柄データ!A:A,A71)","v":1}]
["6516","山洋電気",14400,2300,{"$f":"COUNTIF(銘柄データ!A:A,A72)","v":1}]
["6622","ダイヘン",10960,2770,{"$f":"COUNTIF(銘柄データ!A:A,A73)","v":1}]
["6645","オムロン",38110,9460,{"$f":"COUNTIF(銘柄データ!A:A,A74)","v":1}]
["6651","日東工業",21810,12726,{"$f":"COUNTIF(銘柄データ!A:A,A75)","v":1}]
["6652","ＩＤＥＣ",12080,1216,{"$f":"COUNTIF(銘柄データ!A:A,A76)","v":1}]
["6701","日本電気",28732,11740,{"$f":"COUNTIF(銘柄データ!A:A,A77)","v":1}]
["6702","富士通",36770,16842,{"$f":"COUNTIF(銘柄データ!A:A,A78)","v":1}]
["6724","セイコーエプソン",11662.5,777,{"$f":"COUNTIF(銘柄データ!A:A,A79)","v":1}]
["6745","ホーチキ",16236,5436,{"$f":"COUNTIF(銘柄データ!A:A,A80)","v":1}]
["6758","ソニーグループ",39945,21813,{"$f":"COUNTIF(銘柄データ!A:A,A81)","v":1}]
["6789","ローランド　ディー．ジー．",14240,2804,{"$f":"COUNTIF(銘柄データ!A:A,A82)","v":1}]
["6804","ホシデン",18370,7410,{"$f":"COUNTIF(銘柄データ!A:A,A83)","v":1}]
["6845","アズビル",13440,2790,{"$f":"COUNTIF(銘柄データ!A:A,A84)","v":1}]
["6856","堀場製作所",16762,5302,{"$f":"COUNTIF(銘柄データ!A:A,A85)","v":1}]
["6960","フクダ電子",9020,1450,{"$f":"COUNTIF(銘柄データ!A:A,A86)","v":1}]
["6971","京セラ",15288,1926,{"$f":"COUNTIF(銘柄データ!A:A,A87)","v":1}]
["6976","太陽誘電",16936,7048,{"$f":"COUNTIF(銘柄データ!A:A,A88)","v":1}]
["6981","村田製作所",16650,7100,{"$f":"COUNTIF(銘柄データ!A:A,A89)","v":1}]
["7004","日立造船",23375,13050,{"$f":"COUNTIF(銘柄データ!A:A,A90)","v":1}]
["7182","ゆうちょ銀行",5915,855,{"$f":"COUNTIF(銘柄データ!A:A,A91)","v":1}]
["7189","西日本フィナンシャルホールディングス",10584,5964,{"$f":"COUNTIF(銘柄データ!A:A,A92)","v":1}]
["7202","いすゞ自動車",12894,2086,{"$f":"COUNTIF(銘柄データ!A:A,A93)","v":1}]
["7203","トヨタ自動車",23860,5910,{"$f":"COUNTIF(銘柄データ!A:A,A94)","v":1}]
["7224","新明和工業",14340,3740,{"$f":"COUNTIF(銘柄データ!A:A,A95)","v":1}]
["7226","極東開発工業",12761,3115,{"$f":"COUNTIF(銘柄データ!A:A,A96)","v":1}]
["7228","デイトナ",13200,8880,{"$f":"COUNTIF(銘柄データ!A:A,A97)","v":1}]
["7240","ＮＯＫ",21380,9570,{"$f":"COUNTIF(銘柄データ!A:A,A98)","v":1}]
["7246","プレス工業",15900,5650,{"$f":"COUNTIF(銘柄データ!A:A,A99)","v":1}]
["7250","太平洋工業",13660,3420,{"$f":"COUNTIF(銘柄データ!A:A,A100)","v":1}]
["7261","マツダ",14055,3315,{"$f":"COUNTIF(銘柄データ!A:A,A101)","v":1}]
["7267","本田技研工業",13539,3372,{"$f":"COUNTIF(銘柄データ!A:A,A102)","v":1}]
["7272","ヤマハ発動機",16640,6780,{"$f":"COUNTIF(銘柄データ!A:A,A103)","v":1}]
["7278","エクセディ",22374,7614,{"$f":"COUNTIF(銘柄データ!A:A,A104)","v":1}]
["7292","村上開明堂",5792,1712,{"$f":"COUNTIF(銘柄データ!A:A,A105)","v":1}]
["7296","エフ・シー・シー",13034,3633,{"$f":"COUNTIF(銘柄データ!A:A,A106)","v":1}]
["7309","シマノ",43100,14420,{"$f":"COUNTIF(銘柄データ!A:A,A107)","v":1}]
["7350","おきなわフィナンシャルグループ",4476,-324,{"$f":"COUNTIF(銘柄データ!A:A,A108)","v":1}]
["7516","コーナン商事",10440,120,{"$f":"COUNTIF(銘柄データ!A:A,A109)","v":1}]
["7593","ＶＴホールディングス",11193,1155,{"$f":"COUNTIF(銘柄データ!A:A,A110)","v":1}]
["7729","東京精密",15740,6390,{"$f":"COUNTIF(銘柄データ!A:A,A111)","v":1}]
["7740","タムロン",13485,3315,{"$f":"COUNTIF(銘柄データ!A:A,A112)","v":1}]
["7751","キヤノン",14692,3236,{"$f":"COUNTIF(銘柄データ!A:A,A113)","v":1}]
["7832","バンダイナムコホールディングス",19284,9462,{"$f":"COUNTIF(銘柄データ!A:A,A114)","v":1}]
["7911","凸版印刷",16710,6260,{"$f":"COUNTIF(銘柄データ!A:A,A115)","v":1}]
["7981","タカラスタンダード",11172,2322,{"$f":"COUNTIF(銘柄データ!A:A,A116)","v":1}]
["7984","コクヨ",13680,3366,{"$f":"COUNTIF(銘柄データ!A:A,A117)","v":1}]
["8001","伊藤忠商事",28750,18695,{"$f":"COUNTIF(銘柄データ!A:A,A118)","v":1}]
["8031","三井物産",33246,22488,{"$f":"COUNTIF(銘柄データ!A:A,A119)","v":1}]
["8088","岩谷産業",22764,12024,{"$f":"COUNTIF(銘柄データ!A:A,A120)","v":1}]
["8154","加賀電子",25440,16076,{"$f":"COUNTIF(銘柄データ!A:A,A121)","v":1}]
["8218","コメリ",11920,1200,{"$f":"COUNTIF(銘柄データ!A:A,A122)","v":1}]
["8227","しまむら",14085,3985,{"$f":"COUNTIF(銘柄データ!A:A,A123)","v":1}]
["8273","イズミ",10740,2079,{"$f":"COUNTIF(銘柄データ!A:A,A124)","v":1}]
["8276","平和堂",12100,2305,{"$f":"COUNTIF(銘柄データ!A:A,A125)","v":1}]
["8304","あおぞら銀行",5843,447,{"$f":"COUNTIF(銘柄データ!A:A,A126)","v":1}]
["8306","三菱ＵＦＪフィナンシャル・グループ",12606,7667,{"$f":"COUNTIF(銘柄データ!A:A,A127)","v":1}]
["8308","りそなホールディングス",16262.4,6224,{"$f":"COUNTIF(銘柄データ!A:A,A128)","v":1}]
["8316","三井住友フィナンシャルグループ",46858,28210,{"$f":"COUNTIF(銘柄データ!A:A,A129)","v":1}]
["8341","七十七銀行",15125,7275,{"$f":"COUNTIF(銘柄データ!A:A,A130)","v":1}]
["8410","セブン銀行",12660.8,2984,{"$f":"COUNTIF(銘柄データ!A:A,A131)","v":1}]
["8411","みずほフィナンシャルグループ",7212,3288,{"$f":"COUNTIF(銘柄データ!A:A,A132)","v":1}]
["8418","山口フィナンシャルグループ",8840,4000,{"$f":"COUNTIF(銘柄データ!A:A,A133)","v":1}]
["8424","芙蓉総合リース",11730,4600,{"$f":"COUNTIF(銘柄データ!A:A,A134)","v":1}]
["8425","みずほリース",24400,11400,{"$f":"COUNTIF(銘柄データ!A:A,A135)","v":1}]
["8593","三菱ＨＣキャピタル",18798,8918,{"$f":"COUNTIF(銘柄データ!A:A,A136)","v":1}]
["8616","東海東京フィナンシャル・ホールディングス",5256,348,{"$f":"COUNTIF(銘柄データ!A:A,A137)","v":1}]
["8630","ＳＯＭＰＯホールディングス",18873,8013,{"$f":"COUNTIF(銘柄データ!A:A,A138)","v":1}]
["8793","ＮＥＣキャピタルソリューション",16225,5945,{"$f":"COUNTIF(銘柄データ!A:A,A139)","v":1}]
["8795","Ｔ＆Ｄホールディングス",18488,8840,{"$f":"COUNTIF(銘柄データ!A:A,A140)","v":1}]
["8830","住友不動産",15224,5420,{"$f":"COUNTIF(銘柄データ!A:A,A141)","v":1}]
["8850","スターツコーポレーション",11780,1160,{"$f":"COUNTIF(銘柄データ!A:A,A142)","v":1}]
["9025","鴻池運輸",14248,3920,{"$f":"COUNTIF(銘柄データ!A:A,A143)","v":1}]
["9037","ハマキョウレックス",15700,4132,{"$f":"COUNTIF(銘柄データ!A:A,A144)","v":1}]
["9069","センコーグループホールディングス",10290,580,{"$f":"COUNTIF(銘柄データ!A:A,A145)","v":1}]
["9072","ニッコンホールディングス",14927.5,4552,{"$f":"COUNTIF(銘柄データ!A:A,A146)","v":1}]
["9147","ＮＩＰＰＯＮ　ＥＸＰＲＥＳＳホールディングス",8335,265,{"$f":"COUNTIF(銘柄データ!A:A,A147)","v":1}]
["9161","ＩＤ＆Ｅホールディングス",10245,1065,{"$f":"COUNTIF(銘柄データ!A:A,A148)","v":0}]
["9302","三井倉庫ホールディングス",14500,2924,{"$f":"COUNTIF(銘柄データ!A:A,A149)","v":1}]
["9432","日本電信電話",16290,5590,{"$f":"COUNTIF(銘柄データ!A:A,A150)","v":1}]
["9433","ＫＤＤＩ",16748,5256,{"$f":"COUNTIF(銘柄データ!A:A,A151)","v":1}]
["9436","沖縄セルラー電話",12020,3280,{"$f":"COUNTIF(銘柄データ!A:A,A152)","v":1}]
["9504","中国電力",986.8,-238,{"$f":"COUNTIF(銘柄データ!A:A,A153)","v":1}]
["9505","北陸電力",1734.2,232,{"$f":"COUNTIF(銘柄データ!A:A,A154)","v":1}]
["9506","東北電力",1893,-63,{"$f":"COUNTIF(銘柄データ!A:A,A155)","v":1}]
["9508","九州電力",1932.6,2,{"$f":"COUNTIF(銘柄データ!A:A,A156)","v":1}]
["9509","北海道電力",1991.4,437,{"$f":"COUNTIF(銘柄データ!A:A,A157)","v":1}]
["9511","沖縄電力",1155,-215,{"$f":"COUNTIF(銘柄データ!A:A,A158)","v":1}]
["9513","電源開発",6750,816,{"$f":"COUNTIF(銘柄データ!A:A,A159)","v":1}]
["9531","東京瓦斯",3225,630,{"$f":"COUNTIF(銘柄データ!A:A,A160)","v":1}]
["9532","大阪瓦斯",2238,269,{"$f":"COUNTIF(銘柄データ!A:A,A161)","v":1}]
["9602","東宝",16620,6480,{"$f":"COUNTIF(銘柄データ!A:A,A162)","v":1}]
["9605","東映",18070,4560,{"$f":"COUNTIF(銘柄データ!A:A,A163)","v":1}]
["9715","トランス・コスモス",10440,975,{"$f":"COUNTIF(銘柄データ!A:A,A164)","v":1}]
["9744","メイテック",15525,2145,{"$f":"COUNTIF(銘柄データ!A:A,A165)","v":1}]
["9759","ＮＳＤ",13915,3575,{"$f":"COUNTIF(銘柄データ!A:A,A166)","v":1}]
[null,null,null,null,{"$f":"COUNTIF(銘柄データ!A:A,A167)","v":0}]
[null,null,null,null,{"$f":"COUNTIF(銘柄データ!A:A,A168)","v":0}]
[null,null,null,null,{"$f":"COUNTIF(銘柄データ!A:A,A169)","v":0}]
[null,null,null,null,{"$f":"COUNTIF(銘柄データ!A:A,A170)","v":0}]
[null,null,null,null,{"$f":"COUNTIF(銘柄データ!A:A,A171)","v":0}]
[null,null,null,null,{"$f":"COUNTIF(銘柄データ!A:A,A172)","v":0}]

{"sheet":"業種別時価総額","index":9,"n_rows":37,"n_cols":7,"rows_kept":37,"cut":false,"hidden":false,"merged":[]}
["水産・農林業",6,658149,"Fishery,Agriculture","&","Forestry"]
["鉱業",5,2524591,"Mining"]
["建設業",83,14246080,"Construction"]
["食料品",71,24995279,"Foods"]
["繊維製品",23,3230380,"Textiles","&","Apparels"]
["パルプ・紙",10,1352397,"Pulp","&","Paper"]
["化学",136,45491604,"Chemicals"]
["医薬品",34,40626717,"Pharmaceutical"]
["石油・石炭製品",7,2899226,"Oil","&","Coal","Products"]
["ゴム製品",11,5046552,"Rubber","Products"]
["ガラス・土石製品",24,5073836,"Glass","&","Ceramics","Products"]
["鉄鋼",23,5823067,"Iron","&","Steel"]
["非鉄金属",21,4933729,"Nonferrous","Metals"]
["金属製品",31,3757545,"Metal","Products"]
["機械",125,34647426,"Machinery"]
["電気機器",141,110899468,"Electric","Appliances"]
["輸送用機器",50,64451955,"Transportation","Equipment"]
["精密機器",30,16109991,"Precision","Instruments"]
["その他製品",41,15641998,"Other","Products"]
["電気・ガス業",22,7561168,"Electric","Power","&","Gas"]
["陸運業",40,22451978,"Land","Transportation"]
["海運業",5,3698228,"Marine","Transportation"]
["空運業",2,2620715,"Air","Transportation"]
["倉庫・運輸関連業",15,1200210,"Warehousing","&","Harbor"]
[null,"Transportation","Services"]
["情報・通信業",207,73488725,"Information","&","Communication"]
["卸売業",140,39861805,"Wholesale","Trade"]
["小売業",160,39797301,"Retail","Trade"]
["銀行業",67,36168374,"Banks"]
["証券、商品先物取引業",20,4377895,"Securities","&","Commodity","Futures"]
["保険業",8,14911149,"Insurance"]
["その他金融業",22,7916426,"Other","Financing","Business"]
["不動産業",64,15561389,"Real","Estate"]
["サービス業",191,40274366,"Services"]
[]
[]
["https://www.jpx.co.jp/markets/statistics-equities/misc/02-01.html"]

{"sheet":"税金","index":10,"n_rows":26,"n_cols":3,"rows_kept":26,"cut":false,"hidden":false,"merged":[]}
[null,"個人","家計"]
[null,"楽天","SBI夫"]
["税金",{"$f":"SUM(B4:B26)","v":165126},{"$f":"SUM(C4:C26)","v":5383}]
[2040]
[{"$f":"A4-1","v":2039}]
[{"$f":"A5-1","v":2038}]
[2037]
[2036]
[2035]
[2034]
[2033]
[2032]
[2031]
[2030]
[2029]
[2028]
[2027]
[2026]
[2025]
[2024]
[2023]
[2022,0]
[2021,154413]
[2020,0,175]
[2019,10651,5208]
[2018,62]

{"sheet":"持株会","index":11,"n_rows":26,"n_cols":5,"rows_kept":26,"cut":false,"hidden":false,"merged":[]}
[null,null,"税引後"]
["株数現在高",42.139000000000003]
["時価評価額",283552.72200000001]
["平均買付価格",240469]
["リターン",43168]
["繰越金",72]
["奨励金",935000,{"$f":"B7*0.73","v":682550}]
["配当金",null,{"$f":"SUM(E19:E26)","v":32974}]
[null,null,{"$f":"SUM(C7:C8)","v":715524}]
[]
[]
[]
[]
[]
[]
["配当金の履歴"]
[]
["決算","税込配当金","所得税額","住民税額","税引後配当金"]
[null,null,null,null,1349]
["2018/9",3293,504,164,2625]
["2020/3",4607,705,230,3672]
[{"$f":"\"2019/9\"","v":"2019/9"},9889,1514,494,7881]
["2020/03",9065,1388,453,7224]
["21/3",5202,796,260,4146]
["21/9",4650,712,232,3706]
["22/3",2974,455,148,2371]

{"sheet":"元(楽天)","index":12,"n_rows":61,"n_cols":18,"rows_kept":61,"cut":false,"hidden":false,"merged":[]}
["■資産合計欄"]
[null,"時価評価額[円]","前日比[円]","前日比[％]","前月比[円]","前月比[％]","評価損益[円]","評価損益[％]",null,"実現損益[円]","配当・分配金[円貨]","配当・分配金[外貨]"]
["資産合計",55869682,816960,1.48,5058,0.01,19000528,"-",null,817067,0,26.93]
[]
["保有商品の評価額合計",55672053,816446,1.49,4545,0.01,19000528,"-"]
["国内株式",0,0,0,0,0,0,"-",null,"-",0]
["米国株式",516381,4546,0.89,4546,0.89,209556,"-",null,258569,0,26.93]
["中国株式",0,0,0,0,0,0,"-",null,"-",0]
["アセアン株式",0,0,0,0,0,0,"-",null,"-"]
["投資信託",55134582,811901,1.49,0,0,18788861,"-",null,558498,0]
["MMF",0,0,0,0,0,0,"-",null,0]
["外貨建MMF",0,0,0,0,0,0,"-",null,"-"]
["国内債券",10000,0,0,0,0,0,"-",null,"-"]
["外国債券",11090,-1,-0.01,-1,-0.01,2111,"-",null,"-"]
[]
["預り金合計",197629,514,0.26,513,0.26,"-","-"]
["預り金",0,0,0,0,0,"-","-"]
["外貨預り金",197629,514,0.26,513,0.26,"-","-"]
["先物オプション取引証拠金",0,0,0,0,0,"-","-"]
[]
["先物オプション評価損益",0,0,0,0,0,0,"-"]
[]
["楽天銀行普通預金残高","未取得"]
[]
[]
["■ 保有商品詳細 (すべて）"]
[]
["種別","銘柄コード・ティッカー","銘柄","口座","保有数量","［単位］","平均取得価額","［単位］","現在値","［単位］","現在値(更新日)","(参考為替)","前日比","［単位］","時価評価額[円]","時価評価額[外貨]","評価損益[円]","評価損益[％]"]
["米国株式","SPXL","Direxion デイリー S&P 500 ブル3倍 ETF","特定",37,"株",63.041800000000002,"USD",98.09,"USD",null,null,0.61,"USD",516381,"3,629.33 USD",209556,68.290000000000006]
["投資信託",null,"Smart-i 先進国債券インデックス(為替ヘッジあり)","特定",1296364,"口",8977.19,"円",8654,"円",null,null,7,"円",1121873,"-",-41897,-3.6]
["投資信託",null,"たわらノーロード 先進国株式＜為替ヘッジあり＞","特定",4424506,"口",14750.71,"円",18606,"円",null,null,141,"円",8232236,"-",1705775,26.13]
["投資信託",null,"＜購入・換金手数料なし＞ニッセイＴＯＰＩＸインデックスファンド","特定",400813,"口",10499,"円",16983,"円",null,null,234,"円",680701,"-",259887,61.75]
["投資信託",null,"グローバル3倍3分法ファンド(1年決算型)","特定",2034406,"口",12385.74,"円",12585,"円",null,null,81,"円",2560300,"-",40538,1.6]
["投資信託",null,"eMAXIS Slim 国内株式(TOPIX)","特定",2673090,"口",12111.56,"円",17305,"円",null,null,238,"円",4625782,"-",1388253,42.88]
["投資信託",null,"eMAXIS Slim 国内債券インデックス","特定",428712,"口",9831.9599999999991,"円",9716,"円",null,null,-66,"円",416537,"-",-4971,-1.17]
["投資信託",null,"eMAXIS Slim 先進国株式インデックス","特定",10900049,"口",12718.86,"円",23934,"円",null,null,437,"円",26088177,"-",12224558,88.17]
["投資信託",null,"eMAXIS Slim 先進国株式インデックス","つみたてNISA",930687,"口",16415.21,"円",23934,"円",null,null,437,"円",2227506,"-",699764,45.8]
["投資信託",null,"eMAXIS Slim 新興国株式インデックス","特定",396847,"口",9990,"円",14004,"円",null,null,269,"円",555745,"-",159294,40.18]
["投資信託",null,"eMAXIS Slim 新興国株式インデックス","特定",3108527,"口",10491.55,"円",14004,"円",null,null,269,"円",4353181,"-",1091855,33.47]
["投資信託",null,"eMAXIS Slim 米国株式(S&P500)","特定",663878,"口",11763.65,"円",22984,"円",null,null,458,"円",1525857,"-",744894,95.38]
["投資信託",null,"eMAXIS Slim 米国株式(S&P500)","つみたてNISA",59554,"口",11982.07,"円",22984,"円",null,null,458,"円",136879,"-",65521,91.81]
["投資信託",null,"eMAXIS Slim 国内リートインデックス","特定",172598,"口",8781.4500000000007,"円",9597,"円",null,null,-65,"円",165642,"-",14076,9.2799999999999994]
["投資信託",null,"eMAXIS Slim 先進国リートインデックス","特定",1223048,"口",9199.67,"円",12662,"円",null,null,103,"円",1548623,"-",423460,37.630000000000003]
["投資信託",null,"SMT ゴールドインデックス・オープン(為替ヘッジあり)","特定",720759,"口",12177.29,"円",12425,"円",null,null,84,"円",895543,"-",17854,2.0299999999999998]
["国内債券",null,"個人国債　変動10年　第111回","特定",10000,"額面",100,"円",100,"％",null,null,0,"％",10000,"-",0,"-"]
["外国債券",null,"米国国債　米ドル建ストリップス債券　2029/8/15","特定",100,"額面",8979,"円",78.22,"％","2023-07-31","(141.79円/USD)",0,"％",11090,"-",2111,23.51]
["外貨預り金",null,"米ドル","-",1389.02,"USD","-","-",142.28,"円/USD",null,null,"-","-",197629,"-","-","-"]
[]
[]
["■参考為替レート"]
[]
["米ドル",142.28,"円/USD","(08/01  07:00)"]
["ユーロ",156.47999999999999,"円/EUR","(08/01  06:59)"]
["イギリスポンド",182.67,"円/GBP","(08/01  06:59)"]
["オーストラリアドル",95.57,"円/AUD","(08/01  06:59)"]
["ニュージーランドドル",88.31,"円/NZD","(08/01  06:59)"]
["カナダドル",107.89,"円/CAD","(08/01  06:59)"]
["トルコリラ",5.28,"円/TRY","(08/01  06:59)"]
["南アフリカランド",7.96,"円/ZAR","(08/01  06:59)"]
["ロシアルーブル",1.55,"円/RUB","(08/01  06:59)"]
["メキシコペソ",8.49,"円/MXN","(08/01  06:59)"]

{"sheet":"元(野村預り）","index":13,"n_rows":13,"n_cols":32,"rows_kept":13,"cut":false,"hidden":false,"merged":[]}
["預り資産（預り証券）"]
[]
[]
[]
["商品分類","残高","うち未精算金","評価額","評価レート"]
["MRF/お預り金",0,null,0]
[null,null,null,"（合計）0"]
[]
["明細数From","明細数To"]
[1,1]
[]
["商品","銘柄コード","ティッカー","銘柄名","期間満了預り保有区分","市場","預り区分","保有数量","注文中数量","売却可能数量（単元）","売却可能数量（単元未満）","取得コスト（円）","参考時価","基準日","現在値","前日比","取得金額（円）","評価額（円）","評価損益（円）","評価レート","通貨","買付単価（外貨）","取得為替レート","外貨評価額","利率","利払日","決算日","償還日","格付1","格付2","格付3","格付4"]
["株式",7011,null,null,null,null,"特定",100,100,null,null,5707,null,null,6731,null,570700,673100,102400]

{"sheet":"元（野村履歴)","index":14,"n_rows":19,"n_cols":16,"rows_kept":19,"cut":false,"hidden":false,"merged":[]}
["特定口座譲渡益税履歴"]
[]
["当年徴収税額","当年徴収税額（所得税）","当年徴収税額（住民税）","当年年間損益額","前年徴収税額","前年徴収税額（所得税）","前年徴収税額（住民税）","前年年間損益額","2021年徴収税額","2021年徴収税額（所得税）","2021年徴収税額（住民税）","2021年年間損益額","2020年徴収税額","2020年徴収税額（所得税）","2020年徴収税額（住民税）","2020年年間損益額"]
[0,0,0,-7348,29214,22025,7189,143824,9475,7145,2330,46674,0,0,0,-193158]
[]
["受渡日From","受渡日To"]
["2022年01月01日","2023年08月08日"]
[]
["明細数：4件"]
[]
["銘柄コード","銘柄名","約定日","数量","受渡日","取引区分","商品","譲渡金額","取得日","取得金額","損益金額","徴収/還付区分","譲渡益税徴収額/還付額"]
[null,null,"2022-03-01",100,"2022-03-03","現物売却","株式",347576,"2022-03-01",293900,53676]
[null,null,null,null,"2022-03-03",null,null,null,null,null,43896,"徴収額",8916]
[null,null,"2022-08-03",100,"2022-08-05","現物売却","株式",482976,"2022-08-01",432800,50176]
[null,null,null,null,"2022-08-05",null,null,null,null,null,94072,"徴収額",10192]
[null,null,"2022-11-01",100,"2022-11-04","現物売却","株式",510952,"2022-11-01",461200,49752]
[null,null,null,null,"2022-11-04",null,null,null,null,null,143824,"徴収額",10106]
[null,null,"2023-03-01",100,"2023-03-03","現物売却","株式",500952,"2023-03-01",508300,-7348]
[null,null,null,null,"2023-03-03",null,null,null,null,null,-7348,"徴収額",0]

{"sheet":"元(SBI夫)","index":15,"n_rows":28,"n_cols":12,"rows_kept":28,"cut":false,"hidden":false,"merged":[]}
["保有状況","ファンド名","口座種別","注文種別","評価金額","前年末評価金額","売却金額","分配金額","買付金額","手数料","トータルリターン（円）","トータルリターン（率）"]
["保有中","日興－グローバル３倍３分法ファンド（１年決算型）","特定/一般","金額",1137458,0,0,0,1191947,0,-54489,-4.5699999999999998E-2]
["保有中","三菱ＵＦＪ国際－ｅＭＡＸＩＳ　Ｓｌｉｍ　米国株式（Ｓ＆Ｐ５００）","特定/一般","金額",468862,0,47987,0,410653,0,106196,0.2586]
["保有中","三菱ＵＦＪ国際－ｅＭＡＸＩＳ　Ｓｌｉｍ　米国株式（Ｓ＆Ｐ５００）","NISA/つみたてNISA","金額",54952,0,4828,0,29827,0,29953,1.0042]
["保有中","三菱ＵＦＪ国際－ｅＭＡＸＩＳ　Ｓｌｉｍ　国内リートインデックス","特定/一般","金額",77175,0,1142,0,76696,0,1621,2.1100000000000001E-2]
["保有中","三菱ＵＦＪ国際－ｅＭＡＸＩＳ　Ｓｌｉｍ　先進国リートインデックス","特定/一般","金額",697136,0,0,0,617553,0,79583,0.1288]
["保有中","三菱ＵＦＪ国際－ｅＭＡＸＩＳ　Ｓｌｉｍ　国内株式（ＴＯＰＩＸ）","特定/一般","金額",2960715,0,6938,0,2316814,0,650839,0.28089999999999998]
["保有中","三菱ＵＦＪ国際－ｅＭＡＸＩＳ　Ｓｌｉｍ　国内株式（ＴＯＰＩＸ）","NISA/つみたてNISA","金額",8489,0,0,0,5832,0,2657,0.45550000000000002]
["保有中","三菱ＵＦＪ国際－ｅＭＡＸＩＳ　Ｓｌｉｍ　国内債券インデックス","特定/一般","金額",788046,0,1209262,0,2020003,0,-22695,-1.12E-2]
["保有中","三菱ＵＦＪ国際－ｅＭＡＸＩＳ　Ｓｌｉｍ　先進国株式インデックス","特定/一般","金額",8531561,0,1288927,0,7660370,0,2160118,0.28189999999999998]
["保有中","三菱ＵＦＪ国際－ｅＭＡＸＩＳ　Ｓｌｉｍ　先進国株式インデックス","NISA/つみたてNISA","金額",215741,0,7714,0,116305,0,107150,0.92120000000000002]
["保有中","三菱ＵＦＪ国際－ｅＭＡＸＩＳ　Ｓｌｉｍ　新興国株式インデックス","特定/一般","金額",2104525,0,10844,0,1823267,0,292102,0.16020000000000001]
["保有中","三菱ＵＦＪ国際－ｅＭＡＸＩＳ　Ｓｌｉｍ　新興国株式インデックス","NISA/つみたてNISA","金額",48578,0,8214,0,41547,0,15245,0.3669]
["保有中","ニッセイ－＜購入・換金手数料なし＞ニッセイＴＯＰＩＸインデックスファンド","特定/一般","金額",42963,0,225033,0,248791,0,19205,7.7100000000000002E-2]
["保有中","ニッセイ－＜購入・換金手数料なし＞ニッセイＴＯＰＩＸインデックスファンド","NISA/つみたてNISA","金額",211772,0,69830,0,190901,0,90701,0.47510000000000002]
["保有中","Ｏｎｅ－たわらノーロード　先進国株式＜為替ヘッジあり＞","特定/一般","金額",3857887,0,147456,0,3511916,0,493427,0.14050000000000001]
["保有中","Ｏｎｅ－たわらノーロード　先進国株式","NISA/つみたてNISA","金額",112770,0,0,0,60834,0,51936,0.85370000000000001]
["保有中","三井住友ＴＡＭ－ＳＭＴ　ゴールドインデックス・オープン（為替ヘッジあり）","特定/一般","金額",415945,0,13026,0,424666,0,4305,1.01E-2]
["保有中","りそな－Ｓｍａｒｔ－ｉ　先進国債券インデックス（為替ヘッジあり）","特定/一般","金額",510736,0,1501288,0,2174749,0,-162725,-7.4800000000000005E-2]
["解約済","日興－ゴールド・ファンド（為替ヘッジあり）","特定/一般","金額",0,0,57266,0,54769,0,2497,4.5499999999999999E-2]
["解約済","三菱ＵＦＪ国際－ｅＭＡＸＩＳ　Ｓｌｉｍ　国内債券インデックス","NISA/つみたてNISA","金額",0,0,80292,0,82661,0,-2369,-2.86E-2]
["解約済","三菱ＵＦＪ国際－ｅＭＡＸＩＳ　Ｓｌｉｍ　先進国債券インデックス","特定/一般","金額",0,0,12343,0,12226,0,117,9.4999999999999998E-3]
["解約済","Ｏｎｅ－たわらノーロード　先進国株式","特定/一般","金額",0,0,70608,0,69921,0,687,9.7999999999999997E-3]
["解約済","Ｏｎｅ－たわらノーロード　先進国債券","特定/一般","金額",0,0,212912,0,207660,0,5252,2.52E-2]
["解約済","Ｏｎｅ－たわらノーロード　先進国債券","NISA/つみたてNISA","金額",0,0,36630,0,35426,0,1204,3.39E-2]
["解約済","Ｏｎｅ－たわらノーロード　先進国リート","特定/一般","金額",0,0,85915,0,82475,0,3440,4.1700000000000001E-2]
["解約済","三井住友ＴＡＭ－ＳＭＴ　グローバル株式インデックス・オープン","NISA/つみたてNISA","金額",0,0,31145,0,30000,0,1145,3.8100000000000002E-2]
["解約済","りそな－Ｓｍａｒｔ－ｉ　Ｊリートインデックス","特定/一般","金額",0,0,27275,0,27667,0,-392,-1.41E-2]

{"sheet":"元(SBI会社)","index":16,"n_rows":12,"n_cols":12,"rows_kept":12,"cut":false,"hidden":false,"merged":[]}
["保有状況","ファンド名","口座種別","注文種別","評価金額","前年末評価金額","売却金額","分配金額","買付金額","手数料","トータルリターン（円）","トータルリターン（率）"]
["保有中","日興－グローバル３倍３分法ファンド（１年決算型）","特定/一般","金額",476061,0,0,0,557100,0,-81039,-0.1454]
["保有中","三菱ＵＦＪ国際－ｅＭＡＸＩＳ　Ｓｌｉｍ　米国株式（Ｓ＆Ｐ５００）","特定/一般","金額",382789,0,20013,0,313275,0,89527,0.28570000000000001]
["保有中","三菱ＵＦＪ国際－ｅＭＡＸＩＳ　Ｓｌｉｍ　国内リートインデックス","特定/一般","金額",31386,0,0,0,31167,0,219,7.0000000000000001E-3]
["保有中","三菱ＵＦＪ国際－ｅＭＡＸＩＳ　Ｓｌｉｍ　先進国リートインデックス","特定/一般","金額",282796,0,8040,0,275919,0,14917,5.3999999999999999E-2]
["保有中","三菱ＵＦＪ国際－ｅＭＡＸＩＳ　Ｓｌｉｍ　国内株式（ＴＯＰＩＸ）","特定/一般","金額",1559119,0,3072,0,1272290,0,289901,0.2278]
["保有中","三菱ＵＦＪ国際－ｅＭＡＸＩＳ　Ｓｌｉｍ　国内債券インデックス","特定/一般","金額",211369,0,271210,0,497825,0,-15246,-3.0599999999999999E-2]
["保有中","三菱ＵＦＪ国際－ｅＭＡＸＩＳ　Ｓｌｉｍ　先進国株式インデックス","特定/一般","金額",5575554,0,1506788,0,5855589,0,1226753,0.20949999999999999]
["保有中","三菱ＵＦＪ国際－ｅＭＡＸＩＳ　Ｓｌｉｍ　新興国株式インデックス","特定/一般","金額",977476,0,0,0,891658,0,85818,9.6199999999999994E-2]
["保有中","Ｏｎｅ－たわらノーロード　先進国株式＜為替ヘッジあり＞","特定/一般","金額",1688077,0,0,0,1627803,0,60274,3.6999999999999998E-2]
["保有中","三井住友ＴＡＭ－ＳＭＴ　ゴールドインデックス・オープン（為替ヘッジあり）","特定/一般","金額",155660,0,92344,0,246890,0,1114,4.4999999999999997E-3]
["保有中","りそな－Ｓｍａｒｔ－ｉ　先進国債券インデックス（為替ヘッジあり）","特定/一般","金額",188469,0,561397,0,854687,0,-104821,-0.1226]

{"sheet":"元(楽天ﾄｰﾀﾙ)","index":17,"n_rows":88,"n_cols":11,"rows_kept":88,"cut":false,"hidden":false,"merged":[]}
["投資信託種別","口座区分","ファンド名","分配金","現在の評価金額[円]","保有数量[口]","区分","累計受取分配金額[円]","累計解約金額[円]","累計買付金額[円]","トータルリターン[円]"]
["投資信託","特定","Smart-i 先進国債券インデックス(為替ヘッジあり)","再投資型","-","-","すべて",0,6314283,7905397,-469241]
["投資信託","特定","Smart-i 先進国債券インデックス(為替ヘッジあり)","再投資型",1121873,1296364,"保有中",0,900000,2094451,-72578]
["投資信託","特定","Smart-i 先進国債券インデックス(為替ヘッジあり)","再投資型","-","-","全解約",0,5414283,5810946,-396663]
["投資信託","特定","たわらノーロード 先進国株式＜為替ヘッジあり＞","再投資型","-","-","すべて",0,3486260,9353851,2364645]
["投資信託","特定","たわらノーロード 先進国株式＜為替ヘッジあり＞","再投資型",8232236,4424506,"保有中",0,3486260,9353851,2364645]
["投資信託","特定","たわらノーロード 先進国株式＜為替ヘッジあり＞","再投資型","-","-","全解約",0,0,0,0]
["投資信託","特定","＜購入・換金手数料なし＞ニッセイＴＯＰＩＸインデックスファンド","再投資型","-","-","すべて",0,26530,448733,258498]
["投資信託","特定","＜購入・換金手数料なし＞ニッセイＴＯＰＩＸインデックスファンド","再投資型",680701,400813,"保有中",0,26530,448733,258498]
["投資信託","特定","＜購入・換金手数料なし＞ニッセイＴＯＰＩＸインデックスファンド","再投資型","-","-","全解約",0,0,0,0]
["投資信託","特定","グローバル3倍3分法ファンド(1年決算型)","再投資型","-","-","すべて",0,1810158,4415991,-45533]
["投資信託","特定","グローバル3倍3分法ファンド(1年決算型)","再投資型",2560300,2034406,"保有中",0,1810158,4415991,-45533]
["投資信託","特定","グローバル3倍3分法ファンド(1年決算型)","再投資型","-","-","全解約",0,0,0,0]
["投資信託","特定","eMAXIS Slim 国内株式(TOPIX)","再投資型","-","-","すべて",0,1723808,5134825,1214765]
["投資信託","特定","eMAXIS Slim 国内株式(TOPIX)","再投資型",4625782,2673090,"保有中",0,1723808,5134825,1214765]
["投資信託","特定","eMAXIS Slim 国内株式(TOPIX)","再投資型","-","-","全解約",0,0,0,0]
["投資信託","特定","eMAXIS Slim 国内債券インデックス","再投資型","-","-","すべて",0,3899774,4353981,-37670]
["投資信託","特定","eMAXIS Slim 国内債券インデックス","再投資型",416537,428712,"保有中",0,3899774,4353981,-37670]
["投資信託","特定","eMAXIS Slim 国内債券インデックス","再投資型","-","-","全解約",0,0,0,0]
["投資信託","特定","eMAXIS Slim 先進国株式インデックス","再投資型","-","-","すべて",0,3560818,17116033,12532962]
["投資信託","特定","eMAXIS Slim 先進国株式インデックス","再投資型",26088177,10900049,"保有中",0,3560818,17116033,12532962]
["投資信託","特定","eMAXIS Slim 先進国株式インデックス","再投資型","-","-","全解約",0,0,0,0]
["投資信託","特定","eMAXIS Slim 新興国株式インデックス","受取型","-","-","すべて",0,71440,467365,159820]
["投資信託","特定","eMAXIS Slim 新興国株式インデックス","受取型",555745,396847,"保有中",0,71440,467365,159820]
["投資信託","特定","eMAXIS Slim 新興国株式インデックス","受取型","-","-","全解約",0,0,0,0]
["投資信託","特定","eMAXIS Slim 新興国株式インデックス","再投資型","-","-","すべて",0,144874,3398623,1099432]
["投資信託","特定","eMAXIS Slim 新興国株式インデックス","再投資型",4353181,3108527,"保有中",0,144874,3398623,1099432]
["投資信託","特定","eMAXIS Slim 新興国株式インデックス","再投資型","-","-","全解約",0,0,0,0]
["投資信託","特定","eMAXIS Slim 米国株式(S&P500)","再投資型","-","-","すべて",0,1496516,2145808,876565]
["投資信託","特定","eMAXIS Slim 米国株式(S&P500)","再投資型",1525857,663878,"保有中",0,1478708,2128308,876257]
["投資信託","特定","eMAXIS Slim 米国株式(S&P500)","再投資型","-","-","全解約",0,17808,17500,308]
["投資信託","特定","eMAXIS Slim 国内リートインデックス","再投資型","-","-","すべて",0,105403,254714,16331]
["投資信託","特定","eMAXIS Slim 国内リートインデックス","再投資型",165642,172598,"保有中",0,105403,254714,16331]
["投資信託","特定","eMAXIS Slim 国内リートインデックス","再投資型","-","-","全解約",0,0,0,0]
["投資信託","特定","eMAXIS Slim 先進国リートインデックス","再投資型","-","-","すべて",0,915221,2078142,385702]
["投資信託","特定","eMAXIS Slim 先進国リートインデックス","再投資型",1548623,1223048,"保有中",0,915221,2078142,385702]
["投資信託","特定","eMAXIS Slim 先進国リートインデックス","再投資型","-","-","全解約",0,0,0,0]
["投資信託","特定","SMT ゴールドインデックス・オープン(為替ヘッジあり)","再投資型","-","-","すべて",0,743531,1608248,30826]
["投資信託","特定","SMT ゴールドインデックス・オープン(為替ヘッジあり)","再投資型",895543,720759,"保有中",0,743531,1608248,30826]
["投資信託","特定","SMT ゴールドインデックス・オープン(為替ヘッジあり)","再投資型","-","-","全解約",0,0,0,0]
["投資信託","特定","eMAXIS Slim 国内債券インデックス","受取型","-","-","すべて",0,195941,196659,-718]
["投資信託","特定","eMAXIS Slim 国内債券インデックス","受取型",0,0,"保有中",0,0,0,0]
["投資信託","特定","eMAXIS Slim 国内債券インデックス","受取型","-","-","全解約",0,195941,196659,-718]
["投資信託","特定","Smart-i 先進国債券インデックス(為替ヘッジあり)","受取型","-","-","すべて",0,113645,126070,-12425]
["投資信託","特定","Smart-i 先進国債券インデックス(為替ヘッジあり)","受取型",0,0,"保有中",0,0,0,0]
["投資信託","特定","Smart-i 先進国債券インデックス(為替ヘッジあり)","受取型","-","-","全解約",0,113645,126070,-12425]
["投資信託","特定","たわらノーロード 先進国リート","受取型","-","-","すべて",0,196243,189578,6665]
["投資信託","特定","たわらノーロード 先進国リート","受取型",0,0,"保有中",0,0,0,0]
["投資信託","特定","たわらノーロード 先進国リート","受取型","-","-","全解約",0,196243,189578,6665]
["投資信託","特定","たわらノーロード 先進国リート","再投資型","-","-","すべて",0,758293,727607,30686]
["投資信託","特定","たわらノーロード 先進国リート","再投資型",0,0,"保有中",0,0,0,0]
["投資信託","特定","たわらノーロード 先進国リート","再投資型","-","-","全解約",0,758293,727607,30686]
["投資信託","特定","Smart-i Jリートインデックス","再投資型","-","-","すべて",0,193851,192812,1039]
["投資信託","特定","Smart-i Jリートインデックス","再投資型",0,0,"保有中",0,0,0,0]
["投資信託","特定","Smart-i Jリートインデックス","再投資型","-","-","全解約",0,193851,192812,1039]
["投資信託","特定","たわらノーロード 先進国株式","再投資型","-","-","すべて",0,842404,809837,32567]
["投資信託","特定","たわらノーロード 先進国株式","再投資型",0,0,"保有中",0,0,0,0]
["投資信託","特定","たわらノーロード 先進国株式","再投資型","-","-","全解約",0,842404,809837,32567]
["投資信託","特定","ゴールド・ファンド(為替ヘッジあり)","再投資型","-","-","すべて",0,532990,512644,20346]
["投資信託","特定","ゴールド・ファンド(為替ヘッジあり)","再投資型",0,0,"保有中",0,0,0,0]
["投資信託","特定","ゴールド・ファンド(為替ヘッジあり)","再投資型","-","-","全解約",0,532990,512644,20346]
["投資信託","特定","eMAXIS Slim 先進国株式インデックス","受取型","-","-","すべて",0,3273180,3158869,114311]
["投資信託","特定","eMAXIS Slim 先進国株式インデックス","受取型",0,0,"保有中",0,0,0,0]
["投資信託","特定","eMAXIS Slim 先進国株式インデックス","受取型","-","-","全解約",0,3273180,3158869,114311]
["投資信託","特定","ゴールド・ファンド(為替ヘッジあり)","受取型","-","-","すべて",0,104874,105720,-846]
["投資信託","特定","ゴールド・ファンド(為替ヘッジあり)","受取型",0,0,"保有中",0,0,0,0]
["投資信託","特定","ゴールド・ファンド(為替ヘッジあり)","受取型","-","-","全解約",0,104874,105720,-846]
["投資信託","特定","eMAXIS Slim 米国株式(S&P500)","受取型","-","-","すべて",0,457537,451045,6492]
["投資信託","特定","eMAXIS Slim 米国株式(S&P500)","受取型",0,0,"保有中",0,0,0,0]
["投資信託","特定","eMAXIS Slim 米国株式(S&P500)","受取型","-","-","全解約",0,457537,451045,6492]
["投資信託","特定","Smart-i Jリートインデックス","受取型","-","-","すべて",0,45683,44326,1357]
["投資信託","特定","Smart-i Jリートインデックス","受取型",0,0,"保有中",0,0,0,0]
["投資信託","特定","Smart-i Jリートインデックス","受取型","-","-","全解約",0,45683,44326,1357]
["投資信託","特定","たわらノーロード 先進国債券","再投資型","-","-","すべて",0,269027,262500,6527]
["投資信託","特定","たわらノーロード 先進国債券","再投資型",0,0,"保有中",0,0,0,0]
["投資信託","特定","たわらノーロード 先進国債券","再投資型","-","-","全解約",0,269027,262500,6527]
["投資信託","特定","eMAXIS Slim 先進国債券インデックス","再投資型","-","-","すべて",0,152439,153501,-1062]
["投資信託","特定","eMAXIS Slim 先進国債券インデックス","再投資型",0,0,"保有中",0,0,0,0]
["投資信託","特定","eMAXIS Slim 先進国債券インデックス","再投資型","-","-","全解約",0,152439,153501,-1062]
["投資信託","特定","楽天・全米株式インデックス・ファンド(楽天・VTI)","再投資型","-","-","すべて",0,137495,140071,-2576]
["投資信託","特定","楽天・全米株式インデックス・ファンド(楽天・VTI)","再投資型",0,0,"保有中",0,0,0,0]
["投資信託","特定","楽天・全米株式インデックス・ファンド(楽天・VTI)","再投資型","-","-","全解約",0,137495,140071,-2576]
["投資信託","つみたてNISA","eMAXIS Slim 先進国株式インデックス","再投資型","-","-","すべて",0,0,1527742,699764]
["投資信託","つみたてNISA","eMAXIS Slim 先進国株式インデックス","再投資型",2227506,930687,"保有中",0,0,1527742,699764]
["投資信託","つみたてNISA","eMAXIS Slim 先進国株式インデックス","再投資型","-","-","全解約",0,0,0,0]
["投資信託","つみたてNISA","eMAXIS Slim 米国株式(S&P500)","再投資型","-","-","すべて",0,0,71358,65521]
["投資信託","つみたてNISA","eMAXIS Slim 米国株式(S&P500)","再投資型",136879,59554,"保有中",0,0,71358,65521]
["投資信託","つみたてNISA","eMAXIS Slim 米国株式(S&P500)","再投資型","-","-","全解約",0,0,0,0]

{"sheet":"元(楽天ｼﾞｭﾆｱ)","index":18,"n_rows":4,"n_cols":11,"rows_kept":4,"cut":false,"hidden":false,"merged":[]}
["投資信託種別","口座区分","ファンド名","分配金","現在の評価金額[円]","保有数量[口]","区分","累計受取分配金額[円]","累計解約金額[円]","累計買付金額[円]","トータルリターン[円]"]
["投資信託","NISA","eMAXIS Slim 先進国株式インデックス","再投資型","-","-","すべて",0,0,3199992,1348895]
["投資信託","NISA","eMAXIS Slim 先進国株式インデックス","再投資型",4548887,1965811,"保有中",0,0,3199992,1348895]
["投資信託","NISA","eMAXIS Slim 先進国株式インデックス","再投資型","-","-","全解約",0,0,0,0]

{"sheet":"元(楽天 子)","index":19,"n_rows":34,"n_cols":11,"rows_kept":34,"cut":false,"hidden":false,"merged":[]}
["投資信託種別","口座区分","ファンド名","分配金","現在の評価金額[円]","保有数量[口]","区分","累計受取分配金額[円]","累計解約金額[円]","累計買付金額[円]","トータルリターン[円]"]
["投資信託","特定","Smart-i 先進国債券インデックス(為替ヘッジあり)","再投資型","-","-","すべて",0,0,300170,-52773]
["投資信託","特定","Smart-i 先進国債券インデックス(為替ヘッジあり)","再投資型",247397,285876,"保有中",0,0,300170,-52773]
["投資信託","特定","Smart-i 先進国債券インデックス(為替ヘッジあり)","再投資型","-","-","全解約",0,0,0,0]
["投資信託","特定","たわらノーロード 先進国株式＜為替ヘッジあり＞","再投資型","-","-","すべて",0,0,47527,5921]
["投資信託","特定","たわらノーロード 先進国株式＜為替ヘッジあり＞","再投資型",53448,28726,"保有中",0,0,47527,5921]
["投資信託","特定","たわらノーロード 先進国株式＜為替ヘッジあり＞","再投資型","-","-","全解約",0,0,0,0]
["投資信託","特定","グローバル3倍3分法ファンド(1年決算型)","再投資型","-","-","すべて",0,0,126084,-11119]
["投資信託","特定","グローバル3倍3分法ファンド(1年決算型)","再投資型",114965,91351,"保有中",0,0,126084,-11119]
["投資信託","特定","グローバル3倍3分法ファンド(1年決算型)","再投資型","-","-","全解約",0,0,0,0]
["投資信託","特定","eMAXIS Slim 国内株式(TOPIX)","再投資型","-","-","すべて",0,0,315396,82169]
["投資信託","特定","eMAXIS Slim 国内株式(TOPIX)","再投資型",397565,229740,"保有中",0,0,315396,82169]
["投資信託","特定","eMAXIS Slim 国内株式(TOPIX)","再投資型","-","-","全解約",0,0,0,0]
["投資信託","特定","eMAXIS Slim 国内債券インデックス","再投資型","-","-","すべて",0,0,156725,-6908]
["投資信託","特定","eMAXIS Slim 国内債券インデックス","再投資型",149817,154196,"保有中",0,0,156725,-6908]
["投資信託","特定","eMAXIS Slim 国内債券インデックス","再投資型","-","-","全解約",0,0,0,0]
["投資信託","特定","eMAXIS Slim 先進国株式インデックス","再投資型","-","-","すべて",0,0,900077,295113]
["投資信託","特定","eMAXIS Slim 先進国株式インデックス","再投資型",1195190,499369,"保有中",0,0,900077,295113]
["投資信託","特定","eMAXIS Slim 先進国株式インデックス","再投資型","-","-","全解約",0,0,0,0]
["投資信託","特定","eMAXIS Slim 新興国株式インデックス","再投資型","-","-","すべて",0,0,182260,12284]
["投資信託","特定","eMAXIS Slim 新興国株式インデックス","再投資型",194544,138920,"保有中",0,0,182260,12284]
["投資信託","特定","eMAXIS Slim 新興国株式インデックス","再投資型","-","-","全解約",0,0,0,0]
["投資信託","特定","eMAXIS Slim 米国株式(S&P500)","再投資型","-","-","すべて",0,0,28441,7621]
["投資信託","特定","eMAXIS Slim 米国株式(S&P500)","再投資型",36062,15690,"保有中",0,0,28441,7621]
["投資信託","特定","eMAXIS Slim 米国株式(S&P500)","再投資型","-","-","全解約",0,0,0,0]
["投資信託","特定","eMAXIS Slim 国内リートインデックス","再投資型","-","-","すべて",0,0,2337,97]
["投資信託","特定","eMAXIS Slim 国内リートインデックス","再投資型",2434,2536,"保有中",0,0,2337,97]
["投資信託","特定","eMAXIS Slim 国内リートインデックス","再投資型","-","-","全解約",0,0,0,0]
["投資信託","特定","eMAXIS Slim 先進国リートインデックス","再投資型","-","-","すべて",0,0,50473,9180]
["投資信託","特定","eMAXIS Slim 先進国リートインデックス","再投資型",59653,47112,"保有中",0,0,50473,9180]
["投資信託","特定","eMAXIS Slim 先進国リートインデックス","再投資型","-","-","全解約",0,0,0,0]
["投資信託","特定","SMT ゴールドインデックス・オープン(為替ヘッジあり)","再投資型","-","-","すべて",0,0,72195,-1746]
["投資信託","特定","SMT ゴールドインデックス・オープン(為替ヘッジあり)","再投資型",70449,56699,"保有中",0,0,72195,-1746]
["投資信託","特定","SMT ゴールドインデックス・オープン(為替ヘッジあり)","再投資型","-","-","全解約",0,0,0,0]

{"sheet":"元(SBI妻)","index":20,"n_rows":16,"n_cols":12,"rows_kept":16,"cut":false,"hidden":false,"merged":[]}
["保有状況","ファンド名","口座種別","注文種別","評価金額","前年末評価金額","売却金額","分配金額","買付金額","手数料","トータルリターン（円）","トータルリターン（率）"]
["保有中","日興－グローバル３倍３分法ファンド（１年決算型）","特定/一般","金額",1152,0,0,0,1100,0,52,4.7199999999999999E-2]
["保有中","三菱ＵＦＪ国際－ｅＭＡＸＩＳ　Ｓｌｉｍ　米国株式（Ｓ＆Ｐ５００）","特定/一般","金額",3557,0,0,0,3010,0,547,0.1817]
["保有中","三菱ＵＦＪ国際－ｅＭＡＸＩＳ　Ｓｌｉｍ　米国株式（Ｓ＆Ｐ５００）","NISA/つみたてNISA","金額",255000,0,0,0,120564,0,134436,1.115]
["保有中","三菱ＵＦＪ国際－ｅＭＡＸＩＳ　Ｓｌｉｍ　国内リートインデックス","特定/一般","金額",1113,0,0,0,1100,0,13,1.18E-2]
["保有中","三菱ＵＦＪ国際－ｅＭＡＸＩＳ　Ｓｌｉｍ　先進国リートインデックス","特定/一般","金額",1166,0,0,0,1100,0,66,0.06]
["保有中","三菱ＵＦＪ国際－ｅＭＡＸＩＳ　Ｓｌｉｍ　国内株式（ＴＯＰＩＸ）","特定/一般","金額",28291,0,0,0,24674,0,3617,0.14649999999999999]
["保有中","三菱ＵＦＪ国際－ｅＭＡＸＩＳ　Ｓｌｉｍ　国内株式（ＴＯＰＩＸ）","NISA/つみたてNISA","金額",21915,0,0,0,15174,0,6741,0.44419999999999998]
["保有中","三菱ＵＦＪ国際－ｅＭＡＸＩＳ　Ｓｌｉｍ　国内債券インデックス","特定/一般","金額",37206,0,0,0,37295,0,-89,-2.3E-3]
["保有中","三菱ＵＦＪ国際－ｅＭＡＸＩＳ　Ｓｌｉｍ　先進国株式インデックス","特定/一般","金額",81150,0,0,0,70221,0,10929,0.15559999999999999]
["保有中","三菱ＵＦＪ国際－ｅＭＡＸＩＳ　Ｓｌｉｍ　先進国株式インデックス","NISA/つみたてNISA","金額",2008579,0,0,0,1384812,0,623767,0.45040000000000002]
["保有中","三菱ＵＦＪ国際－ｅＭＡＸＩＳ　Ｓｌｉｍ　新興国株式インデックス","特定/一般","金額",1644,0,0,0,1505,0,139,9.2299999999999993E-2]
["保有中","Ｏｎｅ－たわらノーロード　先進国株式＜為替ヘッジあり＞","特定/一般","金額",53038,0,0,0,48098,0,4940,0.1027]
["保有中","Ｏｎｅ－たわらノーロード　先進国株式","NISA/つみたてNISA","金額",84448,0,0,0,46101,0,38347,0.83179999999999998]
["保有中","三井住友ＴＡＭ－ＳＭＴ　ゴールドインデックス・オープン（為替ヘッジあり）","特定/一般","金額",1129,0,0,0,1100,0,29,2.63E-2]
["保有中","りそな－Ｓｍａｒｔ－ｉ　先進国債券インデックス（為替ヘッジあり）","特定/一般","金額",17153,0,0,0,17575,0,-422,-2.4E-2]

{"sheet":"元(DC)","index":21,"n_rows":9,"n_cols":5,"rows_kept":9,"cut":false,"hidden":false,"merged":[]}
[null,"取得","現在","損益"]
["三菱UFJ DC海外株式インデックスファンド",1499500,2526081,1026581,{"$f":"D2/B2","v":0.68461553851283763}]
[]
[null,"取得","現在","損益"]
["SBIベネフィット（妻）",666000,796518,{"$f":"C5-B5","v":130518},{"$f":"D5/B5","v":0.19597297297297298}]
[]
[null,23000]
[null,23000]
[null,{"$f":"B5+B7+B8","v":712000}]

{"sheet":"元(楽天(夫)分配金)","index":22,"n_rows":4,"n_cols":11,"rows_kept":4,"cut":false,"hidden":false,"merged":[]}
["投資信託種別","口座区分","ファンド名","分配金","現在の評価金額[円]","保有数量[口]","区分","累計受取分配金額[円]","累計解約金額[円]","累計買付金額[円]","トータルリターン[円]"]
["投資信託","NISA","eMAXIS Slim 先進国株式インデックス","再投資型","-","-","すべて",0,0,3199992,1504980]
["投資信託","NISA","eMAXIS Slim 先進国株式インデックス","再投資型",4704972,1965811,"保有中",0,0,3199992,1504980]
["投資信託","NISA","eMAXIS Slim 先進国株式インデックス","再投資型","-","-","全解約",0,0,0,0]

{"sheet":"楽天ﾄｰﾀﾙ（VLOOKUP）","index":23,"n_rows":95,"n_cols":14,"rows_kept":95,"cut":false,"hidden":false,"merged":[]}
[null,{"$f":"'元(楽天ﾄｰﾀﾙ)'!A1","v":"投資信託種別"},{"$f":"'元(楽天ﾄｰﾀﾙ)'!B1","v":"口座区分"},{"$f":"'元(楽天ﾄｰﾀﾙ)'!C1","v":"ファンド名"},{"$f":"'元(楽天ﾄｰﾀﾙ)'!D1","v":"分配金"},{"$f":"'元(楽天ﾄｰﾀﾙ)'!E1","v":"現在の評価金額[円]"},{"$f":"'元(楽天ﾄｰﾀﾙ)'!F1","v":"保有数量[口]"},{"$f":"'元(楽天ﾄｰﾀﾙ)'!G1","v":"区分"},{"$f":"'元(楽天ﾄｰﾀﾙ)'!H1","v":"累計受取分配金額[円]"},{"$f":"'元(楽天ﾄｰﾀﾙ)'!I1","v":"累計解約金額[円]"},{"$f":"'元(楽天ﾄｰﾀﾙ)'!J1","v":"累計買付金額[円]"},{"$f":"'元(楽天ﾄｰﾀﾙ)'!K1","v":"トータルリターン[円]"},{"$f":"'元(楽天ﾄｰﾀﾙ)'!L1","v":0},{"$f":"'元(楽天ﾄｰﾀﾙ)'!M1","v":0}]
[{"$f":"D2&C2&H2&E2","v":"Smart-i 先進国債券インデックス(為替ヘッジあり)特定すべて再投資型"},{"$f":"'元(楽天ﾄｰﾀﾙ)'!A2","v":"投資信託"},{"$f":"'元(楽天ﾄｰﾀﾙ)'!B2","v":"特定"},{"$f":"'元(楽天ﾄｰﾀﾙ)'!C2","v":"Smart-i 先進国債券インデックス(為替ヘッジあり)"},{"$f":"'元(楽天ﾄｰﾀﾙ)'!D2","v":"再投資型"},{"$f":"'元(楽天ﾄｰﾀﾙ)'!E2","v":"-"},{"$f":"'元(楽天ﾄｰﾀﾙ)'!F2","v":"-"},{"$f":"'元(楽天ﾄｰﾀﾙ)'!G2","v":"すべて"},{"$f":"'元(楽天ﾄｰﾀﾙ)'!H2","v":0},{"$f":"'元(楽天ﾄｰﾀﾙ)'!I2","v":6314283},{"$f":"'元(楽天ﾄｰﾀﾙ)'!J2","v":7905397},{"$f":"'元(楽天ﾄｰﾀﾙ)'!K2","v":-469241},{"$f":"'元(楽天ﾄｰﾀﾙ)'!L2","v":0},{"$f":"'元(楽天ﾄｰﾀﾙ)'!M2","v":0}]
[{"$f":"D3&C3&H3&E3","v":"Smart-i 先進国債券インデックス(為替ヘッジあり)特定保有中再投資型"},{"$f":"'元(楽天ﾄｰﾀﾙ)'!A3","v":"投資信託"},{"$f":"'元(楽天ﾄｰﾀﾙ)'!B3","v":"特定"},{"$f":"'元(楽天ﾄｰﾀﾙ)'!C3","v":"Smart-i 先進国債券インデックス(為替ヘッジあり)"},{"$f":"'元(楽天ﾄｰﾀﾙ)'!D3","v":"再投資型"},{"$f":"'元(楽天ﾄｰﾀﾙ)'!E3","v":1121873},{"$f":"'元(楽天ﾄｰﾀﾙ)'!F3","v":1296364},{"$f":"'元(楽天ﾄｰﾀﾙ)'!G3","v":"保有中"},{"$f":"'元(楽天ﾄｰﾀﾙ)'!H3","v":0},{"$f":"'元(楽天ﾄｰﾀﾙ)'!I3","v":900000},{"$f":"'元(楽天ﾄｰﾀﾙ)'!J3","v":2094451},{"$f":"'元(楽天ﾄｰﾀﾙ)'!K3","v":-72578},{"$f":"'元(楽天ﾄｰﾀﾙ)'!L3","v":0},{"$f":"'元(楽天ﾄｰﾀﾙ)'!M3","v":0}]
["Smart-i 先進国債券インデックス(為替ヘッジあり)特定全解約再投資型",{"$f":"'元(楽天ﾄｰﾀﾙ)'!A4","v":"投資信託"},{"$f":"'元(楽天ﾄｰﾀﾙ)'!B4","v":"特定"},{"$f":"'元(楽天ﾄｰﾀﾙ)'!C4","v":"Smart-i 先進国債券インデックス(為替ヘッジあり)"},{"$f":"'元(楽天ﾄｰﾀﾙ)'!D4","v":"再投資型"},{"$f":"'元(楽天ﾄｰﾀﾙ)'!E4","v":"-"},{"$f":"'元(楽天ﾄｰﾀﾙ)'!F4","v":"-"},{"$f":"'元(楽天ﾄｰﾀﾙ)'!G4","v":"全解約"},{"$f":"'元(楽天ﾄｰﾀﾙ)'!H4","v":0},{"$f":"'元(楽天ﾄｰﾀﾙ)'!I4","v":5414283},{"$f":"'元(楽天ﾄｰﾀﾙ)'!J4","v":5810946},{"$f":"'元(楽天ﾄｰﾀﾙ)'!K4","v":-396663},{"$f":"'元(楽天ﾄｰﾀﾙ)'!L4","v":0},{"$f":"'元(楽天ﾄｰﾀﾙ)'!M4","v":0}]
["たわらノーロード 先進国株式＜為替ヘッジあり＞特定すべて再投資型",{"$f":"'元(楽天ﾄｰﾀﾙ)'!A5","v":"投資信託"},{"$f":"'元(楽天ﾄｰﾀﾙ)'!B5","v":"特定"},{"$f":"'元(楽天ﾄｰﾀﾙ)'!C5","v":"たわらノーロード 先進国株式＜為替ヘッジあり＞"},{"$f":"'元(楽天ﾄｰﾀﾙ)'!D5","v":"再投資型"},{"$f":"'元(楽天ﾄｰﾀﾙ)'!E5","v":"-"},{"$f":"'元(楽天ﾄｰﾀﾙ)'!F5","v":"-"},{"$f":"'元(楽天ﾄｰﾀﾙ)'!G5","v":"すべて"},{"$f":"'元(楽天ﾄｰﾀﾙ)'!H5","v":0},{"$f":"'元(楽天ﾄｰﾀﾙ)'!I5","v":3486260},{"$f":"'元(楽天ﾄｰﾀﾙ)'!J5","v":9353851},{"$f":"'元(楽天ﾄｰﾀﾙ)'!K5","v":2364645},{"$f":"'元(楽天ﾄｰﾀﾙ)'!L5","v":0},{"$f":"'元(楽天ﾄｰﾀﾙ)'!M5","v":0}]
["たわらノーロード 先進国株式＜為替ヘッジあり＞特定保有中再投資型",{"$f":"'元(楽天ﾄｰﾀﾙ)'!A6","v":"投資信託"},{"$f":"'元(楽天ﾄｰﾀﾙ)'!B6","v":"特定"},{"$f":"'元(楽天ﾄｰﾀﾙ)'!C6","v":"たわらノーロード 先進国株式＜為替ヘッジあり＞"},{"$f":"'元(楽天ﾄｰﾀﾙ)'!D6","v":"再投資型"},{"$f":"'元(楽天ﾄｰﾀﾙ)'!E6","v":8232236},{"$f":"'元(楽天ﾄｰﾀﾙ)'!F6","v":4424506},{"$f":"'元(楽天ﾄｰﾀﾙ)'!G6","v":"保有中"},{"$f":"'元(楽天ﾄｰﾀﾙ)'!H6","v":0},{"$f":"'元(楽天ﾄｰﾀﾙ)'!I6","v":3486260},{"$f":"'元(楽天ﾄｰﾀﾙ)'!J6","v":9353851},{"$f":"'元(楽天ﾄｰﾀﾙ)'!K6","v":2364645},{"$f":"'元(楽天ﾄｰﾀﾙ)'!L6","v":0},{"$f":"'元(楽天ﾄｰﾀﾙ)'!M6","v":0}]
["たわらノーロード 先進国株式＜為替ヘッジあり＞特定全解約再投資型",{"$f":"'元(楽天ﾄｰﾀﾙ)'!A7","v":"投資信託"},{"$f":"'元(楽天ﾄｰﾀﾙ)'!B7","v":"特定"},{"$f":"'元(楽天ﾄｰﾀﾙ)'!C7","v":"たわらノーロード 先進国株式＜為替ヘッジあり＞"},{"$f":"'元(楽天ﾄｰﾀﾙ)'!D7","v":"再投資型"},{"$f":"'元(楽天ﾄｰﾀﾙ)'!E7","v":"-"},{"$f":"'元(楽天ﾄｰﾀﾙ)'!F7","v":"-"},{"$f":"'元(楽天ﾄｰﾀﾙ)'!G7","v":"全解約"},{"$f":"'元(楽天ﾄｰﾀﾙ)'!H7","v":0},{"$f":"'元(楽天ﾄｰﾀﾙ)'!I7","v":0},{"$f":"'元(楽天ﾄｰﾀﾙ)'!J7","v":0},{"$f":"'元(楽天ﾄｰﾀﾙ)'!K7","v":0},{"$f":"'元(楽天ﾄｰﾀﾙ)'!L7","v":0},{"$f":"'元(楽天ﾄｰﾀﾙ)'!M7","v":0}]
["＜購入・換金手数料なし＞ニッセイＴＯＰＩＸインデックスファンド特定すべて再投資型",{"$f":"'元(楽天ﾄｰﾀﾙ)'!A8","v":"投資信託"},{"$f":"'元(楽天ﾄｰﾀﾙ)'!B8","v":"特定"},{"$f":"'元(楽天ﾄｰﾀﾙ)'!C8","v":"＜購入・換金手数料なし＞ニッセイＴＯＰＩＸインデックスファンド"},{"$f":"'元(楽天ﾄｰﾀﾙ)'!D8","v":"再投資型"},{"$f":"'元(楽天ﾄｰﾀﾙ)'!E8","v":"-"},{"$f":"'元(楽天ﾄｰﾀﾙ)'!F8","v":"-"},{"$f":"'元(楽天ﾄｰﾀﾙ)'!G8","v":"すべて"},{"$f":"'元(楽天ﾄｰﾀﾙ)'!H8","v":0},{"$f":"'元(楽天ﾄｰﾀﾙ)'!I8","v":26530},{"$f":"'元(楽天ﾄｰﾀﾙ)'!J8","v":448733},{"$f":"'元(楽天ﾄｰﾀﾙ)'!K8","v":258498},{"$f":"'元(楽天ﾄｰﾀﾙ)'!L8","v":0},{"$f":"'元(楽天ﾄｰﾀﾙ)'!M8","v":0}]
["＜購入・換金手数料なし＞ニッセイＴＯＰＩＸインデックスファンド特定保有中再投資型",{"$f":"'元(楽天ﾄｰﾀﾙ)'!A9","v":"投資信託"},{"$f":"'元(楽天ﾄｰﾀﾙ)'!B9","v":"特定"},{"$f":"'元(楽天ﾄｰﾀﾙ)'!C9","v":"＜購入・換金手数料なし＞ニッセイＴＯＰＩＸインデックスファンド"},{"$f":"'元(楽天ﾄｰﾀﾙ)'!D9","v":"再投資型"},{"$f":"'元(楽天ﾄｰﾀﾙ)'!E9","v":680701},{"$f":"'元(楽天ﾄｰﾀﾙ)'!F9","v":400813},{"$f":"'元(楽天ﾄｰﾀﾙ)'!G9","v":"保有中"},{"$f":"'元(楽天ﾄｰﾀﾙ)'!H9","v":0},{"$f":"'元(楽天ﾄｰﾀﾙ)'!I9","v":26530},{"$f":"'元(楽天ﾄｰﾀﾙ)'!J9","v":448733},{"$f":"'元(楽天ﾄｰﾀﾙ)'!K9","v":258498},{"$f":"'元(楽天ﾄｰﾀﾙ)'!L9","v":0},{"$f":"'元(楽天ﾄｰﾀﾙ)'!M9","v":0}]
["＜購入・換金手数料なし＞ニッセイＴＯＰＩＸインデックスファンド特定全解約再投資型",{"$f":"'元(楽天ﾄｰﾀﾙ)'!A10","v":"投資信託"},{"$f":"'元(楽天ﾄｰﾀﾙ)'!B10","v":"特定"},{"$f":"'元(楽天ﾄｰﾀﾙ)'!C10","v":"＜購入・換金手数料なし＞ニッセイＴＯＰＩＸインデックスファンド"},{"$f":"'元(楽天ﾄｰﾀﾙ)'!D10","v":"再投資型"},{"$f":"'元(楽天ﾄｰﾀﾙ)'!E10","v":"-"},{"$f":"'元(楽天ﾄｰﾀﾙ)'!F10","v":"-"},{"$f":"'元(楽天ﾄｰﾀﾙ)'!G10","v":"全解約"},{"$f":"'元(楽天ﾄｰﾀﾙ)'!H10","v":0},{"$f":"'元(楽天ﾄｰﾀﾙ)'!I10","v":0},{"$f":"'元(楽天ﾄｰﾀﾙ)'!J10","v":0},{"$f":"'元(楽天ﾄｰﾀﾙ)'!K10","v":0},{"$f":"'元(楽天ﾄｰﾀﾙ)'!L10","v":0},{"$f":"'元(楽天ﾄｰﾀﾙ)'!M10","v":0}]
["グローバル3倍3分法ファンド(1年決算型)特定すべて再投資型",{"$f":"'元(楽天ﾄｰﾀﾙ)'!A11","v":"投資信託"},{"$f":"'元(楽天ﾄｰﾀﾙ)'!B11","v":"特定"},{"$f":"'元(楽天ﾄｰﾀﾙ)'!C11","v":"グローバル3倍3分法ファンド(1年決算型)"},{"$f":"'元(楽天ﾄｰﾀﾙ)'!D11","v":"再投資型"},{"$f":"'元(楽天ﾄｰﾀﾙ)'!E11","v":"-"},{"$f":"'元(楽天ﾄｰﾀﾙ)'!F11","v":"-"},{"$f":"'元(楽天ﾄｰﾀﾙ)'!G11","v":"すべて"},{"$f":"'元(楽天ﾄｰﾀﾙ)'!H11","v":0},{"$f":"'元(楽天ﾄｰﾀﾙ)'!I11","v":1810158},{"$f":"'元(楽天ﾄｰﾀﾙ)'!J11","v":4415991},{"$f":"'元(楽天ﾄｰﾀﾙ)'!K11","v":-45533},{"$f":"'元(楽天ﾄｰﾀﾙ)'!L11","v":0},{"$f":"'元(楽天ﾄｰﾀﾙ)'!M11","v":0}]
["グローバル3倍3分法ファンド(1年決算型)特定保有中再投資型",{"$f":"'元(楽天ﾄｰﾀﾙ)'!A12","v":"投資信託"},{"$f":"'元(楽天ﾄｰﾀﾙ)'!B12","v":"特定"},{"$f":"'元(楽天ﾄｰﾀﾙ)'!C12","v":"グローバル3倍3分法ファンド(1年決算型)"},{"$f":"'元(楽天ﾄｰﾀﾙ)'!D12","v":"再投資型"},{"$f":"'元(楽天ﾄｰﾀﾙ)'!E12","v":2560300},{"$f":"'元(楽天ﾄｰﾀﾙ)'!F12","v":2034406},{"$f":"'元(楽天ﾄｰﾀﾙ)'!G12","v":"保有中"},{"$f":"'元(楽天ﾄｰﾀﾙ)'!H12","v":0},{"$f":"'元(楽天ﾄｰﾀﾙ)'!I12","v":1810158},{"$f":"'元(楽天ﾄｰﾀﾙ)'!J12","v":4415991},{"$f":"'元(楽天ﾄｰﾀﾙ)'!K12","v":-45533},{"$f":"'元(楽天ﾄｰﾀﾙ)'!L12","v":0},{"$f":"'元(楽天ﾄｰﾀﾙ)'!M12","v":0}]
["グローバル3倍3分法ファンド(1年決算型)特定全解約再投資型",{"$f":"'元(楽天ﾄｰﾀﾙ)'!A13","v":"投資信託"},{"$f":"'元(楽天ﾄｰﾀﾙ)'!B13","v":"特定"},{"$f":"'元(楽天ﾄｰﾀﾙ)'!C13","v":"グローバル3倍3分法ファンド(1年決算型)"},{"$f":"'元(楽天ﾄｰﾀﾙ)'!D13","v":"再投資型"},{"$f":"'元(楽天ﾄｰﾀﾙ)'!E13","v":"-"},{"$f":"'元(楽天ﾄｰﾀﾙ)'!F13","v":"-"},{"$f":"'元(楽天ﾄｰﾀﾙ)'!G13","v":"全解約"},{"$f":"'元(楽天ﾄｰﾀﾙ)'!H13","v":0},{"$f":"'元(楽天ﾄｰﾀﾙ)'!I13","v":0},{"$f":"'元(楽天ﾄｰﾀﾙ)'!J13","v":0},{"$f":"'元(楽天ﾄｰﾀﾙ)'!K13","v":0},{"$f":"'元(楽天ﾄｰﾀﾙ)'!L13","v":0},{"$f":"'元(楽天ﾄｰﾀﾙ)'!M13","v":0}]
["eMAXIS Slim 国内株式(TOPIX)特定すべて再投資型",{"$f":"'元(楽天ﾄｰﾀﾙ)'!A14","v":"投資信託"},{"$f":"'元(楽天ﾄｰﾀﾙ)'!B14","v":"特定"},{"$f":"'元(楽天ﾄｰﾀﾙ)'!C14","v":"eMAXIS Slim 国内株式(TOPIX)"},{"$f":"'元(楽天ﾄｰﾀﾙ)'!D14","v":"再投資型"},{"$f":"'元(楽天ﾄｰﾀﾙ)'!E14","v":"-"},{"$f":"'元(楽天ﾄｰﾀﾙ)'!F14","v":"-"},{"$f":"'元(楽天ﾄｰﾀﾙ)'!G14","v":"すべて"},{"$f":"'元(楽天ﾄｰﾀﾙ)'!H14","v":0},{"$f":"'元(楽天ﾄｰﾀﾙ)'!I14","v":1723808},{"$f":"'元(楽天ﾄｰﾀﾙ)'!J14","v":5134825},{"$f":"'元(楽天ﾄｰﾀﾙ)'!K14","v":1214765},{"$f":"'元(楽天ﾄｰﾀﾙ)'!L14","v":0},{"$f":"'元(楽天ﾄｰﾀﾙ)'!M14","v":0}]
["eMAXIS Slim 国内株式(TOPIX)特定保有中再投資型",{"$f":"'元(楽天ﾄｰﾀﾙ)'!A15","v":"投資信託"},{"$f":"'元(楽天ﾄｰﾀﾙ)'!B15","v":"特定"},{"$f":"'元(楽天ﾄｰﾀﾙ)'!C15","v":"eMAXIS Slim 国内株式(TOPIX)"},{"$f":"'元(楽天ﾄｰﾀﾙ)'!D15","v":"再投資型"},{"$f":"'元(楽天ﾄｰﾀﾙ)'!E15","v":4625782},{"$f":"'元(楽天ﾄｰﾀﾙ)'!F15","v":2673090},{"$f":"'元(楽天ﾄｰﾀﾙ)'!G15","v":"保有中"},{"$f":"'元(楽天ﾄｰﾀﾙ)'!H15","v":0},{"$f":"'元(楽天ﾄｰﾀﾙ)'!I15","v":1723808},{"$f":"'元(楽天ﾄｰﾀﾙ)'!J15","v":5134825},{"$f":"'元(楽天ﾄｰﾀﾙ)'!K15","v":1214765},{"$f":"'元(楽天ﾄｰﾀﾙ)'!L15","v":0},{"$f":"'元(楽天ﾄｰﾀﾙ)'!M15","v":0}]
["eMAXIS Slim 国内株式(TOPIX)特定全解約再投資型",{"$f":"'元(楽天ﾄｰﾀﾙ)'!A16","v":"投資信託"},{"$f":"'元(楽天ﾄｰﾀﾙ)'!B16","v":"特定"},{"$f":"'元(楽天ﾄｰﾀﾙ)'!C16","v":"eMAXIS Slim 国内株式(TOPIX)"},{"$f":"'元(楽天ﾄｰﾀﾙ)'!D16","v":"再投資型"},{"$f":"'元(楽天ﾄｰﾀﾙ)'!E16","v":"-"},{"$f":"'元(楽天ﾄｰﾀﾙ)'!F16","v":"-"},{"$f":"'元(楽天ﾄｰﾀﾙ)'!G16","v":"全解約"},{"$f":"'元(楽天ﾄｰﾀﾙ)'!H16","v":0},{"$f":"'元(楽天ﾄｰﾀﾙ)'!I16","v":0},{"$f":"'元(楽天ﾄｰﾀﾙ)'!J16","v":0},{"$f":"'元(楽天ﾄｰﾀﾙ)'!K16","v":0},{"$f":"'元(楽天ﾄｰﾀﾙ)'!L16","v":0},{"$f":"'元(楽天ﾄｰﾀﾙ)'!M16","v":0}]
["eMAXIS Slim 国内債券インデックス特定すべて再投資型",{"$f":"'元(楽天ﾄｰﾀﾙ)'!A17","v":"投資信託"},{"$f":"'元(楽天ﾄｰﾀﾙ)'!B17","v":"特定"},{"$f":"'元(楽天ﾄｰﾀﾙ)'!C17","v":"eMAXIS Slim 国内債券インデックス"},{"$f":"'元(楽天ﾄｰﾀﾙ)'!D17","v":"再投資型"},{"$f":"'元(楽天ﾄｰﾀﾙ)'!E17","v":"-"},{"$f":"'元(楽天ﾄｰﾀﾙ)'!F17","v":"-"},{"$f":"'元(楽天ﾄｰﾀﾙ)'!G17","v":"すべて"},{"$f":"'元(楽天ﾄｰﾀﾙ)'!H17","v":0},{"$f":"'元(楽天ﾄｰﾀﾙ)'!I17","v":3899774},{"$f":"'元(楽天ﾄｰﾀﾙ)'!J17","v":4353981},{"$f":"'元(楽天ﾄｰﾀﾙ)'!K17","v":-37670},{"$f":"'元(楽天ﾄｰﾀﾙ)'!L17","v":0},{"$f":"'元(楽天ﾄｰﾀﾙ)'!M17","v":0}]
["eMAXIS Slim 国内債券インデックス特定保有中再投資型",{"$f":"'元(楽天ﾄｰﾀﾙ)'!A18","v":"投資信託"},{"$f":"'元(楽天ﾄｰﾀﾙ)'!B18","v":"特定"},{"$f":"'元(楽天ﾄｰﾀﾙ)'!C18","v":"eMAXIS Slim 国内債券インデックス"},{"$f":"'元(楽天ﾄｰﾀﾙ)'!D18","v":"再投資型"},{"$f":"'元(楽天ﾄｰﾀﾙ)'!E18","v":416537},{"$f":"'元(楽天ﾄｰﾀﾙ)'!F18","v":428712},{"$f":"'元(楽天ﾄｰﾀﾙ)'!G18","v":"保有中"},{"$f":"'元(楽天ﾄｰﾀﾙ)'!H18","v":0},{"$f":"'元(楽天ﾄｰﾀﾙ)'!I18","v":3899774},{"$f":"'元(楽天ﾄｰﾀﾙ)'!J18","v":4353981},{"$f":"'元(楽天ﾄｰﾀﾙ)'!K18","v":-37670},{"$f":"'元(楽天ﾄｰﾀﾙ)'!L18","v":0},{"$f":"'元(楽天ﾄｰﾀﾙ)'!M18","v":0}]
["eMAXIS Slim 国内債券インデックス特定全解約再投資型",{"$f":"'元(楽天ﾄｰﾀﾙ)'!A19","v":"投資信託"},{"$f":"'元(楽天ﾄｰﾀﾙ)'!B19","v":"特定"},{"$f":"'元(楽天ﾄｰﾀﾙ)'!C19","v":"eMAXIS Slim 国内債券インデックス"},{"$f":"'元(楽天ﾄｰﾀﾙ)'!D19","v":"再投資型"},{"$f":"'元(楽天ﾄｰﾀﾙ)'!E19","v":"-"},{"$f":"'元(楽天ﾄｰﾀﾙ)'!F19","v":"-"},{"$f":"'元(楽天ﾄｰﾀﾙ)'!G19","v":"全解約"},{"$f":"'元(楽天ﾄｰﾀﾙ)'!H19","v":0},{"$f":"'元(楽天ﾄｰﾀﾙ)'!I19","v":0},{"$f":"'元(楽天ﾄｰﾀﾙ)'!J19","v":0},{"$f":"'元(楽天ﾄｰﾀﾙ)'!K19","v":0},{"$f":"'元(楽天ﾄｰﾀﾙ)'!L19","v":0},{"$f":"'元(楽天ﾄｰﾀﾙ)'!M19","v":0}]
["eMAXIS Slim 先進国株式インデックス特定すべて再投資型",{"$f":"'元(楽天ﾄｰﾀﾙ)'!A20","v":"投資信託"},{"$f":"'元(楽天ﾄｰﾀﾙ)'!B20","v":"特定"},{"$f":"'元(楽天ﾄｰﾀﾙ)'!C20","v":"eMAXIS Slim 先進国株式インデックス"},{"$f":"'元(楽天ﾄｰﾀﾙ)'!D20","v":"再投資型"},{"$f":"'元(楽天ﾄｰﾀﾙ)'!E20","v":"-"},{"$f":"'元(楽天ﾄｰﾀﾙ)'!F20","v":"-"},{"$f":"'元(楽天ﾄｰﾀﾙ)'!G20","v":"すべて"},{"$f":"'元(楽天ﾄｰﾀﾙ)'!H20","v":0},{"$f":"'元(楽天ﾄｰﾀﾙ)'!I20","v":3560818},{"$f":"'元(楽天ﾄｰﾀﾙ)'!J20","v":17116033},{"$f":"'元(楽天ﾄｰﾀﾙ)'!K20","v":12532962},{"$f":"'元(楽天ﾄｰﾀﾙ)'!L20","v":0},{"$f":"'元(楽天ﾄｰﾀﾙ)'!M20","v":0}]
["eMAXIS Slim 先進国株式インデックス特定保有中再投資型",{"$f":"'元(楽天ﾄｰﾀﾙ)'!A21","v":"投資信託"},{"$f":"'元(楽天ﾄｰﾀﾙ)'!B21","v":"特定"},{"$f":"'元(楽天ﾄｰﾀﾙ)'!C21","v":"eMAXIS Slim 先進国株式インデックス"},{"$f":"'元(楽天ﾄｰﾀﾙ)'!D21","v":"再投資型"},{"$f":"'元(楽天ﾄｰﾀﾙ)'!E21","v":26088177},{"$f":"'元(楽天ﾄｰﾀﾙ)'!F21","v":10900049},{"$f":"'元(楽天ﾄｰﾀﾙ)'!G21","v":"保有中"},{"$f":"'元(楽天ﾄｰﾀﾙ)'!H21","v":0},{"$f":"'元(楽天ﾄｰﾀﾙ)'!I21","v":3560818},{"$f":"'元(楽天ﾄｰﾀﾙ)'!J21","v":17116033},{"$f":"'元(楽天ﾄｰﾀﾙ)'!K21","v":12532962},{"$f":"'元(楽天ﾄｰﾀﾙ)'!L21","v":0},{"$f":"'元(楽天ﾄｰﾀﾙ)'!M21","v":0}]
["eMAXIS Slim 先進国株式インデックス特定全解約再投資型",{"$f":"'元(楽天ﾄｰﾀﾙ)'!A22","v":"投資信託"},{"$f":"'元(楽天ﾄｰﾀﾙ)'!B22","v":"特定"},{"$f":"'元(楽天ﾄｰﾀﾙ)'!C22","v":"eMAXIS Slim 先進国株式インデックス"},{"$f":"'元(楽天ﾄｰﾀﾙ)'!D22","v":"再投資型"},{"$f":"'元(楽天ﾄｰﾀﾙ)'!E22","v":"-"},{"$f":"'元(楽天ﾄｰﾀﾙ)'!F22","v":"-"},{"$f":"'元(楽天ﾄｰﾀﾙ)'!G22","v":"全解約"},{"$f":"'元(楽天ﾄｰﾀﾙ)'!H22","v":0},{"$f":"'元(楽天ﾄｰﾀﾙ)'!I22","v":0},{"$f":"'元(楽天ﾄｰﾀﾙ)'!J22","v":0},{"$f":"'元(楽天ﾄｰﾀﾙ)'!K22","v":0},{"$f":"'元(楽天ﾄｰﾀﾙ)'!L22","v":0},{"$f":"'元(楽天ﾄｰﾀﾙ)'!M22","v":0}]
["eMAXIS Slim 新興国株式インデックス特定すべて受取型",{"$f":"'元(楽天ﾄｰﾀﾙ)'!A23","v":"投資信託"},{"$f":"'元(楽天ﾄｰﾀﾙ)'!B23","v":"特定"},{"$f":"'元(楽天ﾄｰﾀﾙ)'!C23","v":"eMAXIS Slim 新興国株式インデックス"},{"$f":"'元(楽天ﾄｰﾀﾙ)'!D23","v":"受取型"},{"$f":"'元(楽天ﾄｰﾀﾙ)'!E23","v":"-"},{"$f":"'元(楽天ﾄｰﾀﾙ)'!F23","v":"-"},{"$f":"'元(楽天ﾄｰﾀﾙ)'!G23","v":"すべて"},{"$f":"'元(楽天ﾄｰﾀﾙ)'!H23","v":0},{"$f":"'元(楽天ﾄｰﾀﾙ)'!I23","v":71440},{"$f":"'元(楽天ﾄｰﾀﾙ)'!J23","v":467365},{"$f":"'元(楽天ﾄｰﾀﾙ)'!K23","v":159820},{"$f":"'元(楽天ﾄｰﾀﾙ)'!L23","v":0},{"$f":"'元(楽天ﾄｰﾀﾙ)'!M23","v":0}]
["eMAXIS Slim 新興国株式インデックス特定保有中受取型",{"$f":"'元(楽天ﾄｰﾀﾙ)'!A24","v":"投資信託"},{"$f":"'元(楽天ﾄｰﾀﾙ)'!B24","v":"特定"},{"$f":"'元(楽天ﾄｰﾀﾙ)'!C24","v":"eMAXIS Slim 新興国株式インデックス"},{"$f":"'元(楽天ﾄｰﾀﾙ)'!D24","v":"受取型"},{"$f":"'元(楽天ﾄｰﾀﾙ)'!E24","v":555745},{"$f":"'元(楽天ﾄｰﾀﾙ)'!F24","v":396847},{"$f":"'元(楽天ﾄｰﾀﾙ)'!G24","v":"保有中"},{"$f":"'元(楽天ﾄｰﾀﾙ)'!H24","v":0},{"$f":"'元(楽天ﾄｰﾀﾙ)'!I24","v":71440},{"$f":"'元(楽天ﾄｰﾀﾙ)'!J24","v":467365},{"$f":"'元(楽天ﾄｰﾀﾙ)'!K24","v":159820},{"$f":"'元(楽天ﾄｰﾀﾙ)'!L24","v":0},{"$f":"'元(楽天ﾄｰﾀﾙ)'!M24","v":0}]
["eMAXIS Slim 新興国株式インデックス特定全解約受取型",{"$f":"'元(楽天ﾄｰﾀﾙ)'!A25","v":"投資信託"},{"$f":"'元(楽天ﾄｰﾀﾙ)'!B25","v":"特定"},{"$f":"'元(楽天ﾄｰﾀﾙ)'!C25","v":"eMAXIS Slim 新興国株式インデックス"},{"$f":"'元(楽天ﾄｰﾀﾙ)'!D25","v":"受取型"},{"$f":"'元(楽天ﾄｰﾀﾙ)'!E25","v":"-"},{"$f":"'元(楽天ﾄｰﾀﾙ)'!F25","v":"-"},{"$f":"'元(楽天ﾄｰﾀﾙ)'!G25","v":"全解約"},{"$f":"'元(楽天ﾄｰﾀﾙ)'!H25","v":0},{"$f":"'元(楽天ﾄｰﾀﾙ)'!I25","v":0},{"$f":"'元(楽天ﾄｰﾀﾙ)'!J25","v":0},{"$f":"'元(楽天ﾄｰﾀﾙ)'!K25","v":0},{"$f":"'元(楽天ﾄｰﾀﾙ)'!L25","v":0},{"$f":"'元(楽天ﾄｰﾀﾙ)'!M25","v":0}]
["eMAXIS Slim 新興国株式インデックス特定すべて再投資型",{"$f":"'元(楽天ﾄｰﾀﾙ)'!A26","v":"投資信託"},{"$f":"'元(楽天ﾄｰﾀﾙ)'!B26","v":"特定"},{"$f":"'元(楽天ﾄｰﾀﾙ)'!C26","v":"eMAXIS Slim 新興国株式インデックス"},{"$f":"'元(楽天ﾄｰﾀﾙ)'!D26","v":"再投資型"},{"$f":"'元(楽天ﾄｰﾀﾙ)'!E26","v":"-"},{"$f":"'元(楽天ﾄｰﾀﾙ)'!F26","v":"-"},{"$f":"'元(楽天ﾄｰﾀﾙ)'!G26","v":"すべて"},{"$f":"'元(楽天ﾄｰﾀﾙ)'!H26","v":0},{"$f":"'元(楽天ﾄｰﾀﾙ)'!I26","v":144874},{"$f":"'元(楽天ﾄｰﾀﾙ)'!J26","v":3398623},{"$f":"'元(楽天ﾄｰﾀﾙ)'!K26","v":1099432},{"$f":"'元(楽天ﾄｰﾀﾙ)'!L26","v":0},{"$f":"'元(楽天ﾄｰﾀﾙ)'!M26","v":0}]
["eMAXIS Slim 新興国株式インデックス特定保有中再投資型",{"$f":"'元(楽天ﾄｰﾀﾙ)'!A27","v":"投資信託"},{"$f":"'元(楽天ﾄｰﾀﾙ)'!B27","v":"特定"},{"$f":"'元(楽天ﾄｰﾀﾙ)'!C27","v":"eMAXIS Slim 新興国株式インデックス"},{"$f":"'元(楽天ﾄｰﾀﾙ)'!D27","v":"再投資型"},{"$f":"'元(楽天ﾄｰﾀﾙ)'!E27","v":4353181},{"$f":"'元(楽天ﾄｰﾀﾙ)'!F27","v":3108527},{"$f":"'元(楽天ﾄｰﾀﾙ)'!G27","v":"保有中"},{"$f":"'元(楽天ﾄｰﾀﾙ)'!H27","v":0},{"$f":"'元(楽天ﾄｰﾀﾙ)'!I27","v":144874},{"$f":"'元(楽天ﾄｰﾀﾙ)'!J27","v":3398623},{"$f":"'元(楽天ﾄｰﾀﾙ)'!K27","v":1099432},{"$f":"'元(楽天ﾄｰﾀﾙ)'!L27","v":0},{"$f":"'元(楽天ﾄｰﾀﾙ)'!M27","v":0}]
["eMAXIS Slim 新興国株式インデックス特定全解約再投資型",{"$f":"'元(楽天ﾄｰﾀﾙ)'!A28","v":"投資信託"},{"$f":"'元(楽天ﾄｰﾀﾙ)'!B28","v":"特定"},{"$f":"'元(楽天ﾄｰﾀﾙ)'!C28","v":"eMAXIS Slim 新興国株式インデックス"},{"$f":"'元(楽天ﾄｰﾀﾙ)'!D28","v":"再投資型"},{"$f":"'元(楽天ﾄｰﾀﾙ)'!E28","v":"-"},{"$f":"'元(楽天ﾄｰﾀﾙ)'!F28","v":"-"},{"$f":"'元(楽天ﾄｰﾀﾙ)'!G28","v":"全解約"},{"$f":"'元(楽天ﾄｰﾀﾙ)'!H28","v":0},{"$f":"'元(楽天ﾄｰﾀﾙ)'!I28","v":0},{"$f":"'元(楽天ﾄｰﾀﾙ)'!J28","v":0},{"$f":"'元(楽天ﾄｰﾀﾙ)'!K28","v":0},{"$f":"'元(楽天ﾄｰﾀﾙ)'!L28","v":0},{"$f":"'元(楽天ﾄｰﾀﾙ)'!M28","v":0}]
["eMAXIS Slim 米国株式(S&P500)特定すべて再投資型",{"$f":"'元(楽天ﾄｰﾀﾙ)'!A29","v":"投資信託"},{"$f":"'元(楽天ﾄｰﾀﾙ)'!B29","v":"特定"},{"$f":"'元(楽天ﾄｰﾀﾙ)'!C29","v":"eMAXIS Slim 米国株式(S&P500)"},{"$f":"'元(楽天ﾄｰﾀﾙ)'!D29","v":"再投資型"},{"$f":"'元(楽天ﾄｰﾀﾙ)'!E29","v":"-"},{"$f":"'元(楽天ﾄｰﾀﾙ)'!F29","v":"-"},{"$f":"'元(楽天ﾄｰﾀﾙ)'!G29","v":"すべて"},{"$f":"'元(楽天ﾄｰﾀﾙ)'!H29","v":0},{"$f":"'元(楽天ﾄｰﾀﾙ)'!I29","v":1496516},{"$f":"'元(楽天ﾄｰﾀﾙ)'!J29","v":2145808},{"$f":"'元(楽天ﾄｰﾀﾙ)'!K29","v":876565},{"$f":"'元(楽天ﾄｰﾀﾙ)'!L29","v":0},{"$f":"'元(楽天ﾄｰﾀﾙ)'!M29","v":0}]
["eMAXIS Slim 米国株式(S&P500)特定保有中再投資型",{"$f":"'元(楽天ﾄｰﾀﾙ)'!A30","v":"投資信託"},{"$f":"'元(楽天ﾄｰﾀﾙ)'!B30","v":"特定"},{"$f":"'元(楽天ﾄｰﾀﾙ)'!C30","v":"eMAXIS Slim 米国株式(S&P500)"},{"$f":"'元(楽天ﾄｰﾀﾙ)'!D30","v":"再投資型"},{"$f":"'元(楽天ﾄｰﾀﾙ)'!E30","v":1525857},{"$f":"'元(楽天ﾄｰﾀﾙ)'!F30","v":663878},{"$f":"'元(楽天ﾄｰﾀﾙ)'!G30","v":"保有中"},{"$f":"'元(楽天ﾄｰﾀﾙ)'!H30","v":0},{"$f":"'元(楽天ﾄｰﾀﾙ)'!I30","v":1478708},{"$f":"'元(楽天ﾄｰﾀﾙ)'!J30","v":2128308},{"$f":"'元(楽天ﾄｰﾀﾙ)'!K30","v":876257},{"$f":"'元(楽天ﾄｰﾀﾙ)'!L30","v":0},{"$f":"'元(楽天ﾄｰﾀﾙ)'!M30","v":0}]
["eMAXIS Slim 米国株式(S&P500)特定全解約再投資型",{"$f":"'元(楽天ﾄｰﾀﾙ)'!A31","v":"投資信託"},{"$f":"'元(楽天ﾄｰﾀﾙ)'!B31","v":"特定"},{"$f":"'元(楽天ﾄｰﾀﾙ)'!C31","v":"eMAXIS Slim 米国株式(S&P500)"},{"$f":"'元(楽天ﾄｰﾀﾙ)'!D31","v":"再投資型"},{"$f":"'元(楽天ﾄｰﾀﾙ)'!E31","v":"-"},{"$f":"'元(楽天ﾄｰﾀﾙ)'!F31","v":"-"},{"$f":"'元(楽天ﾄｰﾀﾙ)'!G31","v":"全解約"},{"$f":"'元(楽天ﾄｰﾀﾙ)'!H31","v":0},{"$f":"'元(楽天ﾄｰﾀﾙ)'!I31","v":17808},{"$f":"'元(楽天ﾄｰﾀﾙ)'!J31","v":17500},{"$f":"'元(楽天ﾄｰﾀﾙ)'!K31","v":308},{"$f":"'元(楽天ﾄｰﾀﾙ)'!L31","v":0},{"$f":"'元(楽天ﾄｰﾀﾙ)'!M31","v":0}]
["eMAXIS Slim 国内リートインデックス特定すべて再投資型",{"$f":"'元(楽天ﾄｰﾀﾙ)'!A32","v":"投資信託"},{"$f":"'元(楽天ﾄｰﾀﾙ)'!B32","v":"特定"},{"$f":"'元(楽天ﾄｰﾀﾙ)'!C32","v":"eMAXIS Slim 国内リートインデックス"},{"$f":"'元(楽天ﾄｰﾀﾙ)'!D32","v":"再投資型"},{"$f":"'元(楽天ﾄｰﾀﾙ)'!E32","v":"-"},{"$f":"'元(楽天ﾄｰﾀﾙ)'!F32","v":"-"},{"$f":"'元(楽天ﾄｰﾀﾙ)'!G32","v":"すべて"},{"$f":"'元(楽天ﾄｰﾀﾙ)'!H32","v":0},{"$f":"'元(楽天ﾄｰﾀﾙ)'!I32","v":105403},{"$f":"'元(楽天ﾄｰﾀﾙ)'!J32","v":254714},{"$f":"'元(楽天ﾄｰﾀﾙ)'!K32","v":16331},{"$f":"'元(楽天ﾄｰﾀﾙ)'!L32","v":0},{"$f":"'元(楽天ﾄｰﾀﾙ)'!M32","v":0}]
["eMAXIS Slim 国内リートインデックス特定保有中再投資型",{"$f":"'元(楽天ﾄｰﾀﾙ)'!A33","v":"投資信託"},{"$f":"'元(楽天ﾄｰﾀﾙ)'!B33","v":"特定"},{"$f":"'元(楽天ﾄｰﾀﾙ)'!C33","v":"eMAXIS Slim 国内リートインデックス"},{"$f":"'元(楽天ﾄｰﾀﾙ)'!D33","v":"再投資型"},{"$f":"'元(楽天ﾄｰﾀﾙ)'!E33","v":165642},{"$f":"'元(楽天ﾄｰﾀﾙ)'!F33","v":172598},{"$f":"'元(楽天ﾄｰﾀﾙ)'!G33","v":"保有中"},{"$f":"'元(楽天ﾄｰﾀﾙ)'!H33","v":0},{"$f":"'元(楽天ﾄｰﾀﾙ)'!I33","v":105403},{"$f":"'元(楽天ﾄｰﾀﾙ)'!J33","v":254714},{"$f":"'元(楽天ﾄｰﾀﾙ)'!K33","v":16331},{"$f":"'元(楽天ﾄｰﾀﾙ)'!L33","v":0},{"$f":"'元(楽天ﾄｰﾀﾙ)'!M33","v":0}]
["eMAXIS Slim 国内リートインデックス特定全解約再投資型",{"$f":"'元(楽天ﾄｰﾀﾙ)'!A34","v":"投資信託"},{"$f":"'元(楽天ﾄｰﾀﾙ)'!B34","v":"特定"},{"$f":"'元(楽天ﾄｰﾀﾙ)'!C34","v":"eMAXIS Slim 国内リートインデックス"},{"$f":"'元(楽天ﾄｰﾀﾙ)'!D34","v":"再投資型"},{"$f":"'元(楽天ﾄｰﾀﾙ)'!E34","v":"-"},{"$f":"'元(楽天ﾄｰﾀﾙ)'!F34","v":"-"},{"$f":"'元(楽天ﾄｰﾀﾙ)'!G34","v":"全解約"},{"$f":"'元(楽天ﾄｰﾀﾙ)'!H34","v":0},{"$f":"'元(楽天ﾄｰﾀﾙ)'!I34","v":0},{"$f":"'元(楽天ﾄｰﾀﾙ)'!J34","v":0},{"$f":"'元(楽天ﾄｰﾀﾙ)'!K34","v":0},{"$f":"'元(楽天ﾄｰﾀﾙ)'!L34","v":0},{"$f":"'元(楽天ﾄｰﾀﾙ)'!M34","v":0}]
["eMAXIS Slim 先進国リートインデックス特定すべて再投資型",{"$f":"'元(楽天ﾄｰﾀﾙ)'!A35","v":"投資信託"},{"$f":"'元(楽天ﾄｰﾀﾙ)'!B35","v":"特定"},{"$f":"'元(楽天ﾄｰﾀﾙ)'!C35","v":"eMAXIS Slim 先進国リートインデックス"},{"$f":"'元(楽天ﾄｰﾀﾙ)'!D35","v":"再投資型"},{"$f":"'元(楽天ﾄｰﾀﾙ)'!E35","v":"-"},{"$f":"'元(楽天ﾄｰﾀﾙ)'!F35","v":"-"},{"$f":"'元(楽天ﾄｰﾀﾙ)'!G35","v":"すべて"},{"$f":"'元(楽天ﾄｰﾀﾙ)'!H35","v":0},{"$f":"'元(楽天ﾄｰﾀﾙ)'!I35","v":915221},{"$f":"'元(楽天ﾄｰﾀﾙ)'!J35","v":2078142},{"$f":"'元(楽天ﾄｰﾀﾙ)'!K35","v":385702},{"$f":"'元(楽天ﾄｰﾀﾙ)'!L35","v":0},{"$f":"'元(楽天ﾄｰﾀﾙ)'!M35","v":0}]
["eMAXIS Slim 先進国リートインデックス特定保有中再投資型",{"$f":"'元(楽天ﾄｰﾀﾙ)'!A36","v":"投資信託"},{"$f":"'元(楽天ﾄｰﾀﾙ)'!B36","v":"特定"},{"$f":"'元(楽天ﾄｰﾀﾙ)'!C36","v":"eMAXIS Slim 先進国リートインデックス"},{"$f":"'元(楽天ﾄｰﾀﾙ)'!D36","v":"再投資型"},{"$f":"'元(楽天ﾄｰﾀﾙ)'!E36","v":1548623},{"$f":"'元(楽天ﾄｰﾀﾙ)'!F36","v":1223048},{"$f":"'元(楽天ﾄｰﾀﾙ)'!G36","v":"保有中"},{"$f":"'元(楽天ﾄｰﾀﾙ)'!H36","v":0},{"$f":"'元(楽天ﾄｰﾀﾙ)'!I36","v":915221},{"$f":"'元(楽天ﾄｰﾀﾙ)'!J36","v":2078142},{"$f":"'元(楽天ﾄｰﾀﾙ)'!K36","v":385702},{"$f":"'元(楽天ﾄｰﾀﾙ)'!L36","v":0},{"$f":"'元(楽天ﾄｰﾀﾙ)'!M36","v":0}]
["eMAXIS Slim 先進国リートインデックス特定全解約再投資型",{"$f":"'元(楽天ﾄｰﾀﾙ)'!A37","v":"投資信託"},{"$f":"'元(楽天ﾄｰﾀﾙ)'!B37","v":"特定"},{"$f":"'元(楽天ﾄｰﾀﾙ)'!C37","v":"eMAXIS Slim 先進国リートインデックス"},{"$f":"'元(楽天ﾄｰﾀﾙ)'!D37","v":"再投資型"},{"$f":"'元(楽天ﾄｰﾀﾙ)'!E37","v":"-"},{"$f":"'元(楽天ﾄｰﾀﾙ)'!F37","v":"-"},{"$f":"'元(楽天ﾄｰﾀﾙ)'!G37","v":"全解約"},{"$f":"'元(楽天ﾄｰﾀﾙ)'!H37","v":0},{"$f":"'元(楽天ﾄｰﾀﾙ)'!I37","v":0},{"$f":"'元(楽天ﾄｰﾀﾙ)'!J37","v":0},{"$f":"'元(楽天ﾄｰﾀﾙ)'!K37","v":0},{"$f":"'元(楽天ﾄｰﾀﾙ)'!L37","v":0},{"$f":"'元(楽天ﾄｰﾀﾙ)'!M37","v":0}]
["SMT ゴールドインデックス・オープン(為替ヘッジあり)特定すべて再投資型",{"$f":"'元(楽天ﾄｰﾀﾙ)'!A38","v":"投資信託"},{"$f":"'元(楽天ﾄｰﾀﾙ)'!B38","v":"特定"},{"$f":"'元(楽天ﾄｰﾀﾙ)'!C38","v":"SMT ゴールドインデックス・オープン(為替ヘッジあり)"},{"$f":"'元(楽天ﾄｰﾀﾙ)'!D38","v":"再投資型"},{"$f":"'元(楽天ﾄｰﾀﾙ)'!E38","v":"-"},{"$f":"'元(楽天ﾄｰﾀﾙ)'!F38","v":"-"},{"$f":"'元(楽天ﾄｰﾀﾙ)'!G38","v":"すべて"},{"$f":"'元(楽天ﾄｰﾀﾙ)'!H38","v":0},{"$f":"'元(楽天ﾄｰﾀﾙ)'!I38","v":743531},{"$f":"'元(楽天ﾄｰﾀﾙ)'!J38","v":1608248},{"$f":"'元(楽天ﾄｰﾀﾙ)'!K38","v":30826},{"$f":"'元(楽天ﾄｰﾀﾙ)'!L38","v":0},{"$f":"'元(楽天ﾄｰﾀﾙ)'!M38","v":0}]
["SMT ゴールドインデックス・オープン(為替ヘッジあり)特定保有中再投資型",{"$f":"'元(楽天ﾄｰﾀﾙ)'!A39","v":"投資信託"},{"$f":"'元(楽天ﾄｰﾀﾙ)'!B39","v":"特定"},{"$f":"'元(楽天ﾄｰﾀﾙ)'!C39","v":"SMT ゴールドインデックス・オープン(為替ヘッジあり)"},{"$f":"'元(楽天ﾄｰﾀﾙ)'!D39","v":"再投資型"},{"$f":"'元(楽天ﾄｰﾀﾙ)'!E39","v":895543},{"$f":"'元(楽天ﾄｰﾀﾙ)'!F39","v":720759},{"$f":"'元(楽天ﾄｰﾀﾙ)'!G39","v":"保有中"},{"$f":"'元(楽天ﾄｰﾀﾙ)'!H39","v":0},{"$f":"'元(楽天ﾄｰﾀﾙ)'!I39","v":743531},{"$f":"'元(楽天ﾄｰﾀﾙ)'!J39","v":1608248},{"$f":"'元(楽天ﾄｰﾀﾙ)'!K39","v":30826},{"$f":"'元(楽天ﾄｰﾀﾙ)'!L39","v":0},{"$f":"'元(楽天ﾄｰﾀﾙ)'!M39","v":0}]
["SMT ゴールドインデックス・オープン(為替ヘッジあり)特定全解約再投資型",{"$f":"'元(楽天ﾄｰﾀﾙ)'!A40","v":"投資信託"},{"$f":"'元(楽天ﾄｰﾀﾙ)'!B40","v":"特定"},{"$f":"'元(楽天ﾄｰﾀﾙ)'!C40","v":"SMT ゴールドインデックス・オープン(為替ヘッジあり)"},{"$f":"'元(楽天ﾄｰﾀﾙ)'!D40","v":"再投資型"},{"$f":"'元(楽天ﾄｰﾀﾙ)'!E40","v":"-"},{"$f":"'元(楽天ﾄｰﾀﾙ)'!F40","v":"-"},{"$f":"'元(楽天ﾄｰﾀﾙ)'!G40","v":"全解約"},{"$f":"'元(楽天ﾄｰﾀﾙ)'!H40","v":0},{"$f":"'元(楽天ﾄｰﾀﾙ)'!I40","v":0},{"$f":"'元(楽天ﾄｰﾀﾙ)'!J40","v":0},{"$f":"'元(楽天ﾄｰﾀﾙ)'!K40","v":0},{"$f":"'元(楽天ﾄｰﾀﾙ)'!L40","v":0},{"$f":"'元(楽天ﾄｰﾀﾙ)'!M40","v":0}]
["eMAXIS Slim 国内債券インデックス特定すべて受取型",{"$f":"'元(楽天ﾄｰﾀﾙ)'!A41","v":"投資信託"},{"$f":"'元(楽天ﾄｰﾀﾙ)'!B41","v":"特定"},{"$f":"'元(楽天ﾄｰﾀﾙ)'!C41","v":"eMAXIS Slim 国内債券インデックス"},{"$f":"'元(楽天ﾄｰﾀﾙ)'!D41","v":"受取型"},{"$f":"'元(楽天ﾄｰﾀﾙ)'!E41","v":"-"},{"$f":"'元(楽天ﾄｰﾀﾙ)'!F41","v":"-"},{"$f":"'元(楽天ﾄｰﾀﾙ)'!G41","v":"すべて"},{"$f":"'元(楽天ﾄｰﾀﾙ)'!H41","v":0},{"$f":"'元(楽天ﾄｰﾀﾙ)'!I41","v":195941},{"$f":"'元(楽天ﾄｰﾀﾙ)'!J41","v":196659},{"$f":"'元(楽天ﾄｰﾀﾙ)'!K41","v":-718},{"$f":"'元(楽天ﾄｰﾀﾙ)'!L41","v":0},{"$f":"'元(楽天ﾄｰﾀﾙ)'!M41","v":0}]
["eMAXIS Slim 国内債券インデックス特定保有中受取型",{"$f":"'元(楽天ﾄｰﾀﾙ)'!A42","v":"投資信託"},{"$f":"'元(楽天ﾄｰﾀﾙ)'!B42","v":"特定"},{"$f":"'元(楽天ﾄｰﾀﾙ)'!C42","v":"eMAXIS Slim 国内債券インデックス"},{"$f":"'元(楽天ﾄｰﾀﾙ)'!D42","v":"受取型"},{"$f":"'元(楽天ﾄｰﾀﾙ)'!E42","v":0},{"$f":"'元(楽天ﾄｰﾀﾙ)'!F42","v":0},{"$f":"'元(楽天ﾄｰﾀﾙ)'!G42","v":"保有中"},{"$f":"'元(楽天ﾄｰﾀﾙ)'!H42","v":0},{"$f":"'元(楽天ﾄｰﾀﾙ)'!I42","v":0},{"$f":"'元(楽天ﾄｰﾀﾙ)'!J42","v":0},{"$f":"'元(楽天ﾄｰﾀﾙ)'!K42","v":0},{"$f":"'元(楽天ﾄｰﾀﾙ)'!L42","v":0},{"$f":"'元(楽天ﾄｰﾀﾙ)'!M42","v":0}]
["eMAXIS Slim 国内債券インデックス特定全解約受取型",{"$f":"'元(楽天ﾄｰﾀﾙ)'!A43","v":"投資信託"},{"$f":"'元(楽天ﾄｰﾀﾙ)'!B43","v":"特定"},{"$f":"'元(楽天ﾄｰﾀﾙ)'!C43","v":"eMAXIS Slim 国内債券インデックス"},{"$f":"'元(楽天ﾄｰﾀﾙ)'!D43","v":"受取型"},{"$f":"'元(楽天ﾄｰﾀﾙ)'!E43","v":"-"},{"$f":"'元(楽天ﾄｰﾀﾙ)'!F43","v":"-"},{"$f":"'元(楽天ﾄｰﾀﾙ)'!G43","v":"全解約"},{"$f":"'元(楽天ﾄｰﾀﾙ)'!H43","v":0},{"$f":"'元(楽天ﾄｰﾀﾙ)'!I43","v":195941},{"$f":"'元(楽天ﾄｰﾀﾙ)'!J43","v":196659},{"$f":"'元(楽天ﾄｰﾀﾙ)'!K43","v":-718},{"$f":"'元(楽天ﾄｰﾀﾙ)'!L43","v":0},{"$f":"'元(楽天ﾄｰﾀﾙ)'!M43","v":0}]
["Smart-i 先進国債券インデックス(為替ヘッジあり)特定すべて受取型",{"$f":"'元(楽天ﾄｰﾀﾙ)'!A44","v":"投資信託"},{"$f":"'元(楽天ﾄｰﾀﾙ)'!B44","v":"特定"},{"$f":"'元(楽天ﾄｰﾀﾙ)'!C44","v":"Smart-i 先進国債券インデックス(為替ヘッジあり)"},{"$f":"'元(楽天ﾄｰﾀﾙ)'!D44","v":"受取型"},{"$f":"'元(楽天ﾄｰﾀﾙ)'!E44","v":"-"},{"$f":"'元(楽天ﾄｰﾀﾙ)'!F44","v":"-"},{"$f":"'元(楽天ﾄｰﾀﾙ)'!G44","v":"すべて"},{"$f":"'元(楽天ﾄｰﾀﾙ)'!H44","v":0},{"$f":"'元(楽天ﾄｰﾀﾙ)'!I44","v":113645},{"$f":"'元(楽天ﾄｰﾀﾙ)'!J44","v":126070},{"$f":"'元(楽天ﾄｰﾀﾙ)'!K44","v":-12425},{"$f":"'元(楽天ﾄｰﾀﾙ)'!L44","v":0},{"$f":"'元(楽天ﾄｰﾀﾙ)'!M44","v":0}]
["Smart-i 先進国債券インデックス(為替ヘッジあり)特定保有中受取型",{"$f":"'元(楽天ﾄｰﾀﾙ)'!A45","v":"投資信託"},{"$f":"'元(楽天ﾄｰﾀﾙ)'!B45","v":"特定"},{"$f":"'元(楽天ﾄｰﾀﾙ)'!C45","v":"Smart-i 先進国債券インデックス(為替ヘッジあり)"},{"$f":"'元(楽天ﾄｰﾀﾙ)'!D45","v":"受取型"},{"$f":"'元(楽天ﾄｰﾀﾙ)'!E45","v":0},{"$f":"'元(楽天ﾄｰﾀﾙ)'!F45","v":0},{"$f":"'元(楽天ﾄｰﾀﾙ)'!G45","v":"保有中"},{"$f":"'元(楽天ﾄｰﾀﾙ)'!H45","v":0},{"$f":"'元(楽天ﾄｰﾀﾙ)'!I45","v":0},{"$f":"'元(楽天ﾄｰﾀﾙ)'!J45","v":0},{"$f":"'元(楽天ﾄｰﾀﾙ)'!K45","v":0},{"$f":"'元(楽天ﾄｰﾀﾙ)'!L45","v":0},{"$f":"'元(楽天ﾄｰﾀﾙ)'!M45","v":0}]
["Smart-i 先進国債券インデックス(為替ヘッジあり)特定全解約受取型",{"$f":"'元(楽天ﾄｰﾀﾙ)'!A46","v":"投資信託"},{"$f":"'元(楽天ﾄｰﾀﾙ)'!B46","v":"特定"},{"$f":"'元(楽天ﾄｰﾀﾙ)'!C46","v":"Smart-i 先進国債券インデックス(為替ヘッジあり)"},{"$f":"'元(楽天ﾄｰﾀﾙ)'!D46","v":"受取型"},{"$f":"'元(楽天ﾄｰﾀﾙ)'!E46","v":"-"},{"$f":"'元(楽天ﾄｰﾀﾙ)'!F46","v":"-"},{"$f":"'元(楽天ﾄｰﾀﾙ)'!G46","v":"全解約"},{"$f":"'元(楽天ﾄｰﾀﾙ)'!H46","v":0},{"$f":"'元(楽天ﾄｰﾀﾙ)'!I46","v":113645},{"$f":"'元(楽天ﾄｰﾀﾙ)'!J46","v":126070},{"$f":"'元(楽天ﾄｰﾀﾙ)'!K46","v":-12425},{"$f":"'元(楽天ﾄｰﾀﾙ)'!L46","v":0},{"$f":"'元(楽天ﾄｰﾀﾙ)'!M46","v":0}]
["たわらノーロード 先進国リート特定すべて受取型",{"$f":"'元(楽天ﾄｰﾀﾙ)'!A47","v":"投資信託"},{"$f":"'元(楽天ﾄｰﾀﾙ)'!B47","v":"特定"},{"$f":"'元(楽天ﾄｰﾀﾙ)'!C47","v":"たわらノーロード 先進国リート"},{"$f":"'元(楽天ﾄｰﾀﾙ)'!D47","v":"受取型"},{"$f":"'元(楽天ﾄｰﾀﾙ)'!E47","v":"-"},{"$f":"'元(楽天ﾄｰﾀﾙ)'!F47","v":"-"},{"$f":"'元(楽天ﾄｰﾀﾙ)'!G47","v":"すべて"},{"$f":"'元(楽天ﾄｰﾀﾙ)'!H47","v":0},{"$f":"'元(楽天ﾄｰﾀﾙ)'!I47","v":196243},{"$f":"'元(楽天ﾄｰﾀﾙ)'!J47","v":189578},{"$f":"'元(楽天ﾄｰﾀﾙ)'!K47","v":6665},{"$f":"'元(楽天ﾄｰﾀﾙ)'!L47","v":0},{"$f":"'元(楽天ﾄｰﾀﾙ)'!M47","v":0}]
["たわらノーロード 先進国リート特定保有中受取型",{"$f":"'元(楽天ﾄｰﾀﾙ)'!A48","v":"投資信託"},{"$f":"'元(楽天ﾄｰﾀﾙ)'!B48","v":"特定"},{"$f":"'元(楽天ﾄｰﾀﾙ)'!C48","v":"たわらノーロード 先進国リート"},{"$f":"'元(楽天ﾄｰﾀﾙ)'!D48","v":"受取型"},{"$f":"'元(楽天ﾄｰﾀﾙ)'!E48","v":0},{"$f":"'元(楽天ﾄｰﾀﾙ)'!F48","v":0},{"$f":"'元(楽天ﾄｰﾀﾙ)'!G48","v":"保有中"},{"$f":"'元(楽天ﾄｰﾀﾙ)'!H48","v":0},{"$f":"'元(楽天ﾄｰﾀﾙ)'!I48","v":0},{"$f":"'元(楽天ﾄｰﾀﾙ)'!J48","v":0},{"$f":"'元(楽天ﾄｰﾀﾙ)'!K48","v":0},{"$f":"'元(楽天ﾄｰﾀﾙ)'!L48","v":0},{"$f":"'元(楽天ﾄｰﾀﾙ)'!M48","v":0}]
["たわらノーロード 先進国リート特定全解約受取型",{"$f":"'元(楽天ﾄｰﾀﾙ)'!A49","v":"投資信託"},{"$f":"'元(楽天ﾄｰﾀﾙ)'!B49","v":"特定"},{"$f":"'元(楽天ﾄｰﾀﾙ)'!C49","v":"たわらノーロード 先進国リート"},{"$f":"'元(楽天ﾄｰﾀﾙ)'!D49","v":"受取型"},{"$f":"'元(楽天ﾄｰﾀﾙ)'!E49","v":"-"},{"$f":"'元(楽天ﾄｰﾀﾙ)'!F49","v":"-"},{"$f":"'元(楽天ﾄｰﾀﾙ)'!G49","v":"全解約"},{"$f":"'元(楽天ﾄｰﾀﾙ)'!H49","v":0},{"$f":"'元(楽天ﾄｰﾀﾙ)'!I49","v":196243},{"$f":"'元(楽天ﾄｰﾀﾙ)'!J49","v":189578},{"$f":"'元(楽天ﾄｰﾀﾙ)'!K49","v":6665},{"$f":"'元(楽天ﾄｰﾀﾙ)'!L49","v":0},{"$f":"'元(楽天ﾄｰﾀﾙ)'!M49","v":0}]
["たわらノーロード 先進国リート特定すべて再投資型",{"$f":"'元(楽天ﾄｰﾀﾙ)'!A50","v":"投資信託"},{"$f":"'元(楽天ﾄｰﾀﾙ)'!B50","v":"特定"},{"$f":"'元(楽天ﾄｰﾀﾙ)'!C50","v":"たわらノーロード 先進国リート"},{"$f":"'元(楽天ﾄｰﾀﾙ)'!D50","v":"再投資型"},{"$f":"'元(楽天ﾄｰﾀﾙ)'!E50","v":"-"},{"$f":"'元(楽天ﾄｰﾀﾙ)'!F50","v":"-"},{"$f":"'元(楽天ﾄｰﾀﾙ)'!G50","v":"すべて"},{"$f":"'元(楽天ﾄｰﾀﾙ)'!H50","v":0},{"$f":"'元(楽天ﾄｰﾀﾙ)'!I50","v":758293},{"$f":"'元(楽天ﾄｰﾀﾙ)'!J50","v":727607},{"$f":"'元(楽天ﾄｰﾀﾙ)'!K50","v":30686},{"$f":"'元(楽天ﾄｰﾀﾙ)'!L50","v":0},{"$f":"'元(楽天ﾄｰﾀﾙ)'!M50","v":0}]
["たわらノーロード 先進国リート特定保有中再投資型",{"$f":"'元(楽天ﾄｰﾀﾙ)'!A51","v":"投資信託"},{"$f":"'元(楽天ﾄｰﾀﾙ)'!B51","v":"特定"},{"$f":"'元(楽天ﾄｰﾀﾙ)'!C51","v":"たわらノーロード 先進国リート"},{"$f":"'元(楽天ﾄｰﾀﾙ)'!D51","v":"再投資型"},{"$f":"'元(楽天ﾄｰﾀﾙ)'!E51","v":0},{"$f":"'元(楽天ﾄｰﾀﾙ)'!F51","v":0},{"$f":"'元(楽天ﾄｰﾀﾙ)'!G51","v":"保有中"},{"$f":"'元(楽天ﾄｰﾀﾙ)'!H51","v":0},{"$f":"'元(楽天ﾄｰﾀﾙ)'!I51","v":0},{"$f":"'元(楽天ﾄｰﾀﾙ)'!J51","v":0},{"$f":"'元(楽天ﾄｰﾀﾙ)'!K51","v":0},{"$f":"'元(楽天ﾄｰﾀﾙ)'!L51","v":0},{"$f":"'元(楽天ﾄｰﾀﾙ)'!M51","v":0}]
["たわらノーロード 先進国リート特定全解約再投資型",{"$f":"'元(楽天ﾄｰﾀﾙ)'!A52","v":"投資信託"},{"$f":"'元(楽天ﾄｰﾀﾙ)'!B52","v":"特定"},{"$f":"'元(楽天ﾄｰﾀﾙ)'!C52","v":"たわらノーロード 先進国リート"},{"$f":"'元(楽天ﾄｰﾀﾙ)'!D52","v":"再投資型"},{"$f":"'元(楽天ﾄｰﾀﾙ)'!E52","v":"-"},{"$f":"'元(楽天ﾄｰﾀﾙ)'!F52","v":"-"},{"$f":"'元(楽天ﾄｰﾀﾙ)'!G52","v":"全解約"},{"$f":"'元(楽天ﾄｰﾀﾙ)'!H52","v":0},{"$f":"'元(楽天ﾄｰﾀﾙ)'!I52","v":758293},{"$f":"'元(楽天ﾄｰﾀﾙ)'!J52","v":727607},{"$f":"'元(楽天ﾄｰﾀﾙ)'!K52","v":30686},{"$f":"'元(楽天ﾄｰﾀﾙ)'!L52","v":0},{"$f":"'元(楽天ﾄｰﾀﾙ)'!M52","v":0}]
["Smart-i Jリートインデックス特定すべて再投資型",{"$f":"'元(楽天ﾄｰﾀﾙ)'!A53","v":"投資信託"},{"$f":"'元(楽天ﾄｰﾀﾙ)'!B53","v":"特定"},{"$f":"'元(楽天ﾄｰﾀﾙ)'!C53","v":"Smart-i Jリートインデックス"},{"$f":"'元(楽天ﾄｰﾀﾙ)'!D53","v":"再投資型"},{"$f":"'元(楽天ﾄｰﾀﾙ)'!E53","v":"-"},{"$f":"'元(楽天ﾄｰﾀﾙ)'!F53","v":"-"},{"$f":"'元(楽天ﾄｰﾀﾙ)'!G53","v":"すべて"},{"$f":"'元(楽天ﾄｰﾀﾙ)'!H53","v":0},{"$f":"'元(楽天ﾄｰﾀﾙ)'!I53","v":193851},{"$f":"'元(楽天ﾄｰﾀﾙ)'!J53","v":192812},{"$f":"'元(楽天ﾄｰﾀﾙ)'!K53","v":1039},{"$f":"'元(楽天ﾄｰﾀﾙ)'!L53","v":0},{"$f":"'元(楽天ﾄｰﾀﾙ)'!M53","v":0}]
["Smart-i Jリートインデックス特定保有中再投資型",{"$f":"'元(楽天ﾄｰﾀﾙ)'!A54","v":"投資信託"},{"$f":"'元(楽天ﾄｰﾀﾙ)'!B54","v":"特定"},{"$f":"'元(楽天ﾄｰﾀﾙ)'!C54","v":"Smart-i Jリートインデックス"},{"$f":"'元(楽天ﾄｰﾀﾙ)'!D54","v":"再投資型"},{"$f":"'元(楽天ﾄｰﾀﾙ)'!E54","v":0},{"$f":"'元(楽天ﾄｰﾀﾙ)'!F54","v":0},{"$f":"'元(楽天ﾄｰﾀﾙ)'!G54","v":"保有中"},{"$f":"'元(楽天ﾄｰﾀﾙ)'!H54","v":0},{"$f":"'元(楽天ﾄｰﾀﾙ)'!I54","v":0},{"$f":"'元(楽天ﾄｰﾀﾙ)'!J54","v":0},{"$f":"'元(楽天ﾄｰﾀﾙ)'!K54","v":0},{"$f":"'元(楽天ﾄｰﾀﾙ)'!L54","v":0},{"$f":"'元(楽天ﾄｰﾀﾙ)'!M54","v":0}]
["Smart-i Jリートインデックス特定全解約再投資型",{"$f":"'元(楽天ﾄｰﾀﾙ)'!A55","v":"投資信託"},{"$f":"'元(楽天ﾄｰﾀﾙ)'!B55","v":"特定"},{"$f":"'元(楽天ﾄｰﾀﾙ)'!C55","v":"Smart-i Jリートインデックス"},{"$f":"'元(楽天ﾄｰﾀﾙ)'!D55","v":"再投資型"},{"$f":"'元(楽天ﾄｰﾀﾙ)'!E55","v":"-"},{"$f":"'元(楽天ﾄｰﾀﾙ)'!F55","v":"-"},{"$f":"'元(楽天ﾄｰﾀﾙ)'!G55","v":"全解約"},{"$f":"'元(楽天ﾄｰﾀﾙ)'!H55","v":0},{"$f":"'元(楽天ﾄｰﾀﾙ)'!I55","v":193851},{"$f":"'元(楽天ﾄｰﾀﾙ)'!J55","v":192812},{"$f":"'元(楽天ﾄｰﾀﾙ)'!K55","v":1039},{"$f":"'元(楽天ﾄｰﾀﾙ)'!L55","v":0},{"$f":"'元(楽天ﾄｰﾀﾙ)'!M55","v":0}]
["たわらノーロード 先進国株式特定すべて再投資型",{"$f":"'元(楽天ﾄｰﾀﾙ)'!A56","v":"投資信託"},{"$f":"'元(楽天ﾄｰﾀﾙ)'!B56","v":"特定"},{"$f":"'元(楽天ﾄｰﾀﾙ)'!C56","v":"たわらノーロード 先進国株式"},{"$f":"'元(楽天ﾄｰﾀﾙ)'!D56","v":"再投資型"},{"$f":"'元(楽天ﾄｰﾀﾙ)'!E56","v":"-"},{"$f":"'元(楽天ﾄｰﾀﾙ)'!F56","v":"-"},{"$f":"'元(楽天ﾄｰﾀﾙ)'!G56","v":"すべて"},{"$f":"'元(楽天ﾄｰﾀﾙ)'!H56","v":0},{"$f":"'元(楽天ﾄｰﾀﾙ)'!I56","v":842404},{"$f":"'元(楽天ﾄｰﾀﾙ)'!J56","v":809837},{"$f":"'元(楽天ﾄｰﾀﾙ)'!K56","v":32567},{"$f":"'元(楽天ﾄｰﾀﾙ)'!L56","v":0},{"$f":"'元(楽天ﾄｰﾀﾙ)'!M56","v":0}]
["たわらノーロード 先進国株式特定保有中再投資型",{"$f":"'元(楽天ﾄｰﾀﾙ)'!A57","v":"投資信託"},{"$f":"'元(楽天ﾄｰﾀﾙ)'!B57","v":"特定"},{"$f":"'元(楽天ﾄｰﾀﾙ)'!C57","v":"たわらノーロード 先進国株式"},{"$f":"'元(楽天ﾄｰﾀﾙ)'!D57","v":"再投資型"},{"$f":"'元(楽天ﾄｰﾀﾙ)'!E57","v":0},{"$f":"'元(楽天ﾄｰﾀﾙ)'!F57","v":0},{"$f":"'元(楽天ﾄｰﾀﾙ)'!G57","v":"保有中"},{"$f":"'元(楽天ﾄｰﾀﾙ)'!H57","v":0},{"$f":"'元(楽天ﾄｰﾀﾙ)'!I57","v":0},{"$f":"'元(楽天ﾄｰﾀﾙ)'!J57","v":0},{"$f":"'元(楽天ﾄｰﾀﾙ)'!K57","v":0},{"$f":"'元(楽天ﾄｰﾀﾙ)'!L57","v":0},{"$f":"'元(楽天ﾄｰﾀﾙ)'!M57","v":0}]
["たわらノーロード 先進国株式特定全解約再投資型",{"$f":"'元(楽天ﾄｰﾀﾙ)'!A58","v":"投資信託"},{"$f":"'元(楽天ﾄｰﾀﾙ)'!B58","v":"特定"},{"$f":"'元(楽天ﾄｰﾀﾙ)'!C58","v":"たわらノーロード 先進国株式"},{"$f":"'元(楽天ﾄｰﾀﾙ)'!D58","v":"再投資型"},{"$f":"'元(楽天ﾄｰﾀﾙ)'!E58","v":"-"},{"$f":"'元(楽天ﾄｰﾀﾙ)'!F58","v":"-"},{"$f":"'元(楽天ﾄｰﾀﾙ)'!G58","v":"全解約"},{"$f":"'元(楽天ﾄｰﾀﾙ)'!H58","v":0},{"$f":"'元(楽天ﾄｰﾀﾙ)'!I58","v":842404},{"$f":"'元(楽天ﾄｰﾀﾙ)'!J58","v":809837},{"$f":"'元(楽天ﾄｰﾀﾙ)'!K58","v":32567},{"$f":"'元(楽天ﾄｰﾀﾙ)'!L58","v":0},{"$f":"'元(楽天ﾄｰﾀﾙ)'!M58","v":0}]
["ゴールド・ファンド(為替ヘッジあり)特定すべて再投資型",{"$f":"'元(楽天ﾄｰﾀﾙ)'!A59","v":"投資信託"},{"$f":"'元(楽天ﾄｰﾀﾙ)'!B59","v":"特定"},{"$f":"'元(楽天ﾄｰﾀﾙ)'!C59","v":"ゴールド・ファンド(為替ヘッジあり)"},{"$f":"'元(楽天ﾄｰﾀﾙ)'!D59","v":"再投資型"},{"$f":"'元(楽天ﾄｰﾀﾙ)'!E59","v":"-"},{"$f":"'元(楽天ﾄｰﾀﾙ)'!F59","v":"-"},{"$f":"'元(楽天ﾄｰﾀﾙ)'!G59","v":"すべて"},{"$f":"'元(楽天ﾄｰﾀﾙ)'!H59","v":0},{"$f":"'元(楽天ﾄｰﾀﾙ)'!I59","v":532990},{"$f":"'元(楽天ﾄｰﾀﾙ)'!J59","v":512644},{"$f":"'元(楽天ﾄｰﾀﾙ)'!K59","v":20346},{"$f":"'元(楽天ﾄｰﾀﾙ)'!L59","v":0},{"$f":"'元(楽天ﾄｰﾀﾙ)'!M59","v":0}]
["ゴールド・ファンド(為替ヘッジあり)特定保有中再投資型",{"$f":"'元(楽天ﾄｰﾀﾙ)'!A60","v":"投資信託"},{"$f":"'元(楽天ﾄｰﾀﾙ)'!B60","v":"特定"},{"$f":"'元(楽天ﾄｰﾀﾙ)'!C60","v":"ゴールド・ファンド(為替ヘッジあり)"},{"$f":"'元(楽天ﾄｰﾀﾙ)'!D60","v":"再投資型"},{"$f":"'元(楽天ﾄｰﾀﾙ)'!E60","v":0},{"$f":"'元(楽天ﾄｰﾀﾙ)'!F60","v":0},{"$f":"'元(楽天ﾄｰﾀﾙ)'!G60","v":"保有中"},{"$f":"'元(楽天ﾄｰﾀﾙ)'!H60","v":0},{"$f":"'元(楽天ﾄｰﾀﾙ)'!I60","v":0},{"$f":"'元(楽天ﾄｰﾀﾙ)'!J60","v":0},{"$f":"'元(楽天ﾄｰﾀﾙ)'!K60","v":0},{"$f":"'元(楽天ﾄｰﾀﾙ)'!L60","v":0},{"$f":"'元(楽天ﾄｰﾀﾙ)'!M60","v":0}]
["ゴールド・ファンド(為替ヘッジあり)特定全解約再投資型",{"$f":"'元(楽天ﾄｰﾀﾙ)'!A61","v":"投資信託"},{"$f":"'元(楽天ﾄｰﾀﾙ)'!B61","v":"特定"},{"$f":"'元(楽天ﾄｰﾀﾙ)'!C61","v":"ゴールド・ファンド(為替ヘッジあり)"},{"$f":"'元(楽天ﾄｰﾀﾙ)'!D61","v":"再投資型"},{"$f":"'元(楽天ﾄｰﾀﾙ)'!E61","v":"-"},{"$f":"'元(楽天ﾄｰﾀﾙ)'!F61","v":"-"},{"$f":"'元(楽天ﾄｰﾀﾙ)'!G61","v":"全解約"},{"$f":"'元(楽天ﾄｰﾀﾙ)'!H61","v":0},{"$f":"'元(楽天ﾄｰﾀﾙ)'!I61","v":532990},{"$f":"'元(楽天ﾄｰﾀﾙ)'!J61","v":512644},{"$f":"'元(楽天ﾄｰﾀﾙ)'!K61","v":20346},{"$f":"'元(楽天ﾄｰﾀﾙ)'!L61","v":0},{"$f":"'元(楽天ﾄｰﾀﾙ)'!M61","v":0}]
["eMAXIS Slim 先進国株式インデックス特定すべて受取型",{"$f":"'元(楽天ﾄｰﾀﾙ)'!A62","v":"投資信託"},{"$f":"'元(楽天ﾄｰﾀﾙ)'!B62","v":"特定"},{"$f":"'元(楽天ﾄｰﾀﾙ)'!C62","v":"eMAXIS Slim 先進国株式インデックス"},{"$f":"'元(楽天ﾄｰﾀﾙ)'!D62","v":"受取型"},{"$f":"'元(楽天ﾄｰﾀﾙ)'!E62","v":"-"},{"$f":"'元(楽天ﾄｰﾀﾙ)'!F62","v":"-"},{"$f":"'元(楽天ﾄｰﾀﾙ)'!G62","v":"すべて"},{"$f":"'元(楽天ﾄｰﾀﾙ)'!H62","v":0},{"$f":"'元(楽天ﾄｰﾀﾙ)'!I62","v":3273180},{"$f":"'元(楽天ﾄｰﾀﾙ)'!J62","v":3158869},{"$f":"'元(楽天ﾄｰﾀﾙ)'!K62","v":114311},{"$f":"'元(楽天ﾄｰﾀﾙ)'!L62","v":0},{"$f":"'元(楽天ﾄｰﾀﾙ)'!M62","v":0}]
["eMAXIS Slim 先進国株式インデックス特定保有中受取型",{"$f":"'元(楽天ﾄｰﾀﾙ)'!A63","v":"投資信託"},{"$f":"'元(楽天ﾄｰﾀﾙ)'!B63","v":"特定"},{"$f":"'元(楽天ﾄｰﾀﾙ)'!C63","v":"eMAXIS Slim 先進国株式インデックス"},{"$f":"'元(楽天ﾄｰﾀﾙ)'!D63","v":"受取型"},{"$f":"'元(楽天ﾄｰﾀﾙ)'!E63","v":0},{"$f":"'元(楽天ﾄｰﾀﾙ)'!F63","v":0},{"$f":"'元(楽天ﾄｰﾀﾙ)'!G63","v":"保有中"},{"$f":"'元(楽天ﾄｰﾀﾙ)'!H63","v":0},{"$f":"'元(楽天ﾄｰﾀﾙ)'!I63","v":0},{"$f":"'元(楽天ﾄｰﾀﾙ)'!J63","v":0},{"$f":"'元(楽天ﾄｰﾀﾙ)'!K63","v":0},{"$f":"'元(楽天ﾄｰﾀﾙ)'!L63","v":0},{"$f":"'元(楽天ﾄｰﾀﾙ)'!M63","v":0}]
["eMAXIS Slim 先進国株式インデックス特定全解約受取型",{"$f":"'元(楽天ﾄｰﾀﾙ)'!A64","v":"投資信託"},{"$f":"'元(楽天ﾄｰﾀﾙ)'!B64","v":"特定"},{"$f":"'元(楽天ﾄｰﾀﾙ)'!C64","v":"eMAXIS Slim 先進国株式インデックス"},{"$f":"'元(楽天ﾄｰﾀﾙ)'!D64","v":"受取型"},{"$f":"'元(楽天ﾄｰﾀﾙ)'!E64","v":"-"},{"$f":"'元(楽天ﾄｰﾀﾙ)'!F64","v":"-"},{"$f":"'元(楽天ﾄｰﾀﾙ)'!G64","v":"全解約"},{"$f":"'元(楽天ﾄｰﾀﾙ)'!H64","v":0},{"$f":"'元(楽天ﾄｰﾀﾙ)'!I64","v":3273180},{"$f":"'元(楽天ﾄｰﾀﾙ)'!J64","v":3158869},{"$f":"'元(楽天ﾄｰﾀﾙ)'!K64","v":114311},{"$f":"'元(楽天ﾄｰﾀﾙ)'!L64","v":0},{"$f":"'元(楽天ﾄｰﾀﾙ)'!M64","v":0}]
["ゴールド・ファンド(為替ヘッジあり)特定すべて受取型",{"$f":"'元(楽天ﾄｰﾀﾙ)'!A65","v":"投資信託"},{"$f":"'元(楽天ﾄｰﾀﾙ)'!B65","v":"特定"},{"$f":"'元(楽天ﾄｰﾀﾙ)'!C65","v":"ゴールド・ファンド(為替ヘッジあり)"},{"$f":"'元(楽天ﾄｰﾀﾙ)'!D65","v":"受取型"},{"$f":"'元(楽天ﾄｰﾀﾙ)'!E65","v":"-"},{"$f":"'元(楽天ﾄｰﾀﾙ)'!F65","v":"-"},{"$f":"'元(楽天ﾄｰﾀﾙ)'!G65","v":"すべて"},{"$f":"'元(楽天ﾄｰﾀﾙ)'!H65","v":0},{"$f":"'元(楽天ﾄｰﾀﾙ)'!I65","v":104874},{"$f":"'元(楽天ﾄｰﾀﾙ)'!J65","v":105720},{"$f":"'元(楽天ﾄｰﾀﾙ)'!K65","v":-846},{"$f":"'元(楽天ﾄｰﾀﾙ)'!L65","v":0},{"$f":"'元(楽天ﾄｰﾀﾙ)'!M65","v":0}]
["ゴールド・ファンド(為替ヘッジあり)特定保有中受取型",{"$f":"'元(楽天ﾄｰﾀﾙ)'!A66","v":"投資信託"},{"$f":"'元(楽天ﾄｰﾀﾙ)'!B66","v":"特定"},{"$f":"'元(楽天ﾄｰﾀﾙ)'!C66","v":"ゴールド・ファンド(為替ヘッジあり)"},{"$f":"'元(楽天ﾄｰﾀﾙ)'!D66","v":"受取型"},{"$f":"'元(楽天ﾄｰﾀﾙ)'!E66","v":0},{"$f":"'元(楽天ﾄｰﾀﾙ)'!F66","v":0},{"$f":"'元(楽天ﾄｰﾀﾙ)'!G66","v":"保有中"},{"$f":"'元(楽天ﾄｰﾀﾙ)'!H66","v":0},{"$f":"'元(楽天ﾄｰﾀﾙ)'!I66","v":0},{"$f":"'元(楽天ﾄｰﾀﾙ)'!J66","v":0},{"$f":"'元(楽天ﾄｰﾀﾙ)'!K66","v":0},{"$f":"'元(楽天ﾄｰﾀﾙ)'!L66","v":0},{"$f":"'元(楽天ﾄｰﾀﾙ)'!M66","v":0}]
[{"$f":"D67&C67&H67&E67","v":"ゴールド・ファンド(為替ヘッジあり)特定全解約受取型"},{"$f":"'元(楽天ﾄｰﾀﾙ)'!A67","v":"投資信託"},{"$f":"'元(楽天ﾄｰﾀﾙ)'!B67","v":"特定"},{"$f":"'元(楽天ﾄｰﾀﾙ)'!C67","v":"ゴールド・ファンド(為替ヘッジあり)"},{"$f":"'元(楽天ﾄｰﾀﾙ)'!D67","v":"受取型"},{"$f":"'元(楽天ﾄｰﾀﾙ)'!E67","v":"-"},{"$f":"'元(楽天ﾄｰﾀﾙ)'!F67","v":"-"},{"$f":"'元(楽天ﾄｰﾀﾙ)'!G67","v":"全解約"},{"$f":"'元(楽天ﾄｰﾀﾙ)'!H67","v":0},{"$f":"'元(楽天ﾄｰﾀﾙ)'!I67","v":104874},{"$f":"'元(楽天ﾄｰﾀﾙ)'!J67","v":105720},{"$f":"'元(楽天ﾄｰﾀﾙ)'!K67","v":-846},{"$f":"'元(楽天ﾄｰﾀﾙ)'!L67","v":0},{"$f":"'元(楽天ﾄｰﾀﾙ)'!M67","v":0}]
["eMAXIS Slim 米国株式(S&P500)特定すべて受取型",{"$f":"'元(楽天ﾄｰﾀﾙ)'!A68","v":"投資信託"},{"$f":"'元(楽天ﾄｰﾀﾙ)'!B68","v":"特定"},{"$f":"'元(楽天ﾄｰﾀﾙ)'!C68","v":"eMAXIS Slim 米国株式(S&P500)"},{"$f":"'元(楽天ﾄｰﾀﾙ)'!D68","v":"受取型"},{"$f":"'元(楽天ﾄｰﾀﾙ)'!E68","v":"-"},{"$f":"'元(楽天ﾄｰﾀﾙ)'!F68","v":"-"},{"$f":"'元(楽天ﾄｰﾀﾙ)'!G68","v":"すべて"},{"$f":"'元(楽天ﾄｰﾀﾙ)'!H68","v":0},{"$f":"'元(楽天ﾄｰﾀﾙ)'!I68","v":457537},{"$f":"'元(楽天ﾄｰﾀﾙ)'!J68","v":451045},{"$f":"'元(楽天ﾄｰﾀﾙ)'!K68","v":6492},{"$f":"'元(楽天ﾄｰﾀﾙ)'!L68","v":0},{"$f":"'元(楽天ﾄｰﾀﾙ)'!M68","v":0}]
["eMAXIS Slim 米国株式(S&P500)特定保有中受取型",{"$f":"'元(楽天ﾄｰﾀﾙ)'!A69","v":"投資信託"},{"$f":"'元(楽天ﾄｰﾀﾙ)'!B69","v":"特定"},{"$f":"'元(楽天ﾄｰﾀﾙ)'!C69","v":"eMAXIS Slim 米国株式(S&P500)"},{"$f":"'元(楽天ﾄｰﾀﾙ)'!D69","v":"受取型"},{"$f":"'元(楽天ﾄｰﾀﾙ)'!E69","v":0},{"$f":"'元(楽天ﾄｰﾀﾙ)'!F69","v":0},{"$f":"'元(楽天ﾄｰﾀﾙ)'!G69","v":"保有中"},{"$f":"'元(楽天ﾄｰﾀﾙ)'!H69","v":0},{"$f":"'元(楽天ﾄｰﾀﾙ)'!I69","v":0},{"$f":"'元(楽天ﾄｰﾀﾙ)'!J69","v":0},{"$f":"'元(楽天ﾄｰﾀﾙ)'!K69","v":0},{"$f":"'元(楽天ﾄｰﾀﾙ)'!L69","v":0},{"$f":"'元(楽天ﾄｰﾀﾙ)'!M69","v":0}]
["eMAXIS Slim 米国株式(S&P500)特定全解約受取型",{"$f":"'元(楽天ﾄｰﾀﾙ)'!A70","v":"投資信託"},{"$f":"'元(楽天ﾄｰﾀﾙ)'!B70","v":"特定"},{"$f":"'元(楽天ﾄｰﾀﾙ)'!C70","v":"eMAXIS Slim 米国株式(S&P500)"},{"$f":"'元(楽天ﾄｰﾀﾙ)'!D70","v":"受取型"},{"$f":"'元(楽天ﾄｰﾀﾙ)'!E70","v":"-"},{"$f":"'元(楽天ﾄｰﾀﾙ)'!F70","v":"-"},{"$f":"'元(楽天ﾄｰﾀﾙ)'!G70","v":"全解約"},{"$f":"'元(楽天ﾄｰﾀﾙ)'!H70","v":0},{"$f":"'元(楽天ﾄｰﾀﾙ)'!I70","v":457537},{"$f":"'元(楽天ﾄｰﾀﾙ)'!J70","v":451045},{"$f":"'元(楽天ﾄｰﾀﾙ)'!K70","v":6492},{"$f":"'元(楽天ﾄｰﾀﾙ)'!L70","v":0},{"$f":"'元(楽天ﾄｰﾀﾙ)'!M70","v":0}]
["Smart-i Jリートインデックス特定すべて受取型",{"$f":"'元(楽天ﾄｰﾀﾙ)'!A71","v":"投資信託"},{"$f":"'元(楽天ﾄｰﾀﾙ)'!B71","v":"特定"},{"$f":"'元(楽天ﾄｰﾀﾙ)'!C71","v":"Smart-i Jリートインデックス"},{"$f":"'元(楽天ﾄｰﾀﾙ)'!D71","v":"受取型"},{"$f":"'元(楽天ﾄｰﾀﾙ)'!E71","v":"-"},{"$f":"'元(楽天ﾄｰﾀﾙ)'!F71","v":"-"},{"$f":"'元(楽天ﾄｰﾀﾙ)'!G71","v":"すべて"},{"$f":"'元(楽天ﾄｰﾀﾙ)'!H71","v":0},{"$f":"'元(楽天ﾄｰﾀﾙ)'!I71","v":45683},{"$f":"'元(楽天ﾄｰﾀﾙ)'!J71","v":44326},{"$f":"'元(楽天ﾄｰﾀﾙ)'!K71","v":1357},{"$f":"'元(楽天ﾄｰﾀﾙ)'!L71","v":0},{"$f":"'元(楽天ﾄｰﾀﾙ)'!M71","v":0}]
["Smart-i Jリートインデックス特定保有中受取型",{"$f":"'元(楽天ﾄｰﾀﾙ)'!A72","v":"投資信託"},{"$f":"'元(楽天ﾄｰﾀﾙ)'!B72","v":"特定"},{"$f":"'元(楽天ﾄｰﾀﾙ)'!C72","v":"Smart-i Jリートインデックス"},{"$f":"'元(楽天ﾄｰﾀﾙ)'!D72","v":"受取型"},{"$f":"'元(楽天ﾄｰﾀﾙ)'!E72","v":0},{"$f":"'元(楽天ﾄｰﾀﾙ)'!F72","v":0},{"$f":"'元(楽天ﾄｰﾀﾙ)'!G72","v":"保有中"},{"$f":"'元(楽天ﾄｰﾀﾙ)'!H72","v":0},{"$f":"'元(楽天ﾄｰﾀﾙ)'!I72","v":0},{"$f":"'元(楽天ﾄｰﾀﾙ)'!J72","v":0},{"$f":"'元(楽天ﾄｰﾀﾙ)'!K72","v":0},{"$f":"'元(楽天ﾄｰﾀﾙ)'!L72","v":0},{"$f":"'元(楽天ﾄｰﾀﾙ)'!M72","v":0}]
["Smart-i Jリートインデックス特定全解約受取型",{"$f":"'元(楽天ﾄｰﾀﾙ)'!A73","v":"投資信託"},{"$f":"'元(楽天ﾄｰﾀﾙ)'!B73","v":"特定"},{"$f":"'元(楽天ﾄｰﾀﾙ)'!C73","v":"Smart-i Jリートインデックス"},{"$f":"'元(楽天ﾄｰﾀﾙ)'!D73","v":"受取型"},{"$f":"'元(楽天ﾄｰﾀﾙ)'!E73","v":"-"},{"$f":"'元(楽天ﾄｰﾀﾙ)'!F73","v":"-"},{"$f":"'元(楽天ﾄｰﾀﾙ)'!G73","v":"全解約"},{"$f":"'元(楽天ﾄｰﾀﾙ)'!H73","v":0},{"$f":"'元(楽天ﾄｰﾀﾙ)'!I73","v":45683},{"$f":"'元(楽天ﾄｰﾀﾙ)'!J73","v":44326},{"$f":"'元(楽天ﾄｰﾀﾙ)'!K73","v":1357},{"$f":"'元(楽天ﾄｰﾀﾙ)'!L73","v":0},{"$f":"'元(楽天ﾄｰﾀﾙ)'!M73","v":0}]
["たわらノーロード 先進国債券特定すべて再投資型",{"$f":"'元(楽天ﾄｰﾀﾙ)'!A74","v":"投資信託"},{"$f":"'元(楽天ﾄｰﾀﾙ)'!B74","v":"特定"},{"$f":"'元(楽天ﾄｰﾀﾙ)'!C74","v":"たわらノーロード 先進国債券"},{"$f":"'元(楽天ﾄｰﾀﾙ)'!D74","v":"再投資型"},{"$f":"'元(楽天ﾄｰﾀﾙ)'!E74","v":"-"},{"$f":"'元(楽天ﾄｰﾀﾙ)'!F74","v":"-"},{"$f":"'元(楽天ﾄｰﾀﾙ)'!G74","v":"すべて"},{"$f":"'元(楽天ﾄｰﾀﾙ)'!H74","v":0},{"$f":"'元(楽天ﾄｰﾀﾙ)'!I74","v":269027},{"$f":"'元(楽天ﾄｰﾀﾙ)'!J74","v":262500},{"$f":"'元(楽天ﾄｰﾀﾙ)'!K74","v":6527},{"$f":"'元(楽天ﾄｰﾀﾙ)'!L74","v":0},{"$f":"'元(楽天ﾄｰﾀﾙ)'!M74","v":0}]
["たわらノーロード 先進国債券特定保有中再投資型",{"$f":"'元(楽天ﾄｰﾀﾙ)'!A75","v":"投資信託"},{"$f":"'元(楽天ﾄｰﾀﾙ)'!B75","v":"特定"},{"$f":"'元(楽天ﾄｰﾀﾙ)'!C75","v":"たわらノーロード 先進国債券"},{"$f":"'元(楽天ﾄｰﾀﾙ)'!D75","v":"再投資型"},{"$f":"'元(楽天ﾄｰﾀﾙ)'!E75","v":0},{"$f":"'元(楽天ﾄｰﾀﾙ)'!F75","v":0},{"$f":"'元(楽天ﾄｰﾀﾙ)'!G75","v":"保有中"},{"$f":"'元(楽天ﾄｰﾀﾙ)'!H75","v":0},{"$f":"'元(楽天ﾄｰﾀﾙ)'!I75","v":0},{"$f":"'元(楽天ﾄｰﾀﾙ)'!J75","v":0},{"$f":"'元(楽天ﾄｰﾀﾙ)'!K75","v":0},{"$f":"'元(楽天ﾄｰﾀﾙ)'!L75","v":0},{"$f":"'元(楽天ﾄｰﾀﾙ)'!M75","v":0}]
["たわらノーロード 先進国債券特定全解約再投資型",{"$f":"'元(楽天ﾄｰﾀﾙ)'!A76","v":"投資信託"},{"$f":"'元(楽天ﾄｰﾀﾙ)'!B76","v":"特定"},{"$f":"'元(楽天ﾄｰﾀﾙ)'!C76","v":"たわらノーロード 先進国債券"},{"$f":"'元(楽天ﾄｰﾀﾙ)'!D76","v":"再投資型"},{"$f":"'元(楽天ﾄｰﾀﾙ)'!E76","v":"-"},{"$f":"'元(楽天ﾄｰﾀﾙ)'!F76","v":"-"},{"$f":"'元(楽天ﾄｰﾀﾙ)'!G76","v":"全解約"},{"$f":"'元(楽天ﾄｰﾀﾙ)'!H76","v":0},{"$f":"'元(楽天ﾄｰﾀﾙ)'!I76","v":269027},{"$f":"'元(楽天ﾄｰﾀﾙ)'!J76","v":262500},{"$f":"'元(楽天ﾄｰﾀﾙ)'!K76","v":6527},{"$f":"'元(楽天ﾄｰﾀﾙ)'!L76","v":0},{"$f":"'元(楽天ﾄｰﾀﾙ)'!M76","v":0}]
["eMAXIS Slim 先進国債券インデックス特定すべて再投資型",{"$f":"'元(楽天ﾄｰﾀﾙ)'!A77","v":"投資信託"},{"$f":"'元(楽天ﾄｰﾀﾙ)'!B77","v":"特定"},{"$f":"'元(楽天ﾄｰﾀﾙ)'!C77","v":"eMAXIS Slim 先進国債券インデックス"},{"$f":"'元(楽天ﾄｰﾀﾙ)'!D77","v":"再投資型"},{"$f":"'元(楽天ﾄｰﾀﾙ)'!E77","v":"-"},{"$f":"'元(楽天ﾄｰﾀﾙ)'!F77","v":"-"},{"$f":"'元(楽天ﾄｰﾀﾙ)'!G77","v":"すべて"},{"$f":"'元(楽天ﾄｰﾀﾙ)'!H77","v":0},{"$f":"'元(楽天ﾄｰﾀﾙ)'!I77","v":152439},{"$f":"'元(楽天ﾄｰﾀﾙ)'!J77","v":153501},{"$f":"'元(楽天ﾄｰﾀﾙ)'!K77","v":-1062},{"$f":"'元(楽天ﾄｰﾀﾙ)'!L77","v":0},{"$f":"'元(楽天ﾄｰﾀﾙ)'!M77","v":0}]
["eMAXIS Slim 先進国債券インデックス特定保有中再投資型",{"$f":"'元(楽天ﾄｰﾀﾙ)'!A78","v":"投資信託"},{"$f":"'元(楽天ﾄｰﾀﾙ)'!B78","v":"特定"},{"$f":"'元(楽天ﾄｰﾀﾙ)'!C78","v":"eMAXIS Slim 先進国債券インデックス"},{"$f":"'元(楽天ﾄｰﾀﾙ)'!D78","v":"再投資型"},{"$f":"'元(楽天ﾄｰﾀﾙ)'!E78","v":0},{"$f":"'元(楽天ﾄｰﾀﾙ)'!F78","v":0},{"$f":"'元(楽天ﾄｰﾀﾙ)'!G78","v":"保有中"},{"$f":"'元(楽天ﾄｰﾀﾙ)'!H78","v":0},{"$f":"'元(楽天ﾄｰﾀﾙ)'!I78","v":0},{"$f":"'元(楽天ﾄｰﾀﾙ)'!J78","v":0},{"$f":"'元(楽天ﾄｰﾀﾙ)'!K78","v":0},{"$f":"'元(楽天ﾄｰﾀﾙ)'!L78","v":0},{"$f":"'元(楽天ﾄｰﾀﾙ)'!M78","v":0}]
["eMAXIS Slim 先進国債券インデックス特定全解約再投資型",{"$f":"'元(楽天ﾄｰﾀﾙ)'!A79","v":"投資信託"},{"$f":"'元(楽天ﾄｰﾀﾙ)'!B79","v":"特定"},{"$f":"'元(楽天ﾄｰﾀﾙ)'!C79","v":"eMAXIS Slim 先進国債券インデックス"},{"$f":"'元(楽天ﾄｰﾀﾙ)'!D79","v":"再投資型"},{"$f":"'元(楽天ﾄｰﾀﾙ)'!E79","v":"-"},{"$f":"'元(楽天ﾄｰﾀﾙ)'!F79","v":"-"},{"$f":"'元(楽天ﾄｰﾀﾙ)'!G79","v":"全解約"},{"$f":"'元(楽天ﾄｰﾀﾙ)'!H79","v":0},{"$f":"'元(楽天ﾄｰﾀﾙ)'!I79","v":152439},{"$f":"'元(楽天ﾄｰﾀﾙ)'!J79","v":153501},{"$f":"'元(楽天ﾄｰﾀﾙ)'!K79","v":-1062},{"$f":"'元(楽天ﾄｰﾀﾙ)'!L79","v":0},{"$f":"'元(楽天ﾄｰﾀﾙ)'!M79","v":0}]
["楽天・全米株式インデックス・ファンド(楽天・VTI)特定すべて再投資型",{"$f":"'元(楽天ﾄｰﾀﾙ)'!A80","v":"投資信託"},{"$f":"'元(楽天ﾄｰﾀﾙ)'!B80","v":"特定"},{"$f":"'元(楽天ﾄｰﾀﾙ)'!C80","v":"楽天・全米株式インデックス・ファンド(楽天・VTI)"},{"$f":"'元(楽天ﾄｰﾀﾙ)'!D80","v":"再投資型"},{"$f":"'元(楽天ﾄｰﾀﾙ)'!E80","v":"-"},{"$f":"'元(楽天ﾄｰﾀﾙ)'!F80","v":"-"},{"$f":"'元(楽天ﾄｰﾀﾙ)'!G80","v":"すべて"},{"$f":"'元(楽天ﾄｰﾀﾙ)'!H80","v":0},{"$f":"'元(楽天ﾄｰﾀﾙ)'!I80","v":137495},{"$f":"'元(楽天ﾄｰﾀﾙ)'!J80","v":140071},{"$f":"'元(楽天ﾄｰﾀﾙ)'!K80","v":-2576},{"$f":"'元(楽天ﾄｰﾀﾙ)'!L80","v":0},{"$f":"'元(楽天ﾄｰﾀﾙ)'!M80","v":0}]
["楽天・全米株式インデックス・ファンド(楽天・VTI)特定保有中再投資型",{"$f":"'元(楽天ﾄｰﾀﾙ)'!A81","v":"投資信託"},{"$f":"'元(楽天ﾄｰﾀﾙ)'!B81","v":"特定"},{"$f":"'元(楽天ﾄｰﾀﾙ)'!C81","v":"楽天・全米株式インデックス・ファンド(楽天・VTI)"},{"$f":"'元(楽天ﾄｰﾀﾙ)'!D81","v":"再投資型"},{"$f":"'元(楽天ﾄｰﾀﾙ)'!E81","v":0},{"$f":"'元(楽天ﾄｰﾀﾙ)'!F81","v":0},{"$f":"'元(楽天ﾄｰﾀﾙ)'!G81","v":"保有中"},{"$f":"'元(楽天ﾄｰﾀﾙ)'!H81","v":0},{"$f":"'元(楽天ﾄｰﾀﾙ)'!I81","v":0},{"$f":"'元(楽天ﾄｰﾀﾙ)'!J81","v":0},{"$f":"'元(楽天ﾄｰﾀﾙ)'!K81","v":0},{"$f":"'元(楽天ﾄｰﾀﾙ)'!L81","v":0},{"$f":"'元(楽天ﾄｰﾀﾙ)'!M81","v":0}]
[{"$f":"D82&C82&H82&E82","v":"楽天・全米株式インデックス・ファンド(楽天・VTI)特定全解約再投資型"},{"$f":"'元(楽天ﾄｰﾀﾙ)'!A82","v":"投資信託"},{"$f":"'元(楽天ﾄｰﾀﾙ)'!B82","v":"特定"},{"$f":"'元(楽天ﾄｰﾀﾙ)'!C82","v":"楽天・全米株式インデックス・ファンド(楽天・VTI)"},{"$f":"'元(楽天ﾄｰﾀﾙ)'!D82","v":"再投資型"},{"$f":"'元(楽天ﾄｰﾀﾙ)'!E82","v":"-"},{"$f":"'元(楽天ﾄｰﾀﾙ)'!F82","v":"-"},{"$f":"'元(楽天ﾄｰﾀﾙ)'!G82","v":"全解約"},{"$f":"'元(楽天ﾄｰﾀﾙ)'!H82","v":0},{"$f":"'元(楽天ﾄｰﾀﾙ)'!I82","v":137495},{"$f":"'元(楽天ﾄｰﾀﾙ)'!J82","v":140071},{"$f":"'元(楽天ﾄｰﾀﾙ)'!K82","v":-2576},{"$f":"'元(楽天ﾄｰﾀﾙ)'!L82","v":0},{"$f":"'元(楽天ﾄｰﾀﾙ)'!M82","v":0}]
["eMAXIS Slim 先進国株式インデックスつみたてNISAすべて再投資型",{"$f":"'元(楽天ﾄｰﾀﾙ)'!A83","v":"投資信託"},{"$f":"'元(楽天ﾄｰﾀﾙ)'!B83","v":"つみたてNISA"},{"$f":"'元(楽天ﾄｰﾀﾙ)'!C83","v":"eMAXIS Slim 先進国株式インデックス"},{"$f":"'元(楽天ﾄｰﾀﾙ)'!D83","v":"再投資型"},{"$f":"'元(楽天ﾄｰﾀﾙ)'!E83","v":"-"},{"$f":"'元(楽天ﾄｰﾀﾙ)'!F83","v":"-"},{"$f":"'元(楽天ﾄｰﾀﾙ)'!G83","v":"すべて"},{"$f":"'元(楽天ﾄｰﾀﾙ)'!H83","v":0},{"$f":"'元(楽天ﾄｰﾀﾙ)'!I83","v":0},{"$f":"'元(楽天ﾄｰﾀﾙ)'!J83","v":1527742},{"$f":"'元(楽天ﾄｰﾀﾙ)'!K83","v":699764},{"$f":"'元(楽天ﾄｰﾀﾙ)'!L83","v":0},{"$f":"'元(楽天ﾄｰﾀﾙ)'!M83","v":0}]
["eMAXIS Slim 先進国株式インデックスつみたてNISA保有中再投資型",{"$f":"'元(楽天ﾄｰﾀﾙ)'!A84","v":"投資信託"},{"$f":"'元(楽天ﾄｰﾀﾙ)'!B84","v":"つみたてNISA"},{"$f":"'元(楽天ﾄｰﾀﾙ)'!C84","v":"eMAXIS Slim 先進国株式インデックス"},{"$f":"'元(楽天ﾄｰﾀﾙ)'!D84","v":"再投資型"},{"$f":"'元(楽天ﾄｰﾀﾙ)'!E84","v":2227506},{"$f":"'元(楽天ﾄｰﾀﾙ)'!F84","v":930687},{"$f":"'元(楽天ﾄｰﾀﾙ)'!G84","v":"保有中"},{"$f":"'元(楽天ﾄｰﾀﾙ)'!H84","v":0},{"$f":"'元(楽天ﾄｰﾀﾙ)'!I84","v":0},{"$f":"'元(楽天ﾄｰﾀﾙ)'!J84","v":1527742},{"$f":"'元(楽天ﾄｰﾀﾙ)'!K84","v":699764},{"$f":"'元(楽天ﾄｰﾀﾙ)'!L84","v":0},{"$f":"'元(楽天ﾄｰﾀﾙ)'!M84","v":0}]
["eMAXIS Slim 先進国株式インデックスつみたてNISA全解約再投資型",{"$f":"'元(楽天ﾄｰﾀﾙ)'!A85","v":"投資信託"},{"$f":"'元(楽天ﾄｰﾀﾙ)'!B85","v":"つみたてNISA"},{"$f":"'元(楽天ﾄｰﾀﾙ)'!C85","v":"eMAXIS Slim 先進国株式インデックス"},{"$f":"'元(楽天ﾄｰﾀﾙ)'!D85","v":"再投資型"},{"$f":"'元(楽天ﾄｰﾀﾙ)'!E85","v":"-"},{"$f":"'元(楽天ﾄｰﾀﾙ)'!F85","v":"-"},{"$f":"'元(楽天ﾄｰﾀﾙ)'!G85","v":"全解約"},{"$f":"'元(楽天ﾄｰﾀﾙ)'!H85","v":0},{"$f":"'元(楽天ﾄｰﾀﾙ)'!I85","v":0},{"$f":"'元(楽天ﾄｰﾀﾙ)'!J85","v":0},{"$f":"'元(楽天ﾄｰﾀﾙ)'!K85","v":0},{"$f":"'元(楽天ﾄｰﾀﾙ)'!L85","v":0},{"$f":"'元(楽天ﾄｰﾀﾙ)'!M85","v":0}]
["eMAXIS Slim 米国株式(S&P500)つみたてNISAすべて再投資型",{"$f":"'元(楽天ﾄｰﾀﾙ)'!A86","v":"投資信託"},{"$f":"'元(楽天ﾄｰﾀﾙ)'!B86","v":"つみたてNISA"},{"$f":"'元(楽天ﾄｰﾀﾙ)'!C86","v":"eMAXIS Slim 米国株式(S&P500)"},{"$f":"'元(楽天ﾄｰﾀﾙ)'!D86","v":"再投資型"},{"$f":"'元(楽天ﾄｰﾀﾙ)'!E86","v":"-"},{"$f":"'元(楽天ﾄｰﾀﾙ)'!F86","v":"-"},{"$f":"'元(楽天ﾄｰﾀﾙ)'!G86","v":"すべて"},{"$f":"'元(楽天ﾄｰﾀﾙ)'!H86","v":0},{"$f":"'元(楽天ﾄｰﾀﾙ)'!I86","v":0},{"$f":"'元(楽天ﾄｰﾀﾙ)'!J86","v":71358},{"$f":"'元(楽天ﾄｰﾀﾙ)'!K86","v":65521},{"$f":"'元(楽天ﾄｰﾀﾙ)'!L86","v":0},{"$f":"'元(楽天ﾄｰﾀﾙ)'!M86","v":0}]
["eMAXIS Slim 米国株式(S&P500)つみたてNISA保有中再投資型",{"$f":"'元(楽天ﾄｰﾀﾙ)'!A87","v":"投資信託"},{"$f":"'元(楽天ﾄｰﾀﾙ)'!B87","v":"つみたてNISA"},{"$f":"'元(楽天ﾄｰﾀﾙ)'!C87","v":"eMAXIS Slim 米国株式(S&P500)"},{"$f":"'元(楽天ﾄｰﾀﾙ)'!D87","v":"再投資型"},{"$f":"'元(楽天ﾄｰﾀﾙ)'!E87","v":136879},{"$f":"'元(楽天ﾄｰﾀﾙ)'!F87","v":59554},{"$f":"'元(楽天ﾄｰﾀﾙ)'!G87","v":"保有中"},{"$f":"'元(楽天ﾄｰﾀﾙ)'!H87","v":0},{"$f":"'元(楽天ﾄｰﾀﾙ)'!I87","v":0},{"$f":"'元(楽天ﾄｰﾀﾙ)'!J87","v":71358},{"$f":"'元(楽天ﾄｰﾀﾙ)'!K87","v":65521},{"$f":"'元(楽天ﾄｰﾀﾙ)'!L87","v":0},{"$f":"'元(楽天ﾄｰﾀﾙ)'!M87","v":0}]
["eMAXIS Slim 米国株式(S&P500)つみたてNISA全解約再投資型",{"$f":"'元(楽天ﾄｰﾀﾙ)'!A88","v":"投資信託"},{"$f":"'元(楽天ﾄｰﾀﾙ)'!B88","v":"つみたてNISA"},{"$f":"'元(楽天ﾄｰﾀﾙ)'!C88","v":"eMAXIS Slim 米国株式(S&P500)"},{"$f":"'元(楽天ﾄｰﾀﾙ)'!D88","v":"再投資型"},{"$f":"'元(楽天ﾄｰﾀﾙ)'!E88","v":"-"},{"$f":"'元(楽天ﾄｰﾀﾙ)'!F88","v":"-"},{"$f":"'元(楽天ﾄｰﾀﾙ)'!G88","v":"全解約"},{"$f":"'元(楽天ﾄｰﾀﾙ)'!H88","v":0},{"$f":"'元(楽天ﾄｰﾀﾙ)'!I88","v":0},{"$f":"'元(楽天ﾄｰﾀﾙ)'!J88","v":0},{"$f":"'元(楽天ﾄｰﾀﾙ)'!K88","v":0},{"$f":"'元(楽天ﾄｰﾀﾙ)'!L88","v":0},{"$f":"'元(楽天ﾄｰﾀﾙ)'!M88","v":0}]
["0000",{"$f":"'元(楽天ﾄｰﾀﾙ)'!A89","v":0},{"$f":"'元(楽天ﾄｰﾀﾙ)'!B89","v":0},{"$f":"'元(楽天ﾄｰﾀﾙ)'!C89","v":0},{"$f":"'元(楽天ﾄｰﾀﾙ)'!D89","v":0},{"$f":"'元(楽天ﾄｰﾀﾙ)'!E89","v":0},{"$f":"'元(楽天ﾄｰﾀﾙ)'!F89","v":0},{"$f":"'元(楽天ﾄｰﾀﾙ)'!G89","v":0},{"$f":"'元(楽天ﾄｰﾀﾙ)'!H89","v":0},{"$f":"'元(楽天ﾄｰﾀﾙ)'!I89","v":0},{"$f":"'元(楽天ﾄｰﾀﾙ)'!J89","v":0},{"$f":"'元(楽天ﾄｰﾀﾙ)'!K89","v":0},{"$f":"'元(楽天ﾄｰﾀﾙ)'!L89","v":0},{"$f":"'元(楽天ﾄｰﾀﾙ)'!M89","v":0}]
["0000",{"$f":"'元(楽天ﾄｰﾀﾙ)'!A90","v":0},{"$f":"'元(楽天ﾄｰﾀﾙ)'!B90","v":0},{"$f":"'元(楽天ﾄｰﾀﾙ)'!C90","v":0},{"$f":"'元(楽天ﾄｰﾀﾙ)'!D90","v":0},{"$f":"'元(楽天ﾄｰﾀﾙ)'!E90","v":0},{"$f":"'元(楽天ﾄｰﾀﾙ)'!F90","v":0},{"$f":"'元(楽天ﾄｰﾀﾙ)'!G90","v":0},{"$f":"'元(楽天ﾄｰﾀﾙ)'!H90","v":0},{"$f":"'元(楽天ﾄｰﾀﾙ)'!I90","v":0},{"$f":"'元(楽天ﾄｰﾀﾙ)'!J90","v":0},{"$f":"'元(楽天ﾄｰﾀﾙ)'!K90","v":0},{"$f":"'元(楽天ﾄｰﾀﾙ)'!L90","v":0},{"$f":"'元(楽天ﾄｰﾀﾙ)'!M90","v":0}]
[{"$f":"D91&C91&H91&E91","v":"0000"},{"$f":"'元(楽天ﾄｰﾀﾙ)'!A91","v":0},{"$f":"'元(楽天ﾄｰﾀﾙ)'!B91","v":0},{"$f":"'元(楽天ﾄｰﾀﾙ)'!C91","v":0},{"$f":"'元(楽天ﾄｰﾀﾙ)'!D91","v":0},{"$f":"'元(楽天ﾄｰﾀﾙ)'!E91","v":0},{"$f":"'元(楽天ﾄｰﾀﾙ)'!F91","v":0},{"$f":"'元(楽天ﾄｰﾀﾙ)'!G91","v":0},{"$f":"'元(楽天ﾄｰﾀﾙ)'!H91","v":0},{"$f":"'元(楽天ﾄｰﾀﾙ)'!I91","v":0},{"$f":"'元(楽天ﾄｰﾀﾙ)'!J91","v":0},{"$f":"'元(楽天ﾄｰﾀﾙ)'!K91","v":0},{"$f":"'元(楽天ﾄｰﾀﾙ)'!L91","v":0},{"$f":"'元(楽天ﾄｰﾀﾙ)'!M91","v":0}]
[{"$f":"D92&C92&H92&E92","v":"0000"},{"$f":"'元(楽天ﾄｰﾀﾙ)'!A92","v":0},{"$f":"'元(楽天ﾄｰﾀﾙ)'!B92","v":0},{"$f":"'元(楽天ﾄｰﾀﾙ)'!C92","v":0},{"$f":"'元(楽天ﾄｰﾀﾙ)'!D92","v":0},{"$f":"'元(楽天ﾄｰﾀﾙ)'!E92","v":0},{"$f":"'元(楽天ﾄｰﾀﾙ)'!F92","v":0},{"$f":"'元(楽天ﾄｰﾀﾙ)'!G92","v":0},{"$f":"'元(楽天ﾄｰﾀﾙ)'!H92","v":0},{"$f":"'元(楽天ﾄｰﾀﾙ)'!I92","v":0},{"$f":"'元(楽天ﾄｰﾀﾙ)'!J92","v":0},{"$f":"'元(楽天ﾄｰﾀﾙ)'!K92","v":0},{"$f":"'元(楽天ﾄｰﾀﾙ)'!L92","v":0},{"$f":"'元(楽天ﾄｰﾀﾙ)'!M92","v":0}]
[{"$f":"D93&C93&H93&E93","v":"0000"},{"$f":"'元(楽天ﾄｰﾀﾙ)'!A93","v":0},{"$f":"'元(楽天ﾄｰﾀﾙ)'!B93","v":0},{"$f":"'元(楽天ﾄｰﾀﾙ)'!C93","v":0},{"$f":"'元(楽天ﾄｰﾀﾙ)'!D93","v":0},{"$f":"'元(楽天ﾄｰﾀﾙ)'!E93","v":0},{"$f":"'元(楽天ﾄｰﾀﾙ)'!F93","v":0},{"$f":"'元(楽天ﾄｰﾀﾙ)'!G93","v":0},{"$f":"'元(楽天ﾄｰﾀﾙ)'!H93","v":0},{"$f":"'元(楽天ﾄｰﾀﾙ)'!I93","v":0},{"$f":"'元(楽天ﾄｰﾀﾙ)'!J93","v":0},{"$f":"'元(楽天ﾄｰﾀﾙ)'!K93","v":0},{"$f":"'元(楽天ﾄｰﾀﾙ)'!L93","v":0},{"$f":"'元(楽天ﾄｰﾀﾙ)'!M93","v":0}]
[{"$f":"D94&C94&H94&E94","v":"0000"},{"$f":"'元(楽天ﾄｰﾀﾙ)'!A94","v":0},{"$f":"'元(楽天ﾄｰﾀﾙ)'!B94","v":0},{"$f":"'元(楽天ﾄｰﾀﾙ)'!C94","v":0},{"$f":"'元(楽天ﾄｰﾀﾙ)'!D94","v":0},{"$f":"'元(楽天ﾄｰﾀﾙ)'!E94","v":0},{"$f":"'元(楽天ﾄｰﾀﾙ)'!F94","v":0},{"$f":"'元(楽天ﾄｰﾀﾙ)'!G94","v":0},{"$f":"'元(楽天ﾄｰﾀﾙ)'!H94","v":0},{"$f":"'元(楽天ﾄｰﾀﾙ)'!I94","v":0},{"$f":"'元(楽天ﾄｰﾀﾙ)'!J94","v":0},{"$f":"'元(楽天ﾄｰﾀﾙ)'!K94","v":0},{"$f":"'元(楽天ﾄｰﾀﾙ)'!L94","v":0},{"$f":"'元(楽天ﾄｰﾀﾙ)'!M94","v":0}]
[{"$f":"D95&C95&H95&E95","v":"0000"},{"$f":"'元(楽天ﾄｰﾀﾙ)'!A95","v":0},{"$f":"'元(楽天ﾄｰﾀﾙ)'!B95","v":0},{"$f":"'元(楽天ﾄｰﾀﾙ)'!C95","v":0},{"$f":"'元(楽天ﾄｰﾀﾙ)'!D95","v":0},{"$f":"'元(楽天ﾄｰﾀﾙ)'!E95","v":0},{"$f":"'元(楽天ﾄｰﾀﾙ)'!F95","v":0},{"$f":"'元(楽天ﾄｰﾀﾙ)'!G95","v":0},{"$f":"'元(楽天ﾄｰﾀﾙ)'!H95","v":0},{"$f":"'元(楽天ﾄｰﾀﾙ)'!I95","v":0},{"$f":"'元(楽天ﾄｰﾀﾙ)'!J95","v":0},{"$f":"'元(楽天ﾄｰﾀﾙ)'!K95","v":0},{"$f":"'元(楽天ﾄｰﾀﾙ)'!L95","v":0},{"$f":"'元(楽天ﾄｰﾀﾙ)'!M95","v":0}]

{"sheet":"元(SBI会社)VLOOKUP","index":24,"n_rows":47,"n_cols":18,"rows_kept":47,"cut":false,"hidden":false,"merged":[]}
[null,{"$f":"'元(SBI会社)'!A1","v":"保有状況"},{"$f":"'元(SBI会社)'!B1","v":"ファンド名"},{"$f":"'元(SBI会社)'!C1","v":"口座種別"},{"$f":"'元(SBI会社)'!D1","v":"注文種別"},{"$f":"'元(SBI会社)'!E1","v":"評価金額"},{"$f":"'元(SBI会社)'!F1","v":"前年末評価金額"},{"$f":"'元(SBI会社)'!G1","v":"売却金額"},{"$f":"'元(SBI会社)'!H1","v":"分配金額"},{"$f":"'元(SBI会社)'!I1","v":"買付金額"},{"$f":"'元(SBI会社)'!J1","v":"手数料"},{"$f":"'元(SBI会社)'!K1","v":"トータルリターン（円）"},{"$f":"'元(SBI会社)'!L1","v":"トータルリターン（率）"},{"$f":"'元(SBI会社)'!M1","v":0},{"$f":"'元(SBI会社)'!N1","v":0},{"$f":"'元(SBI会社)'!O1","v":0},{"$f":"'元(SBI会社)'!P1","v":0},{"$f":"'元(SBI会社)'!Q1","v":0}]
[{"$f":"C2&D2","v":"日興－グローバル３倍３分法ファンド（１年決算型）特定/一般"},{"$f":"'元(SBI会社)'!A2","v":"保有中"},{"$f":"'元(SBI会社)'!B2","v":"日興－グローバル３倍３分法ファンド（１年決算型）"},{"$f":"'元(SBI会社)'!C2","v":"特定/一般"},{"$f":"'元(SBI会社)'!D2","v":"金額"},{"$f":"'元(SBI会社)'!E2","v":476061},{"$f":"'元(SBI会社)'!F2","v":0},{"$f":"'元(SBI会社)'!G2","v":0},{"$f":"'元(SBI会社)'!H2","v":0},{"$f":"'元(SBI会社)'!I2","v":557100},{"$f":"'元(SBI会社)'!J2","v":0},{"$f":"'元(SBI会社)'!K2","v":-81039},{"$f":"'元(SBI会社)'!L2","v":-0.1454},{"$f":"'元(SBI会社)'!M2","v":0},{"$f":"'元(SBI会社)'!N2","v":0},{"$f":"'元(SBI会社)'!O2","v":0},{"$f":"'元(SBI会社)'!P2","v":0},{"$f":"'元(SBI会社)'!Q2","v":0}]
[{"$f":"C3&D3","v":"三菱ＵＦＪ国際－ｅＭＡＸＩＳ　Ｓｌｉｍ　米国株式（Ｓ＆Ｐ５００）特定/一般"},{"$f":"'元(SBI会社)'!A3","v":"保有中"},{"$f":"'元(SBI会社)'!B3","v":"三菱ＵＦＪ国際－ｅＭＡＸＩＳ　Ｓｌｉｍ　米国株式（Ｓ＆Ｐ５００）"},{"$f":"'元(SBI会社)'!C3","v":"特定/一般"},{"$f":"'元(SBI会社)'!D3","v":"金額"},{"$f":"'元(SBI会社)'!E3","v":382789},{"$f":"'元(SBI会社)'!F3","v":0},{"$f":"'元(SBI会社)'!G3","v":20013},{"$f":"'元(SBI会社)'!H3","v":0},{"$f":"'元(SBI会社)'!I3","v":313275},{"$f":"'元(SBI会社)'!J3","v":0},{"$f":"'元(SBI会社)'!K3","v":89527},{"$f":"'元(SBI会社)'!L3","v":0.28570000000000001},{"$f":"'元(SBI会社)'!M3","v":0},{"$f":"'元(SBI会社)'!N3","v":0},{"$f":"'元(SBI会社)'!O3","v":0},{"$f":"'元(SBI会社)'!P3","v":0},{"$f":"'元(SBI会社)'!Q3","v":0}]
["三菱ＵＦＪ国際－ｅＭＡＸＩＳ　Ｓｌｉｍ　国内リートインデックス特定/一般",{"$f":"'元(SBI会社)'!A4","v":"保有中"},{"$f":"'元(SBI会社)'!B4","v":"三菱ＵＦＪ国際－ｅＭＡＸＩＳ　Ｓｌｉｍ　国内リートインデックス"},{"$f":"'元(SBI会社)'!C4","v":"特定/一般"},{"$f":"'元(SBI会社)'!D4","v":"金額"},{"$f":"'元(SBI会社)'!E4","v":31386},{"$f":"'元(SBI会社)'!F4","v":0},{"$f":"'元(SBI会社)'!G4","v":0},{"$f":"'元(SBI会社)'!H4","v":0},{"$f":"'元(SBI会社)'!I4","v":31167},{"$f":"'元(SBI会社)'!J4","v":0},{"$f":"'元(SBI会社)'!K4","v":219},{"$f":"'元(SBI会社)'!L4","v":7.0000000000000001E-3},{"$f":"'元(SBI会社)'!M4","v":0},{"$f":"'元(SBI会社)'!N4","v":0},{"$f":"'元(SBI会社)'!O4","v":0},{"$f":"'元(SBI会社)'!P4","v":0},{"$f":"'元(SBI会社)'!Q4","v":0}]
["三菱ＵＦＪ国際－ｅＭＡＸＩＳ　Ｓｌｉｍ　先進国リートインデックス特定/一般",{"$f":"'元(SBI会社)'!A5","v":"保有中"},{"$f":"'元(SBI会社)'!B5","v":"三菱ＵＦＪ国際－ｅＭＡＸＩＳ　Ｓｌｉｍ　先進国リートインデックス"},{"$f":"'元(SBI会社)'!C5","v":"特定/一般"},{"$f":"'元(SBI会社)'!D5","v":"金額"},{"$f":"'元(SBI会社)'!E5","v":282796},{"$f":"'元(SBI会社)'!F5","v":0},{"$f":"'元(SBI会社)'!G5","v":8040},{"$f":"'元(SBI会社)'!H5","v":0},{"$f":"'元(SBI会社)'!I5","v":275919},{"$f":"'元(SBI会社)'!J5","v":0},{"$f":"'元(SBI会社)'!K5","v":14917},{"$f":"'元(SBI会社)'!L5","v":5.3999999999999999E-2},{"$f":"'元(SBI会社)'!M5","v":0},{"$f":"'元(SBI会社)'!N5","v":0},{"$f":"'元(SBI会社)'!O5","v":0},{"$f":"'元(SBI会社)'!P5","v":0},{"$f":"'元(SBI会社)'!Q5","v":0}]
["三菱ＵＦＪ国際－ｅＭＡＸＩＳ　Ｓｌｉｍ　国内株式（ＴＯＰＩＸ）特定/一般",{"$f":"'元(SBI会社)'!A6","v":"保有中"},{"$f":"'元(SBI会社)'!B6","v":"三菱ＵＦＪ国際－ｅＭＡＸＩＳ　Ｓｌｉｍ　国内株式（ＴＯＰＩＸ）"},{"$f":"'元(SBI会社)'!C6","v":"特定/一般"},{"$f":"'元(SBI会社)'!D6","v":"金額"},{"$f":"'元(SBI会社)'!E6","v":1559119},{"$f":"'元(SBI会社)'!F6","v":0},{"$f":"'元(SBI会社)'!G6","v":3072},{"$f":"'元(SBI会社)'!H6","v":0},{"$f":"'元(SBI会社)'!I6","v":1272290},{"$f":"'元(SBI会社)'!J6","v":0},{"$f":"'元(SBI会社)'!K6","v":289901},{"$f":"'元(SBI会社)'!L6","v":0.2278},{"$f":"'元(SBI会社)'!M6","v":0},{"$f":"'元(SBI会社)'!N6","v":0},{"$f":"'元(SBI会社)'!O6","v":0},{"$f":"'元(SBI会社)'!P6","v":0},{"$f":"'元(SBI会社)'!Q6","v":0}]
["三菱ＵＦＪ国際－ｅＭＡＸＩＳ　Ｓｌｉｍ　国内債券インデックス特定/一般",{"$f":"'元(SBI会社)'!A7","v":"保有中"},{"$f":"'元(SBI会社)'!B7","v":"三菱ＵＦＪ国際－ｅＭＡＸＩＳ　Ｓｌｉｍ　国内債券インデックス"},{"$f":"'元(SBI会社)'!C7","v":"特定/一般"},{"$f":"'元(SBI会社)'!D7","v":"金額"},{"$f":"'元(SBI会社)'!E7","v":211369},{"$f":"'元(SBI会社)'!F7","v":0},{"$f":"'元(SBI会社)'!G7","v":271210},{"$f":"'元(SBI会社)'!H7","v":0},{"$f":"'元(SBI会社)'!I7","v":497825},{"$f":"'元(SBI会社)'!J7","v":0},{"$f":"'元(SBI会社)'!K7","v":-15246},{"$f":"'元(SBI会社)'!L7","v":-3.0599999999999999E-2},{"$f":"'元(SBI会社)'!M7","v":0},{"$f":"'元(SBI会社)'!N7","v":0},{"$f":"'元(SBI会社)'!O7","v":0},{"$f":"'元(SBI会社)'!P7","v":0},{"$f":"'元(SBI会社)'!Q7","v":0}]
["三菱ＵＦＪ国際－ｅＭＡＸＩＳ　Ｓｌｉｍ　先進国株式インデックス特定/一般",{"$f":"'元(SBI会社)'!A8","v":"保有中"},{"$f":"'元(SBI会社)'!B8","v":"三菱ＵＦＪ国際－ｅＭＡＸＩＳ　Ｓｌｉｍ　先進国株式インデックス"},{"$f":"'元(SBI会社)'!C8","v":"特定/一般"},{"$f":"'元(SBI会社)'!D8","v":"金額"},{"$f":"'元(SBI会社)'!E8","v":5575554},{"$f":"'元(SBI会社)'!F8","v":0},{"$f":"'元(SBI会社)'!G8","v":1506788},{"$f":"'元(SBI会社)'!H8","v":0},{"$f":"'元(SBI会社)'!I8","v":5855589},{"$f":"'元(SBI会社)'!J8","v":0},{"$f":"'元(SBI会社)'!K8","v":1226753},{"$f":"'元(SBI会社)'!L8","v":0.20949999999999999},{"$f":"'元(SBI会社)'!M8","v":0},{"$f":"'元(SBI会社)'!N8","v":0},{"$f":"'元(SBI会社)'!O8","v":0},{"$f":"'元(SBI会社)'!P8","v":0},{"$f":"'元(SBI会社)'!Q8","v":0}]
["三菱ＵＦＪ国際－ｅＭＡＸＩＳ　Ｓｌｉｍ　新興国株式インデックス特定/一般",{"$f":"'元(SBI会社)'!A9","v":"保有中"},{"$f":"'元(SBI会社)'!B9","v":"三菱ＵＦＪ国際－ｅＭＡＸＩＳ　Ｓｌｉｍ　新興国株式インデックス"},{"$f":"'元(SBI会社)'!C9","v":"特定/一般"},{"$f":"'元(SBI会社)'!D9","v":"金額"},{"$f":"'元(SBI会社)'!E9","v":977476},{"$f":"'元(SBI会社)'!F9","v":0},{"$f":"'元(SBI会社)'!G9","v":0},{"$f":"'元(SBI会社)'!H9","v":0},{"$f":"'元(SBI会社)'!I9","v":891658},{"$f":"'元(SBI会社)'!J9","v":0},{"$f":"'元(SBI会社)'!K9","v":85818},{"$f":"'元(SBI会社)'!L9","v":9.6199999999999994E-2},{"$f":"'元(SBI会社)'!M9","v":0},{"$f":"'元(SBI会社)'!N9","v":0},{"$f":"'元(SBI会社)'!O9","v":0},{"$f":"'元(SBI会社)'!P9","v":0},{"$f":"'元(SBI会社)'!Q9","v":0}]
["Ｏｎｅ－たわらノーロード　先進国株式＜為替ヘッジあり＞特定/一般",{"$f":"'元(SBI会社)'!A10","v":"保有中"},{"$f":"'元(SBI会社)'!B10","v":"Ｏｎｅ－たわらノーロード　先進国株式＜為替ヘッジあり＞"},{"$f":"'元(SBI会社)'!C10","v":"特定/一般"},{"$f":"'元(SBI会社)'!D10","v":"金額"},{"$f":"'元(SBI会社)'!E10","v":1688077},{"$f":"'元(SBI会社)'!F10","v":0},{"$f":"'元(SBI会社)'!G10","v":0},{"$f":"'元(SBI会社)'!H10","v":0},{"$f":"'元(SBI会社)'!I10","v":1627803},{"$f":"'元(SBI会社)'!J10","v":0},{"$f":"'元(SBI会社)'!K10","v":60274},{"$f":"'元(SBI会社)'!L10","v":3.6999999999999998E-2},{"$f":"'元(SBI会社)'!M10","v":0},{"$f":"'元(SBI会社)'!N10","v":0},{"$f":"'元(SBI会社)'!O10","v":0},{"$f":"'元(SBI会社)'!P10","v":0},{"$f":"'元(SBI会社)'!Q10","v":0}]
["三井住友ＴＡＭ－ＳＭＴ　ゴールドインデックス・オープン（為替ヘッジあり）特定/一般",{"$f":"'元(SBI会社)'!A11","v":"保有中"},{"$f":"'元(SBI会社)'!B11","v":"三井住友ＴＡＭ－ＳＭＴ　ゴールドインデックス・オープン（為替ヘッジあり）"},{"$f":"'元(SBI会社)'!C11","v":"特定/一般"},{"$f":"'元(SBI会社)'!D11","v":"金額"},{"$f":"'元(SBI会社)'!E11","v":155660},{"$f":"'元(SBI会社)'!F11","v":0},{"$f":"'元(SBI会社)'!G11","v":92344},{"$f":"'元(SBI会社)'!H11","v":0},{"$f":"'元(SBI会社)'!I11","v":246890},{"$f":"'元(SBI会社)'!J11","v":0},{"$f":"'元(SBI会社)'!K11","v":1114},{"$f":"'元(SBI会社)'!L11","v":4.4999999999999997E-3},{"$f":"'元(SBI会社)'!M11","v":0},{"$f":"'元(SBI会社)'!N11","v":0},{"$f":"'元(SBI会社)'!O11","v":0},{"$f":"'元(SBI会社)'!P11","v":0},{"$f":"'元(SBI会社)'!Q11","v":0}]
["りそな－Ｓｍａｒｔ－ｉ　先進国債券インデックス（為替ヘッジあり）特定/一般",{"$f":"'元(SBI会社)'!A12","v":"保有中"},{"$f":"'元(SBI会社)'!B12","v":"りそな－Ｓｍａｒｔ－ｉ　先進国債券インデックス（為替ヘッジあり）"},{"$f":"'元(SBI会社)'!C12","v":"特定/一般"},{"$f":"'元(SBI会社)'!D12","v":"金額"},{"$f":"'元(SBI会社)'!E12","v":188469},{"$f":"'元(SBI会社)'!F12","v":0},{"$f":"'元(SBI会社)'!G12","v":561397},{"$f":"'元(SBI会社)'!H12","v":0},{"$f":"'元(SBI会社)'!I12","v":854687},{"$f":"'元(SBI会社)'!J12","v":0},{"$f":"'元(SBI会社)'!K12","v":-104821},{"$f":"'元(SBI会社)'!L12","v":-0.1226},{"$f":"'元(SBI会社)'!M12","v":0},{"$f":"'元(SBI会社)'!N12","v":0},{"$f":"'元(SBI会社)'!O12","v":0},{"$f":"'元(SBI会社)'!P12","v":0},{"$f":"'元(SBI会社)'!Q12","v":0}]
["00",{"$f":"'元(SBI会社)'!A13","v":0},{"$f":"'元(SBI会社)'!B13","v":0},{"$f":"'元(SBI会社)'!C13","v":0},{"$f":"'元(SBI会社)'!D13","v":0},{"$f":"'元(SBI会社)'!E13","v":0},{"$f":"'元(SBI会社)'!F13","v":0},{"$f":"'元(SBI会社)'!G13","v":0},{"$f":"'元(SBI会社)'!H13","v":0},{"$f":"'元(SBI会社)'!I13","v":0},{"$f":"'元(SBI会社)'!J13","v":0},{"$f":"'元(SBI会社)'!K13","v":0},{"$f":"'元(SBI会社)'!L13","v":0},{"$f":"'元(SBI会社)'!M13","v":0},{"$f":"'元(SBI会社)'!N13","v":0},{"$f":"'元(SBI会社)'!O13","v":0},{"$f":"'元(SBI会社)'!P13","v":0},{"$f":"'元(SBI会社)'!Q13","v":0}]
["00",{"$f":"'元(SBI会社)'!A14","v":0},{"$f":"'元(SBI会社)'!B14","v":0},{"$f":"'元(SBI会社)'!C14","v":0},{"$f":"'元(SBI会社)'!D14","v":0},{"$f":"'元(SBI会社)'!E14","v":0},{"$f":"'元(SBI会社)'!F14","v":0},{"$f":"'元(SBI会社)'!G14","v":0},{"$f":"'元(SBI会社)'!H14","v":0},{"$f":"'元(SBI会社)'!I14","v":0},{"$f":"'元(SBI会社)'!J14","v":0},{"$f":"'元(SBI会社)'!K14","v":0},{"$f":"'元(SBI会社)'!L14","v":0},{"$f":"'元(SBI会社)'!M14","v":0},{"$f":"'元(SBI会社)'!N14","v":0},{"$f":"'元(SBI会社)'!O14","v":0},{"$f":"'元(SBI会社)'!P14","v":0},{"$f":"'元(SBI会社)'!Q14","v":0}]
["00",{"$f":"'元(SBI会社)'!A15","v":0},{"$f":"'元(SBI会社)'!B15","v":0},{"$f":"'元(SBI会社)'!C15","v":0},{"$f":"'元(SBI会社)'!D15","v":0},{"$f":"'元(SBI会社)'!E15","v":0},{"$f":"'元(SBI会社)'!F15","v":0},{"$f":"'元(SBI会社)'!G15","v":0},{"$f":"'元(SBI会社)'!H15","v":0},{"$f":"'元(SBI会社)'!I15","v":0},{"$f":"'元(SBI会社)'!J15","v":0},{"$f":"'元(SBI会社)'!K15","v":0},{"$f":"'元(SBI会社)'!L15","v":0},{"$f":"'元(SBI会社)'!M15","v":0},{"$f":"'元(SBI会社)'!N15","v":0},{"$f":"'元(SBI会社)'!O15","v":0},{"$f":"'元(SBI会社)'!P15","v":0},{"$f":"'元(SBI会社)'!Q15","v":0}]
["00",{"$f":"'元(SBI会社)'!A16","v":0},{"$f":"'元(SBI会社)'!B16","v":0},{"$f":"'元(SBI会社)'!C16","v":0},{"$f":"'元(SBI会社)'!D16","v":0},{"$f":"'元(SBI会社)'!E16","v":0},{"$f":"'元(SBI会社)'!F16","v":0},{"$f":"'元(SBI会社)'!G16","v":0},{"$f":"'元(SBI会社)'!H16","v":0},{"$f":"'元(SBI会社)'!I16","v":0},{"$f":"'元(SBI会社)'!J16","v":0},{"$f":"'元(SBI会社)'!K16","v":0},{"$f":"'元(SBI会社)'!L16","v":0},{"$f":"'元(SBI会社)'!M16","v":0},{"$f":"'元(SBI会社)'!N16","v":0},{"$f":"'元(SBI会社)'!O16","v":0},{"$f":"'元(SBI会社)'!P16","v":0},{"$f":"'元(SBI会社)'!Q16","v":0}]
["00",{"$f":"'元(SBI会社)'!A17","v":0},{"$f":"'元(SBI会社)'!B17","v":0},{"$f":"'元(SBI会社)'!C17","v":0},{"$f":"'元(SBI会社)'!D17","v":0},{"$f":"'元(SBI会社)'!E17","v":0},{"$f":"'元(SBI会社)'!F17","v":0},{"$f":"'元(SBI会社)'!G17","v":0},{"$f":"'元(SBI会社)'!H17","v":0},{"$f":"'元(SBI会社)'!I17","v":0},{"$f":"'元(SBI会社)'!J17","v":0},{"$f":"'元(SBI会社)'!K17","v":0},{"$f":"'元(SBI会社)'!L17","v":0},{"$f":"'元(SBI会社)'!M17","v":0},{"$f":"'元(SBI会社)'!N17","v":0},{"$f":"'元(SBI会社)'!O17","v":0},{"$f":"'元(SBI会社)'!P17","v":0},{"$f":"'元(SBI会社)'!Q17","v":0}]
["00",{"$f":"'元(SBI会社)'!A18","v":0},{"$f":"'元(SBI会社)'!B18","v":0},{"$f":"'元(SBI会社)'!C18","v":0},{"$f":"'元(SBI会社)'!D18","v":0},{"$f":"'元(SBI会社)'!E18","v":0},{"$f":"'元(SBI会社)'!F18","v":0},{"$f":"'元(SBI会社)'!G18","v":0},{"$f":"'元(SBI会社)'!H18","v":0},{"$f":"'元(SBI会社)'!I18","v":0},{"$f":"'元(SBI会社)'!J18","v":0},{"$f":"'元(SBI会社)'!K18","v":0},{"$f":"'元(SBI会社)'!L18","v":0},{"$f":"'元(SBI会社)'!M18","v":0},{"$f":"'元(SBI会社)'!N18","v":0},{"$f":"'元(SBI会社)'!O18","v":0},{"$f":"'元(SBI会社)'!P18","v":0},{"$f":"'元(SBI会社)'!Q18","v":0}]
["00",{"$f":"'元(SBI会社)'!A19","v":0},{"$f":"'元(SBI会社)'!B19","v":0},{"$f":"'元(SBI会社)'!C19","v":0},{"$f":"'元(SBI会社)'!D19","v":0},{"$f":"'元(SBI会社)'!E19","v":0},{"$f":"'元(SBI会社)'!F19","v":0},{"$f":"'元(SBI会社)'!G19","v":0},{"$f":"'元(SBI会社)'!H19","v":0},{"$f":"'元(SBI会社)'!I19","v":0},{"$f":"'元(SBI会社)'!J19","v":0},{"$f":"'元(SBI会社)'!K19","v":0},{"$f":"'元(SBI会社)'!L19","v":0},{"$f":"'元(SBI会社)'!M19","v":0},{"$f":"'元(SBI会社)'!N19","v":0},{"$f":"'元(SBI会社)'!O19","v":0},{"$f":"'元(SBI会社)'!P19","v":0},{"$f":"'元(SBI会社)'!Q19","v":0}]
["00",{"$f":"'元(SBI会社)'!A20","v":0},{"$f":"'元(SBI会社)'!B20","v":0},{"$f":"'元(SBI会社)'!C20","v":0},{"$f":"'元(SBI会社)'!D20","v":0},{"$f":"'元(SBI会社)'!E20","v":0},{"$f":"'元(SBI会社)'!F20","v":0},{"$f":"'元(SBI会社)'!G20","v":0},{"$f":"'元(SBI会社)'!H20","v":0},{"$f":"'元(SBI会社)'!I20","v":0},{"$f":"'元(SBI会社)'!J20","v":0},{"$f":"'元(SBI会社)'!K20","v":0},{"$f":"'元(SBI会社)'!L20","v":0},{"$f":"'元(SBI会社)'!M20","v":0},{"$f":"'元(SBI会社)'!N20","v":0},{"$f":"'元(SBI会社)'!O20","v":0},{"$f":"'元(SBI会社)'!P20","v":0},{"$f":"'元(SBI会社)'!Q20","v":0}]
["00",{"$f":"'元(SBI会社)'!A21","v":0},{"$f":"'元(SBI会社)'!B21","v":0},{"$f":"'元(SBI会社)'!C21","v":0},{"$f":"'元(SBI会社)'!D21","v":0},{"$f":"'元(SBI会社)'!E21","v":0},{"$f":"'元(SBI会社)'!F21","v":0},{"$f":"'元(SBI会社)'!G21","v":0},{"$f":"'元(SBI会社)'!H21","v":0},{"$f":"'元(SBI会社)'!I21","v":0},{"$f":"'元(SBI会社)'!J21","v":0},{"$f":"'元(SBI会社)'!K21","v":0},{"$f":"'元(SBI会社)'!L21","v":0},{"$f":"'元(SBI会社)'!M21","v":0},{"$f":"'元(SBI会社)'!N21","v":0},{"$f":"'元(SBI会社)'!O21","v":0},{"$f":"'元(SBI会社)'!P21","v":0},{"$f":"'元(SBI会社)'!Q21","v":0}]
["00",{"$f":"'元(SBI会社)'!A22","v":0},{"$f":"'元(SBI会社)'!B22","v":0},{"$f":"'元(SBI会社)'!C22","v":0},{"$f":"'元(SBI会社)'!D22","v":0},{"$f":"'元(SBI会社)'!E22","v":0},{"$f":"'元(SBI会社)'!F22","v":0},{"$f":"'元(SBI会社)'!G22","v":0},{"$f":"'元(SBI会社)'!H22","v":0},{"$f":"'元(SBI会社)'!I22","v":0},{"$f":"'元(SBI会社)'!J22","v":0},{"$f":"'元(SBI会社)'!K22","v":0},{"$f":"'元(SBI会社)'!L22","v":0},{"$f":"'元(SBI会社)'!M22","v":0},{"$f":"'元(SBI会社)'!N22","v":0},{"$f":"'元(SBI会社)'!O22","v":0},{"$f":"'元(SBI会社)'!P22","v":0},{"$f":"'元(SBI会社)'!Q22","v":0}]
["00",{"$f":"'元(SBI会社)'!A23","v":0},{"$f":"'元(SBI会社)'!B23","v":0},{"$f":"'元(SBI会社)'!C23","v":0},{"$f":"'元(SBI会社)'!D23","v":0},{"$f":"'元(SBI会社)'!E23","v":0},{"$f":"'元(SBI会社)'!F23","v":0},{"$f":"'元(SBI会社)'!G23","v":0},{"$f":"'元(SBI会社)'!H23","v":0},{"$f":"'元(SBI会社)'!I23","v":0},{"$f":"'元(SBI会社)'!J23","v":0},{"$f":"'元(SBI会社)'!K23","v":0},{"$f":"'元(SBI会社)'!L23","v":0},{"$f":"'元(SBI会社)'!M23","v":0},{"$f":"'元(SBI会社)'!N23","v":0},{"$f":"'元(SBI会社)'!O23","v":0},{"$f":"'元(SBI会社)'!P23","v":0},{"$f":"'元(SBI会社)'!Q23","v":0}]
["00",{"$f":"'元(SBI会社)'!A24","v":0},{"$f":"'元(SBI会社)'!B24","v":0},{"$f":"'元(SBI会社)'!C24","v":0},{"$f":"'元(SBI会社)'!D24","v":0},{"$f":"'元(SBI会社)'!E24","v":0},{"$f":"'元(SBI会社)'!F24","v":0},{"$f":"'元(SBI会社)'!G24","v":0},{"$f":"'元(SBI会社)'!H24","v":0},{"$f":"'元(SBI会社)'!I24","v":0},{"$f":"'元(SBI会社)'!J24","v":0},{"$f":"'元(SBI会社)'!K24","v":0},{"$f":"'元(SBI会社)'!L24","v":0},{"$f":"'元(SBI会社)'!M24","v":0},{"$f":"'元(SBI会社)'!N24","v":0},{"$f":"'元(SBI会社)'!O24","v":0},{"$f":"'元(SBI会社)'!P24","v":0},{"$f":"'元(SBI会社)'!Q24","v":0}]
["00",{"$f":"'元(SBI会社)'!A25","v":0},{"$f":"'元(SBI会社)'!B25","v":0},{"$f":"'元(SBI会社)'!C25","v":0},{"$f":"'元(SBI会社)'!D25","v":0},{"$f":"'元(SBI会社)'!E25","v":0},{"$f":"'元(SBI会社)'!F25","v":0},{"$f":"'元(SBI会社)'!G25","v":0},{"$f":"'元(SBI会社)'!H25","v":0},{"$f":"'元(SBI会社)'!I25","v":0},{"$f":"'元(SBI会社)'!J25","v":0},{"$f":"'元(SBI会社)'!K25","v":0},{"$f":"'元(SBI会社)'!L25","v":0},{"$f":"'元(SBI会社)'!M25","v":0},{"$f":"'元(SBI会社)'!N25","v":0},{"$f":"'元(SBI会社)'!O25","v":0},{"$f":"'元(SBI会社)'!P25","v":0},{"$f":"'元(SBI会社)'!Q25","v":0}]
["00",{"$f":"'元(SBI会社)'!A26","v":0},{"$f":"'元(SBI会社)'!B26","v":0},{"$f":"'元(SBI会社)'!C26","v":0},{"$f":"'元(SBI会社)'!D26","v":0},{"$f":"'元(SBI会社)'!E26","v":0},{"$f":"'元(SBI会社)'!F26","v":0},{"$f":"'元(SBI会社)'!G26","v":0},{"$f":"'元(SBI会社)'!H26","v":0},{"$f":"'元(SBI会社)'!I26","v":0},{"$f":"'元(SBI会社)'!J26","v":0},{"$f":"'元(SBI会社)'!K26","v":0},{"$f":"'元(SBI会社)'!L26","v":0},{"$f":"'元(SBI会社)'!M26","v":0},{"$f":"'元(SBI会社)'!N26","v":0},{"$f":"'元(SBI会社)'!O26","v":0},{"$f":"'元(SBI会社)'!P26","v":0},{"$f":"'元(SBI会社)'!Q26","v":0}]
["00",{"$f":"'元(SBI会社)'!A27","v":0},{"$f":"'元(SBI会社)'!B27","v":0},{"$f":"'元(SBI会社)'!C27","v":0},{"$f":"'元(SBI会社)'!D27","v":0},{"$f":"'元(SBI会社)'!E27","v":0},{"$f":"'元(SBI会社)'!F27","v":0},{"$f":"'元(SBI会社)'!G27","v":0},{"$f":"'元(SBI会社)'!H27","v":0},{"$f":"'元(SBI会社)'!I27","v":0},{"$f":"'元(SBI会社)'!J27","v":0},{"$f":"'元(SBI会社)'!K27","v":0},{"$f":"'元(SBI会社)'!L27","v":0},{"$f":"'元(SBI会社)'!M27","v":0},{"$f":"'元(SBI会社)'!N27","v":0},{"$f":"'元(SBI会社)'!O27","v":0},{"$f":"'元(SBI会社)'!P27","v":0},{"$f":"'元(SBI会社)'!Q27","v":0}]
["00",{"$f":"'元(SBI会社)'!A28","v":0},{"$f":"'元(SBI会社)'!B28","v":0},{"$f":"'元(SBI会社)'!C28","v":0},{"$f":"'元(SBI会社)'!D28","v":0},{"$f":"'元(SBI会社)'!E28","v":0},{"$f":"'元(SBI会社)'!F28","v":0},{"$f":"'元(SBI会社)'!G28","v":0},{"$f":"'元(SBI会社)'!H28","v":0},{"$f":"'元(SBI会社)'!I28","v":0},{"$f":"'元(SBI会社)'!J28","v":0},{"$f":"'元(SBI会社)'!K28","v":0},{"$f":"'元(SBI会社)'!L28","v":0},{"$f":"'元(SBI会社)'!M28","v":0},{"$f":"'元(SBI会社)'!N28","v":0},{"$f":"'元(SBI会社)'!O28","v":0},{"$f":"'元(SBI会社)'!P28","v":0},{"$f":"'元(SBI会社)'!Q28","v":0}]
["00",{"$f":"'元(SBI会社)'!A29","v":0},{"$f":"'元(SBI会社)'!B29","v":0},{"$f":"'元(SBI会社)'!C29","v":0},{"$f":"'元(SBI会社)'!D29","v":0},{"$f":"'元(SBI会社)'!E29","v":0},{"$f":"'元(SBI会社)'!F29","v":0},{"$f":"'元(SBI会社)'!G29","v":0},{"$f":"'元(SBI会社)'!H29","v":0},{"$f":"'元(SBI会社)'!I29","v":0},{"$f":"'元(SBI会社)'!J29","v":0},{"$f":"'元(SBI会社)'!K29","v":0},{"$f":"'元(SBI会社)'!L29","v":0},{"$f":"'元(SBI会社)'!M29","v":0},{"$f":"'元(SBI会社)'!N29","v":0},{"$f":"'元(SBI会社)'!O29","v":0},{"$f":"'元(SBI会社)'!P29","v":0},{"$f":"'元(SBI会社)'!Q29","v":0}]
["00",{"$f":"'元(SBI会社)'!A30","v":0},{"$f":"'元(SBI会社)'!B30","v":0},{"$f":"'元(SBI会社)'!C30","v":0},{"$f":"'元(SBI会社)'!D30","v":0},{"$f":"'元(SBI会社)'!E30","v":0},{"$f":"'元(SBI会社)'!F30","v":0},{"$f":"'元(SBI会社)'!G30","v":0},{"$f":"'元(SBI会社)'!H30","v":0},{"$f":"'元(SBI会社)'!I30","v":0},{"$f":"'元(SBI会社)'!J30","v":0},{"$f":"'元(SBI会社)'!K30","v":0},{"$f":"'元(SBI会社)'!L30","v":0},{"$f":"'元(SBI会社)'!M30","v":0},{"$f":"'元(SBI会社)'!N30","v":0},{"$f":"'元(SBI会社)'!O30","v":0},{"$f":"'元(SBI会社)'!P30","v":0},{"$f":"'元(SBI会社)'!Q30","v":0}]
["00",{"$f":"'元(SBI会社)'!A31","v":0},{"$f":"'元(SBI会社)'!B31","v":0},{"$f":"'元(SBI会社)'!C31","v":0},{"$f":"'元(SBI会社)'!D31","v":0},{"$f":"'元(SBI会社)'!E31","v":0},{"$f":"'元(SBI会社)'!F31","v":0},{"$f":"'元(SBI会社)'!G31","v":0},{"$f":"'元(SBI会社)'!H31","v":0},{"$f":"'元(SBI会社)'!I31","v":0},{"$f":"'元(SBI会社)'!J31","v":0},{"$f":"'元(SBI会社)'!K31","v":0},{"$f":"'元(SBI会社)'!L31","v":0},{"$f":"'元(SBI会社)'!M31","v":0},{"$f":"'元(SBI会社)'!N31","v":0},{"$f":"'元(SBI会社)'!O31","v":0},{"$f":"'元(SBI会社)'!P31","v":0},{"$f":"'元(SBI会社)'!Q31","v":0}]
["00",{"$f":"'元(SBI会社)'!A32","v":0},{"$f":"'元(SBI会社)'!B32","v":0},{"$f":"'元(SBI会社)'!C32","v":0},{"$f":"'元(SBI会社)'!D32","v":0},{"$f":"'元(SBI会社)'!E32","v":0},{"$f":"'元(SBI会社)'!F32","v":0},{"$f":"'元(SBI会社)'!G32","v":0},{"$f":"'元(SBI会社)'!H32","v":0},{"$f":"'元(SBI会社)'!I32","v":0},{"$f":"'元(SBI会社)'!J32","v":0},{"$f":"'元(SBI会社)'!K32","v":0},{"$f":"'元(SBI会社)'!L32","v":0},{"$f":"'元(SBI会社)'!M32","v":0},{"$f":"'元(SBI会社)'!N32","v":0},{"$f":"'元(SBI会社)'!O32","v":0},{"$f":"'元(SBI会社)'!P32","v":0},{"$f":"'元(SBI会社)'!Q32","v":0}]
["00",{"$f":"'元(SBI会社)'!A33","v":0},{"$f":"'元(SBI会社)'!B33","v":0},{"$f":"'元(SBI会社)'!C33","v":0},{"$f":"'元(SBI会社)'!D33","v":0},{"$f":"'元(SBI会社)'!E33","v":0},{"$f":"'元(SBI会社)'!F33","v":0},{"$f":"'元(SBI会社)'!G33","v":0},{"$f":"'元(SBI会社)'!H33","v":0},{"$f":"'元(SBI会社)'!I33","v":0},{"$f":"'元(SBI会社)'!J33","v":0},{"$f":"'元(SBI会社)'!K33","v":0},{"$f":"'元(SBI会社)'!L33","v":0},{"$f":"'元(SBI会社)'!M33","v":0},{"$f":"'元(SBI会社)'!N33","v":0},{"$f":"'元(SBI会社)'!O33","v":0},{"$f":"'元(SBI会社)'!P33","v":0},{"$f":"'元(SBI会社)'!Q33","v":0}]
["00",{"$f":"'元(SBI会社)'!A34","v":0},{"$f":"'元(SBI会社)'!B34","v":0},{"$f":"'元(SBI会社)'!C34","v":0},{"$f":"'元(SBI会社)'!D34","v":0},{"$f":"'元(SBI会社)'!E34","v":0},{"$f":"'元(SBI会社)'!F34","v":0},{"$f":"'元(SBI会社)'!G34","v":0},{"$f":"'元(SBI会社)'!H34","v":0},{"$f":"'元(SBI会社)'!I34","v":0},{"$f":"'元(SBI会社)'!J34","v":0},{"$f":"'元(SBI会社)'!K34","v":0},{"$f":"'元(SBI会社)'!L34","v":0},{"$f":"'元(SBI会社)'!M34","v":0},{"$f":"'元(SBI会社)'!N34","v":0},{"$f":"'元(SBI会社)'!O34","v":0},{"$f":"'元(SBI会社)'!P34","v":0},{"$f":"'元(SBI会社)'!Q34","v":0}]
["00",{"$f":"'元(SBI会社)'!A35","v":0},{"$f":"'元(SBI会社)'!B35","v":0},{"$f":"'元(SBI会社)'!C35","v":0},{"$f":"'元(SBI会社)'!D35","v":0},{"$f":"'元(SBI会社)'!E35","v":0},{"$f":"'元(SBI会社)'!F35","v":0},{"$f":"'元(SBI会社)'!G35","v":0},{"$f":"'元(SBI会社)'!H35","v":0},{"$f":"'元(SBI会社)'!I35","v":0},{"$f":"'元(SBI会社)'!J35","v":0},{"$f":"'元(SBI会社)'!K35","v":0},{"$f":"'元(SBI会社)'!L35","v":0},{"$f":"'元(SBI会社)'!M35","v":0},{"$f":"'元(SBI会社)'!N35","v":0},{"$f":"'元(SBI会社)'!O35","v":0},{"$f":"'元(SBI会社)'!P35","v":0},{"$f":"'元(SBI会社)'!Q35","v":0}]
["00",{"$f":"'元(SBI会社)'!A36","v":0},{"$f":"'元(SBI会社)'!B36","v":0},{"$f":"'元(SBI会社)'!C36","v":0},{"$f":"'元(SBI会社)'!D36","v":0},{"$f":"'元(SBI会社)'!E36","v":0},{"$f":"'元(SBI会社)'!F36","v":0},{"$f":"'元(SBI会社)'!G36","v":0},{"$f":"'元(SBI会社)'!H36","v":0},{"$f":"'元(SBI会社)'!I36","v":0},{"$f":"'元(SBI会社)'!J36","v":0},{"$f":"'元(SBI会社)'!K36","v":0},{"$f":"'元(SBI会社)'!L36","v":0},{"$f":"'元(SBI会社)'!M36","v":0},{"$f":"'元(SBI会社)'!N36","v":0},{"$f":"'元(SBI会社)'!O36","v":0},{"$f":"'元(SBI会社)'!P36","v":0},{"$f":"'元(SBI会社)'!Q36","v":0}]
["00",{"$f":"'元(SBI会社)'!A37","v":0},{"$f":"'元(SBI会社)'!B37","v":0},{"$f":"'元(SBI会社)'!C37","v":0},{"$f":"'元(SBI会社)'!D37","v":0},{"$f":"'元(SBI会社)'!E37","v":0},{"$f":"'元(SBI会社)'!F37","v":0},{"$f":"'元(SBI会社)'!G37","v":0},{"$f":"'元(SBI会社)'!H37","v":0},{"$f":"'元(SBI会社)'!I37","v":0},{"$f":"'元(SBI会社)'!J37","v":0},{"$f":"'元(SBI会社)'!K37","v":0},{"$f":"'元(SBI会社)'!L37","v":0},{"$f":"'元(SBI会社)'!M37","v":0},{"$f":"'元(SBI会社)'!N37","v":0},{"$f":"'元(SBI会社)'!O37","v":0},{"$f":"'元(SBI会社)'!P37","v":0},{"$f":"'元(SBI会社)'!Q37","v":0}]
["00",{"$f":"'元(SBI会社)'!A38","v":0},{"$f":"'元(SBI会社)'!B38","v":0},{"$f":"'元(SBI会社)'!C38","v":0},{"$f":"'元(SBI会社)'!D38","v":0},{"$f":"'元(SBI会社)'!E38","v":0},{"$f":"'元(SBI会社)'!F38","v":0},{"$f":"'元(SBI会社)'!G38","v":0},{"$f":"'元(SBI会社)'!H38","v":0},{"$f":"'元(SBI会社)'!I38","v":0},{"$f":"'元(SBI会社)'!J38","v":0},{"$f":"'元(SBI会社)'!K38","v":0},{"$f":"'元(SBI会社)'!L38","v":0},{"$f":"'元(SBI会社)'!M38","v":0},{"$f":"'元(SBI会社)'!N38","v":0},{"$f":"'元(SBI会社)'!O38","v":0},{"$f":"'元(SBI会社)'!P38","v":0},{"$f":"'元(SBI会社)'!Q38","v":0}]
["00",{"$f":"'元(SBI会社)'!A39","v":0},{"$f":"'元(SBI会社)'!B39","v":0},{"$f":"'元(SBI会社)'!C39","v":0},{"$f":"'元(SBI会社)'!D39","v":0},{"$f":"'元(SBI会社)'!E39","v":0},{"$f":"'元(SBI会社)'!F39","v":0},{"$f":"'元(SBI会社)'!G39","v":0},{"$f":"'元(SBI会社)'!H39","v":0},{"$f":"'元(SBI会社)'!I39","v":0},{"$f":"'元(SBI会社)'!J39","v":0},{"$f":"'元(SBI会社)'!K39","v":0},{"$f":"'元(SBI会社)'!L39","v":0},{"$f":"'元(SBI会社)'!M39","v":0},{"$f":"'元(SBI会社)'!N39","v":0},{"$f":"'元(SBI会社)'!O39","v":0},{"$f":"'元(SBI会社)'!P39","v":0},{"$f":"'元(SBI会社)'!Q39","v":0}]
["00",{"$f":"'元(SBI会社)'!A40","v":0},{"$f":"'元(SBI会社)'!B40","v":0},{"$f":"'元(SBI会社)'!C40","v":0},{"$f":"'元(SBI会社)'!D40","v":0},{"$f":"'元(SBI会社)'!E40","v":0},{"$f":"'元(SBI会社)'!F40","v":0},{"$f":"'元(SBI会社)'!G40","v":0},{"$f":"'元(SBI会社)'!H40","v":0},{"$f":"'元(SBI会社)'!I40","v":0},{"$f":"'元(SBI会社)'!J40","v":0},{"$f":"'元(SBI会社)'!K40","v":0},{"$f":"'元(SBI会社)'!L40","v":0},{"$f":"'元(SBI会社)'!M40","v":0},{"$f":"'元(SBI会社)'!N40","v":0},{"$f":"'元(SBI会社)'!O40","v":0},{"$f":"'元(SBI会社)'!P40","v":0},{"$f":"'元(SBI会社)'!Q40","v":0}]
["00",{"$f":"'元(SBI会社)'!A41","v":0},{"$f":"'元(SBI会社)'!B41","v":0},{"$f":"'元(SBI会社)'!C41","v":0},{"$f":"'元(SBI会社)'!D41","v":0},{"$f":"'元(SBI会社)'!E41","v":0},{"$f":"'元(SBI会社)'!F41","v":0},{"$f":"'元(SBI会社)'!G41","v":0},{"$f":"'元(SBI会社)'!H41","v":0},{"$f":"'元(SBI会社)'!I41","v":0},{"$f":"'元(SBI会社)'!J41","v":0},{"$f":"'元(SBI会社)'!K41","v":0},{"$f":"'元(SBI会社)'!L41","v":0},{"$f":"'元(SBI会社)'!M41","v":0},{"$f":"'元(SBI会社)'!N41","v":0},{"$f":"'元(SBI会社)'!O41","v":0},{"$f":"'元(SBI会社)'!P41","v":0},{"$f":"'元(SBI会社)'!Q41","v":0}]
["00",{"$f":"'元(SBI会社)'!A42","v":0},{"$f":"'元(SBI会社)'!B42","v":0},{"$f":"'元(SBI会社)'!C42","v":0},{"$f":"'元(SBI会社)'!D42","v":0},{"$f":"'元(SBI会社)'!E42","v":0},{"$f":"'元(SBI会社)'!F42","v":0},{"$f":"'元(SBI会社)'!G42","v":0},{"$f":"'元(SBI会社)'!H42","v":0},{"$f":"'元(SBI会社)'!I42","v":0},{"$f":"'元(SBI会社)'!J42","v":0},{"$f":"'元(SBI会社)'!K42","v":0},{"$f":"'元(SBI会社)'!L42","v":0},{"$f":"'元(SBI会社)'!M42","v":0},{"$f":"'元(SBI会社)'!N42","v":0},{"$f":"'元(SBI会社)'!O42","v":0},{"$f":"'元(SBI会社)'!P42","v":0},{"$f":"'元(SBI会社)'!Q42","v":0}]
["00",{"$f":"'元(SBI会社)'!A43","v":0},{"$f":"'元(SBI会社)'!B43","v":0},{"$f":"'元(SBI会社)'!C43","v":0},{"$f":"'元(SBI会社)'!D43","v":0},{"$f":"'元(SBI会社)'!E43","v":0},{"$f":"'元(SBI会社)'!F43","v":0},{"$f":"'元(SBI会社)'!G43","v":0},{"$f":"'元(SBI会社)'!H43","v":0},{"$f":"'元(SBI会社)'!I43","v":0},{"$f":"'元(SBI会社)'!J43","v":0},{"$f":"'元(SBI会社)'!K43","v":0},{"$f":"'元(SBI会社)'!L43","v":0},{"$f":"'元(SBI会社)'!M43","v":0},{"$f":"'元(SBI会社)'!N43","v":0},{"$f":"'元(SBI会社)'!O43","v":0},{"$f":"'元(SBI会社)'!P43","v":0},{"$f":"'元(SBI会社)'!Q43","v":0}]
["00",{"$f":"'元(SBI会社)'!A44","v":0},{"$f":"'元(SBI会社)'!B44","v":0},{"$f":"'元(SBI会社)'!C44","v":0},{"$f":"'元(SBI会社)'!D44","v":0},{"$f":"'元(SBI会社)'!E44","v":0},{"$f":"'元(SBI会社)'!F44","v":0},{"$f":"'元(SBI会社)'!G44","v":0},{"$f":"'元(SBI会社)'!H44","v":0},{"$f":"'元(SBI会社)'!I44","v":0},{"$f":"'元(SBI会社)'!J44","v":0},{"$f":"'元(SBI会社)'!K44","v":0},{"$f":"'元(SBI会社)'!L44","v":0},{"$f":"'元(SBI会社)'!M44","v":0},{"$f":"'元(SBI会社)'!N44","v":0},{"$f":"'元(SBI会社)'!O44","v":0},{"$f":"'元(SBI会社)'!P44","v":0},{"$f":"'元(SBI会社)'!Q44","v":0}]
["00",{"$f":"'元(SBI会社)'!A45","v":0},{"$f":"'元(SBI会社)'!B45","v":0},{"$f":"'元(SBI会社)'!C45","v":0},{"$f":"'元(SBI会社)'!D45","v":0},{"$f":"'元(SBI会社)'!E45","v":0},{"$f":"'元(SBI会社)'!F45","v":0},{"$f":"'元(SBI会社)'!G45","v":0},{"$f":"'元(SBI会社)'!H45","v":0},{"$f":"'元(SBI会社)'!I45","v":0},{"$f":"'元(SBI会社)'!J45","v":0},{"$f":"'元(SBI会社)'!K45","v":0},{"$f":"'元(SBI会社)'!L45","v":0},{"$f":"'元(SBI会社)'!M45","v":0},{"$f":"'元(SBI会社)'!N45","v":0},{"$f":"'元(SBI会社)'!O45","v":0},{"$f":"'元(SBI会社)'!P45","v":0},{"$f":"'元(SBI会社)'!Q45","v":0}]
["00",{"$f":"'元(SBI会社)'!A46","v":0},{"$f":"'元(SBI会社)'!B46","v":0},{"$f":"'元(SBI会社)'!C46","v":0},{"$f":"'元(SBI会社)'!D46","v":0},{"$f":"'元(SBI会社)'!E46","v":0},{"$f":"'元(SBI会社)'!F46","v":0},{"$f":"'元(SBI会社)'!G46","v":0},{"$f":"'元(SBI会社)'!H46","v":0},{"$f":"'元(SBI会社)'!I46","v":0},{"$f":"'元(SBI会社)'!J46","v":0},{"$f":"'元(SBI会社)'!K46","v":0},{"$f":"'元(SBI会社)'!L46","v":0},{"$f":"'元(SBI会社)'!M46","v":0},{"$f":"'元(SBI会社)'!N46","v":0},{"$f":"'元(SBI会社)'!O46","v":0},{"$f":"'元(SBI会社)'!P46","v":0},{"$f":"'元(SBI会社)'!Q46","v":0}]
["00",{"$f":"'元(SBI会社)'!A47","v":0},{"$f":"'元(SBI会社)'!B47","v":0},{"$f":"'元(SBI会社)'!C47","v":0},{"$f":"'元(SBI会社)'!D47","v":0},{"$f":"'元(SBI会社)'!E47","v":0},{"$f":"'元(SBI会社)'!F47","v":0},{"$f":"'元(SBI会社)'!G47","v":0},{"$f":"'元(SBI会社)'!H47","v":0},{"$f":"'元(SBI会社)'!I47","v":0},{"$f":"'元(SBI会社)'!J47","v":0},{"$f":"'元(SBI会社)'!K47","v":0},{"$f":"'元(SBI会社)'!L47","v":0},{"$f":"'元(SBI会社)'!M47","v":0},{"$f":"'元(SBI会社)'!N47","v":0},{"$f":"'元(SBI会社)'!O47","v":0},{"$f":"'元(SBI会社)'!P47","v":0},{"$f":"'元(SBI会社)'!Q47","v":0}]

{"sheet":"楽天 子(VLOOKUP)","index":25,"n_rows":70,"n_cols":13,"rows_kept":70,"cut":false,"hidden":false,"merged":[]}
[null,{"$f":"'元(楽天 子)'!A1","v":"投資信託種別"},{"$f":"'元(楽天 子)'!B1","v":"口座区分"},{"$f":"'元(楽天 子)'!C1","v":"ファンド名"},{"$f":"'元(楽天 子)'!D1","v":"分配金"},{"$f":"'元(楽天 子)'!E1","v":"現在の評価金額[円]"},{"$f":"'元(楽天 子)'!F1","v":"保有数量[口]"},{"$f":"'元(楽天 子)'!G1","v":"区分"},{"$f":"'元(楽天 子)'!H1","v":"累計受取分配金額[円]"},{"$f":"'元(楽天 子)'!I1","v":"累計解約金額[円]"},{"$f":"'元(楽天 子)'!J1","v":"累計買付金額[円]"},{"$f":"'元(楽天 子)'!K1","v":"トータルリターン[円]"},{"$f":"'元(楽天 子)'!L1","v":0}]
[{"$f":"D2&C2&H2&E2","v":"Smart-i 先進国債券インデックス(為替ヘッジあり)特定すべて再投資型"},{"$f":"'元(楽天 子)'!A2","v":"投資信託"},{"$f":"'元(楽天 子)'!B2","v":"特定"},{"$f":"'元(楽天 子)'!C2","v":"Smart-i 先進国債券インデックス(為替ヘッジあり)"},{"$f":"'元(楽天 子)'!D2","v":"再投資型"},{"$f":"'元(楽天 子)'!E2","v":"-"},{"$f":"'元(楽天 子)'!F2","v":"-"},{"$f":"'元(楽天 子)'!G2","v":"すべて"},{"$f":"'元(楽天 子)'!H2","v":0},{"$f":"'元(楽天 子)'!I2","v":0},{"$f":"'元(楽天 子)'!J2","v":300170},{"$f":"'元(楽天 子)'!K2","v":-52773},{"$f":"'元(楽天 子)'!L2","v":0}]
[{"$f":"D3&C3&H3&E3","v":"Smart-i 先進国債券インデックス(為替ヘッジあり)特定保有中再投資型"},{"$f":"'元(楽天 子)'!A3","v":"投資信託"},{"$f":"'元(楽天 子)'!B3","v":"特定"},{"$f":"'元(楽天 子)'!C3","v":"Smart-i 先進国債券インデックス(為替ヘッジあり)"},{"$f":"'元(楽天 子)'!D3","v":"再投資型"},{"$f":"'元(楽天 子)'!E3","v":247397},{"$f":"'元(楽天 子)'!F3","v":285876},{"$f":"'元(楽天 子)'!G3","v":"保有中"},{"$f":"'元(楽天 子)'!H3","v":0},{"$f":"'元(楽天 子)'!I3","v":0},{"$f":"'元(楽天 子)'!J3","v":300170},{"$f":"'元(楽天 子)'!K3","v":-52773},{"$f":"'元(楽天 子)'!L3","v":0}]
["Smart-i 先進国債券インデックス(為替ヘッジあり)特定全解約再投資型",{"$f":"'元(楽天 子)'!A4","v":"投資信託"},{"$f":"'元(楽天 子)'!B4","v":"特定"},{"$f":"'元(楽天 子)'!C4","v":"Smart-i 先進国債券インデックス(為替ヘッジあり)"},{"$f":"'元(楽天 子)'!D4","v":"再投資型"},{"$f":"'元(楽天 子)'!E4","v":"-"},{"$f":"'元(楽天 子)'!F4","v":"-"},{"$f":"'元(楽天 子)'!G4","v":"全解約"},{"$f":"'元(楽天 子)'!H4","v":0},{"$f":"'元(楽天 子)'!I4","v":0},{"$f":"'元(楽天 子)'!J4","v":0},{"$f":"'元(楽天 子)'!K4","v":0},{"$f":"'元(楽天 子)'!L4","v":0}]
["たわらノーロード 先進国株式＜為替ヘッジあり＞特定すべて再投資型",{"$f":"'元(楽天 子)'!A5","v":"投資信託"},{"$f":"'元(楽天 子)'!B5","v":"特定"},{"$f":"'元(楽天 子)'!C5","v":"たわらノーロード 先進国株式＜為替ヘッジあり＞"},{"$f":"'元(楽天 子)'!D5","v":"再投資型"},{"$f":"'元(楽天 子)'!E5","v":"-"},{"$f":"'元(楽天 子)'!F5","v":"-"},{"$f":"'元(楽天 子)'!G5","v":"すべて"},{"$f":"'元(楽天 子)'!H5","v":0},{"$f":"'元(楽天 子)'!I5","v":0},{"$f":"'元(楽天 子)'!J5","v":47527},{"$f":"'元(楽天 子)'!K5","v":5921},{"$f":"'元(楽天 子)'!L5","v":0}]
[{"$f":"D6&C6&H6&E6","v":"たわらノーロード 先進国株式＜為替ヘッジあり＞特定保有中再投資型"},{"$f":"'元(楽天 子)'!A6","v":"投資信託"},{"$f":"'元(楽天 子)'!B6","v":"特定"},{"$f":"'元(楽天 子)'!C6","v":"たわらノーロード 先進国株式＜為替ヘッジあり＞"},{"$f":"'元(楽天 子)'!D6","v":"再投資型"},{"$f":"'元(楽天 子)'!E6","v":53448},{"$f":"'元(楽天 子)'!F6","v":28726},{"$f":"'元(楽天 子)'!G6","v":"保有中"},{"$f":"'元(楽天 子)'!H6","v":0},{"$f":"'元(楽天 子)'!I6","v":0},{"$f":"'元(楽天 子)'!J6","v":47527},{"$f":"'元(楽天 子)'!K6","v":5921},{"$f":"'元(楽天 子)'!L6","v":0}]
["たわらノーロード 先進国株式＜為替ヘッジあり＞特定全解約再投資型",{"$f":"'元(楽天 子)'!A7","v":"投資信託"},{"$f":"'元(楽天 子)'!B7","v":"特定"},{"$f":"'元(楽天 子)'!C7","v":"たわらノーロード 先進国株式＜為替ヘッジあり＞"},{"$f":"'元(楽天 子)'!D7","v":"再投資型"},{"$f":"'元(楽天 子)'!E7","v":"-"},{"$f":"'元(楽天 子)'!F7","v":"-"},{"$f":"'元(楽天 子)'!G7","v":"全解約"},{"$f":"'元(楽天 子)'!H7","v":0},{"$f":"'元(楽天 子)'!I7","v":0},{"$f":"'元(楽天 子)'!J7","v":0},{"$f":"'元(楽天 子)'!K7","v":0},{"$f":"'元(楽天 子)'!L7","v":0}]
["グローバル3倍3分法ファンド(1年決算型)特定すべて再投資型",{"$f":"'元(楽天 子)'!A8","v":"投資信託"},{"$f":"'元(楽天 子)'!B8","v":"特定"},{"$f":"'元(楽天 子)'!C8","v":"グローバル3倍3分法ファンド(1年決算型)"},{"$f":"'元(楽天 子)'!D8","v":"再投資型"},{"$f":"'元(楽天 子)'!E8","v":"-"},{"$f":"'元(楽天 子)'!F8","v":"-"},{"$f":"'元(楽天 子)'!G8","v":"すべて"},{"$f":"'元(楽天 子)'!H8","v":0},{"$f":"'元(楽天 子)'!I8","v":0},{"$f":"'元(楽天 子)'!J8","v":126084},{"$f":"'元(楽天 子)'!K8","v":-11119},{"$f":"'元(楽天 子)'!L8","v":0}]
["グローバル3倍3分法ファンド(1年決算型)特定保有中再投資型",{"$f":"'元(楽天 子)'!A9","v":"投資信託"},{"$f":"'元(楽天 子)'!B9","v":"特定"},{"$f":"'元(楽天 子)'!C9","v":"グローバル3倍3分法ファンド(1年決算型)"},{"$f":"'元(楽天 子)'!D9","v":"再投資型"},{"$f":"'元(楽天 子)'!E9","v":114965},{"$f":"'元(楽天 子)'!F9","v":91351},{"$f":"'元(楽天 子)'!G9","v":"保有中"},{"$f":"'元(楽天 子)'!H9","v":0},{"$f":"'元(楽天 子)'!I9","v":0},{"$f":"'元(楽天 子)'!J9","v":126084},{"$f":"'元(楽天 子)'!K9","v":-11119},{"$f":"'元(楽天 子)'!L9","v":0}]
["グローバル3倍3分法ファンド(1年決算型)特定全解約再投資型",{"$f":"'元(楽天 子)'!A10","v":"投資信託"},{"$f":"'元(楽天 子)'!B10","v":"特定"},{"$f":"'元(楽天 子)'!C10","v":"グローバル3倍3分法ファンド(1年決算型)"},{"$f":"'元(楽天 子)'!D10","v":"再投資型"},{"$f":"'元(楽天 子)'!E10","v":"-"},{"$f":"'元(楽天 子)'!F10","v":"-"},{"$f":"'元(楽天 子)'!G10","v":"全解約"},{"$f":"'元(楽天 子)'!H10","v":0},{"$f":"'元(楽天 子)'!I10","v":0},{"$f":"'元(楽天 子)'!J10","v":0},{"$f":"'元(楽天 子)'!K10","v":0},{"$f":"'元(楽天 子)'!L10","v":0}]
["eMAXIS Slim 国内株式(TOPIX)特定すべて再投資型",{"$f":"'元(楽天 子)'!A11","v":"投資信託"},{"$f":"'元(楽天 子)'!B11","v":"特定"},{"$f":"'元(楽天 子)'!C11","v":"eMAXIS Slim 国内株式(TOPIX)"},{"$f":"'元(楽天 子)'!D11","v":"再投資型"},{"$f":"'元(楽天 子)'!E11","v":"-"},{"$f":"'元(楽天 子)'!F11","v":"-"},{"$f":"'元(楽天 子)'!G11","v":"すべて"},{"$f":"'元(楽天 子)'!H11","v":0},{"$f":"'元(楽天 子)'!I11","v":0},{"$f":"'元(楽天 子)'!J11","v":315396},{"$f":"'元(楽天 子)'!K11","v":82169},{"$f":"'元(楽天 子)'!L11","v":0}]
["eMAXIS Slim 国内株式(TOPIX)特定保有中再投資型",{"$f":"'元(楽天 子)'!A12","v":"投資信託"},{"$f":"'元(楽天 子)'!B12","v":"特定"},{"$f":"'元(楽天 子)'!C12","v":"eMAXIS Slim 国内株式(TOPIX)"},{"$f":"'元(楽天 子)'!D12","v":"再投資型"},{"$f":"'元(楽天 子)'!E12","v":397565},{"$f":"'元(楽天 子)'!F12","v":229740},{"$f":"'元(楽天 子)'!G12","v":"保有中"},{"$f":"'元(楽天 子)'!H12","v":0},{"$f":"'元(楽天 子)'!I12","v":0},{"$f":"'元(楽天 子)'!J12","v":315396},{"$f":"'元(楽天 子)'!K12","v":82169},{"$f":"'元(楽天 子)'!L12","v":0}]
["eMAXIS Slim 国内株式(TOPIX)特定全解約再投資型",{"$f":"'元(楽天 子)'!A13","v":"投資信託"},{"$f":"'元(楽天 子)'!B13","v":"特定"},{"$f":"'元(楽天 子)'!C13","v":"eMAXIS Slim 国内株式(TOPIX)"},{"$f":"'元(楽天 子)'!D13","v":"再投資型"},{"$f":"'元(楽天 子)'!E13","v":"-"},{"$f":"'元(楽天 子)'!F13","v":"-"},{"$f":"'元(楽天 子)'!G13","v":"全解約"},{"$f":"'元(楽天 子)'!H13","v":0},{"$f":"'元(楽天 子)'!I13","v":0},{"$f":"'元(楽天 子)'!J13","v":0},{"$f":"'元(楽天 子)'!K13","v":0},{"$f":"'元(楽天 子)'!L13","v":0}]
["eMAXIS Slim 国内債券インデックス特定すべて再投資型",{"$f":"'元(楽天 子)'!A14","v":"投資信託"},{"$f":"'元(楽天 子)'!B14","v":"特定"},{"$f":"'元(楽天 子)'!C14","v":"eMAXIS Slim 国内債券インデックス"},{"$f":"'元(楽天 子)'!D14","v":"再投資型"},{"$f":"'元(楽天 子)'!E14","v":"-"},{"$f":"'元(楽天 子)'!F14","v":"-"},{"$f":"'元(楽天 子)'!G14","v":"すべて"},{"$f":"'元(楽天 子)'!H14","v":0},{"$f":"'元(楽天 子)'!I14","v":0},{"$f":"'元(楽天 子)'!J14","v":156725},{"$f":"'元(楽天 子)'!K14","v":-6908},{"$f":"'元(楽天 子)'!L14","v":0}]
["eMAXIS Slim 国内債券インデックス特定保有中再投資型",{"$f":"'元(楽天 子)'!A15","v":"投資信託"},{"$f":"'元(楽天 子)'!B15","v":"特定"},{"$f":"'元(楽天 子)'!C15","v":"eMAXIS Slim 国内債券インデックス"},{"$f":"'元(楽天 子)'!D15","v":"再投資型"},{"$f":"'元(楽天 子)'!E15","v":149817},{"$f":"'元(楽天 子)'!F15","v":154196},{"$f":"'元(楽天 子)'!G15","v":"保有中"},{"$f":"'元(楽天 子)'!H15","v":0},{"$f":"'元(楽天 子)'!I15","v":0},{"$f":"'元(楽天 子)'!J15","v":156725},{"$f":"'元(楽天 子)'!K15","v":-6908},{"$f":"'元(楽天 子)'!L15","v":0}]
["eMAXIS Slim 国内債券インデックス特定全解約再投資型",{"$f":"'元(楽天 子)'!A16","v":"投資信託"},{"$f":"'元(楽天 子)'!B16","v":"特定"},{"$f":"'元(楽天 子)'!C16","v":"eMAXIS Slim 国内債券インデックス"},{"$f":"'元(楽天 子)'!D16","v":"再投資型"},{"$f":"'元(楽天 子)'!E16","v":"-"},{"$f":"'元(楽天 子)'!F16","v":"-"},{"$f":"'元(楽天 子)'!G16","v":"全解約"},{"$f":"'元(楽天 子)'!H16","v":0},{"$f":"'元(楽天 子)'!I16","v":0},{"$f":"'元(楽天 子)'!J16","v":0},{"$f":"'元(楽天 子)'!K16","v":0},{"$f":"'元(楽天 子)'!L16","v":0}]
["eMAXIS Slim 先進国株式インデックス特定すべて再投資型",{"$f":"'元(楽天 子)'!A17","v":"投資信託"},{"$f":"'元(楽天 子)'!B17","v":"特定"},{"$f":"'元(楽天 子)'!C17","v":"eMAXIS Slim 先進国株式インデックス"},{"$f":"'元(楽天 子)'!D17","v":"再投資型"},{"$f":"'元(楽天 子)'!E17","v":"-"},{"$f":"'元(楽天 子)'!F17","v":"-"},{"$f":"'元(楽天 子)'!G17","v":"すべて"},{"$f":"'元(楽天 子)'!H17","v":0},{"$f":"'元(楽天 子)'!I17","v":0},{"$f":"'元(楽天 子)'!J17","v":900077},{"$f":"'元(楽天 子)'!K17","v":295113},{"$f":"'元(楽天 子)'!L17","v":0}]
["eMAXIS Slim 先進国株式インデックス特定保有中再投資型",{"$f":"'元(楽天 子)'!A18","v":"投資信託"},{"$f":"'元(楽天 子)'!B18","v":"特定"},{"$f":"'元(楽天 子)'!C18","v":"eMAXIS Slim 先進国株式インデックス"},{"$f":"'元(楽天 子)'!D18","v":"再投資型"},{"$f":"'元(楽天 子)'!E18","v":1195190},{"$f":"'元(楽天 子)'!F18","v":499369},{"$f":"'元(楽天 子)'!G18","v":"保有中"},{"$f":"'元(楽天 子)'!H18","v":0},{"$f":"'元(楽天 子)'!I18","v":0},{"$f":"'元(楽天 子)'!J18","v":900077},{"$f":"'元(楽天 子)'!K18","v":295113},{"$f":"'元(楽天 子)'!L18","v":0}]
["eMAXIS Slim 先進国株式インデックス特定全解約再投資型",{"$f":"'元(楽天 子)'!A19","v":"投資信託"},{"$f":"'元(楽天 子)'!B19","v":"特定"},{"$f":"'元(楽天 子)'!C19","v":"eMAXIS Slim 先進国株式インデックス"},{"$f":"'元(楽天 子)'!D19","v":"再投資型"},{"$f":"'元(楽天 子)'!E19","v":"-"},{"$f":"'元(楽天 子)'!F19","v":"-"},{"$f":"'元(楽天 子)'!G19","v":"全解約"},{"$f":"'元(楽天 子)'!H19","v":0},{"$f":"'元(楽天 子)'!I19","v":0},{"$f":"'元(楽天 子)'!J19","v":0},{"$f":"'元(楽天 子)'!K19","v":0},{"$f":"'元(楽天 子)'!L19","v":0}]
[{"$f":"D20&C20&H20&E20","v":"eMAXIS Slim 新興国株式インデックス特定すべて再投資型"},{"$f":"'元(楽天 子)'!A20","v":"投資信託"},{"$f":"'元(楽天 子)'!B20","v":"特定"},{"$f":"'元(楽天 子)'!C20","v":"eMAXIS Slim 新興国株式インデックス"},{"$f":"'元(楽天 子)'!D20","v":"再投資型"},{"$f":"'元(楽天 子)'!E20","v":"-"},{"$f":"'元(楽天 子)'!F20","v":"-"},{"$f":"'元(楽天 子)'!G20","v":"すべて"},{"$f":"'元(楽天 子)'!H20","v":0},{"$f":"'元(楽天 子)'!I20","v":0},{"$f":"'元(楽天 子)'!J20","v":182260},{"$f":"'元(楽天 子)'!K20","v":12284},{"$f":"'元(楽天 子)'!L20","v":0}]
["eMAXIS Slim 新興国株式インデックス特定保有中再投資型",{"$f":"'元(楽天 子)'!A21","v":"投資信託"},{"$f":"'元(楽天 子)'!B21","v":"特定"},{"$f":"'元(楽天 子)'!C21","v":"eMAXIS Slim 新興国株式インデックス"},{"$f":"'元(楽天 子)'!D21","v":"再投資型"},{"$f":"'元(楽天 子)'!E21","v":194544},{"$f":"'元(楽天 子)'!F21","v":138920},{"$f":"'元(楽天 子)'!G21","v":"保有中"},{"$f":"'元(楽天 子)'!H21","v":0},{"$f":"'元(楽天 子)'!I21","v":0},{"$f":"'元(楽天 子)'!J21","v":182260},{"$f":"'元(楽天 子)'!K21","v":12284},{"$f":"'元(楽天 子)'!L21","v":0}]
["eMAXIS Slim 新興国株式インデックス特定全解約再投資型",{"$f":"'元(楽天 子)'!A22","v":"投資信託"},{"$f":"'元(楽天 子)'!B22","v":"特定"},{"$f":"'元(楽天 子)'!C22","v":"eMAXIS Slim 新興国株式インデックス"},{"$f":"'元(楽天 子)'!D22","v":"再投資型"},{"$f":"'元(楽天 子)'!E22","v":"-"},{"$f":"'元(楽天 子)'!F22","v":"-"},{"$f":"'元(楽天 子)'!G22","v":"全解約"},{"$f":"'元(楽天 子)'!H22","v":0},{"$f":"'元(楽天 子)'!I22","v":0},{"$f":"'元(楽天 子)'!J22","v":0},{"$f":"'元(楽天 子)'!K22","v":0},{"$f":"'元(楽天 子)'!L22","v":0}]
["eMAXIS Slim 米国株式(S&P500)特定すべて再投資型",{"$f":"'元(楽天 子)'!A23","v":"投資信託"},{"$f":"'元(楽天 子)'!B23","v":"特定"},{"$f":"'元(楽天 子)'!C23","v":"eMAXIS Slim 米国株式(S&P500)"},{"$f":"'元(楽天 子)'!D23","v":"再投資型"},{"$f":"'元(楽天 子)'!E23","v":"-"},{"$f":"'元(楽天 子)'!F23","v":"-"},{"$f":"'元(楽天 子)'!G23","v":"すべて"},{"$f":"'元(楽天 子)'!H23","v":0},{"$f":"'元(楽天 子)'!I23","v":0},{"$f":"'元(楽天 子)'!J23","v":28441},{"$f":"'元(楽天 子)'!K23","v":7621},{"$f":"'元(楽天 子)'!L23","v":0}]
["eMAXIS Slim 米国株式(S&P500)特定保有中再投資型",{"$f":"'元(楽天 子)'!A24","v":"投資信託"},{"$f":"'元(楽天 子)'!B24","v":"特定"},{"$f":"'元(楽天 子)'!C24","v":"eMAXIS Slim 米国株式(S&P500)"},{"$f":"'元(楽天 子)'!D24","v":"再投資型"},{"$f":"'元(楽天 子)'!E24","v":36062},{"$f":"'元(楽天 子)'!F24","v":15690},{"$f":"'元(楽天 子)'!G24","v":"保有中"},{"$f":"'元(楽天 子)'!H24","v":0},{"$f":"'元(楽天 子)'!I24","v":0},{"$f":"'元(楽天 子)'!J24","v":28441},{"$f":"'元(楽天 子)'!K24","v":7621},{"$f":"'元(楽天 子)'!L24","v":0}]
["eMAXIS Slim 米国株式(S&P500)特定全解約再投資型",{"$f":"'元(楽天 子)'!A25","v":"投資信託"},{"$f":"'元(楽天 子)'!B25","v":"特定"},{"$f":"'元(楽天 子)'!C25","v":"eMAXIS Slim 米国株式(S&P500)"},{"$f":"'元(楽天 子)'!D25","v":"再投資型"},{"$f":"'元(楽天 子)'!E25","v":"-"},{"$f":"'元(楽天 子)'!F25","v":"-"},{"$f":"'元(楽天 子)'!G25","v":"全解約"},{"$f":"'元(楽天 子)'!H25","v":0},{"$f":"'元(楽天 子)'!I25","v":0},{"$f":"'元(楽天 子)'!J25","v":0},{"$f":"'元(楽天 子)'!K25","v":0},{"$f":"'元(楽天 子)'!L25","v":0}]
["eMAXIS Slim 国内リートインデックス特定すべて再投資型",{"$f":"'元(楽天 子)'!A26","v":"投資信託"},{"$f":"'元(楽天 子)'!B26","v":"特定"},{"$f":"'元(楽天 子)'!C26","v":"eMAXIS Slim 国内リートインデックス"},{"$f":"'元(楽天 子)'!D26","v":"再投資型"},{"$f":"'元(楽天 子)'!E26","v":"-"},{"$f":"'元(楽天 子)'!F26","v":"-"},{"$f":"'元(楽天 子)'!G26","v":"すべて"},{"$f":"'元(楽天 子)'!H26","v":0},{"$f":"'元(楽天 子)'!I26","v":0},{"$f":"'元(楽天 子)'!J26","v":2337},{"$f":"'元(楽天 子)'!K26","v":97},{"$f":"'元(楽天 子)'!L26","v":0}]
["eMAXIS Slim 国内リートインデックス特定保有中再投資型",{"$f":"'元(楽天 子)'!A27","v":"投資信託"},{"$f":"'元(楽天 子)'!B27","v":"特定"},{"$f":"'元(楽天 子)'!C27","v":"eMAXIS Slim 国内リートインデックス"},{"$f":"'元(楽天 子)'!D27","v":"再投資型"},{"$f":"'元(楽天 子)'!E27","v":2434},{"$f":"'元(楽天 子)'!F27","v":2536},{"$f":"'元(楽天 子)'!G27","v":"保有中"},{"$f":"'元(楽天 子)'!H27","v":0},{"$f":"'元(楽天 子)'!I27","v":0},{"$f":"'元(楽天 子)'!J27","v":2337},{"$f":"'元(楽天 子)'!K27","v":97},{"$f":"'元(楽天 子)'!L27","v":0}]
["eMAXIS Slim 国内リートインデックス特定全解約再投資型",{"$f":"'元(楽天 子)'!A28","v":"投資信託"},{"$f":"'元(楽天 子)'!B28","v":"特定"},{"$f":"'元(楽天 子)'!C28","v":"eMAXIS Slim 国内リートインデックス"},{"$f":"'元(楽天 子)'!D28","v":"再投資型"},{"$f":"'元(楽天 子)'!E28","v":"-"},{"$f":"'元(楽天 子)'!F28","v":"-"},{"$f":"'元(楽天 子)'!G28","v":"全解約"},{"$f":"'元(楽天 子)'!H28","v":0},{"$f":"'元(楽天 子)'!I28","v":0},{"$f":"'元(楽天 子)'!J28","v":0},{"$f":"'元(楽天 子)'!K28","v":0},{"$f":"'元(楽天 子)'!L28","v":0}]
["eMAXIS Slim 先進国リートインデックス特定すべて再投資型",{"$f":"'元(楽天 子)'!A29","v":"投資信託"},{"$f":"'元(楽天 子)'!B29","v":"特定"},{"$f":"'元(楽天 子)'!C29","v":"eMAXIS Slim 先進国リートインデックス"},{"$f":"'元(楽天 子)'!D29","v":"再投資型"},{"$f":"'元(楽天 子)'!E29","v":"-"},{"$f":"'元(楽天 子)'!F29","v":"-"},{"$f":"'元(楽天 子)'!G29","v":"すべて"},{"$f":"'元(楽天 子)'!H29","v":0},{"$f":"'元(楽天 子)'!I29","v":0},{"$f":"'元(楽天 子)'!J29","v":50473},{"$f":"'元(楽天 子)'!K29","v":9180},{"$f":"'元(楽天 子)'!L29","v":0}]
["eMAXIS Slim 先進国リートインデックス特定保有中再投資型",{"$f":"'元(楽天 子)'!A30","v":"投資信託"},{"$f":"'元(楽天 子)'!B30","v":"特定"},{"$f":"'元(楽天 子)'!C30","v":"eMAXIS Slim 先進国リートインデックス"},{"$f":"'元(楽天 子)'!D30","v":"再投資型"},{"$f":"'元(楽天 子)'!E30","v":59653},{"$f":"'元(楽天 子)'!F30","v":47112},{"$f":"'元(楽天 子)'!G30","v":"保有中"},{"$f":"'元(楽天 子)'!H30","v":0},{"$f":"'元(楽天 子)'!I30","v":0},{"$f":"'元(楽天 子)'!J30","v":50473},{"$f":"'元(楽天 子)'!K30","v":9180},{"$f":"'元(楽天 子)'!L30","v":0}]
["eMAXIS Slim 先進国リートインデックス特定全解約再投資型",{"$f":"'元(楽天 子)'!A31","v":"投資信託"},{"$f":"'元(楽天 子)'!B31","v":"特定"},{"$f":"'元(楽天 子)'!C31","v":"eMAXIS Slim 先進国リートインデックス"},{"$f":"'元(楽天 子)'!D31","v":"再投資型"},{"$f":"'元(楽天 子)'!E31","v":"-"},{"$f":"'元(楽天 子)'!F31","v":"-"},{"$f":"'元(楽天 子)'!G31","v":"全解約"},{"$f":"'元(楽天 子)'!H31","v":0},{"$f":"'元(楽天 子)'!I31","v":0},{"$f":"'元(楽天 子)'!J31","v":0},{"$f":"'元(楽天 子)'!K31","v":0},{"$f":"'元(楽天 子)'!L31","v":0}]
["SMT ゴールドインデックス・オープン(為替ヘッジあり)特定すべて再投資型",{"$f":"'元(楽天 子)'!A32","v":"投資信託"},{"$f":"'元(楽天 子)'!B32","v":"特定"},{"$f":"'元(楽天 子)'!C32","v":"SMT ゴールドインデックス・オープン(為替ヘッジあり)"},{"$f":"'元(楽天 子)'!D32","v":"再投資型"},{"$f":"'元(楽天 子)'!E32","v":"-"},{"$f":"'元(楽天 子)'!F32","v":"-"},{"$f":"'元(楽天 子)'!G32","v":"すべて"},{"$f":"'元(楽天 子)'!H32","v":0},{"$f":"'元(楽天 子)'!I32","v":0},{"$f":"'元(楽天 子)'!J32","v":72195},{"$f":"'元(楽天 子)'!K32","v":-1746},{"$f":"'元(楽天 子)'!L32","v":0}]
["SMT ゴールドインデックス・オープン(為替ヘッジあり)特定保有中再投資型",{"$f":"'元(楽天 子)'!A33","v":"投資信託"},{"$f":"'元(楽天 子)'!B33","v":"特定"},{"$f":"'元(楽天 子)'!C33","v":"SMT ゴールドインデックス・オープン(為替ヘッジあり)"},{"$f":"'元(楽天 子)'!D33","v":"再投資型"},{"$f":"'元(楽天 子)'!E33","v":70449},{"$f":"'元(楽天 子)'!F33","v":56699},{"$f":"'元(楽天 子)'!G33","v":"保有中"},{"$f":"'元(楽天 子)'!H33","v":0},{"$f":"'元(楽天 子)'!I33","v":0},{"$f":"'元(楽天 子)'!J33","v":72195},{"$f":"'元(楽天 子)'!K33","v":-1746},{"$f":"'元(楽天 子)'!L33","v":0}]
["SMT ゴールドインデックス・オープン(為替ヘッジあり)特定全解約再投資型",{"$f":"'元(楽天 子)'!A34","v":"投資信託"},{"$f":"'元(楽天 子)'!B34","v":"特定"},{"$f":"'元(楽天 子)'!C34","v":"SMT ゴールドインデックス・オープン(為替ヘッジあり)"},{"$f":"'元(楽天 子)'!D34","v":"再投資型"},{"$f":"'元(楽天 子)'!E34","v":"-"},{"$f":"'元(楽天 子)'!F34","v":"-"},{"$f":"'元(楽天 子)'!G34","v":"全解約"},{"$f":"'元(楽天 子)'!H34","v":0},{"$f":"'元(楽天 子)'!I34","v":0},{"$f":"'元(楽天 子)'!J34","v":0},{"$f":"'元(楽天 子)'!K34","v":0},{"$f":"'元(楽天 子)'!L34","v":0}]
["0000",{"$f":"'元(楽天 子)'!A35","v":0},{"$f":"'元(楽天 子)'!B35","v":0},{"$f":"'元(楽天 子)'!C35","v":0},{"$f":"'元(楽天 子)'!D35","v":0},{"$f":"'元(楽天 子)'!E35","v":0},{"$f":"'元(楽天 子)'!F35","v":0},{"$f":"'元(楽天 子)'!G35","v":0},{"$f":"'元(楽天 子)'!H35","v":0},{"$f":"'元(楽天 子)'!I35","v":0},{"$f":"'元(楽天 子)'!J35","v":0},{"$f":"'元(楽天 子)'!K35","v":0},{"$f":"'元(楽天 子)'!L35","v":0}]
["0000",{"$f":"'元(楽天 子)'!A36","v":0},{"$f":"'元(楽天 子)'!B36","v":0},{"$f":"'元(楽天 子)'!C36","v":0},{"$f":"'元(楽天 子)'!D36","v":0},{"$f":"'元(楽天 子)'!E36","v":0},{"$f":"'元(楽天 子)'!F36","v":0},{"$f":"'元(楽天 子)'!G36","v":0},{"$f":"'元(楽天 子)'!H36","v":0},{"$f":"'元(楽天 子)'!I36","v":0},{"$f":"'元(楽天 子)'!J36","v":0},{"$f":"'元(楽天 子)'!K36","v":0},{"$f":"'元(楽天 子)'!L36","v":0}]
["0000",{"$f":"'元(楽天 子)'!A37","v":0},{"$f":"'元(楽天 子)'!B37","v":0},{"$f":"'元(楽天 子)'!C37","v":0},{"$f":"'元(楽天 子)'!D37","v":0},{"$f":"'元(楽天 子)'!E37","v":0},{"$f":"'元(楽天 子)'!F37","v":0},{"$f":"'元(楽天 子)'!G37","v":0},{"$f":"'元(楽天 子)'!H37","v":0},{"$f":"'元(楽天 子)'!I37","v":0},{"$f":"'元(楽天 子)'!J37","v":0},{"$f":"'元(楽天 子)'!K37","v":0},{"$f":"'元(楽天 子)'!L37","v":0}]
["0000",{"$f":"'元(楽天 子)'!A38","v":0},{"$f":"'元(楽天 子)'!B38","v":0},{"$f":"'元(楽天 子)'!C38","v":0},{"$f":"'元(楽天 子)'!D38","v":0},{"$f":"'元(楽天 子)'!E38","v":0},{"$f":"'元(楽天 子)'!F38","v":0},{"$f":"'元(楽天 子)'!G38","v":0},{"$f":"'元(楽天 子)'!H38","v":0},{"$f":"'元(楽天 子)'!I38","v":0},{"$f":"'元(楽天 子)'!J38","v":0},{"$f":"'元(楽天 子)'!K38","v":0},{"$f":"'元(楽天 子)'!L38","v":0}]
["0000",{"$f":"'元(楽天 子)'!A39","v":0},{"$f":"'元(楽天 子)'!B39","v":0},{"$f":"'元(楽天 子)'!C39","v":0},{"$f":"'元(楽天 子)'!D39","v":0},{"$f":"'元(楽天 子)'!E39","v":0},{"$f":"'元(楽天 子)'!F39","v":0},{"$f":"'元(楽天 子)'!G39","v":0},{"$f":"'元(楽天 子)'!H39","v":0},{"$f":"'元(楽天 子)'!I39","v":0},{"$f":"'元(楽天 子)'!J39","v":0},{"$f":"'元(楽天 子)'!K39","v":0},{"$f":"'元(楽天 子)'!L39","v":0}]
["0000",{"$f":"'元(楽天 子)'!A40","v":0},{"$f":"'元(楽天 子)'!B40","v":0},{"$f":"'元(楽天 子)'!C40","v":0},{"$f":"'元(楽天 子)'!D40","v":0},{"$f":"'元(楽天 子)'!E40","v":0},{"$f":"'元(楽天 子)'!F40","v":0},{"$f":"'元(楽天 子)'!G40","v":0},{"$f":"'元(楽天 子)'!H40","v":0},{"$f":"'元(楽天 子)'!I40","v":0},{"$f":"'元(楽天 子)'!J40","v":0},{"$f":"'元(楽天 子)'!K40","v":0},{"$f":"'元(楽天 子)'!L40","v":0}]
[{"$f":"D41&C41&H41&E41","v":"0000"},{"$f":"'元(楽天 子)'!A41","v":0},{"$f":"'元(楽天 子)'!B41","v":0},{"$f":"'元(楽天 子)'!C41","v":0},{"$f":"'元(楽天 子)'!D41","v":0},{"$f":"'元(楽天 子)'!E41","v":0},{"$f":"'元(楽天 子)'!F41","v":0},{"$f":"'元(楽天 子)'!G41","v":0},{"$f":"'元(楽天 子)'!H41","v":0},{"$f":"'元(楽天 子)'!I41","v":0},{"$f":"'元(楽天 子)'!J41","v":0},{"$f":"'元(楽天 子)'!K41","v":0},{"$f":"'元(楽天 子)'!L41","v":0}]
["0000",{"$f":"'元(楽天 子)'!A42","v":0},{"$f":"'元(楽天 子)'!B42","v":0},{"$f":"'元(楽天 子)'!C42","v":0},{"$f":"'元(楽天 子)'!D42","v":0},{"$f":"'元(楽天 子)'!E42","v":0},{"$f":"'元(楽天 子)'!F42","v":0},{"$f":"'元(楽天 子)'!G42","v":0},{"$f":"'元(楽天 子)'!H42","v":0},{"$f":"'元(楽天 子)'!I42","v":0},{"$f":"'元(楽天 子)'!J42","v":0},{"$f":"'元(楽天 子)'!K42","v":0},{"$f":"'元(楽天 子)'!L42","v":0}]
["0000",{"$f":"'元(楽天 子)'!A43","v":0},{"$f":"'元(楽天 子)'!B43","v":0},{"$f":"'元(楽天 子)'!C43","v":0},{"$f":"'元(楽天 子)'!D43","v":0},{"$f":"'元(楽天 子)'!E43","v":0},{"$f":"'元(楽天 子)'!F43","v":0},{"$f":"'元(楽天 子)'!G43","v":0},{"$f":"'元(楽天 子)'!H43","v":0},{"$f":"'元(楽天 子)'!I43","v":0},{"$f":"'元(楽天 子)'!J43","v":0},{"$f":"'元(楽天 子)'!K43","v":0},{"$f":"'元(楽天 子)'!L43","v":0}]
["0000",{"$f":"'元(楽天 子)'!A44","v":0},{"$f":"'元(楽天 子)'!B44","v":0},{"$f":"'元(楽天 子)'!C44","v":0},{"$f":"'元(楽天 子)'!D44","v":0},{"$f":"'元(楽天 子)'!E44","v":0},{"$f":"'元(楽天 子)'!F44","v":0},{"$f":"'元(楽天 子)'!G44","v":0},{"$f":"'元(楽天 子)'!H44","v":0},{"$f":"'元(楽天 子)'!I44","v":0},{"$f":"'元(楽天 子)'!J44","v":0},{"$f":"'元(楽天 子)'!K44","v":0},{"$f":"'元(楽天 子)'!L44","v":0}]
["0000",{"$f":"'元(楽天 子)'!A45","v":0},{"$f":"'元(楽天 子)'!B45","v":0},{"$f":"'元(楽天 子)'!C45","v":0},{"$f":"'元(楽天 子)'!D45","v":0},{"$f":"'元(楽天 子)'!E45","v":0},{"$f":"'元(楽天 子)'!F45","v":0},{"$f":"'元(楽天 子)'!G45","v":0},{"$f":"'元(楽天 子)'!H45","v":0},{"$f":"'元(楽天 子)'!I45","v":0},{"$f":"'元(楽天 子)'!J45","v":0},{"$f":"'元(楽天 子)'!K45","v":0},{"$f":"'元(楽天 子)'!L45","v":0}]
["0000",{"$f":"'元(楽天 子)'!A46","v":0},{"$f":"'元(楽天 子)'!B46","v":0},{"$f":"'元(楽天 子)'!C46","v":0},{"$f":"'元(楽天 子)'!D46","v":0},{"$f":"'元(楽天 子)'!E46","v":0},{"$f":"'元(楽天 子)'!F46","v":0},{"$f":"'元(楽天 子)'!G46","v":0},{"$f":"'元(楽天 子)'!H46","v":0},{"$f":"'元(楽天 子)'!I46","v":0},{"$f":"'元(楽天 子)'!J46","v":0},{"$f":"'元(楽天 子)'!K46","v":0},{"$f":"'元(楽天 子)'!L46","v":0}]
["0000",{"$f":"'元(楽天 子)'!A47","v":0},{"$f":"'元(楽天 子)'!B47","v":0},{"$f":"'元(楽天 子)'!C47","v":0},{"$f":"'元(楽天 子)'!D47","v":0},{"$f":"'元(楽天 子)'!E47","v":0},{"$f":"'元(楽天 子)'!F47","v":0},{"$f":"'元(楽天 子)'!G47","v":0},{"$f":"'元(楽天 子)'!H47","v":0},{"$f":"'元(楽天 子)'!I47","v":0},{"$f":"'元(楽天 子)'!J47","v":0},{"$f":"'元(楽天 子)'!K47","v":0},{"$f":"'元(楽天 子)'!L47","v":0}]
["0000",{"$f":"'元(楽天 子)'!A48","v":0},{"$f":"'元(楽天 子)'!B48","v":0},{"$f":"'元(楽天 子)'!C48","v":0},{"$f":"'元(楽天 子)'!D48","v":0},{"$f":"'元(楽天 子)'!E48","v":0},{"$f":"'元(楽天 子)'!F48","v":0},{"$f":"'元(楽天 子)'!G48","v":0},{"$f":"'元(楽天 子)'!H48","v":0},{"$f":"'元(楽天 子)'!I48","v":0},{"$f":"'元(楽天 子)'!J48","v":0},{"$f":"'元(楽天 子)'!K48","v":0},{"$f":"'元(楽天 子)'!L48","v":0}]
["0000",{"$f":"'元(楽天 子)'!A49","v":0},{"$f":"'元(楽天 子)'!B49","v":0},{"$f":"'元(楽天 子)'!C49","v":0},{"$f":"'元(楽天 子)'!D49","v":0},{"$f":"'元(楽天 子)'!E49","v":0},{"$f":"'元(楽天 子)'!F49","v":0},{"$f":"'元(楽天 子)'!G49","v":0},{"$f":"'元(楽天 子)'!H49","v":0},{"$f":"'元(楽天 子)'!I49","v":0},{"$f":"'元(楽天 子)'!J49","v":0},{"$f":"'元(楽天 子)'!K49","v":0},{"$f":"'元(楽天 子)'!L49","v":0}]
["0000",{"$f":"'元(楽天 子)'!A50","v":0},{"$f":"'元(楽天 子)'!B50","v":0},{"$f":"'元(楽天 子)'!C50","v":0},{"$f":"'元(楽天 子)'!D50","v":0},{"$f":"'元(楽天 子)'!E50","v":0},{"$f":"'元(楽天 子)'!F50","v":0},{"$f":"'元(楽天 子)'!G50","v":0},{"$f":"'元(楽天 子)'!H50","v":0},{"$f":"'元(楽天 子)'!I50","v":0},{"$f":"'元(楽天 子)'!J50","v":0},{"$f":"'元(楽天 子)'!K50","v":0},{"$f":"'元(楽天 子)'!L50","v":0}]
["0000",{"$f":"'元(楽天 子)'!A51","v":0},{"$f":"'元(楽天 子)'!B51","v":0},{"$f":"'元(楽天 子)'!C51","v":0},{"$f":"'元(楽天 子)'!D51","v":0},{"$f":"'元(楽天 子)'!E51","v":0},{"$f":"'元(楽天 子)'!F51","v":0},{"$f":"'元(楽天 子)'!G51","v":0},{"$f":"'元(楽天 子)'!H51","v":0},{"$f":"'元(楽天 子)'!I51","v":0},{"$f":"'元(楽天 子)'!J51","v":0},{"$f":"'元(楽天 子)'!K51","v":0},{"$f":"'元(楽天 子)'!L51","v":0}]
["0000",{"$f":"'元(楽天 子)'!A52","v":0},{"$f":"'元(楽天 子)'!B52","v":0},{"$f":"'元(楽天 子)'!C52","v":0},{"$f":"'元(楽天 子)'!D52","v":0},{"$f":"'元(楽天 子)'!E52","v":0},{"$f":"'元(楽天 子)'!F52","v":0},{"$f":"'元(楽天 子)'!G52","v":0},{"$f":"'元(楽天 子)'!H52","v":0},{"$f":"'元(楽天 子)'!I52","v":0},{"$f":"'元(楽天 子)'!J52","v":0},{"$f":"'元(楽天 子)'!K52","v":0},{"$f":"'元(楽天 子)'!L52","v":0}]
["0000",{"$f":"'元(楽天 子)'!A53","v":0},{"$f":"'元(楽天 子)'!B53","v":0},{"$f":"'元(楽天 子)'!C53","v":0},{"$f":"'元(楽天 子)'!D53","v":0},{"$f":"'元(楽天 子)'!E53","v":0},{"$f":"'元(楽天 子)'!F53","v":0},{"$f":"'元(楽天 子)'!G53","v":0},{"$f":"'元(楽天 子)'!H53","v":0},{"$f":"'元(楽天 子)'!I53","v":0},{"$f":"'元(楽天 子)'!J53","v":0},{"$f":"'元(楽天 子)'!K53","v":0},{"$f":"'元(楽天 子)'!L53","v":0}]
["0000",{"$f":"'元(楽天 子)'!A54","v":0},{"$f":"'元(楽天 子)'!B54","v":0},{"$f":"'元(楽天 子)'!C54","v":0},{"$f":"'元(楽天 子)'!D54","v":0},{"$f":"'元(楽天 子)'!E54","v":0},{"$f":"'元(楽天 子)'!F54","v":0},{"$f":"'元(楽天 子)'!G54","v":0},{"$f":"'元(楽天 子)'!H54","v":0},{"$f":"'元(楽天 子)'!I54","v":0},{"$f":"'元(楽天 子)'!J54","v":0},{"$f":"'元(楽天 子)'!K54","v":0},{"$f":"'元(楽天 子)'!L54","v":0}]
["0000",{"$f":"'元(楽天 子)'!A55","v":0},{"$f":"'元(楽天 子)'!B55","v":0},{"$f":"'元(楽天 子)'!C55","v":0},{"$f":"'元(楽天 子)'!D55","v":0},{"$f":"'元(楽天 子)'!E55","v":0},{"$f":"'元(楽天 子)'!F55","v":0},{"$f":"'元(楽天 子)'!G55","v":0},{"$f":"'元(楽天 子)'!H55","v":0},{"$f":"'元(楽天 子)'!I55","v":0},{"$f":"'元(楽天 子)'!J55","v":0},{"$f":"'元(楽天 子)'!K55","v":0},{"$f":"'元(楽天 子)'!L55","v":0}]
["0000",{"$f":"'元(楽天 子)'!A56","v":0},{"$f":"'元(楽天 子)'!B56","v":0},{"$f":"'元(楽天 子)'!C56","v":0},{"$f":"'元(楽天 子)'!D56","v":0},{"$f":"'元(楽天 子)'!E56","v":0},{"$f":"'元(楽天 子)'!F56","v":0},{"$f":"'元(楽天 子)'!G56","v":0},{"$f":"'元(楽天 子)'!H56","v":0},{"$f":"'元(楽天 子)'!I56","v":0},{"$f":"'元(楽天 子)'!J56","v":0},{"$f":"'元(楽天 子)'!K56","v":0},{"$f":"'元(楽天 子)'!L56","v":0}]
["0000",{"$f":"'元(楽天 子)'!A57","v":0},{"$f":"'元(楽天 子)'!B57","v":0},{"$f":"'元(楽天 子)'!C57","v":0},{"$f":"'元(楽天 子)'!D57","v":0},{"$f":"'元(楽天 子)'!E57","v":0},{"$f":"'元(楽天 子)'!F57","v":0},{"$f":"'元(楽天 子)'!G57","v":0},{"$f":"'元(楽天 子)'!H57","v":0},{"$f":"'元(楽天 子)'!I57","v":0},{"$f":"'元(楽天 子)'!J57","v":0},{"$f":"'元(楽天 子)'!K57","v":0},{"$f":"'元(楽天 子)'!L57","v":0}]
["0000",{"$f":"'元(楽天 子)'!A58","v":0},{"$f":"'元(楽天 子)'!B58","v":0},{"$f":"'元(楽天 子)'!C58","v":0},{"$f":"'元(楽天 子)'!D58","v":0},{"$f":"'元(楽天 子)'!E58","v":0},{"$f":"'元(楽天 子)'!F58","v":0},{"$f":"'元(楽天 子)'!G58","v":0},{"$f":"'元(楽天 子)'!H58","v":0},{"$f":"'元(楽天 子)'!I58","v":0},{"$f":"'元(楽天 子)'!J58","v":0},{"$f":"'元(楽天 子)'!K58","v":0},{"$f":"'元(楽天 子)'!L58","v":0}]
["0000",{"$f":"'元(楽天 子)'!A59","v":0},{"$f":"'元(楽天 子)'!B59","v":0},{"$f":"'元(楽天 子)'!C59","v":0},{"$f":"'元(楽天 子)'!D59","v":0},{"$f":"'元(楽天 子)'!E59","v":0},{"$f":"'元(楽天 子)'!F59","v":0},{"$f":"'元(楽天 子)'!G59","v":0},{"$f":"'元(楽天 子)'!H59","v":0},{"$f":"'元(楽天 子)'!I59","v":0},{"$f":"'元(楽天 子)'!J59","v":0},{"$f":"'元(楽天 子)'!K59","v":0},{"$f":"'元(楽天 子)'!L59","v":0}]
["0000",{"$f":"'元(楽天 子)'!A60","v":0},{"$f":"'元(楽天 子)'!B60","v":0},{"$f":"'元(楽天 子)'!C60","v":0},{"$f":"'元(楽天 子)'!D60","v":0},{"$f":"'元(楽天 子)'!E60","v":0},{"$f":"'元(楽天 子)'!F60","v":0},{"$f":"'元(楽天 子)'!G60","v":0},{"$f":"'元(楽天 子)'!H60","v":0},{"$f":"'元(楽天 子)'!I60","v":0},{"$f":"'元(楽天 子)'!J60","v":0},{"$f":"'元(楽天 子)'!K60","v":0},{"$f":"'元(楽天 子)'!L60","v":0}]
["0000",{"$f":"'元(楽天 子)'!A61","v":0},{"$f":"'元(楽天 子)'!B61","v":0},{"$f":"'元(楽天 子)'!C61","v":0},{"$f":"'元(楽天 子)'!D61","v":0},{"$f":"'元(楽天 子)'!E61","v":0},{"$f":"'元(楽天 子)'!F61","v":0},{"$f":"'元(楽天 子)'!G61","v":0},{"$f":"'元(楽天 子)'!H61","v":0},{"$f":"'元(楽天 子)'!I61","v":0},{"$f":"'元(楽天 子)'!J61","v":0},{"$f":"'元(楽天 子)'!K61","v":0},{"$f":"'元(楽天 子)'!L61","v":0}]
["0000",{"$f":"'元(楽天 子)'!A62","v":0},{"$f":"'元(楽天 子)'!B62","v":0},{"$f":"'元(楽天 子)'!C62","v":0},{"$f":"'元(楽天 子)'!D62","v":0},{"$f":"'元(楽天 子)'!E62","v":0},{"$f":"'元(楽天 子)'!F62","v":0},{"$f":"'元(楽天 子)'!G62","v":0},{"$f":"'元(楽天 子)'!H62","v":0},{"$f":"'元(楽天 子)'!I62","v":0},{"$f":"'元(楽天 子)'!J62","v":0},{"$f":"'元(楽天 子)'!K62","v":0},{"$f":"'元(楽天 子)'!L62","v":0}]
["0000",{"$f":"'元(楽天 子)'!A63","v":0},{"$f":"'元(楽天 子)'!B63","v":0},{"$f":"'元(楽天 子)'!C63","v":0},{"$f":"'元(楽天 子)'!D63","v":0},{"$f":"'元(楽天 子)'!E63","v":0},{"$f":"'元(楽天 子)'!F63","v":0},{"$f":"'元(楽天 子)'!G63","v":0},{"$f":"'元(楽天 子)'!H63","v":0},{"$f":"'元(楽天 子)'!I63","v":0},{"$f":"'元(楽天 子)'!J63","v":0},{"$f":"'元(楽天 子)'!K63","v":0},{"$f":"'元(楽天 子)'!L63","v":0}]
["0000",{"$f":"'元(楽天 子)'!A64","v":0},{"$f":"'元(楽天 子)'!B64","v":0},{"$f":"'元(楽天 子)'!C64","v":0},{"$f":"'元(楽天 子)'!D64","v":0},{"$f":"'元(楽天 子)'!E64","v":0},{"$f":"'元(楽天 子)'!F64","v":0},{"$f":"'元(楽天 子)'!G64","v":0},{"$f":"'元(楽天 子)'!H64","v":0},{"$f":"'元(楽天 子)'!I64","v":0},{"$f":"'元(楽天 子)'!J64","v":0},{"$f":"'元(楽天 子)'!K64","v":0},{"$f":"'元(楽天 子)'!L64","v":0}]
["0000",{"$f":"'元(楽天 子)'!A65","v":0},{"$f":"'元(楽天 子)'!B65","v":0},{"$f":"'元(楽天 子)'!C65","v":0},{"$f":"'元(楽天 子)'!D65","v":0},{"$f":"'元(楽天 子)'!E65","v":0},{"$f":"'元(楽天 子)'!F65","v":0},{"$f":"'元(楽天 子)'!G65","v":0},{"$f":"'元(楽天 子)'!H65","v":0},{"$f":"'元(楽天 子)'!I65","v":0},{"$f":"'元(楽天 子)'!J65","v":0},{"$f":"'元(楽天 子)'!K65","v":0},{"$f":"'元(楽天 子)'!L65","v":0}]
["0000",{"$f":"'元(楽天 子)'!A66","v":0},{"$f":"'元(楽天 子)'!B66","v":0},{"$f":"'元(楽天 子)'!C66","v":0},{"$f":"'元(楽天 子)'!D66","v":0},{"$f":"'元(楽天 子)'!E66","v":0},{"$f":"'元(楽天 子)'!F66","v":0},{"$f":"'元(楽天 子)'!G66","v":0},{"$f":"'元(楽天 子)'!H66","v":0},{"$f":"'元(楽天 子)'!I66","v":0},{"$f":"'元(楽天 子)'!J66","v":0},{"$f":"'元(楽天 子)'!K66","v":0},{"$f":"'元(楽天 子)'!L66","v":0}]
["0000",{"$f":"'元(楽天 子)'!A67","v":0},{"$f":"'元(楽天 子)'!B67","v":0},{"$f":"'元(楽天 子)'!C67","v":0},{"$f":"'元(楽天 子)'!D67","v":0},{"$f":"'元(楽天 子)'!E67","v":0},{"$f":"'元(楽天 子)'!F67","v":0},{"$f":"'元(楽天 子)'!G67","v":0},{"$f":"'元(楽天 子)'!H67","v":0},{"$f":"'元(楽天 子)'!I67","v":0},{"$f":"'元(楽天 子)'!J67","v":0},{"$f":"'元(楽天 子)'!K67","v":0},{"$f":"'元(楽天 子)'!L67","v":0}]
["0000",{"$f":"'元(楽天 子)'!A68","v":0},{"$f":"'元(楽天 子)'!B68","v":0},{"$f":"'元(楽天 子)'!C68","v":0},{"$f":"'元(楽天 子)'!D68","v":0},{"$f":"'元(楽天 子)'!E68","v":0},{"$f":"'元(楽天 子)'!F68","v":0},{"$f":"'元(楽天 子)'!G68","v":0},{"$f":"'元(楽天 子)'!H68","v":0},{"$f":"'元(楽天 子)'!I68","v":0},{"$f":"'元(楽天 子)'!J68","v":0},{"$f":"'元(楽天 子)'!K68","v":0},{"$f":"'元(楽天 子)'!L68","v":0}]
["0000",{"$f":"'元(楽天 子)'!A69","v":0},{"$f":"'元(楽天 子)'!B69","v":0},{"$f":"'元(楽天 子)'!C69","v":0},{"$f":"'元(楽天 子)'!D69","v":0},{"$f":"'元(楽天 子)'!E69","v":0},{"$f":"'元(楽天 子)'!F69","v":0},{"$f":"'元(楽天 子)'!G69","v":0},{"$f":"'元(楽天 子)'!H69","v":0},{"$f":"'元(楽天 子)'!I69","v":0},{"$f":"'元(楽天 子)'!J69","v":0},{"$f":"'元(楽天 子)'!K69","v":0},{"$f":"'元(楽天 子)'!L69","v":0}]
["0000",{"$f":"'元(楽天 子)'!A70","v":0},{"$f":"'元(楽天 子)'!B70","v":0},{"$f":"'元(楽天 子)'!C70","v":0},{"$f":"'元(楽天 子)'!D70","v":0},{"$f":"'元(楽天 子)'!E70","v":0},{"$f":"'元(楽天 子)'!F70","v":0},{"$f":"'元(楽天 子)'!G70","v":0},{"$f":"'元(楽天 子)'!H70","v":0},{"$f":"'元(楽天 子)'!I70","v":0},{"$f":"'元(楽天 子)'!J70","v":0},{"$f":"'元(楽天 子)'!K70","v":0},{"$f":"'元(楽天 子)'!L70","v":0}]

{"sheet":"楽天 ｼﾞｭﾆｱ(VLOOKUP)","index":26,"n_rows":9,"n_cols":13,"rows_kept":9,"cut":false,"hidden":false,"merged":[]}
[null,{"$f":"'元(楽天ｼﾞｭﾆｱ)'!A1","v":"投資信託種別"},{"$f":"'元(楽天ｼﾞｭﾆｱ)'!B1","v":"口座区分"},{"$f":"'元(楽天ｼﾞｭﾆｱ)'!C1","v":"ファンド名"},{"$f":"'元(楽天ｼﾞｭﾆｱ)'!D1","v":"分配金"},{"$f":"'元(楽天ｼﾞｭﾆｱ)'!E1","v":"現在の評価金額[円]"},{"$f":"'元(楽天ｼﾞｭﾆｱ)'!F1","v":"保有数量[口]"},{"$f":"'元(楽天ｼﾞｭﾆｱ)'!G1","v":"区分"},{"$f":"'元(楽天ｼﾞｭﾆｱ)'!H1","v":"累計受取分配金額[円]"},{"$f":"'元(楽天ｼﾞｭﾆｱ)'!I1","v":"累計解約金額[円]"},{"$f":"'元(楽天ｼﾞｭﾆｱ)'!J1","v":"累計買付金額[円]"},{"$f":"'元(楽天ｼﾞｭﾆｱ)'!K1","v":"トータルリターン[円]"},{"$f":"'元(楽天ｼﾞｭﾆｱ)'!L1","v":0}]
[{"$f":"D2&C2&H2&E2","v":"eMAXIS Slim 先進国株式インデックスNISAすべて再投資型"},{"$f":"'元(楽天ｼﾞｭﾆｱ)'!A2","v":"投資信託"},{"$f":"'元(楽天ｼﾞｭﾆｱ)'!B2","v":"NISA"},{"$f":"'元(楽天ｼﾞｭﾆｱ)'!C2","v":"eMAXIS Slim 先進国株式インデックス"},{"$f":"'元(楽天ｼﾞｭﾆｱ)'!D2","v":"再投資型"},{"$f":"'元(楽天ｼﾞｭﾆｱ)'!E2","v":"-"},{"$f":"'元(楽天ｼﾞｭﾆｱ)'!F2","v":"-"},{"$f":"'元(楽天ｼﾞｭﾆｱ)'!G2","v":"すべて"},{"$f":"'元(楽天ｼﾞｭﾆｱ)'!H2","v":0},{"$f":"'元(楽天ｼﾞｭﾆｱ)'!I2","v":0},{"$f":"'元(楽天ｼﾞｭﾆｱ)'!J2","v":3199992},{"$f":"'元(楽天ｼﾞｭﾆｱ)'!K2","v":1348895},{"$f":"'元(楽天ｼﾞｭﾆｱ)'!L2","v":0}]
[{"$f":"D3&C3&H3&E3","v":"eMAXIS Slim 先進国株式インデックスNISA保有中再投資型"},{"$f":"'元(楽天ｼﾞｭﾆｱ)'!A3","v":"投資信託"},{"$f":"'元(楽天ｼﾞｭﾆｱ)'!B3","v":"NISA"},{"$f":"'元(楽天ｼﾞｭﾆｱ)'!C3","v":"eMAXIS Slim 先進国株式インデックス"},{"$f":"'元(楽天ｼﾞｭﾆｱ)'!D3","v":"再投資型"},{"$f":"'元(楽天ｼﾞｭﾆｱ)'!E3","v":4548887},{"$f":"'元(楽天ｼﾞｭﾆｱ)'!F3","v":1965811},{"$f":"'元(楽天ｼﾞｭﾆｱ)'!G3","v":"保有中"},{"$f":"'元(楽天ｼﾞｭﾆｱ)'!H3","v":0},{"$f":"'元(楽天ｼﾞｭﾆｱ)'!I3","v":0},{"$f":"'元(楽天ｼﾞｭﾆｱ)'!J3","v":3199992},{"$f":"'元(楽天ｼﾞｭﾆｱ)'!K3","v":1348895},{"$f":"'元(楽天ｼﾞｭﾆｱ)'!L3","v":0}]
["eMAXIS Slim 先進国株式インデックスNISA全解約再投資型",{"$f":"'元(楽天ｼﾞｭﾆｱ)'!A4","v":"投資信託"},{"$f":"'元(楽天ｼﾞｭﾆｱ)'!B4","v":"NISA"},{"$f":"'元(楽天ｼﾞｭﾆｱ)'!C4","v":"eMAXIS Slim 先進国株式インデックス"},{"$f":"'元(楽天ｼﾞｭﾆｱ)'!D4","v":"再投資型"},{"$f":"'元(楽天ｼﾞｭﾆｱ)'!E4","v":"-"},{"$f":"'元(楽天ｼﾞｭﾆｱ)'!F4","v":"-"},{"$f":"'元(楽天ｼﾞｭﾆｱ)'!G4","v":"全解約"},{"$f":"'元(楽天ｼﾞｭﾆｱ)'!H4","v":0},{"$f":"'元(楽天ｼﾞｭﾆｱ)'!I4","v":0},{"$f":"'元(楽天ｼﾞｭﾆｱ)'!J4","v":0},{"$f":"'元(楽天ｼﾞｭﾆｱ)'!K4","v":0},{"$f":"'元(楽天ｼﾞｭﾆｱ)'!L4","v":0}]
["0000",{"$f":"'元(楽天ｼﾞｭﾆｱ)'!A5","v":0},{"$f":"'元(楽天ｼﾞｭﾆｱ)'!B5","v":0},{"$f":"'元(楽天ｼﾞｭﾆｱ)'!C5","v":0},{"$f":"'元(楽天ｼﾞｭﾆｱ)'!D5","v":0},{"$f":"'元(楽天ｼﾞｭﾆｱ)'!E5","v":0},{"$f":"'元(楽天ｼﾞｭﾆｱ)'!F5","v":0},{"$f":"'元(楽天ｼﾞｭﾆｱ)'!G5","v":0},{"$f":"'元(楽天ｼﾞｭﾆｱ)'!H5","v":0},{"$f":"'元(楽天ｼﾞｭﾆｱ)'!I5","v":0},{"$f":"'元(楽天ｼﾞｭﾆｱ)'!J5","v":0},{"$f":"'元(楽天ｼﾞｭﾆｱ)'!K5","v":0},{"$f":"'元(楽天ｼﾞｭﾆｱ)'!L5","v":0}]
["0000",{"$f":"'元(楽天ｼﾞｭﾆｱ)'!A6","v":0},{"$f":"'元(楽天ｼﾞｭﾆｱ)'!B6","v":0},{"$f":"'元(楽天ｼﾞｭﾆｱ)'!C6","v":0},{"$f":"'元(楽天ｼﾞｭﾆｱ)'!D6","v":0},{"$f":"'元(楽天ｼﾞｭﾆｱ)'!E6","v":0},{"$f":"'元(楽天ｼﾞｭﾆｱ)'!F6","v":0},{"$f":"'元(楽天ｼﾞｭﾆｱ)'!G6","v":0},{"$f":"'元(楽天ｼﾞｭﾆｱ)'!H6","v":0},{"$f":"'元(楽天ｼﾞｭﾆｱ)'!I6","v":0},{"$f":"'元(楽天ｼﾞｭﾆｱ)'!J6","v":0},{"$f":"'元(楽天ｼﾞｭﾆｱ)'!K6","v":0},{"$f":"'元(楽天ｼﾞｭﾆｱ)'!L6","v":0}]
["0000",{"$f":"'元(楽天ｼﾞｭﾆｱ)'!A7","v":0},{"$f":"'元(楽天ｼﾞｭﾆｱ)'!B7","v":0},{"$f":"'元(楽天ｼﾞｭﾆｱ)'!C7","v":0},{"$f":"'元(楽天ｼﾞｭﾆｱ)'!D7","v":0},{"$f":"'元(楽天ｼﾞｭﾆｱ)'!E7","v":0},{"$f":"'元(楽天ｼﾞｭﾆｱ)'!F7","v":0},{"$f":"'元(楽天ｼﾞｭﾆｱ)'!G7","v":0},{"$f":"'元(楽天ｼﾞｭﾆｱ)'!H7","v":0},{"$f":"'元(楽天ｼﾞｭﾆｱ)'!I7","v":0},{"$f":"'元(楽天ｼﾞｭﾆｱ)'!J7","v":0},{"$f":"'元(楽天ｼﾞｭﾆｱ)'!K7","v":0},{"$f":"'元(楽天ｼﾞｭﾆｱ)'!L7","v":0}]
["0000",{"$f":"'元(楽天ｼﾞｭﾆｱ)'!A8","v":0},{"$f":"'元(楽天ｼﾞｭﾆｱ)'!B8","v":0},{"$f":"'元(楽天ｼﾞｭﾆｱ)'!C8","v":0},{"$f":"'元(楽天ｼﾞｭﾆｱ)'!D8","v":0},{"$f":"'元(楽天ｼﾞｭﾆｱ)'!E8","v":0},{"$f":"'元(楽天ｼﾞｭﾆｱ)'!F8","v":0},{"$f":"'元(楽天ｼﾞｭﾆｱ)'!G8","v":0},{"$f":"'元(楽天ｼﾞｭﾆｱ)'!H8","v":0},{"$f":"'元(楽天ｼﾞｭﾆｱ)'!I8","v":0},{"$f":"'元(楽天ｼﾞｭﾆｱ)'!J8","v":0},{"$f":"'元(楽天ｼﾞｭﾆｱ)'!K8","v":0},{"$f":"'元(楽天ｼﾞｭﾆｱ)'!L8","v":0}]
["0000",{"$f":"'元(楽天ｼﾞｭﾆｱ)'!A9","v":0},{"$f":"'元(楽天ｼﾞｭﾆｱ)'!B9","v":0},{"$f":"'元(楽天ｼﾞｭﾆｱ)'!C9","v":0},{"$f":"'元(楽天ｼﾞｭﾆｱ)'!D9","v":0},{"$f":"'元(楽天ｼﾞｭﾆｱ)'!E9","v":0},{"$f":"'元(楽天ｼﾞｭﾆｱ)'!F9","v":0},{"$f":"'元(楽天ｼﾞｭﾆｱ)'!G9","v":0},{"$f":"'元(楽天ｼﾞｭﾆｱ)'!H9","v":0},{"$f":"'元(楽天ｼﾞｭﾆｱ)'!I9","v":0},{"$f":"'元(楽天ｼﾞｭﾆｱ)'!J9","v":0},{"$f":"'元(楽天ｼﾞｭﾆｱ)'!K9","v":0},{"$f":"'元(楽天ｼﾞｭﾆｱ)'!L9","v":0}]

{"sheet":"元(SBI夫)VLOOKUP","index":27,"n_rows":47,"n_cols":18,"rows_kept":47,"cut":false,"hidden":false,"merged":[]}
[null,{"$f":"'元(SBI夫)'!A1","v":"保有状況"},{"$f":"'元(SBI夫)'!B1","v":"ファンド名"},{"$f":"'元(SBI夫)'!C1","v":"口座種別"},{"$f":"'元(SBI夫)'!D1","v":"注文種別"},{"$f":"'元(SBI夫)'!E1","v":"評価金額"},{"$f":"'元(SBI夫)'!F1","v":"前年末評価金額"},{"$f":"'元(SBI夫)'!G1","v":"売却金額"},{"$f":"'元(SBI夫)'!H1","v":"分配金額"},{"$f":"'元(SBI夫)'!I1","v":"買付金額"},{"$f":"'元(SBI夫)'!J1","v":"手数料"},{"$f":"'元(SBI夫)'!K1","v":"トータルリターン（円）"},{"$f":"'元(SBI夫)'!L1","v":"トータルリターン（率）"},{"$f":"'元(SBI夫)'!M1","v":0},{"$f":"'元(SBI夫)'!N1","v":0},{"$f":"'元(SBI夫)'!S1","v":0},{"$f":"'元(SBI夫)'!T1","v":0},{"$f":"'元(SBI夫)'!U1","v":0}]
[{"$f":"C2&D2","v":"日興－グローバル３倍３分法ファンド（１年決算型）特定/一般"},{"$f":"'元(SBI夫)'!A2","v":"保有中"},{"$f":"'元(SBI夫)'!B2","v":"日興－グローバル３倍３分法ファンド（１年決算型）"},{"$f":"'元(SBI夫)'!C2","v":"特定/一般"},{"$f":"'元(SBI夫)'!D2","v":"金額"},{"$f":"'元(SBI夫)'!E2","v":1137458},{"$f":"'元(SBI夫)'!F2","v":0},{"$f":"'元(SBI夫)'!G2","v":0},{"$f":"'元(SBI夫)'!H2","v":0},{"$f":"'元(SBI夫)'!I2","v":1191947},{"$f":"'元(SBI夫)'!J2","v":0},{"$f":"'元(SBI夫)'!K2","v":-54489},{"$f":"'元(SBI夫)'!L2","v":-4.5699999999999998E-2},{"$f":"'元(SBI夫)'!M2","v":0},{"$f":"'元(SBI夫)'!N2","v":0},{"$f":"'元(SBI夫)'!S2","v":0},{"$f":"'元(SBI夫)'!T2","v":0},{"$f":"'元(SBI夫)'!U2","v":0}]
[{"$f":"C3&D3","v":"三菱ＵＦＪ国際－ｅＭＡＸＩＳ　Ｓｌｉｍ　米国株式（Ｓ＆Ｐ５００）特定/一般"},{"$f":"'元(SBI夫)'!A3","v":"保有中"},{"$f":"'元(SBI夫)'!B3","v":"三菱ＵＦＪ国際－ｅＭＡＸＩＳ　Ｓｌｉｍ　米国株式（Ｓ＆Ｐ５００）"},{"$f":"'元(SBI夫)'!C3","v":"特定/一般"},{"$f":"'元(SBI夫)'!D3","v":"金額"},{"$f":"'元(SBI夫)'!E3","v":468862},{"$f":"'元(SBI夫)'!F3","v":0},{"$f":"'元(SBI夫)'!G3","v":47987},{"$f":"'元(SBI夫)'!H3","v":0},{"$f":"'元(SBI夫)'!I3","v":410653},{"$f":"'元(SBI夫)'!J3","v":0},{"$f":"'元(SBI夫)'!K3","v":106196},{"$f":"'元(SBI夫)'!L3","v":0.2586},{"$f":"'元(SBI夫)'!M3","v":0},{"$f":"'元(SBI夫)'!N3","v":0},{"$f":"'元(SBI夫)'!S3","v":0},{"$f":"'元(SBI夫)'!T3","v":0},{"$f":"'元(SBI夫)'!U3","v":0}]
["三菱ＵＦＪ国際－ｅＭＡＸＩＳ　Ｓｌｉｍ　米国株式（Ｓ＆Ｐ５００）NISA/つみたてNISA",{"$f":"'元(SBI夫)'!A4","v":"保有中"},{"$f":"'元(SBI夫)'!B4","v":"三菱ＵＦＪ国際－ｅＭＡＸＩＳ　Ｓｌｉｍ　米国株式（Ｓ＆Ｐ５００）"},{"$f":"'元(SBI夫)'!C4","v":"NISA/つみたてNISA"},{"$f":"'元(SBI夫)'!D4","v":"金額"},{"$f":"'元(SBI夫)'!E4","v":54952},{"$f":"'元(SBI夫)'!F4","v":0},{"$f":"'元(SBI夫)'!G4","v":4828},{"$f":"'元(SBI夫)'!H4","v":0},{"$f":"'元(SBI夫)'!I4","v":29827},{"$f":"'元(SBI夫)'!J4","v":0},{"$f":"'元(SBI夫)'!K4","v":29953},{"$f":"'元(SBI夫)'!L4","v":1.0042},{"$f":"'元(SBI夫)'!M4","v":0},{"$f":"'元(SBI夫)'!N4","v":0},{"$f":"'元(SBI夫)'!S4","v":0},{"$f":"'元(SBI夫)'!T4","v":0},{"$f":"'元(SBI夫)'!U4","v":0}]
["三菱ＵＦＪ国際－ｅＭＡＸＩＳ　Ｓｌｉｍ　国内リートインデックス特定/一般",{"$f":"'元(SBI夫)'!A5","v":"保有中"},{"$f":"'元(SBI夫)'!B5","v":"三菱ＵＦＪ国際－ｅＭＡＸＩＳ　Ｓｌｉｍ　国内リートインデックス"},{"$f":"'元(SBI夫)'!C5","v":"特定/一般"},{"$f":"'元(SBI夫)'!D5","v":"金額"},{"$f":"'元(SBI夫)'!E5","v":77175},{"$f":"'元(SBI夫)'!F5","v":0},{"$f":"'元(SBI夫)'!G5","v":1142},{"$f":"'元(SBI夫)'!H5","v":0},{"$f":"'元(SBI夫)'!I5","v":76696},{"$f":"'元(SBI夫)'!J5","v":0},{"$f":"'元(SBI夫)'!K5","v":1621},{"$f":"'元(SBI夫)'!L5","v":2.1100000000000001E-2},{"$f":"'元(SBI夫)'!M5","v":0},{"$f":"'元(SBI夫)'!N5","v":0},{"$f":"'元(SBI夫)'!S5","v":0},{"$f":"'元(SBI夫)'!T5","v":0},{"$f":"'元(SBI夫)'!U5","v":0}]
["三菱ＵＦＪ国際－ｅＭＡＸＩＳ　Ｓｌｉｍ　先進国リートインデックス特定/一般",{"$f":"'元(SBI夫)'!A6","v":"保有中"},{"$f":"'元(SBI夫)'!B6","v":"三菱ＵＦＪ国際－ｅＭＡＸＩＳ　Ｓｌｉｍ　先進国リートインデックス"},{"$f":"'元(SBI夫)'!C6","v":"特定/一般"},{"$f":"'元(SBI夫)'!D6","v":"金額"},{"$f":"'元(SBI夫)'!E6","v":697136},{"$f":"'元(SBI夫)'!F6","v":0},{"$f":"'元(SBI夫)'!G6","v":0},{"$f":"'元(SBI夫)'!H6","v":0},{"$f":"'元(SBI夫)'!I6","v":617553},{"$f":"'元(SBI夫)'!J6","v":0},{"$f":"'元(SBI夫)'!K6","v":79583},{"$f":"'元(SBI夫)'!L6","v":0.1288},{"$f":"'元(SBI夫)'!M6","v":0},{"$f":"'元(SBI夫)'!N6","v":0},{"$f":"'元(SBI夫)'!S6","v":0},{"$f":"'元(SBI夫)'!T6","v":0},{"$f":"'元(SBI夫)'!U6","v":0}]
["三菱ＵＦＪ国際－ｅＭＡＸＩＳ　Ｓｌｉｍ　国内株式（ＴＯＰＩＸ）特定/一般",{"$f":"'元(SBI夫)'!A7","v":"保有中"},{"$f":"'元(SBI夫)'!B7","v":"三菱ＵＦＪ国際－ｅＭＡＸＩＳ　Ｓｌｉｍ　国内株式（ＴＯＰＩＸ）"},{"$f":"'元(SBI夫)'!C7","v":"特定/一般"},{"$f":"'元(SBI夫)'!D7","v":"金額"},{"$f":"'元(SBI夫)'!E7","v":2960715},{"$f":"'元(SBI夫)'!F7","v":0},{"$f":"'元(SBI夫)'!G7","v":6938},{"$f":"'元(SBI夫)'!H7","v":0},{"$f":"'元(SBI夫)'!I7","v":2316814},{"$f":"'元(SBI夫)'!J7","v":0},{"$f":"'元(SBI夫)'!K7","v":650839},{"$f":"'元(SBI夫)'!L7","v":0.28089999999999998},{"$f":"'元(SBI夫)'!M7","v":0},{"$f":"'元(SBI夫)'!N7","v":0},{"$f":"'元(SBI夫)'!S7","v":0},{"$f":"'元(SBI夫)'!T7","v":0},{"$f":"'元(SBI夫)'!U7","v":0}]
["三菱ＵＦＪ国際－ｅＭＡＸＩＳ　Ｓｌｉｍ　国内株式（ＴＯＰＩＸ）NISA/つみたてNISA",{"$f":"'元(SBI夫)'!A8","v":"保有中"},{"$f":"'元(SBI夫)'!B8","v":"三菱ＵＦＪ国際－ｅＭＡＸＩＳ　Ｓｌｉｍ　国内株式（ＴＯＰＩＸ）"},{"$f":"'元(SBI夫)'!C8","v":"NISA/つみたてNISA"},{"$f":"'元(SBI夫)'!D8","v":"金額"},{"$f":"'元(SBI夫)'!E8","v":8489},{"$f":"'元(SBI夫)'!F8","v":0},{"$f":"'元(SBI夫)'!G8","v":0},{"$f":"'元(SBI夫)'!H8","v":0},{"$f":"'元(SBI夫)'!I8","v":5832},{"$f":"'元(SBI夫)'!J8","v":0},{"$f":"'元(SBI夫)'!K8","v":2657},{"$f":"'元(SBI夫)'!L8","v":0.45550000000000002},{"$f":"'元(SBI夫)'!M8","v":0},{"$f":"'元(SBI夫)'!N8","v":0},{"$f":"'元(SBI夫)'!S8","v":0},{"$f":"'元(SBI夫)'!T8","v":0},{"$f":"'元(SBI夫)'!U8","v":0}]
["三菱ＵＦＪ国際－ｅＭＡＸＩＳ　Ｓｌｉｍ　国内債券インデックス特定/一般",{"$f":"'元(SBI夫)'!A9","v":"保有中"},{"$f":"'元(SBI夫)'!B9","v":"三菱ＵＦＪ国際－ｅＭＡＸＩＳ　Ｓｌｉｍ　国内債券インデックス"},{"$f":"'元(SBI夫)'!C9","v":"特定/一般"},{"$f":"'元(SBI夫)'!D9","v":"金額"},{"$f":"'元(SBI夫)'!E9","v":788046},{"$f":"'元(SBI夫)'!F9","v":0},{"$f":"'元(SBI夫)'!G9","v":1209262},{"$f":"'元(SBI夫)'!H9","v":0},{"$f":"'元(SBI夫)'!I9","v":2020003},{"$f":"'元(SBI夫)'!J9","v":0},{"$f":"'元(SBI夫)'!K9","v":-22695},{"$f":"'元(SBI夫)'!L9","v":-1.12E-2},{"$f":"'元(SBI夫)'!M9","v":0},{"$f":"'元(SBI夫)'!N9","v":0},{"$f":"'元(SBI夫)'!S9","v":0},{"$f":"'元(SBI夫)'!T9","v":0},{"$f":"'元(SBI夫)'!U9","v":0}]
["三菱ＵＦＪ国際－ｅＭＡＸＩＳ　Ｓｌｉｍ　先進国株式インデックス特定/一般",{"$f":"'元(SBI夫)'!A10","v":"保有中"},{"$f":"'元(SBI夫)'!B10","v":"三菱ＵＦＪ国際－ｅＭＡＸＩＳ　Ｓｌｉｍ　先進国株式インデックス"},{"$f":"'元(SBI夫)'!C10","v":"特定/一般"},{"$f":"'元(SBI夫)'!D10","v":"金額"},{"$f":"'元(SBI夫)'!E10","v":8531561},{"$f":"'元(SBI夫)'!F10","v":0},{"$f":"'元(SBI夫)'!G10","v":1288927},{"$f":"'元(SBI夫)'!H10","v":0},{"$f":"'元(SBI夫)'!I10","v":7660370},{"$f":"'元(SBI夫)'!J10","v":0},{"$f":"'元(SBI夫)'!K10","v":2160118},{"$f":"'元(SBI夫)'!L10","v":0.28189999999999998},{"$f":"'元(SBI夫)'!M10","v":0},{"$f":"'元(SBI夫)'!N10","v":0},{"$f":"'元(SBI夫)'!S10","v":0},{"$f":"'元(SBI夫)'!T10","v":0},{"$f":"'元(SBI夫)'!U10","v":0}]
["三菱ＵＦＪ国際－ｅＭＡＸＩＳ　Ｓｌｉｍ　先進国株式インデックスNISA/つみたてNISA",{"$f":"'元(SBI夫)'!A11","v":"保有中"},{"$f":"'元(SBI夫)'!B11","v":"三菱ＵＦＪ国際－ｅＭＡＸＩＳ　Ｓｌｉｍ　先進国株式インデックス"},{"$f":"'元(SBI夫)'!C11","v":"NISA/つみたてNISA"},{"$f":"'元(SBI夫)'!D11","v":"金額"},{"$f":"'元(SBI夫)'!E11","v":215741},{"$f":"'元(SBI夫)'!F11","v":0},{"$f":"'元(SBI夫)'!G11","v":7714},{"$f":"'元(SBI夫)'!H11","v":0},{"$f":"'元(SBI夫)'!I11","v":116305},{"$f":"'元(SBI夫)'!J11","v":0},{"$f":"'元(SBI夫)'!K11","v":107150},{"$f":"'元(SBI夫)'!L11","v":0.92120000000000002},{"$f":"'元(SBI夫)'!M11","v":0},{"$f":"'元(SBI夫)'!N11","v":0},{"$f":"'元(SBI夫)'!S11","v":0},{"$f":"'元(SBI夫)'!T11","v":0},{"$f":"'元(SBI夫)'!U11","v":0}]
["三菱ＵＦＪ国際－ｅＭＡＸＩＳ　Ｓｌｉｍ　新興国株式インデックス特定/一般",{"$f":"'元(SBI夫)'!A12","v":"保有中"},{"$f":"'元(SBI夫)'!B12","v":"三菱ＵＦＪ国際－ｅＭＡＸＩＳ　Ｓｌｉｍ　新興国株式インデックス"},{"$f":"'元(SBI夫)'!C12","v":"特定/一般"},{"$f":"'元(SBI夫)'!D12","v":"金額"},{"$f":"'元(SBI夫)'!E12","v":2104525},{"$f":"'元(SBI夫)'!F12","v":0},{"$f":"'元(SBI夫)'!G12","v":10844},{"$f":"'元(SBI夫)'!H12","v":0},{"$f":"'元(SBI夫)'!I12","v":1823267},{"$f":"'元(SBI夫)'!J12","v":0},{"$f":"'元(SBI夫)'!K12","v":292102},{"$f":"'元(SBI夫)'!L12","v":0.16020000000000001},{"$f":"'元(SBI夫)'!M12","v":0},{"$f":"'元(SBI夫)'!N12","v":0},{"$f":"'元(SBI夫)'!S12","v":0},{"$f":"'元(SBI夫)'!T12","v":0},{"$f":"'元(SBI夫)'!U12","v":0}]
["三菱ＵＦＪ国際－ｅＭＡＸＩＳ　Ｓｌｉｍ　新興国株式インデックスNISA/つみたてNISA",{"$f":"'元(SBI夫)'!A13","v":"保有中"},{"$f":"'元(SBI夫)'!B13","v":"三菱ＵＦＪ国際－ｅＭＡＸＩＳ　Ｓｌｉｍ　新興国株式インデックス"},{"$f":"'元(SBI夫)'!C13","v":"NISA/つみたてNISA"},{"$f":"'元(SBI夫)'!D13","v":"金額"},{"$f":"'元(SBI夫)'!E13","v":48578},{"$f":"'元(SBI夫)'!F13","v":0},{"$f":"'元(SBI夫)'!G13","v":8214},{"$f":"'元(SBI夫)'!H13","v":0},{"$f":"'元(SBI夫)'!I13","v":41547},{"$f":"'元(SBI夫)'!J13","v":0},{"$f":"'元(SBI夫)'!K13","v":15245},{"$f":"'元(SBI夫)'!L13","v":0.3669},{"$f":"'元(SBI夫)'!M13","v":0},{"$f":"'元(SBI夫)'!N13","v":0},{"$f":"'元(SBI夫)'!S13","v":0},{"$f":"'元(SBI夫)'!T13","v":0},{"$f":"'元(SBI夫)'!U13","v":0}]
["ニッセイ－＜購入・換金手数料なし＞ニッセイＴＯＰＩＸインデックスファンド特定/一般",{"$f":"'元(SBI夫)'!A14","v":"保有中"},{"$f":"'元(SBI夫)'!B14","v":"ニッセイ－＜購入・換金手数料なし＞ニッセイＴＯＰＩＸインデックスファンド"},{"$f":"'元(SBI夫)'!C14","v":"特定/一般"},{"$f":"'元(SBI夫)'!D14","v":"金額"},{"$f":"'元(SBI夫)'!E14","v":42963},{"$f":"'元(SBI夫)'!F14","v":0},{"$f":"'元(SBI夫)'!G14","v":225033},{"$f":"'元(SBI夫)'!H14","v":0},{"$f":"'元(SBI夫)'!I14","v":248791},{"$f":"'元(SBI夫)'!J14","v":0},{"$f":"'元(SBI夫)'!K14","v":19205},{"$f":"'元(SBI夫)'!L14","v":7.7100000000000002E-2},{"$f":"'元(SBI夫)'!M14","v":0},{"$f":"'元(SBI夫)'!N14","v":0},{"$f":"'元(SBI夫)'!S14","v":0},{"$f":"'元(SBI夫)'!T14","v":0},{"$f":"'元(SBI夫)'!U14","v":0}]
["ニッセイ－＜購入・換金手数料なし＞ニッセイＴＯＰＩＸインデックスファンドNISA/つみたてNISA",{"$f":"'元(SBI夫)'!A15","v":"保有中"},{"$f":"'元(SBI夫)'!B15","v":"ニッセイ－＜購入・換金手数料なし＞ニッセイＴＯＰＩＸインデックスファンド"},{"$f":"'元(SBI夫)'!C15","v":"NISA/つみたてNISA"},{"$f":"'元(SBI夫)'!D15","v":"金額"},{"$f":"'元(SBI夫)'!E15","v":211772},{"$f":"'元(SBI夫)'!F15","v":0},{"$f":"'元(SBI夫)'!G15","v":69830},{"$f":"'元(SBI夫)'!H15","v":0},{"$f":"'元(SBI夫)'!I15","v":190901},{"$f":"'元(SBI夫)'!J15","v":0},{"$f":"'元(SBI夫)'!K15","v":90701},{"$f":"'元(SBI夫)'!L15","v":0.47510000000000002},{"$f":"'元(SBI夫)'!M15","v":0},{"$f":"'元(SBI夫)'!N15","v":0},{"$f":"'元(SBI夫)'!S15","v":0},{"$f":"'元(SBI夫)'!T15","v":0},{"$f":"'元(SBI夫)'!U15","v":0}]
["Ｏｎｅ－たわらノーロード　先進国株式＜為替ヘッジあり＞特定/一般",{"$f":"'元(SBI夫)'!A16","v":"保有中"},{"$f":"'元(SBI夫)'!B16","v":"Ｏｎｅ－たわらノーロード　先進国株式＜為替ヘッジあり＞"},{"$f":"'元(SBI夫)'!C16","v":"特定/一般"},{"$f":"'元(SBI夫)'!D16","v":"金額"},{"$f":"'元(SBI夫)'!E16","v":3857887},{"$f":"'元(SBI夫)'!F16","v":0},{"$f":"'元(SBI夫)'!G16","v":147456},{"$f":"'元(SBI夫)'!H16","v":0},{"$f":"'元(SBI夫)'!I16","v":3511916},{"$f":"'元(SBI夫)'!J16","v":0},{"$f":"'元(SBI夫)'!K16","v":493427},{"$f":"'元(SBI夫)'!L16","v":0.14050000000000001},{"$f":"'元(SBI夫)'!M16","v":0},{"$f":"'元(SBI夫)'!N16","v":0},{"$f":"'元(SBI夫)'!S16","v":0},{"$f":"'元(SBI夫)'!T16","v":0},{"$f":"'元(SBI夫)'!U16","v":0}]
["Ｏｎｅ－たわらノーロード　先進国株式NISA/つみたてNISA",{"$f":"'元(SBI夫)'!A17","v":"保有中"},{"$f":"'元(SBI夫)'!B17","v":"Ｏｎｅ－たわらノーロード　先進国株式"},{"$f":"'元(SBI夫)'!C17","v":"NISA/つみたてNISA"},{"$f":"'元(SBI夫)'!D17","v":"金額"},{"$f":"'元(SBI夫)'!E17","v":112770},{"$f":"'元(SBI夫)'!F17","v":0},{"$f":"'元(SBI夫)'!G17","v":0},{"$f":"'元(SBI夫)'!H17","v":0},{"$f":"'元(SBI夫)'!I17","v":60834},{"$f":"'元(SBI夫)'!J17","v":0},{"$f":"'元(SBI夫)'!K17","v":51936},{"$f":"'元(SBI夫)'!L17","v":0.85370000000000001},{"$f":"'元(SBI夫)'!M17","v":0},{"$f":"'元(SBI夫)'!N17","v":0},{"$f":"'元(SBI夫)'!S17","v":0},{"$f":"'元(SBI夫)'!T17","v":0},{"$f":"'元(SBI夫)'!U17","v":0}]
["三井住友ＴＡＭ－ＳＭＴ　ゴールドインデックス・オープン（為替ヘッジあり）特定/一般",{"$f":"'元(SBI夫)'!A18","v":"保有中"},{"$f":"'元(SBI夫)'!B18","v":"三井住友ＴＡＭ－ＳＭＴ　ゴールドインデックス・オープン（為替ヘッジあり）"},{"$f":"'元(SBI夫)'!C18","v":"特定/一般"},{"$f":"'元(SBI夫)'!D18","v":"金額"},{"$f":"'元(SBI夫)'!E18","v":415945},{"$f":"'元(SBI夫)'!F18","v":0},{"$f":"'元(SBI夫)'!G18","v":13026},{"$f":"'元(SBI夫)'!H18","v":0},{"$f":"'元(SBI夫)'!I18","v":424666},{"$f":"'元(SBI夫)'!J18","v":0},{"$f":"'元(SBI夫)'!K18","v":4305},{"$f":"'元(SBI夫)'!L18","v":1.01E-2},{"$f":"'元(SBI夫)'!M18","v":0},{"$f":"'元(SBI夫)'!N18","v":0},{"$f":"'元(SBI夫)'!S18","v":0},{"$f":"'元(SBI夫)'!T18","v":0},{"$f":"'元(SBI夫)'!U18","v":0}]
["りそな－Ｓｍａｒｔ－ｉ　先進国債券インデックス（為替ヘッジあり）特定/一般",{"$f":"'元(SBI夫)'!A19","v":"保有中"},{"$f":"'元(SBI夫)'!B19","v":"りそな－Ｓｍａｒｔ－ｉ　先進国債券インデックス（為替ヘッジあり）"},{"$f":"'元(SBI夫)'!C19","v":"特定/一般"},{"$f":"'元(SBI夫)'!D19","v":"金額"},{"$f":"'元(SBI夫)'!E19","v":510736},{"$f":"'元(SBI夫)'!F19","v":0},{"$f":"'元(SBI夫)'!G19","v":1501288},{"$f":"'元(SBI夫)'!H19","v":0},{"$f":"'元(SBI夫)'!I19","v":2174749},{"$f":"'元(SBI夫)'!J19","v":0},{"$f":"'元(SBI夫)'!K19","v":-162725},{"$f":"'元(SBI夫)'!L19","v":-7.4800000000000005E-2},{"$f":"'元(SBI夫)'!M19","v":0},{"$f":"'元(SBI夫)'!N19","v":0},{"$f":"'元(SBI夫)'!S19","v":0},{"$f":"'元(SBI夫)'!T19","v":0},{"$f":"'元(SBI夫)'!U19","v":0}]
["日興－ゴールド・ファンド（為替ヘッジあり）特定/一般",{"$f":"'元(SBI夫)'!A20","v":"解約済"},{"$f":"'元(SBI夫)'!B20","v":"日興－ゴールド・ファンド（為替ヘッジあり）"},{"$f":"'元(SBI夫)'!C20","v":"特定/一般"},{"$f":"'元(SBI夫)'!D20","v":"金額"},{"$f":"'元(SBI夫)'!E20","v":0},{"$f":"'元(SBI夫)'!F20","v":0},{"$f":"'元(SBI夫)'!G20","v":57266},{"$f":"'元(SBI夫)'!H20","v":0},{"$f":"'元(SBI夫)'!I20","v":54769},{"$f":"'元(SBI夫)'!J20","v":0},{"$f":"'元(SBI夫)'!K20","v":2497},{"$f":"'元(SBI夫)'!L20","v":4.5499999999999999E-2},{"$f":"'元(SBI夫)'!M20","v":0},{"$f":"'元(SBI夫)'!N20","v":0},{"$f":"'元(SBI夫)'!S20","v":0},{"$f":"'元(SBI夫)'!T20","v":0},{"$f":"'元(SBI夫)'!U20","v":0}]
["三菱ＵＦＪ国際－ｅＭＡＸＩＳ　Ｓｌｉｍ　国内債券インデックスNISA/つみたてNISA",{"$f":"'元(SBI夫)'!A21","v":"解約済"},{"$f":"'元(SBI夫)'!B21","v":"三菱ＵＦＪ国際－ｅＭＡＸＩＳ　Ｓｌｉｍ　国内債券インデックス"},{"$f":"'元(SBI夫)'!C21","v":"NISA/つみたてNISA"},{"$f":"'元(SBI夫)'!D21","v":"金額"},{"$f":"'元(SBI夫)'!E21","v":0},{"$f":"'元(SBI夫)'!F21","v":0},{"$f":"'元(SBI夫)'!G21","v":80292},{"$f":"'元(SBI夫)'!H21","v":0},{"$f":"'元(SBI夫)'!I21","v":82661},{"$f":"'元(SBI夫)'!J21","v":0},{"$f":"'元(SBI夫)'!K21","v":-2369},{"$f":"'元(SBI夫)'!L21","v":-2.86E-2},{"$f":"'元(SBI夫)'!M21","v":0},{"$f":"'元(SBI夫)'!N21","v":0},{"$f":"'元(SBI夫)'!S21","v":0},{"$f":"'元(SBI夫)'!T21","v":0},{"$f":"'元(SBI夫)'!U21","v":0}]
["三菱ＵＦＪ国際－ｅＭＡＸＩＳ　Ｓｌｉｍ　先進国債券インデックス特定/一般",{"$f":"'元(SBI夫)'!A22","v":"解約済"},{"$f":"'元(SBI夫)'!B22","v":"三菱ＵＦＪ国際－ｅＭＡＸＩＳ　Ｓｌｉｍ　先進国債券インデックス"},{"$f":"'元(SBI夫)'!C22","v":"特定/一般"},{"$f":"'元(SBI夫)'!D22","v":"金額"},{"$f":"'元(SBI夫)'!E22","v":0},{"$f":"'元(SBI夫)'!F22","v":0},{"$f":"'元(SBI夫)'!G22","v":12343},{"$f":"'元(SBI夫)'!H22","v":0},{"$f":"'元(SBI夫)'!I22","v":12226},{"$f":"'元(SBI夫)'!J22","v":0},{"$f":"'元(SBI夫)'!K22","v":117},{"$f":"'元(SBI夫)'!L22","v":9.4999999999999998E-3},{"$f":"'元(SBI夫)'!M22","v":0},{"$f":"'元(SBI夫)'!N22","v":0},{"$f":"'元(SBI夫)'!S22","v":0},{"$f":"'元(SBI夫)'!T22","v":0},{"$f":"'元(SBI夫)'!U22","v":0}]
["Ｏｎｅ－たわらノーロード　先進国株式特定/一般",{"$f":"'元(SBI夫)'!A23","v":"解約済"},{"$f":"'元(SBI夫)'!B23","v":"Ｏｎｅ－たわらノーロード　先進国株式"},{"$f":"'元(SBI夫)'!C23","v":"特定/一般"},{"$f":"'元(SBI夫)'!D23","v":"金額"},{"$f":"'元(SBI夫)'!E23","v":0},{"$f":"'元(SBI夫)'!F23","v":0},{"$f":"'元(SBI夫)'!G23","v":70608},{"$f":"'元(SBI夫)'!H23","v":0},{"$f":"'元(SBI夫)'!I23","v":69921},{"$f":"'元(SBI夫)'!J23","v":0},{"$f":"'元(SBI夫)'!K23","v":687},{"$f":"'元(SBI夫)'!L23","v":9.7999999999999997E-3},{"$f":"'元(SBI夫)'!M23","v":0},{"$f":"'元(SBI夫)'!N23","v":0},{"$f":"'元(SBI夫)'!S23","v":0},{"$f":"'元(SBI夫)'!T23","v":0},{"$f":"'元(SBI夫)'!U23","v":0}]
["Ｏｎｅ－たわらノーロード　先進国債券特定/一般",{"$f":"'元(SBI夫)'!A24","v":"解約済"},{"$f":"'元(SBI夫)'!B24","v":"Ｏｎｅ－たわらノーロード　先進国債券"},{"$f":"'元(SBI夫)'!C24","v":"特定/一般"},{"$f":"'元(SBI夫)'!D24","v":"金額"},{"$f":"'元(SBI夫)'!E24","v":0},{"$f":"'元(SBI夫)'!F24","v":0},{"$f":"'元(SBI夫)'!G24","v":212912},{"$f":"'元(SBI夫)'!H24","v":0},{"$f":"'元(SBI夫)'!I24","v":207660},{"$f":"'元(SBI夫)'!J24","v":0},{"$f":"'元(SBI夫)'!K24","v":5252},{"$f":"'元(SBI夫)'!L24","v":2.52E-2},{"$f":"'元(SBI夫)'!M24","v":0},{"$f":"'元(SBI夫)'!N24","v":0},{"$f":"'元(SBI夫)'!S24","v":0},{"$f":"'元(SBI夫)'!T24","v":0},{"$f":"'元(SBI夫)'!U24","v":0}]
["Ｏｎｅ－たわらノーロード　先進国債券NISA/つみたてNISA",{"$f":"'元(SBI夫)'!A25","v":"解約済"},{"$f":"'元(SBI夫)'!B25","v":"Ｏｎｅ－たわらノーロード　先進国債券"},{"$f":"'元(SBI夫)'!C25","v":"NISA/つみたてNISA"},{"$f":"'元(SBI夫)'!D25","v":"金額"},{"$f":"'元(SBI夫)'!E25","v":0},{"$f":"'元(SBI夫)'!F25","v":0},{"$f":"'元(SBI夫)'!G25","v":36630},{"$f":"'元(SBI夫)'!H25","v":0},{"$f":"'元(SBI夫)'!I25","v":35426},{"$f":"'元(SBI夫)'!J25","v":0},{"$f":"'元(SBI夫)'!K25","v":1204},{"$f":"'元(SBI夫)'!L25","v":3.39E-2},{"$f":"'元(SBI夫)'!M25","v":0},{"$f":"'元(SBI夫)'!N25","v":0},{"$f":"'元(SBI夫)'!S25","v":0},{"$f":"'元(SBI夫)'!T25","v":0},{"$f":"'元(SBI夫)'!U25","v":0}]
["Ｏｎｅ－たわらノーロード　先進国リート特定/一般",{"$f":"'元(SBI夫)'!A26","v":"解約済"},{"$f":"'元(SBI夫)'!B26","v":"Ｏｎｅ－たわらノーロード　先進国リート"},{"$f":"'元(SBI夫)'!C26","v":"特定/一般"},{"$f":"'元(SBI夫)'!D26","v":"金額"},{"$f":"'元(SBI夫)'!E26","v":0},{"$f":"'元(SBI夫)'!F26","v":0},{"$f":"'元(SBI夫)'!G26","v":85915},{"$f":"'元(SBI夫)'!H26","v":0},{"$f":"'元(SBI夫)'!I26","v":82475},{"$f":"'元(SBI夫)'!J26","v":0},{"$f":"'元(SBI夫)'!K26","v":3440},{"$f":"'元(SBI夫)'!L26","v":4.1700000000000001E-2},{"$f":"'元(SBI夫)'!M26","v":0},{"$f":"'元(SBI夫)'!N26","v":0},{"$f":"'元(SBI夫)'!S26","v":0},{"$f":"'元(SBI夫)'!T26","v":0},{"$f":"'元(SBI夫)'!U26","v":0}]
["三井住友ＴＡＭ－ＳＭＴ　グローバル株式インデックス・オープンNISA/つみたてNISA",{"$f":"'元(SBI夫)'!A27","v":"解約済"},{"$f":"'元(SBI夫)'!B27","v":"三井住友ＴＡＭ－ＳＭＴ　グローバル株式インデックス・オープン"},{"$f":"'元(SBI夫)'!C27","v":"NISA/つみたてNISA"},{"$f":"'元(SBI夫)'!D27","v":"金額"},{"$f":"'元(SBI夫)'!E27","v":0},{"$f":"'元(SBI夫)'!F27","v":0},{"$f":"'元(SBI夫)'!G27","v":31145},{"$f":"'元(SBI夫)'!H27","v":0},{"$f":"'元(SBI夫)'!I27","v":30000},{"$f":"'元(SBI夫)'!J27","v":0},{"$f":"'元(SBI夫)'!K27","v":1145},{"$f":"'元(SBI夫)'!L27","v":3.8100000000000002E-2},{"$f":"'元(SBI夫)'!M27","v":0},{"$f":"'元(SBI夫)'!N27","v":0},{"$f":"'元(SBI夫)'!S27","v":0},{"$f":"'元(SBI夫)'!T27","v":0},{"$f":"'元(SBI夫)'!U27","v":0}]
["りそな－Ｓｍａｒｔ－ｉ　Ｊリートインデックス特定/一般",{"$f":"'元(SBI夫)'!A28","v":"解約済"},{"$f":"'元(SBI夫)'!B28","v":"りそな－Ｓｍａｒｔ－ｉ　Ｊリートインデックス"},{"$f":"'元(SBI夫)'!C28","v":"特定/一般"},{"$f":"'元(SBI夫)'!D28","v":"金額"},{"$f":"'元(SBI夫)'!E28","v":0},{"$f":"'元(SBI夫)'!F28","v":0},{"$f":"'元(SBI夫)'!G28","v":27275},{"$f":"'元(SBI夫)'!H28","v":0},{"$f":"'元(SBI夫)'!I28","v":27667},{"$f":"'元(SBI夫)'!J28","v":0},{"$f":"'元(SBI夫)'!K28","v":-392},{"$f":"'元(SBI夫)'!L28","v":-1.41E-2},{"$f":"'元(SBI夫)'!M28","v":0},{"$f":"'元(SBI夫)'!N28","v":0},{"$f":"'元(SBI夫)'!S28","v":0},{"$f":"'元(SBI夫)'!T28","v":0},{"$f":"'元(SBI夫)'!U28","v":0}]
["00",{"$f":"'元(SBI夫)'!A29","v":0},{"$f":"'元(SBI夫)'!B29","v":0},{"$f":"'元(SBI夫)'!C29","v":0},{"$f":"'元(SBI夫)'!D29","v":0},{"$f":"'元(SBI夫)'!E29","v":0},{"$f":"'元(SBI夫)'!F29","v":0},{"$f":"'元(SBI夫)'!G29","v":0},{"$f":"'元(SBI夫)'!H29","v":0},{"$f":"'元(SBI夫)'!I29","v":0},{"$f":"'元(SBI夫)'!J29","v":0},{"$f":"'元(SBI夫)'!K29","v":0},{"$f":"'元(SBI夫)'!L29","v":0},{"$f":"'元(SBI夫)'!M29","v":0},{"$f":"'元(SBI夫)'!N29","v":0},{"$f":"'元(SBI夫)'!S29","v":0},{"$f":"'元(SBI夫)'!T29","v":0},{"$f":"'元(SBI夫)'!U29","v":0}]
["00",{"$f":"'元(SBI夫)'!A30","v":0},{"$f":"'元(SBI夫)'!B30","v":0},{"$f":"'元(SBI夫)'!C30","v":0},{"$f":"'元(SBI夫)'!D30","v":0},{"$f":"'元(SBI夫)'!E30","v":0},{"$f":"'元(SBI夫)'!F30","v":0},{"$f":"'元(SBI夫)'!G30","v":0},{"$f":"'元(SBI夫)'!H30","v":0},{"$f":"'元(SBI夫)'!I30","v":0},{"$f":"'元(SBI夫)'!J30","v":0},{"$f":"'元(SBI夫)'!K30","v":0},{"$f":"'元(SBI夫)'!L30","v":0},{"$f":"'元(SBI夫)'!M30","v":0},{"$f":"'元(SBI夫)'!N30","v":0},{"$f":"'元(SBI夫)'!S30","v":0},{"$f":"'元(SBI夫)'!T30","v":0},{"$f":"'元(SBI夫)'!U30","v":0}]
["00",{"$f":"'元(SBI夫)'!A31","v":0},{"$f":"'元(SBI夫)'!B31","v":0},{"$f":"'元(SBI夫)'!C31","v":0},{"$f":"'元(SBI夫)'!D31","v":0},{"$f":"'元(SBI夫)'!E31","v":0},{"$f":"'元(SBI夫)'!F31","v":0},{"$f":"'元(SBI夫)'!G31","v":0},{"$f":"'元(SBI夫)'!H31","v":0},{"$f":"'元(SBI夫)'!I31","v":0},{"$f":"'元(SBI夫)'!J31","v":0},{"$f":"'元(SBI夫)'!K31","v":0},{"$f":"'元(SBI夫)'!L31","v":0},{"$f":"'元(SBI夫)'!M31","v":0},{"$f":"'元(SBI夫)'!N31","v":0},{"$f":"'元(SBI夫)'!S31","v":0},{"$f":"'元(SBI夫)'!T31","v":0},{"$f":"'元(SBI夫)'!U31","v":0}]
["00",{"$f":"'元(SBI夫)'!A32","v":0},{"$f":"'元(SBI夫)'!B32","v":0},{"$f":"'元(SBI夫)'!C32","v":0},{"$f":"'元(SBI夫)'!D32","v":0},{"$f":"'元(SBI夫)'!E32","v":0},{"$f":"'元(SBI夫)'!F32","v":0},{"$f":"'元(SBI夫)'!G32","v":0},{"$f":"'元(SBI夫)'!H32","v":0},{"$f":"'元(SBI夫)'!I32","v":0},{"$f":"'元(SBI夫)'!J32","v":0},{"$f":"'元(SBI夫)'!K32","v":0},{"$f":"'元(SBI夫)'!L32","v":0},{"$f":"'元(SBI夫)'!M32","v":0},{"$f":"'元(SBI夫)'!N32","v":0},{"$f":"'元(SBI夫)'!S32","v":0},{"$f":"'元(SBI夫)'!T32","v":0},{"$f":"'元(SBI夫)'!U32","v":0}]
["00",{"$f":"'元(SBI夫)'!A33","v":0},{"$f":"'元(SBI夫)'!B33","v":0},{"$f":"'元(SBI夫)'!C33","v":0},{"$f":"'元(SBI夫)'!D33","v":0},{"$f":"'元(SBI夫)'!E33","v":0},{"$f":"'元(SBI夫)'!F33","v":0},{"$f":"'元(SBI夫)'!G33","v":0},{"$f":"'元(SBI夫)'!H33","v":0},{"$f":"'元(SBI夫)'!I33","v":0},{"$f":"'元(SBI夫)'!J33","v":0},{"$f":"'元(SBI夫)'!K33","v":0},{"$f":"'元(SBI夫)'!L33","v":0},{"$f":"'元(SBI夫)'!M33","v":0},{"$f":"'元(SBI夫)'!N33","v":0},{"$f":"'元(SBI夫)'!S33","v":0},{"$f":"'元(SBI夫)'!T33","v":0},{"$f":"'元(SBI夫)'!U33","v":0}]
["00",{"$f":"'元(SBI夫)'!A34","v":0},{"$f":"'元(SBI夫)'!B34","v":0},{"$f":"'元(SBI夫)'!C34","v":0},{"$f":"'元(SBI夫)'!D34","v":0},{"$f":"'元(SBI夫)'!E34","v":0},{"$f":"'元(SBI夫)'!F34","v":0},{"$f":"'元(SBI夫)'!G34","v":0},{"$f":"'元(SBI夫)'!H34","v":0},{"$f":"'元(SBI夫)'!I34","v":0},{"$f":"'元(SBI夫)'!J34","v":0},{"$f":"'元(SBI夫)'!K34","v":0},{"$f":"'元(SBI夫)'!L34","v":0},{"$f":"'元(SBI夫)'!M34","v":0},{"$f":"'元(SBI夫)'!N34","v":0},{"$f":"'元(SBI夫)'!S34","v":0},{"$f":"'元(SBI夫)'!T34","v":0},{"$f":"'元(SBI夫)'!U34","v":0}]
["00",{"$f":"'元(SBI夫)'!A35","v":0},{"$f":"'元(SBI夫)'!B35","v":0},{"$f":"'元(SBI夫)'!C35","v":0},{"$f":"'元(SBI夫)'!D35","v":0},{"$f":"'元(SBI夫)'!E35","v":0},{"$f":"'元(SBI夫)'!F35","v":0},{"$f":"'元(SBI夫)'!G35","v":0},{"$f":"'元(SBI夫)'!H35","v":0},{"$f":"'元(SBI夫)'!I35","v":0},{"$f":"'元(SBI夫)'!J35","v":0},{"$f":"'元(SBI夫)'!K35","v":0},{"$f":"'元(SBI夫)'!L35","v":0},{"$f":"'元(SBI夫)'!M35","v":0},{"$f":"'元(SBI夫)'!N35","v":0},{"$f":"'元(SBI夫)'!S35","v":0},{"$f":"'元(SBI夫)'!T35","v":0},{"$f":"'元(SBI夫)'!U35","v":0}]
["00",{"$f":"'元(SBI夫)'!A36","v":0},{"$f":"'元(SBI夫)'!B36","v":0},{"$f":"'元(SBI夫)'!C36","v":0},{"$f":"'元(SBI夫)'!D36","v":0},{"$f":"'元(SBI夫)'!E36","v":0},{"$f":"'元(SBI夫)'!F36","v":0},{"$f":"'元(SBI夫)'!G36","v":0},{"$f":"'元(SBI夫)'!H36","v":0},{"$f":"'元(SBI夫)'!I36","v":0},{"$f":"'元(SBI夫)'!J36","v":0},{"$f":"'元(SBI夫)'!K36","v":0},{"$f":"'元(SBI夫)'!L36","v":0},{"$f":"'元(SBI夫)'!M36","v":0},{"$f":"'元(SBI夫)'!N36","v":0},{"$f":"'元(SBI夫)'!S36","v":0},{"$f":"'元(SBI夫)'!T36","v":0},{"$f":"'元(SBI夫)'!U36","v":0}]
["00",{"$f":"'元(SBI夫)'!A37","v":0},{"$f":"'元(SBI夫)'!B37","v":0},{"$f":"'元(SBI夫)'!C37","v":0},{"$f":"'元(SBI夫)'!D37","v":0},{"$f":"'元(SBI夫)'!E37","v":0},{"$f":"'元(SBI夫)'!F37","v":0},{"$f":"'元(SBI夫)'!G37","v":0},{"$f":"'元(SBI夫)'!H37","v":0},{"$f":"'元(SBI夫)'!I37","v":0},{"$f":"'元(SBI夫)'!J37","v":0},{"$f":"'元(SBI夫)'!K37","v":0},{"$f":"'元(SBI夫)'!L37","v":0},{"$f":"'元(SBI夫)'!M37","v":0},{"$f":"'元(SBI夫)'!N37","v":0},{"$f":"'元(SBI夫)'!S37","v":0},{"$f":"'元(SBI夫)'!T37","v":0},{"$f":"'元(SBI夫)'!U37","v":0}]
["00",{"$f":"'元(SBI夫)'!A38","v":0},{"$f":"'元(SBI夫)'!B38","v":0},{"$f":"'元(SBI夫)'!C38","v":0},{"$f":"'元(SBI夫)'!D38","v":0},{"$f":"'元(SBI夫)'!E38","v":0},{"$f":"'元(SBI夫)'!F38","v":0},{"$f":"'元(SBI夫)'!G38","v":0},{"$f":"'元(SBI夫)'!H38","v":0},{"$f":"'元(SBI夫)'!I38","v":0},{"$f":"'元(SBI夫)'!J38","v":0},{"$f":"'元(SBI夫)'!K38","v":0},{"$f":"'元(SBI夫)'!L38","v":0},{"$f":"'元(SBI夫)'!M38","v":0},{"$f":"'元(SBI夫)'!N38","v":0},{"$f":"'元(SBI夫)'!S38","v":0},{"$f":"'元(SBI夫)'!T38","v":0},{"$f":"'元(SBI夫)'!U38","v":0}]
["00",{"$f":"'元(SBI夫)'!A39","v":0},{"$f":"'元(SBI夫)'!B39","v":0},{"$f":"'元(SBI夫)'!C39","v":0},{"$f":"'元(SBI夫)'!D39","v":0},{"$f":"'元(SBI夫)'!E39","v":0},{"$f":"'元(SBI夫)'!F39","v":0},{"$f":"'元(SBI夫)'!G39","v":0},{"$f":"'元(SBI夫)'!H39","v":0},{"$f":"'元(SBI夫)'!I39","v":0},{"$f":"'元(SBI夫)'!J39","v":0},{"$f":"'元(SBI夫)'!K39","v":0},{"$f":"'元(SBI夫)'!L39","v":0},{"$f":"'元(SBI夫)'!M39","v":0},{"$f":"'元(SBI夫)'!N39","v":0},{"$f":"'元(SBI夫)'!S39","v":0},{"$f":"'元(SBI夫)'!T39","v":0},{"$f":"'元(SBI夫)'!U39","v":0}]
["00",{"$f":"'元(SBI夫)'!A40","v":0},{"$f":"'元(SBI夫)'!B40","v":0},{"$f":"'元(SBI夫)'!C40","v":0},{"$f":"'元(SBI夫)'!D40","v":0},{"$f":"'元(SBI夫)'!E40","v":0},{"$f":"'元(SBI夫)'!F40","v":0},{"$f":"'元(SBI夫)'!G40","v":0},{"$f":"'元(SBI夫)'!H40","v":0},{"$f":"'元(SBI夫)'!I40","v":0},{"$f":"'元(SBI夫)'!J40","v":0},{"$f":"'元(SBI夫)'!K40","v":0},{"$f":"'元(SBI夫)'!L40","v":0},{"$f":"'元(SBI夫)'!M40","v":0},{"$f":"'元(SBI夫)'!N40","v":0},{"$f":"'元(SBI夫)'!S40","v":0},{"$f":"'元(SBI夫)'!T40","v":0},{"$f":"'元(SBI夫)'!U40","v":0}]
["00",{"$f":"'元(SBI夫)'!A41","v":0},{"$f":"'元(SBI夫)'!B41","v":0},{"$f":"'元(SBI夫)'!C41","v":0},{"$f":"'元(SBI夫)'!D41","v":0},{"$f":"'元(SBI夫)'!E41","v":0},{"$f":"'元(SBI夫)'!F41","v":0},{"$f":"'元(SBI夫)'!G41","v":0},{"$f":"'元(SBI夫)'!H41","v":0},{"$f":"'元(SBI夫)'!I41","v":0},{"$f":"'元(SBI夫)'!J41","v":0},{"$f":"'元(SBI夫)'!K41","v":0},{"$f":"'元(SBI夫)'!L41","v":0},{"$f":"'元(SBI夫)'!M41","v":0},{"$f":"'元(SBI夫)'!N41","v":0},{"$f":"'元(SBI夫)'!S41","v":0},{"$f":"'元(SBI夫)'!T41","v":0},{"$f":"'元(SBI夫)'!U41","v":0}]
["00",{"$f":"'元(SBI夫)'!A42","v":0},{"$f":"'元(SBI夫)'!B42","v":0},{"$f":"'元(SBI夫)'!C42","v":0},{"$f":"'元(SBI夫)'!D42","v":0},{"$f":"'元(SBI夫)'!E42","v":0},{"$f":"'元(SBI夫)'!F42","v":0},{"$f":"'元(SBI夫)'!G42","v":0},{"$f":"'元(SBI夫)'!H42","v":0},{"$f":"'元(SBI夫)'!I42","v":0},{"$f":"'元(SBI夫)'!J42","v":0},{"$f":"'元(SBI夫)'!K42","v":0},{"$f":"'元(SBI夫)'!L42","v":0},{"$f":"'元(SBI夫)'!M42","v":0},{"$f":"'元(SBI夫)'!N42","v":0},{"$f":"'元(SBI夫)'!S42","v":0},{"$f":"'元(SBI夫)'!T42","v":0},{"$f":"'元(SBI夫)'!U42","v":0}]
["00",{"$f":"'元(SBI夫)'!A43","v":0},{"$f":"'元(SBI夫)'!B43","v":0},{"$f":"'元(SBI夫)'!C43","v":0},{"$f":"'元(SBI夫)'!D43","v":0},{"$f":"'元(SBI夫)'!E43","v":0},{"$f":"'元(SBI夫)'!F43","v":0},{"$f":"'元(SBI夫)'!G43","v":0},{"$f":"'元(SBI夫)'!H43","v":0},{"$f":"'元(SBI夫)'!I43","v":0},{"$f":"'元(SBI夫)'!J43","v":0},{"$f":"'元(SBI夫)'!K43","v":0},{"$f":"'元(SBI夫)'!L43","v":0},{"$f":"'元(SBI夫)'!M43","v":0},{"$f":"'元(SBI夫)'!N43","v":0},{"$f":"'元(SBI夫)'!S43","v":0},{"$f":"'元(SBI夫)'!T43","v":0},{"$f":"'元(SBI夫)'!U43","v":0}]
["00",{"$f":"'元(SBI夫)'!A44","v":0},{"$f":"'元(SBI夫)'!B44","v":0},{"$f":"'元(SBI夫)'!C44","v":0},{"$f":"'元(SBI夫)'!D44","v":0},{"$f":"'元(SBI夫)'!E44","v":0},{"$f":"'元(SBI夫)'!F44","v":0},{"$f":"'元(SBI夫)'!G44","v":0},{"$f":"'元(SBI夫)'!H44","v":0},{"$f":"'元(SBI夫)'!I44","v":0},{"$f":"'元(SBI夫)'!J44","v":0},{"$f":"'元(SBI夫)'!K44","v":0},{"$f":"'元(SBI夫)'!L44","v":0},{"$f":"'元(SBI夫)'!M44","v":0},{"$f":"'元(SBI夫)'!N44","v":0},{"$f":"'元(SBI夫)'!S44","v":0},{"$f":"'元(SBI夫)'!T44","v":0},{"$f":"'元(SBI夫)'!U44","v":0}]
["00",{"$f":"'元(SBI夫)'!A45","v":0},{"$f":"'元(SBI夫)'!B45","v":0},{"$f":"'元(SBI夫)'!C45","v":0},{"$f":"'元(SBI夫)'!D45","v":0},{"$f":"'元(SBI夫)'!E45","v":0},{"$f":"'元(SBI夫)'!F45","v":0},{"$f":"'元(SBI夫)'!G45","v":0},{"$f":"'元(SBI夫)'!H45","v":0},{"$f":"'元(SBI夫)'!I45","v":0},{"$f":"'元(SBI夫)'!J45","v":0},{"$f":"'元(SBI夫)'!K45","v":0},{"$f":"'元(SBI夫)'!L45","v":0},{"$f":"'元(SBI夫)'!M45","v":0},{"$f":"'元(SBI夫)'!N45","v":0},{"$f":"'元(SBI夫)'!S45","v":0},{"$f":"'元(SBI夫)'!T45","v":0},{"$f":"'元(SBI夫)'!U45","v":0}]
["00",{"$f":"'元(SBI夫)'!A46","v":0},{"$f":"'元(SBI夫)'!B46","v":0},{"$f":"'元(SBI夫)'!C46","v":0},{"$f":"'元(SBI夫)'!D46","v":0},{"$f":"'元(SBI夫)'!E46","v":0},{"$f":"'元(SBI夫)'!F46","v":0},{"$f":"'元(SBI夫)'!G46","v":0},{"$f":"'元(SBI夫)'!H46","v":0},{"$f":"'元(SBI夫)'!I46","v":0},{"$f":"'元(SBI夫)'!J46","v":0},{"$f":"'元(SBI夫)'!K46","v":0},{"$f":"'元(SBI夫)'!L46","v":0},{"$f":"'元(SBI夫)'!M46","v":0},{"$f":"'元(SBI夫)'!N46","v":0},{"$f":"'元(SBI夫)'!S46","v":0},{"$f":"'元(SBI夫)'!T46","v":0},{"$f":"'元(SBI夫)'!U46","v":0}]
["00",{"$f":"'元(SBI夫)'!A47","v":0},{"$f":"'元(SBI夫)'!B47","v":0},{"$f":"'元(SBI夫)'!C47","v":0},{"$f":"'元(SBI夫)'!D47","v":0},{"$f":"'元(SBI夫)'!E47","v":0},{"$f":"'元(SBI夫)'!F47","v":0},{"$f":"'元(SBI夫)'!G47","v":0},{"$f":"'元(SBI夫)'!H47","v":0},{"$f":"'元(SBI夫)'!I47","v":0},{"$f":"'元(SBI夫)'!J47","v":0},{"$f":"'元(SBI夫)'!K47","v":0},{"$f":"'元(SBI夫)'!L47","v":0},{"$f":"'元(SBI夫)'!M47","v":0},{"$f":"'元(SBI夫)'!N47","v":0},{"$f":"'元(SBI夫)'!S47","v":0},{"$f":"'元(SBI夫)'!T47","v":0},{"$f":"'元(SBI夫)'!U47","v":0}]

{"sheet":"元(SBI妻)VLOOKUP","index":28,"n_rows":30,"n_cols":14,"rows_kept":30,"cut":false,"hidden":false,"merged":[]}
[null,{"$f":"'元(SBI妻)'!A1","v":"保有状況"},{"$f":"'元(SBI妻)'!B1","v":"ファンド名"},{"$f":"'元(SBI妻)'!C1","v":"口座種別"},{"$f":"'元(SBI妻)'!D1","v":"注文種別"},{"$f":"'元(SBI妻)'!E1","v":"評価金額"},{"$f":"'元(SBI妻)'!F1","v":"前年末評価金額"},{"$f":"'元(SBI妻)'!G1","v":"売却金額"},{"$f":"'元(SBI妻)'!H1","v":"分配金額"},{"$f":"'元(SBI妻)'!I1","v":"買付金額"},{"$f":"'元(SBI妻)'!J1","v":"手数料"},{"$f":"'元(SBI妻)'!K1","v":"トータルリターン（円）"},{"$f":"'元(SBI妻)'!L1","v":"トータルリターン（率）"},{"$f":"'元(SBI妻)'!M1","v":0}]
[{"$f":"C2&D2","v":"日興－グローバル３倍３分法ファンド（１年決算型）特定/一般"},{"$f":"'元(SBI妻)'!A2","v":"保有中"},{"$f":"'元(SBI妻)'!B2","v":"日興－グローバル３倍３分法ファンド（１年決算型）"},{"$f":"'元(SBI妻)'!C2","v":"特定/一般"},{"$f":"'元(SBI妻)'!D2","v":"金額"},{"$f":"'元(SBI妻)'!E2","v":1152},{"$f":"'元(SBI妻)'!F2","v":0},{"$f":"'元(SBI妻)'!G2","v":0},{"$f":"'元(SBI妻)'!H2","v":0},{"$f":"'元(SBI妻)'!I2","v":1100},{"$f":"'元(SBI妻)'!J2","v":0},{"$f":"'元(SBI妻)'!K2","v":52},{"$f":"'元(SBI妻)'!L2","v":4.7199999999999999E-2},{"$f":"'元(SBI妻)'!M2","v":0}]
[{"$f":"C3&D3","v":"三菱ＵＦＪ国際－ｅＭＡＸＩＳ　Ｓｌｉｍ　米国株式（Ｓ＆Ｐ５００）特定/一般"},{"$f":"'元(SBI妻)'!A3","v":"保有中"},{"$f":"'元(SBI妻)'!B3","v":"三菱ＵＦＪ国際－ｅＭＡＸＩＳ　Ｓｌｉｍ　米国株式（Ｓ＆Ｐ５００）"},{"$f":"'元(SBI妻)'!C3","v":"特定/一般"},{"$f":"'元(SBI妻)'!D3","v":"金額"},{"$f":"'元(SBI妻)'!E3","v":3557},{"$f":"'元(SBI妻)'!F3","v":0},{"$f":"'元(SBI妻)'!G3","v":0},{"$f":"'元(SBI妻)'!H3","v":0},{"$f":"'元(SBI妻)'!I3","v":3010},{"$f":"'元(SBI妻)'!J3","v":0},{"$f":"'元(SBI妻)'!K3","v":547},{"$f":"'元(SBI妻)'!L3","v":0.1817},{"$f":"'元(SBI妻)'!M3","v":0}]
["三菱ＵＦＪ国際－ｅＭＡＸＩＳ　Ｓｌｉｍ　米国株式（Ｓ＆Ｐ５００）NISA/つみたてNISA",{"$f":"'元(SBI妻)'!A4","v":"保有中"},{"$f":"'元(SBI妻)'!B4","v":"三菱ＵＦＪ国際－ｅＭＡＸＩＳ　Ｓｌｉｍ　米国株式（Ｓ＆Ｐ５００）"},{"$f":"'元(SBI妻)'!C4","v":"NISA/つみたてNISA"},{"$f":"'元(SBI妻)'!D4","v":"金額"},{"$f":"'元(SBI妻)'!E4","v":255000},{"$f":"'元(SBI妻)'!F4","v":0},{"$f":"'元(SBI妻)'!G4","v":0},{"$f":"'元(SBI妻)'!H4","v":0},{"$f":"'元(SBI妻)'!I4","v":120564},{"$f":"'元(SBI妻)'!J4","v":0},{"$f":"'元(SBI妻)'!K4","v":134436},{"$f":"'元(SBI妻)'!L4","v":1.115},{"$f":"'元(SBI妻)'!M4","v":0}]
["三菱ＵＦＪ国際－ｅＭＡＸＩＳ　Ｓｌｉｍ　国内リートインデックス特定/一般",{"$f":"'元(SBI妻)'!A5","v":"保有中"},{"$f":"'元(SBI妻)'!B5","v":"三菱ＵＦＪ国際－ｅＭＡＸＩＳ　Ｓｌｉｍ　国内リートインデックス"},{"$f":"'元(SBI妻)'!C5","v":"特定/一般"},{"$f":"'元(SBI妻)'!D5","v":"金額"},{"$f":"'元(SBI妻)'!E5","v":1113},{"$f":"'元(SBI妻)'!F5","v":0},{"$f":"'元(SBI妻)'!G5","v":0},{"$f":"'元(SBI妻)'!H5","v":0},{"$f":"'元(SBI妻)'!I5","v":1100},{"$f":"'元(SBI妻)'!J5","v":0},{"$f":"'元(SBI妻)'!K5","v":13},{"$f":"'元(SBI妻)'!L5","v":1.18E-2},{"$f":"'元(SBI妻)'!M5","v":0}]
["三菱ＵＦＪ国際－ｅＭＡＸＩＳ　Ｓｌｉｍ　先進国リートインデックス特定/一般",{"$f":"'元(SBI妻)'!A6","v":"保有中"},{"$f":"'元(SBI妻)'!B6","v":"三菱ＵＦＪ国際－ｅＭＡＸＩＳ　Ｓｌｉｍ　先進国リートインデックス"},{"$f":"'元(SBI妻)'!C6","v":"特定/一般"},{"$f":"'元(SBI妻)'!D6","v":"金額"},{"$f":"'元(SBI妻)'!E6","v":1166},{"$f":"'元(SBI妻)'!F6","v":0},{"$f":"'元(SBI妻)'!G6","v":0},{"$f":"'元(SBI妻)'!H6","v":0},{"$f":"'元(SBI妻)'!I6","v":1100},{"$f":"'元(SBI妻)'!J6","v":0},{"$f":"'元(SBI妻)'!K6","v":66},{"$f":"'元(SBI妻)'!L6","v":0.06},{"$f":"'元(SBI妻)'!M6","v":0}]
["三菱ＵＦＪ国際－ｅＭＡＸＩＳ　Ｓｌｉｍ　国内株式（ＴＯＰＩＸ）特定/一般",{"$f":"'元(SBI妻)'!A7","v":"保有中"},{"$f":"'元(SBI妻)'!B7","v":"三菱ＵＦＪ国際－ｅＭＡＸＩＳ　Ｓｌｉｍ　国内株式（ＴＯＰＩＸ）"},{"$f":"'元(SBI妻)'!C7","v":"特定/一般"},{"$f":"'元(SBI妻)'!D7","v":"金額"},{"$f":"'元(SBI妻)'!E7","v":28291},{"$f":"'元(SBI妻)'!F7","v":0},{"$f":"'元(SBI妻)'!G7","v":0},{"$f":"'元(SBI妻)'!H7","v":0},{"$f":"'元(SBI妻)'!I7","v":24674},{"$f":"'元(SBI妻)'!J7","v":0},{"$f":"'元(SBI妻)'!K7","v":3617},{"$f":"'元(SBI妻)'!L7","v":0.14649999999999999},{"$f":"'元(SBI妻)'!M7","v":0}]
["三菱ＵＦＪ国際－ｅＭＡＸＩＳ　Ｓｌｉｍ　国内株式（ＴＯＰＩＸ）NISA/つみたてNISA",{"$f":"'元(SBI妻)'!A8","v":"保有中"},{"$f":"'元(SBI妻)'!B8","v":"三菱ＵＦＪ国際－ｅＭＡＸＩＳ　Ｓｌｉｍ　国内株式（ＴＯＰＩＸ）"},{"$f":"'元(SBI妻)'!C8","v":"NISA/つみたてNISA"},{"$f":"'元(SBI妻)'!D8","v":"金額"},{"$f":"'元(SBI妻)'!E8","v":21915},{"$f":"'元(SBI妻)'!F8","v":0},{"$f":"'元(SBI妻)'!G8","v":0},{"$f":"'元(SBI妻)'!H8","v":0},{"$f":"'元(SBI妻)'!I8","v":15174},{"$f":"'元(SBI妻)'!J8","v":0},{"$f":"'元(SBI妻)'!K8","v":6741},{"$f":"'元(SBI妻)'!L8","v":0.44419999999999998},{"$f":"'元(SBI妻)'!M8","v":0}]
["三菱ＵＦＪ国際－ｅＭＡＸＩＳ　Ｓｌｉｍ　国内債券インデックス特定/一般",{"$f":"'元(SBI妻)'!A9","v":"保有中"},{"$f":"'元(SBI妻)'!B9","v":"三菱ＵＦＪ国際－ｅＭＡＸＩＳ　Ｓｌｉｍ　国内債券インデックス"},{"$f":"'元(SBI妻)'!C9","v":"特定/一般"},{"$f":"'元(SBI妻)'!D9","v":"金額"},{"$f":"'元(SBI妻)'!E9","v":37206},{"$f":"'元(SBI妻)'!F9","v":0},{"$f":"'元(SBI妻)'!G9","v":0},{"$f":"'元(SBI妻)'!H9","v":0},{"$f":"'元(SBI妻)'!I9","v":37295},{"$f":"'元(SBI妻)'!J9","v":0},{"$f":"'元(SBI妻)'!K9","v":-89},{"$f":"'元(SBI妻)'!L9","v":-2.3E-3},{"$f":"'元(SBI妻)'!M9","v":0}]
["三菱ＵＦＪ国際－ｅＭＡＸＩＳ　Ｓｌｉｍ　先進国株式インデックス特定/一般",{"$f":"'元(SBI妻)'!A10","v":"保有中"},{"$f":"'元(SBI妻)'!B10","v":"三菱ＵＦＪ国際－ｅＭＡＸＩＳ　Ｓｌｉｍ　先進国株式インデックス"},{"$f":"'元(SBI妻)'!C10","v":"特定/一般"},{"$f":"'元(SBI妻)'!D10","v":"金額"},{"$f":"'元(SBI妻)'!E10","v":81150},{"$f":"'元(SBI妻)'!F10","v":0},{"$f":"'元(SBI妻)'!G10","v":0},{"$f":"'元(SBI妻)'!H10","v":0},{"$f":"'元(SBI妻)'!I10","v":70221},{"$f":"'元(SBI妻)'!J10","v":0},{"$f":"'元(SBI妻)'!K10","v":10929},{"$f":"'元(SBI妻)'!L10","v":0.15559999999999999},{"$f":"'元(SBI妻)'!M10","v":0}]
["三菱ＵＦＪ国際－ｅＭＡＸＩＳ　Ｓｌｉｍ　先進国株式インデックスNISA/つみたてNISA",{"$f":"'元(SBI妻)'!A11","v":"保有中"},{"$f":"'元(SBI妻)'!B11","v":"三菱ＵＦＪ国際－ｅＭＡＸＩＳ　Ｓｌｉｍ　先進国株式インデックス"},{"$f":"'元(SBI妻)'!C11","v":"NISA/つみたてNISA"},{"$f":"'元(SBI妻)'!D11","v":"金額"},{"$f":"'元(SBI妻)'!E11","v":2008579},{"$f":"'元(SBI妻)'!F11","v":0},{"$f":"'元(SBI妻)'!G11","v":0},{"$f":"'元(SBI妻)'!H11","v":0},{"$f":"'元(SBI妻)'!I11","v":1384812},{"$f":"'元(SBI妻)'!J11","v":0},{"$f":"'元(SBI妻)'!K11","v":623767},{"$f":"'元(SBI妻)'!L11","v":0.45040000000000002},{"$f":"'元(SBI妻)'!M11","v":0}]
["三菱ＵＦＪ国際－ｅＭＡＸＩＳ　Ｓｌｉｍ　新興国株式インデックス特定/一般",{"$f":"'元(SBI妻)'!A12","v":"保有中"},{"$f":"'元(SBI妻)'!B12","v":"三菱ＵＦＪ国際－ｅＭＡＸＩＳ　Ｓｌｉｍ　新興国株式インデックス"},{"$f":"'元(SBI妻)'!C12","v":"特定/一般"},{"$f":"'元(SBI妻)'!D12","v":"金額"},{"$f":"'元(SBI妻)'!E12","v":1644},{"$f":"'元(SBI妻)'!F12","v":0},{"$f":"'元(SBI妻)'!G12","v":0},{"$f":"'元(SBI妻)'!H12","v":0},{"$f":"'元(SBI妻)'!I12","v":1505},{"$f":"'元(SBI妻)'!J12","v":0},{"$f":"'元(SBI妻)'!K12","v":139},{"$f":"'元(SBI妻)'!L12","v":9.2299999999999993E-2},{"$f":"'元(SBI妻)'!M12","v":0}]
["Ｏｎｅ－たわらノーロード　先進国株式＜為替ヘッジあり＞特定/一般",{"$f":"'元(SBI妻)'!A13","v":"保有中"},{"$f":"'元(SBI妻)'!B13","v":"Ｏｎｅ－たわらノーロード　先進国株式＜為替ヘッジあり＞"},{"$f":"'元(SBI妻)'!C13","v":"特定/一般"},{"$f":"'元(SBI妻)'!D13","v":"金額"},{"$f":"'元(SBI妻)'!E13","v":53038},{"$f":"'元(SBI妻)'!F13","v":0},{"$f":"'元(SBI妻)'!G13","v":0},{"$f":"'元(SBI妻)'!H13","v":0},{"$f":"'元(SBI妻)'!I13","v":48098},{"$f":"'元(SBI妻)'!J13","v":0},{"$f":"'元(SBI妻)'!K13","v":4940},{"$f":"'元(SBI妻)'!L13","v":0.1027},{"$f":"'元(SBI妻)'!M13","v":0}]
["Ｏｎｅ－たわらノーロード　先進国株式NISA/つみたてNISA",{"$f":"'元(SBI妻)'!A14","v":"保有中"},{"$f":"'元(SBI妻)'!B14","v":"Ｏｎｅ－たわらノーロード　先進国株式"},{"$f":"'元(SBI妻)'!C14","v":"NISA/つみたてNISA"},{"$f":"'元(SBI妻)'!D14","v":"金額"},{"$f":"'元(SBI妻)'!E14","v":84448},{"$f":"'元(SBI妻)'!F14","v":0},{"$f":"'元(SBI妻)'!G14","v":0},{"$f":"'元(SBI妻)'!H14","v":0},{"$f":"'元(SBI妻)'!I14","v":46101},{"$f":"'元(SBI妻)'!J14","v":0},{"$f":"'元(SBI妻)'!K14","v":38347},{"$f":"'元(SBI妻)'!L14","v":0.83179999999999998},{"$f":"'元(SBI妻)'!M14","v":0}]
["三井住友ＴＡＭ－ＳＭＴ　ゴールドインデックス・オープン（為替ヘッジあり）特定/一般",{"$f":"'元(SBI妻)'!A15","v":"保有中"},{"$f":"'元(SBI妻)'!B15","v":"三井住友ＴＡＭ－ＳＭＴ　ゴールドインデックス・オープン（為替ヘッジあり）"},{"$f":"'元(SBI妻)'!C15","v":"特定/一般"},{"$f":"'元(SBI妻)'!D15","v":"金額"},{"$f":"'元(SBI妻)'!E15","v":1129},{"$f":"'元(SBI妻)'!F15","v":0},{"$f":"'元(SBI妻)'!G15","v":0},{"$f":"'元(SBI妻)'!H15","v":0},{"$f":"'元(SBI妻)'!I15","v":1100},{"$f":"'元(SBI妻)'!J15","v":0},{"$f":"'元(SBI妻)'!K15","v":29},{"$f":"'元(SBI妻)'!L15","v":2.63E-2},{"$f":"'元(SBI妻)'!M15","v":0}]
["りそな－Ｓｍａｒｔ－ｉ　先進国債券インデックス（為替ヘッジあり）特定/一般",{"$f":"'元(SBI妻)'!A16","v":"保有中"},{"$f":"'元(SBI妻)'!B16","v":"りそな－Ｓｍａｒｔ－ｉ　先進国債券インデックス（為替ヘッジあり）"},{"$f":"'元(SBI妻)'!C16","v":"特定/一般"},{"$f":"'元(SBI妻)'!D16","v":"金額"},{"$f":"'元(SBI妻)'!E16","v":17153},{"$f":"'元(SBI妻)'!F16","v":0},{"$f":"'元(SBI妻)'!G16","v":0},{"$f":"'元(SBI妻)'!H16","v":0},{"$f":"'元(SBI妻)'!I16","v":17575},{"$f":"'元(SBI妻)'!J16","v":0},{"$f":"'元(SBI妻)'!K16","v":-422},{"$f":"'元(SBI妻)'!L16","v":-2.4E-2},{"$f":"'元(SBI妻)'!M16","v":0}]
["00",{"$f":"'元(SBI妻)'!A17","v":0},{"$f":"'元(SBI妻)'!B17","v":0},{"$f":"'元(SBI妻)'!C17","v":0},{"$f":"'元(SBI妻)'!D17","v":0},{"$f":"'元(SBI妻)'!E17","v":0},{"$f":"'元(SBI妻)'!F17","v":0},{"$f":"'元(SBI妻)'!G17","v":0},{"$f":"'元(SBI妻)'!H17","v":0},{"$f":"'元(SBI妻)'!I17","v":0},{"$f":"'元(SBI妻)'!J17","v":0},{"$f":"'元(SBI妻)'!K17","v":0},{"$f":"'元(SBI妻)'!L17","v":0},{"$f":"'元(SBI妻)'!M17","v":0}]
["00",{"$f":"'元(SBI妻)'!A18","v":0},{"$f":"'元(SBI妻)'!B18","v":0},{"$f":"'元(SBI妻)'!C18","v":0},{"$f":"'元(SBI妻)'!D18","v":0},{"$f":"'元(SBI妻)'!E18","v":0},{"$f":"'元(SBI妻)'!F18","v":0},{"$f":"'元(SBI妻)'!G18","v":0},{"$f":"'元(SBI妻)'!H18","v":0},{"$f":"'元(SBI妻)'!I18","v":0},{"$f":"'元(SBI妻)'!J18","v":0},{"$f":"'元(SBI妻)'!K18","v":0},{"$f":"'元(SBI妻)'!L18","v":0},{"$f":"'元(SBI妻)'!M18","v":0}]
["00",{"$f":"'元(SBI妻)'!A19","v":0},{"$f":"'元(SBI妻)'!B19","v":0},{"$f":"'元(SBI妻)'!C19","v":0},{"$f":"'元(SBI妻)'!D19","v":0},{"$f":"'元(SBI妻)'!E19","v":0},{"$f":"'元(SBI妻)'!F19","v":0},{"$f":"'元(SBI妻)'!G19","v":0},{"$f":"'元(SBI妻)'!H19","v":0},{"$f":"'元(SBI妻)'!I19","v":0},{"$f":"'元(SBI妻)'!J19","v":0},{"$f":"'元(SBI妻)'!K19","v":0},{"$f":"'元(SBI妻)'!L19","v":0},{"$f":"'元(SBI妻)'!M19","v":0}]
["00",{"$f":"'元(SBI妻)'!A20","v":0},{"$f":"'元(SBI妻)'!B20","v":0},{"$f":"'元(SBI妻)'!C20","v":0},{"$f":"'元(SBI妻)'!D20","v":0},{"$f":"'元(SBI妻)'!E20","v":0},{"$f":"'元(SBI妻)'!F20","v":0},{"$f":"'元(SBI妻)'!G20","v":0},{"$f":"'元(SBI妻)'!H20","v":0},{"$f":"'元(SBI妻)'!I20","v":0},{"$f":"'元(SBI妻)'!J20","v":0},{"$f":"'元(SBI妻)'!K20","v":0},{"$f":"'元(SBI妻)'!L20","v":0},{"$f":"'元(SBI妻)'!M20","v":0}]
["00",{"$f":"'元(SBI妻)'!A21","v":0},{"$f":"'元(SBI妻)'!B21","v":0},{"$f":"'元(SBI妻)'!C21","v":0},{"$f":"'元(SBI妻)'!D21","v":0},{"$f":"'元(SBI妻)'!E21","v":0},{"$f":"'元(SBI妻)'!F21","v":0},{"$f":"'元(SBI妻)'!G21","v":0},{"$f":"'元(SBI妻)'!H21","v":0},{"$f":"'元(SBI妻)'!I21","v":0},{"$f":"'元(SBI妻)'!J21","v":0},{"$f":"'元(SBI妻)'!K21","v":0},{"$f":"'元(SBI妻)'!L21","v":0},{"$f":"'元(SBI妻)'!M21","v":0}]
["00",{"$f":"'元(SBI妻)'!A22","v":0},{"$f":"'元(SBI妻)'!B22","v":0},{"$f":"'元(SBI妻)'!C22","v":0},{"$f":"'元(SBI妻)'!D22","v":0},{"$f":"'元(SBI妻)'!E22","v":0},{"$f":"'元(SBI妻)'!F22","v":0},{"$f":"'元(SBI妻)'!G22","v":0},{"$f":"'元(SBI妻)'!H22","v":0},{"$f":"'元(SBI妻)'!I22","v":0},{"$f":"'元(SBI妻)'!J22","v":0},{"$f":"'元(SBI妻)'!K22","v":0},{"$f":"'元(SBI妻)'!L22","v":0},{"$f":"'元(SBI妻)'!M22","v":0}]
["00",{"$f":"'元(SBI妻)'!A23","v":0},{"$f":"'元(SBI妻)'!B23","v":0},{"$f":"'元(SBI妻)'!C23","v":0},{"$f":"'元(SBI妻)'!D23","v":0},{"$f":"'元(SBI妻)'!E23","v":0},{"$f":"'元(SBI妻)'!F23","v":0},{"$f":"'元(SBI妻)'!G23","v":0},{"$f":"'元(SBI妻)'!H23","v":0},{"$f":"'元(SBI妻)'!I23","v":0},{"$f":"'元(SBI妻)'!J23","v":0},{"$f":"'元(SBI妻)'!K23","v":0},{"$f":"'元(SBI妻)'!L23","v":0},{"$f":"'元(SBI妻)'!M23","v":0}]
["00",{"$f":"'元(SBI妻)'!A24","v":0},{"$f":"'元(SBI妻)'!B24","v":0},{"$f":"'元(SBI妻)'!C24","v":0},{"$f":"'元(SBI妻)'!D24","v":0},{"$f":"'元(SBI妻)'!E24","v":0},{"$f":"'元(SBI妻)'!F24","v":0},{"$f":"'元(SBI妻)'!G24","v":0},{"$f":"'元(SBI妻)'!H24","v":0},{"$f":"'元(SBI妻)'!I24","v":0},{"$f":"'元(SBI妻)'!J24","v":0},{"$f":"'元(SBI妻)'!K24","v":0},{"$f":"'元(SBI妻)'!L24","v":0},{"$f":"'元(SBI妻)'!M24","v":0}]
["00",{"$f":"'元(SBI妻)'!A25","v":0},{"$f":"'元(SBI妻)'!B25","v":0},{"$f":"'元(SBI妻)'!C25","v":0},{"$f":"'元(SBI妻)'!D25","v":0},{"$f":"'元(SBI妻)'!E25","v":0},{"$f":"'元(SBI妻)'!F25","v":0},{"$f":"'元(SBI妻)'!G25","v":0},{"$f":"'元(SBI妻)'!H25","v":0},{"$f":"'元(SBI妻)'!I25","v":0},{"$f":"'元(SBI妻)'!J25","v":0},{"$f":"'元(SBI妻)'!K25","v":0},{"$f":"'元(SBI妻)'!L25","v":0},{"$f":"'元(SBI妻)'!M25","v":0}]
["00",{"$f":"'元(SBI妻)'!A26","v":0},{"$f":"'元(SBI妻)'!B26","v":0},{"$f":"'元(SBI妻)'!C26","v":0},{"$f":"'元(SBI妻)'!D26","v":0},{"$f":"'元(SBI妻)'!E26","v":0},{"$f":"'元(SBI妻)'!F26","v":0},{"$f":"'元(SBI妻)'!G26","v":0},{"$f":"'元(SBI妻)'!H26","v":0},{"$f":"'元(SBI妻)'!I26","v":0},{"$f":"'元(SBI妻)'!J26","v":0},{"$f":"'元(SBI妻)'!K26","v":0},{"$f":"'元(SBI妻)'!L26","v":0},{"$f":"'元(SBI妻)'!M26","v":0}]
["00",{"$f":"'元(SBI妻)'!A27","v":0},{"$f":"'元(SBI妻)'!B27","v":0},{"$f":"'元(SBI妻)'!C27","v":0},{"$f":"'元(SBI妻)'!D27","v":0},{"$f":"'元(SBI妻)'!E27","v":0},{"$f":"'元(SBI妻)'!F27","v":0},{"$f":"'元(SBI妻)'!G27","v":0},{"$f":"'元(SBI妻)'!H27","v":0},{"$f":"'元(SBI妻)'!I27","v":0},{"$f":"'元(SBI妻)'!J27","v":0},{"$f":"'元(SBI妻)'!K27","v":0},{"$f":"'元(SBI妻)'!L27","v":0},{"$f":"'元(SBI妻)'!M27","v":0}]
["00",{"$f":"'元(SBI妻)'!A28","v":0},{"$f":"'元(SBI妻)'!B28","v":0},{"$f":"'元(SBI妻)'!C28","v":0},{"$f":"'元(SBI妻)'!D28","v":0},{"$f":"'元(SBI妻)'!E28","v":0},{"$f":"'元(SBI妻)'!F28","v":0},{"$f":"'元(SBI妻)'!G28","v":0},{"$f":"'元(SBI妻)'!H28","v":0},{"$f":"'元(SBI妻)'!I28","v":0},{"$f":"'元(SBI妻)'!J28","v":0},{"$f":"'元(SBI妻)'!K28","v":0},{"$f":"'元(SBI妻)'!L28","v":0},{"$f":"'元(SBI妻)'!M28","v":0}]
["00",{"$f":"'元(SBI妻)'!A29","v":0},{"$f":"'元(SBI妻)'!B29","v":0},{"$f":"'元(SBI妻)'!C29","v":0},{"$f":"'元(SBI妻)'!D29","v":0},{"$f":"'元(SBI妻)'!E29","v":0},{"$f":"'元(SBI妻)'!F29","v":0},{"$f":"'元(SBI妻)'!G29","v":0},{"$f":"'元(SBI妻)'!H29","v":0},{"$f":"'元(SBI妻)'!I29","v":0},{"$f":"'元(SBI妻)'!J29","v":0},{"$f":"'元(SBI妻)'!K29","v":0},{"$f":"'元(SBI妻)'!L29","v":0},{"$f":"'元(SBI妻)'!M29","v":0}]
["00",{"$f":"'元(SBI妻)'!A30","v":0},{"$f":"'元(SBI妻)'!B30","v":0},{"$f":"'元(SBI妻)'!C30","v":0},{"$f":"'元(SBI妻)'!D30","v":0},{"$f":"'元(SBI妻)'!E30","v":0},{"$f":"'元(SBI妻)'!F30","v":0},{"$f":"'元(SBI妻)'!G30","v":0},{"$f":"'元(SBI妻)'!H30","v":0},{"$f":"'元(SBI妻)'!I30","v":0},{"$f":"'元(SBI妻)'!J30","v":0},{"$f":"'元(SBI妻)'!K30","v":0},{"$f":"'元(SBI妻)'!L30","v":0},{"$f":"'元(SBI妻)'!M30","v":0}]