{"text_format":"1","workbook":"xlsx","n_sheets":2,"sheets":["ブログ収益","ブログ経費"],"not_rendered":{"charts":0,"images":0,"macros":1,"external_links":0,"defined_names":0,"comments":0,"pivot_tables":0},"unopened":[],"bounds":{"document_bytes":16777216,"sheet_cells":100000,"rows_first":2000,"rows_last":500,"rows_between":2000,"halvings":0,"cell_chars":16384,"cell_head_chars":4096},"cells_cut":0,"cells_raw":0,"read":"whole","date_system":"1900"}

{"sheet":"ブログ収益","index":0,"n_rows":1394,"n_cols":21,"rows_kept":1394,"cut":false,"hidden":false,"merged":[]}
[null,"アドセンス",null,"アドセンス",null,null,null,null,null,null,null,null,"アナリティクス",null,null,null,null,"ブログ"]
[null,"当日収益","増減","今週収益","増減","直近30日","過去30日",null,null,"累計","当日PV","比率","今週\nPV","増減","直近30日PV","比率","過去12カ月PV","総文字数",null,"経費累計","利益累計"]
["2021-01-01",0,null,null,null,null,null,null,null,{"$f":"SUM(B$3:B3)","v":0},null,null,null,null,null,null,null,null,null,{"$f":"SUMIF(ブログ経費!A:A,\"<=\"&A3,ブログ経費!B:B)","v":3300},{"$f":"J3-T3","v":-3300}]
["2021-01-02",0,{"$f":"B4-B3","v":0},null,null,null,null,null,null,{"$f":"SUM(B$3:B4)","v":0},null,null,null,null,null,null,null,null,null,{"$f":"SUMIF(ブログ経費!A:A,\"<=\"&A4,ブログ経費!B:B)","v":3300},{"$f":"J4-T4","v":-3300}]
["2021-01-03",0,{"$f":"B5-B4","v":0},null,null,null,null,null,null,{"$f":"SUM(B$3:B5)","v":0},null,null,null,null,null,null,null,null,null,{"$f":"SUMIF(ブログ経費!A:A,\"<=\"&A5,ブログ経費!B:B)","v":3300},-3300]
["2021-01-04",0,0,null,null,null,null,null,null,{"$f":"SUM(B$3:B6)","v":0},null,null,null,null,null,null,null,null,null,{"$f":"SUMIF(ブログ経費!A:A,\"<=\"&A6,ブログ経費!B:B)","v":3300},-3300]
["2021-01-05",0,0,null,null,null,null,null,null,{"$f":"SUM(B$3:B7)","v":0},null,null,null,null,null,null,null,null,null,{"$f":"SUMIF(ブログ経費!A:A,\"<=\"&A7,ブログ経費!B:B)","v":3300},-3300]
["2021-01-06",0,0,null,null,null,null,null,null,{"$f":"SUM(B$3:B8)","v":0},null,null,null,null,null,null,null,null,null,{"$f":"SUMIF(ブログ経費!A:A,\"<=\"&A8,ブログ経費!B:B)","v":3300},-3300]
["2021-01-07",0,0,null,null,null,null,null,null,{"$f":"SUM(B$3:B9)","v":0},null,null,null,null,null,null,null,null,null,{"$f":"SUMIF(ブログ経費!A:A,\"<=\"&A9,ブログ経費!B:B)","v":3300},-3300]
["2021-01-08",0,0,null,null,null,null,null,null,{"$f":"SUM(B$3:B10)","v":0},null,null,null,null,null,null,null,null,null,{"$f":"SUMIF(ブログ経費!A:A,\"<=\"&A10,ブログ経費!B:B)","v":3300},-3300]
["2021-01-09",0,0,null,null,null,null,null,null,{"$f":"SUM(B$3:B11)","v":0},null,null,null,null,null,null,null,null,null,{"$f":"SUMIF(ブログ経費!A:A,\"<=\"&A11,ブログ経費!B:B)","v":3300},-3300]
["2021-01-10",0,0,null,null,null,null,null,null,{"$f":"SUM(B$3:B12)","v":0},null,null,null,null,null,null,null,null,null,{"$f":"SUMIF(ブログ経費!A:A,\"<=\"&A12,ブログ経費!B:B)","v":3300},-3300]
["2021-01-11",0,0,null,null,null,null,null,null,{"$f":"SUM(B$3:B13)","v":0},null,null,null,null,null,null,null,null,null,{"$f":"SUMIF(ブログ経費!A:A,\"<=\"&A13,ブログ経費!B:B)","v":3300},-3300]
["2021-01-12",0,0,null,null,null,null,null,null,{"$f":"SUM(B$3:B14)","v":0},null,null,null,null,null,null,null,null,null,{"$f":"SUMIF(ブログ経費!A:A,\"<=\"&A14,ブログ経費!B:B)","v":3300},-3300]
["2021-01-13",0,0,null,null,null,null,null,null,{"$f":"SUM(B$3:B15)","v":0},null,null,null,null,null,null,null,null,null,{"$f":"SUMIF(ブログ経費!A:A,\"<=\"&A15,ブログ経費!B:B)","v":3300},-3300]
["2021-01-14",0,0,null,null,null,null,null,null,{"$f":"SUM(B$3:B16)","v":0},null,null,null,null,null,null,null,null,null,{"$f":"SUMIF(ブログ経費!A:A,\"<=\"&A16,ブログ経費!B:B)","v":3300},-3300]
["2021-01-15",0,0,null,null,null,null,null,null,{"$f":"SUM(B$3:B17)","v":0},null,null,null,null,null,null,null,null,null,{"$f":"SUMIF(ブログ経費!A:A,\"<=\"&A17,ブログ経費!B:B)","v":3300},-3300]
["2021-01-16",0,0,null,null,null,null,null,null,{"$f":"SUM(B$3:B18)","v":0},null,null,null,null,null,null,null,null,null,{"$f":"SUMIF(ブログ経費!A:A,\"<=\"&A18,ブログ経費!B:B)","v":3300},-3300]
["2021-01-17",0,0,null,null,null,null,null,null,{"$f":"SUM(B$3:B19)","v":0},null,null,null,null,null,null,null,null,null,{"$f":"SUMIF(ブログ経費!A:A,\"<=\"&A19,ブログ経費!B:B)","v":3300},-3300]
["2021-01-18",0,0,null,null,null,null,null,null,{"$f":"SUM(B$3:B20)","v":0},null,null,null,null,null,null,null,null,null,{"$f":"SUMIF(ブログ経費!A:A,\"<=\"&A20,ブログ経費!B:B)","v":3300},-3300]
["2021-01-19",0,0,null,null,null,null,null,null,{"$f":"SUM(B$3:B21)","v":0},null,null,null,null,null,null,null,null,null,{"$f":"SUMIF(ブログ経費!A:A,\"<=\"&A21,ブログ経費!B:B)","v":3300},-3300]
["2021-01-20",0,0,null,null,null,null,null,null,{"$f":"SUM(B$3:B22)","v":0},null,null,null,null,null,null,null,null,null,{"$f":"SUMIF(ブログ経費!A:A,\"<=\"&A22,ブログ経費!B:B)","v":3300},-3300]
["2021-01-21",0,0,null,null,null,null,null,null,{"$f":"SUM(B$3:B23)","v":0},null,null,null,null,null,null,null,null,null,{"$f":"SUMIF(ブログ経費!A:A,\"<=\"&A23,ブログ経費!B:B)","v":3300},-3300]
["2021-01-22",0,0,null,null,null,null,null,null,{"$f":"SUM(B$3:B24)","v":0},null,null,null,null,null,null,null,null,null,{"$f":"SUMIF(ブログ経費!A:A,\"<=\"&A24,ブログ経費!B:B)","v":3300},-3300]
["2021-01-23",0,0,null,null,null,null,null,null,{"$f":"SUM(B$3:B25)","v":0},null,null,null,null,null,null,null,null,null,{"$f":"SUMIF(ブログ経費!A:A,\"<=\"&A25,ブログ経費!B:B)","v":3300},-3300]
["2021-01-24",0,0,null,null,null,null,null,null,{"$f":"SUM(B$3:B26)","v":0},null,null,null,null,null,null,null,null,null,{"$f":"SUMIF(ブログ経費!A:A,\"<=\"&A26,ブログ経費!B:B)","v":3300},-3300]
["2021-01-25",0,0,null,null,null,null,null,null,{"$f":"SUM(B$3:B27)","v":0},null,null,null,null,null,null,null,null,null,{"$f":"SUMIF(ブログ経費!A:A,\"<=\"&A27,ブログ経費!B:B)","v":3300},-3300]
["2021-01-26",0,0,null,null,null,null,null,null,{"$f":"SUM(B$3:B28)","v":0},null,null,null,null,null,null,null,null,null,{"$f":"SUMIF(ブログ経費!A:A,\"<=\"&A28,ブログ経費!B:B)","v":3300},-3300]
["2021-01-27",0,0,null,null,null,null,null,null,{"$f":"SUM(B$3:B29)","v":0},null,null,null,null,null,null,null,null,null,{"$f":"SUMIF(ブログ経費!A:A,\"<=\"&A29,ブログ経費!B:B)","v":3300},-3300]
["2021-01-28",0,0,null,null,null,null,null,null,{"$f":"SUM(B$3:B30)","v":0},null,null,null,null,null,null,null,null,null,{"$f":"SUMIF(ブログ経費!A:A,\"<=\"&A30,ブログ経費!B:B)","v":3300},-3300]
["2021-01-29",0,0,null,null,null,null,null,null,{"$f":"SUM(B$3:B31)","v":0},null,null,null,null,null,null,null,null,null,{"$f":"SUMIF(ブログ経費!A:A,\"<=\"&A31,ブログ経費!B:B)","v":3300},-3300]
["2021-01-30",0,0,null,null,null,null,null,null,{"$f":"SUM(B$3:B32)","v":0},null,null,null,null,null,null,null,null,null,{"$f":"SUMIF(ブログ経費!A:A,\"<=\"&A32,ブログ経費!B:B)","v":3300},-3300]
["2021-01-31",0,0,null,null,null,null,null,null,{"$f":"SUM(B$3:B33)","v":0},null,null,null,null,null,null,null,null,null,{"$f":"SUMIF(ブログ経費!A:A,\"<=\"&A33,ブログ経費!B:B)","v":3300},-3300]
["2021-02-01",0,0,null,null,null,null,null,null,{"$f":"SUM(B$3:B34)","v":0},null,null,null,null,null,null,null,null,null,{"$f":"SUMIF(ブログ経費!A:A,\"<=\"&A34,ブログ経費!B:B)","v":3300},-3300]
["2021-02-02",0,0,null,null,null,null,null,null,{"$f":"SUM(B$3:B35)","v":0},null,null,null,null,null,null,null,null,null,{"$f":"SUMIF(ブログ経費!A:A,\"<=\"&A35,ブログ経費!B:B)","v":3300},-3300]
["2021-02-03",0,0,null,null,null,null,null,null,{"$f":"SUM(B$3:B36)","v":0},null,null,null,null,null,null,null,null,null,{"$f":"SUMIF(ブログ経費!A:A,\"<=\"&A36,ブログ経費!B:B)","v":3300},-3300]
["2021-02-04",0,0,null,null,null,null,null,null,{"$f":"SUM(B$3:B37)","v":0},null,null,null,null,null,null,null,null,null,{"$f":"SUMIF(ブログ経費!A:A,\"<=\"&A37,ブログ経費!B:B)","v":3300},-3300]
["2021-02-05",0,0,null,null,null,null,null,null,{"$f":"SUM(B$3:B38)","v":0},null,null,null,null,null,null,null,null,null,{"$f":"SUMIF(ブログ経費!A:A,\"<=\"&A38,ブログ経費!B:B)","v":3300},-3300]
["2021-02-06",0,0,null,null,null,null,null,null,{"$f":"SUM(B$3:B39)","v":0},null,null,null,null,null,null,null,null,null,{"$f":"SUMIF(ブログ経費!A:A,\"<=\"&A39,ブログ経費!B:B)","v":3300},-3300]
["2021-02-07",0,0,null,null,null,null,null,null,{"$f":"SUM(B$3:B40)","v":0},null,null,null,null,null,null,null,null,null,{"$f":"SUMIF(ブログ経費!A:A,\"<=\"&A40,ブログ経費!B:B)","v":3300},-3300]
["2021-02-08",0,0,null,null,null,null,null,null,{"$f":"SUM(B$3:B41)","v":0},null,null,null,null,null,null,null,null,null,{"$f":"SUMIF(ブログ経費!A:A,\"<=\"&A41,ブログ経費!B:B)","v":3300},-3300]
["2021-02-09",0,0,null,null,null,null,null,null,{"$f":"SUM(B$3:B42)","v":0},null,null,null,null,null,null,null,null,null,{"$f":"SUMIF(ブログ経費!A:A,\"<=\"&A42,ブログ経費!B:B)","v":3300},-3300]
["2021-02-10",0,0,null,null,null,null,null,null,{"$f":"SUM(B$3:B43)","v":0},null,null,null,null,null,null,null,null,null,{"$f":"SUMIF(ブログ経費!A:A,\"<=\"&A43,ブログ経費!B:B)","v":3300},-3300]
["2021-02-11",0,0,null,null,null,null,null,null,{"$f":"SUM(B$3:B44)","v":0},null,null,null,null,null,null,null,null,null,{"$f":"SUMIF(ブログ経費!A:A,\"<=\"&A44,ブログ経費!B:B)","v":3300},-3300]
["2021-02-12",0,0,null,null,null,null,null,null,{"$f":"SUM(B$3:B45)","v":0},null,null,null,null,null,null,null,null,null,{"$f":"SUMIF(ブログ経費!A:A,\"<=\"&A45,ブログ経費!B:B)","v":3300},-3300]
["2021-02-13",0,0,null,null,null,null,null,null,{"$f":"SUM(B$3:B46)","v":0},null,null,null,null,null,null,null,null,null,{"$f":"SUMIF(ブログ経費!A:A,\"<=\"&A46,ブログ経費!B:B)","v":3300},-3300]
["2021-02-14",0,0,null,null,null,null,null,null,{"$f":"SUM(B$3:B47)","v":0},null,null,null,null,null,null,null,null,null,{"$f":"SUMIF(ブログ経費!A:A,\"<=\"&A47,ブログ経費!B:B)","v":3300},-3300]
["2021-02-15",0,0,null,null,null,null,null,null,{"$f":"SUM(B$3:B48)","v":0},null,null,null,null,null,null,null,null,null,{"$f":"SUMIF(ブログ経費!A:A,\"<=\"&A48,ブログ経費!B:B)","v":3300},-3300]
["2021-02-16",0,0,null,null,null,null,null,null,{"$f":"SUM(B$3:B49)","v":0},null,null,null,null,null,null,null,null,null,{"$f":"SUMIF(ブログ経費!A:A,\"<=\"&A49,ブログ経費!B:B)","v":3300},-3300]
["2021-02-17",0,0,null,null,null,null,null,null,{"$f":"SUM(B$3:B50)","v":0},null,null,null,null,null,null,null,null,null,{"$f":"SUMIF(ブログ経費!A:A,\"<=\"&A50,ブログ経費!B:B)","v":3300},-3300]
["2021-02-18",0,0,null,null,null,null,null,null,{"$f":"SUM(B$3:B51)","v":0},null,null,null,null,null,null,null,null,null,{"$f":"SUMIF(ブログ経費!A:A,\"<=\"&A51,ブログ経費!B:B)","v":3300},-3300]
["2021-02-19",0,0,null,null,null,null,null,null,{"$f":"SUM(B$3:B52)","v":0},null,null,null,null,null,null,null,null,null,{"$f":"SUMIF(ブログ経費!A:A,\"<=\"&A52,ブログ経費!B:B)","v":3300},-3300]
["2021-02-20",0,0,null,null,null,null,null,null,{"$f":"SUM(B$3:B53)","v":0},null,null,null,null,null,null,null,null,null,{"$f":"SUMIF(ブログ経費!A:A,\"<=\"&A53,ブログ経費!B:B)","v":3300},-3300]
["2021-02-21",0,0,null,null,null,null,null,null,{"$f":"SUM(B$3:B54)","v":0},null,null,null,null,null,null,null,null,null,{"$f":"SUMIF(ブログ経費!A:A,\"<=\"&A54,ブログ経費!B:B)","v":3300},-3300]
["2021-02-22",0,0,null,null,null,null,null,null,{"$f":"SUM(B$3:B55)","v":0},null,null,null,null,null,null,null,null,null,{"$f":"SUMIF(ブログ経費!A:A,\"<=\"&A55,ブログ経費!B:B)","v":3300},-3300]
["2021-02-23",0,0,null,null,null,null,null,null,{"$f":"SUM(B$3:B56)","v":0},null,null,null,null,null,null,null,null,null,{"$f":"SUMIF(ブログ経費!A:A,\"<=\"&A56,ブログ経費!B:B)","v":3300},-3300]
["2021-02-24",0,0,null,null,null,null,null,null,{"$f":"SUM(B$3:B57)","v":0},null,null,null,null,null,null,null,null,null,{"$f":"SUMIF(ブログ経費!A:A,\"<=\"&A57,ブログ経費!B:B)","v":3300},-3300]
["2021-02-25",0,0,null,null,null,null,null,null,{"$f":"SUM(B$3:B58)","v":0},null,null,null,null,null,null,null,null,null,{"$f":"SUMIF(ブログ経費!A:A,\"<=\"&A58,ブログ経費!B:B)","v":3300},-3300]
["2021-02-26",0,0,null,null,null,null,null,null,{"$f":"SUM(B$3:B59)","v":0},null,null,null,null,null,null,null,null,null,{"$f":"SUMIF(ブログ経費!A:A,\"<=\"&A59,ブログ経費!B:B)","v":3300},-3300]
["2021-02-27",0,0,null,null,null,null,null,null,{"$f":"SUM(B$3:B60)","v":0},null,null,null,null,null,null,null,null,null,{"$f":"SUMIF(ブログ経費!A:A,\"<=\"&A60,ブログ経費!B:B)","v":3300},-3300]
["2021-02-28",0,0,null,null,null,null,null,null,{"$f":"SUM(B$3:B61)","v":0},null,null,null,null,null,null,null,null,null,{"$f":"SUMIF(ブログ経費!A:A,\"<=\"&A61,ブログ経費!B:B)","v":3300},-3300]
["2021-03-01",0,0,null,null,{"$f":"SUM(B33:B62)","v":0},{"$f":"SUM(B3:B32)","v":0},{"$f":"F62-G62","v":0},{"$f":"H62/G62","v":{"$error":"#DIV/0!"}},{"$f":"SUM(B$3:B62)","v":0},null,null,null,null,null,null,null,null,null,{"$f":"SUMIF(ブログ経費!A:A,\"<=\"&A62,ブログ経費!B:B)","v":3300},-3300]
["2021-03-02",0,0,null,null,{"$f":"SUM(B34:B63)","v":0},{"$f":"SUM(B4:B33)","v":0},{"$f":"F63-G63","v":0},{"$f":"H63/G63","v":{"$error":"#DIV/0!"}},{"$f":"SUM(B$3:B63)","v":0},null,null,null,null,null,null,null,null,null,{"$f":"SUMIF(ブログ経費!A:A,\"<=\"&A63,ブログ経費!B:B)","v":3300},-3300]
["2021-03-03",0,0,null,null,0,0,0,{"$error":"#DIV/0!"},{"$f":"SUM(B$3:B64)","v":0},null,null,null,null,null,null,null,null,null,{"$f":"SUMIF(ブログ経費!A:A,\"<=\"&A64,ブログ経費!B:B)","v":3300},-3300]
["2021-03-04",0,0,null,null,0,0,0,{"$error":"#DIV/0!"},{"$f":"SUM(B$3:B65)","v":0},null,null,null,null,null,null,null,null,null,{"$f":"SUMIF(ブログ経費!A:A,\"<=\"&A65,ブログ経費!B:B)","v":3300},-3300]
["2021-03-05",0,0,null,null,0,0,0,{"$error":"#DIV/0!"},{"$f":"SUM(B$3:B66)","v":0},null,null,null,null,null,null,null,null,null,{"$f":"SUMIF(ブログ経費!A:A,\"<=\"&A66,ブログ経費!B:B)","v":3300},-3300]
["2021-03-06",0,0,null,null,0,0,0,{"$error":"#DIV/0!"},{"$f":"SUM(B$3:B67)","v":0},null,null,null,null,null,null,null,null,null,{"$f":"SUMIF(ブログ経費!A:A,\"<=\"&A67,ブログ経費!B:B)","v":3300},-3300]
["2021-03-07",0,0,null,null,0,0,0,{"$error":"#DIV/0!"},{"$f":"SUM(B$3:B68)","v":0},null,null,null,null,null,null,null,null,null,{"$f":"SUMIF(ブログ経費!A:A,\"<=\"&A68,ブログ経費!B:B)","v":3300},{"$f":"J68-T68","v":-3300}]
["2021-03-08",0,{"$f":"B69-B68","v":0},null,null,0,0,0,{"$error":"#DIV/0!"},{"$f":"SUM(B$3:B69)","v":0},null,null,null,null,null,null,null,null,null,{"$f":"SUMIF(ブログ経費!A:A,\"<=\"&A69,ブログ経費!B:B)","v":3300},-3300]
["2021-03-09",0,0,null,null,0,0,0,{"$error":"#DIV/0!"},{"$f":"SUM(B$3:B70)","v":0},null,null,null,null,null,null,null,null,null,{"$f":"SUMIF(ブログ経費!A:A,\"<=\"&A70,ブログ経費!B:B)","v":3300},-3300]
["2021-03-10",0,0,null,null,0,0,0,{"$error":"#DIV/0!"},{"$f":"SUM(B$3:B71)","v":0},null,null,null,null,null,null,null,null,null,{"$f":"SUMIF(ブログ経費!A:A,\"<=\"&A71,ブログ経費!B:B)","v":3300},-3300]
["2021-03-11",0,0,null,null,0,0,0,{"$error":"#DIV/0!"},{"$f":"SUM(B$3:B72)","v":0},null,null,null,null,null,null,null,null,null,{"$f":"SUMIF(ブログ経費!A:A,\"<=\"&A72,ブログ経費!B:B)","v":3300},-3300]
["2021-03-12",0,0,null,null,0,0,0,{"$error":"#DIV/0!"},{"$f":"SUM(B$3:B73)","v":0},null,null,null,null,null,null,null,null,null,{"$f":"SUMIF(ブログ経費!A:A,\"<=\"&A73,ブログ経費!B:B)","v":3300},-3300]
["2021-03-13",0,0,null,null,0,0,0,{"$error":"#DIV/0!"},{"$f":"SUM(B$3:B74)","v":0},null,null,null,null,null,null,null,null,null,{"$f":"SUMIF(ブログ経費!A:A,\"<=\"&A74,ブログ経費!B:B)","v":3300},-3300]
["2021-03-14",0,0,null,null,0,0,0,{"$error":"#DIV/0!"},{"$f":"SUM(B$3:B75)","v":0},null,null,null,null,null,null,null,null,null,{"$f":"SUMIF(ブログ経費!A:A,\"<=\"&A75,ブログ経費!B:B)","v":3300},-3300]
["2021-03-15",0,0,null,null,0,0,0,{"$error":"#DIV/0!"},{"$f":"SUM(B$3:B76)","v":0},null,null,null,null,null,null,null,null,null,{"$f":"SUMIF(ブログ経費!A:A,\"<=\"&A76,ブログ経費!B:B)","v":3300},-3300]
["2021-03-16",0,0,null,null,0,0,0,{"$error":"#DIV/0!"},{"$f":"SUM(B$3:B77)","v":0},null,null,null,null,null,null,null,null,null,{"$f":"SUMIF(ブログ経費!A:A,\"<=\"&A77,ブログ経費!B:B)","v":3300},-3300]
["2021-03-17",0,0,null,null,0,0,0,{"$error":"#DIV/0!"},{"$f":"SUM(B$3:B78)","v":0},null,null,null,null,null,null,null,null,null,{"$f":"SUMIF(ブログ経費!A:A,\"<=\"&A78,ブログ経費!B:B)","v":3300},-3300]
["2021-03-18",0,0,null,null,0,0,0,{"$error":"#DIV/0!"},{"$f":"SUM(B$3:B79)","v":0},null,null,null,null,null,null,null,null,null,{"$f":"SUMIF(ブログ経費!A:A,\"<=\"&A79,ブログ経費!B:B)","v":3300},-3300]
["2021-03-19",0,0,null,null,0,0,0,{"$error":"#DIV/0!"},{"$f":"SUM(B$3:B80)","v":0},null,null,null,null,null,null,null,null,null,{"$f":"SUMIF(ブログ経費!A:A,\"<=\"&A80,ブログ経費!B:B)","v":3300},-3300]
["2021-03-20",0,0,null,null,0,0,0,{"$error":"#DIV/0!"},{"$f":"SUM(B$3:B81)","v":0},null,null,null,null,null,null,null,null,null,{"$f":"SUMIF(ブログ経費!A:A,\"<=\"&A81,ブログ経費!B:B)","v":3300},-3300]
["2021-03-21",0,0,null,null,0,0,0,{"$error":"#DIV/0!"},{"$f":"SUM(B$3:B82)","v":0},null,null,null,null,null,null,null,null,null,{"$f":"SUMIF(ブログ経費!A:A,\"<=\"&A82,ブログ経費!B:B)","v":3300},-3300]
["2021-03-22",0,0,null,null,0,0,0,{"$error":"#DIV/0!"},{"$f":"SUM(B$3:B83)","v":0},null,null,null,null,null,null,null,null,null,{"$f":"SUMIF(ブログ経費!A:A,\"<=\"&A83,ブログ経費!B:B)","v":3300},-3300]
["2021-03-23",0,0,null,null,0,0,0,{"$error":"#DIV/0!"},{"$f":"SUM(B$3:B84)","v":0},null,null,null,null,null,null,null,null,null,{"$f":"SUMIF(ブログ経費!A:A,\"<=\"&A84,ブログ経費!B:B)","v":3300},-3300]
["2021-03-24",0,0,null,null,0,0,0,{"$error":"#DIV/0!"},{"$f":"SUM(B$3:B85)","v":0},null,null,null,null,null,null,null,null,null,{"$f":"SUMIF(ブログ経費!A:A,\"<=\"&A85,ブログ経費!B:B)","v":3300},-3300]
["2021-03-25",0,0,null,null,0,0,0,{"$error":"#DIV/0!"},{"$f":"SUM(B$3:B86)","v":0},null,null,null,null,null,null,null,null,null,{"$f":"SUMIF(ブログ経費!A:A,\"<=\"&A86,ブログ経費!B:B)","v":3300},-3300]
["2021-03-26",0,0,null,null,0,0,0,{"$error":"#DIV/0!"},{"$f":"SUM(B$3:B87)","v":0},null,null,null,null,null,null,null,null,null,{"$f":"SUMIF(ブログ経費!A:A,\"<=\"&A87,ブログ経費!B:B)","v":3300},-3300]
["2021-03-27",0,0,null,null,0,0,0,{"$error":"#DIV/0!"},{"$f":"SUM(B$3:B88)","v":0},null,null,null,null,null,null,null,null,null,{"$f":"SUMIF(ブログ経費!A:A,\"<=\"&A88,ブログ経費!B:B)","v":3300},-3300]
["2021-03-28",0,0,null,null,0,0,0,{"$error":"#DIV/0!"},{"$f":"SUM(B$3:B89)","v":0},null,null,null,null,null,null,null,null,null,{"$f":"SUMIF(ブログ経費!A:A,\"<=\"&A89,ブログ経費!B:B)","v":3300},-3300]
["2021-03-29",0,0,null,null,0,0,0,{"$error":"#DIV/0!"},{"$f":"SUM(B$3:B90)","v":0},null,null,null,null,null,null,null,null,null,{"$f":"SUMIF(ブログ経費!A:A,\"<=\"&A90,ブログ経費!B:B)","v":3300},-3300]
["2021-03-30",0,0,null,null,0,0,0,{"$error":"#DIV/0!"},{"$f":"SUM(B$3:B91)","v":0},null,null,null,null,null,null,null,null,null,{"$f":"SUMIF(ブログ経費!A:A,\"<=\"&A91,ブログ経費!B:B)","v":3300},-3300]
["2021-03-31",0,0,null,null,0,0,0,{"$error":"#DIV/0!"},{"$f":"SUM(B$3:B92)","v":0},null,null,null,null,null,null,null,null,null,{"$f":"SUMIF(ブログ経費!A:A,\"<=\"&A92,ブログ経費!B:B)","v":3300},-3300]
["2021-04-01",0,0,null,null,0,0,0,{"$error":"#DIV/0!"},{"$f":"SUM(B$3:B93)","v":0},null,null,null,null,null,null,null,null,null,{"$f":"SUMIF(ブログ経費!A:A,\"<=\"&A93,ブログ経費!B:B)","v":3300},-3300]
["2021-04-02",0,0,null,null,0,0,0,{"$error":"#DIV/0!"},{"$f":"SUM(B$3:B94)","v":0},null,null,null,null,null,null,null,null,null,{"$f":"SUMIF(ブログ経費!A:A,\"<=\"&A94,ブログ経費!B:B)","v":3300},-3300]
["2021-04-03",0,0,null,null,0,0,0,{"$error":"#DIV/0!"},{"$f":"SUM(B$3:B95)","v":0},null,null,null,null,null,null,null,null,null,{"$f":"SUMIF(ブログ経費!A:A,\"<=\"&A95,ブログ経費!B:B)","v":3300},-3300]
["2021-04-04",0,0,null,null,0,0,0,{"$error":"#DIV/0!"},{"$f":"SUM(B$3:B96)","v":0},null,null,null,null,null,null,null,null,null,{"$f":"SUMIF(ブログ経費!A:A,\"<=\"&A96,ブログ経費!B:B)","v":3300},-3300]
["2021-04-05",0,0,null,null,0,0,0,{"$error":"#DIV/0!"},{"$f":"SUM(B$3:B97)","v":0},null,null,null,null,null,null,null,null,null,{"$f":"SUMIF(ブログ経費!A:A,\"<=\"&A97,ブログ経費!B:B)","v":3300},-3300]
["2021-04-06",0,0,null,null,0,0,0,{"$error":"#DIV/0!"},{"$f":"SUM(B$3:B98)","v":0},null,null,null,null,null,null,null,null,null,{"$f":"SUMIF(ブログ経費!A:A,\"<=\"&A98,ブログ経費!B:B)","v":3300},-3300]
["2021-04-07",0,0,null,null,0,0,0,{"$error":"#DIV/0!"},{"$f":"SUM(B$3:B99)","v":0},null,null,null,null,null,null,null,null,null,{"$f":"SUMIF(ブログ経費!A:A,\"<=\"&A99,ブログ経費!B:B)","v":3300},-3300]
["2021-04-08",0,0,null,null,0,0,0,{"$error":"#DIV/0!"},{"$f":"SUM(B$3:B100)","v":0},null,null,null,null,null,null,null,null,null,{"$f":"SUMIF(ブログ経費!A:A,\"<=\"&A100,ブログ経費!B:B)","v":3300},-3300]
["2021-04-09",0,0,null,null,0,0,0,{"$error":"#DIV/0!"},{"$f":"SUM(B$3:B101)","v":0},null,null,null,null,null,null,null,null,null,{"$f":"SUMIF(ブログ経費!A:A,\"<=\"&A101,ブログ経費!B:B)","v":3300},-3300]
["2021-04-10",0,0,null,null,0,0,0,{"$error":"#DIV/0!"},{"$f":"SUM(B$3:B102)","v":0},null,null,null,null,null,null,null,null,null,{"$f":"SUMIF(ブログ経費!A:A,\"<=\"&A102,ブログ経費!B:B)","v":3300},-3300]
["2021-04-11",0,0,null,null,0,0,0,{"$error":"#DIV/0!"},{"$f":"SUM(B$3:B103)","v":0},null,null,null,null,null,null,null,null,null,{"$f":"SUMIF(ブログ経費!A:A,\"<=\"&A103,ブログ経費!B:B)","v":3300},-3300]
["2021-04-12",0,0,null,null,0,0,0,{"$error":"#DIV/0!"},{"$f":"SUM(B$3:B104)","v":0},null,null,null,null,null,null,null,null,null,{"$f":"SUMIF(ブログ経費!A:A,\"<=\"&A104,ブログ経費!B:B)","v":3300},-3300]
["2021-04-13",0,0,null,null,0,0,0,{"$error":"#DIV/0!"},{"$f":"SUM(B$3:B105)","v":0},null,null,null,null,null,null,null,null,null,{"$f":"SUMIF(ブログ経費!A:A,\"<=\"&A105,ブログ経費!B:B)","v":3300},-3300]
["2021-04-14",0,0,null,null,0,0,0,{"$error":"#DIV/0!"},{"$f":"SUM(B$3:B106)","v":0},null,null,null,null,null,null,null,null,null,{"$f":"SUMIF(ブログ経費!A:A,\"<=\"&A106,ブログ経費!B:B)","v":3300},-3300]
["2021-04-15",0,0,null,null,0,0,0,{"$error":"#DIV/0!"},{"$f":"SUM(B$3:B107)","v":0},null,null,null,null,null,null,null,null,null,{"$f":"SUMIF(ブログ経費!A:A,\"<=\"&A107,ブログ経費!B:B)","v":3300},-3300]
["2021-04-16",0,0,null,null,0,0,0,{"$error":"#DIV/0!"},{"$f":"SUM(B$3:B108)","v":0},null,null,null,null,null,null,null,null,null,{"$f":"SUMIF(ブログ経費!A:A,\"<=\"&A108,ブログ経費!B:B)","v":3300},-3300]
["2021-04-17",0,0,null,null,0,0,0,{"$error":"#DIV/0!"},{"$f":"SUM(B$3:B109)","v":0},null,null,null,null,null,null,null,null,null,{"$f":"SUMIF(ブログ経費!A:A,\"<=\"&A109,ブログ経費!B:B)","v":3300},-3300]
["2021-04-18",0,0,null,null,0,0,0,{"$error":"#DIV/0!"},{"$f":"SUM(B$3:B110)","v":0},null,null,null,null,null,null,null,null,null,{"$f":"SUMIF(ブログ経費!A:A,\"<=\"&A110,ブログ経費!B:B)","v":3300},-3300]
["2021-04-19",0,0,null,null,0,0,0,{"$error":"#DIV/0!"},{"$f":"SUM(B$3:B111)","v":0},null,null,null,null,null,null,null,null,null,{"$f":"SUMIF(ブログ経費!A:A,\"<=\"&A111,ブログ経費!B:B)","v":3300},-3300]
["2021-04-20",0,0,null,null,0,0,0,{"$error":"#DIV/0!"},{"$f":"SUM(B$3:B112)","v":0},null,null,null,null,null,null,null,null,null,{"$f":"SUMIF(ブログ経費!A:A,\"<=\"&A112,ブログ経費!B:B)","v":3300},-3300]
["2021-04-21",0,0,null,null,0,0,0,{"$error":"#DIV/0!"},{"$f":"SUM(B$3:B113)","v":0},null,null,null,null,null,null,null,null,null,{"$f":"SUMIF(ブログ経費!A:A,\"<=\"&A113,ブログ経費!B:B)","v":3300},-3300]
["2021-04-22",0,0,null,null,0,0,0,{"$error":"#DIV/0!"},{"$f":"SUM(B$3:B114)","v":0},null,null,null,null,null,null,null,null,null,{"$f":"SUMIF(ブログ経費!A:A,\"<=\"&A114,ブログ経費!B:B)","v":3300},-3300]
["2021-04-23",0,0,null,null,0,0,0,{"$error":"#DIV/0!"},{"$f":"SUM(B$3:B115)","v":0},null,null,null,null,null,null,null,null,null,{"$f":"SUMIF(ブログ経費!A:A,\"<=\"&A115,ブログ経費!B:B)","v":3300},-3300]
["2021-04-24",0,0,null,null,0,0,0,{"$error":"#DIV/0!"},{"$f":"SUM(B$3:B116)","v":0},null,null,null,null,null,null,null,null,null,{"$f":"SUMIF(ブログ経費!A:A,\"<=\"&A116,ブログ経費!B:B)","v":3300},-3300]
["2021-04-25",0,0,null,null,0,0,0,{"$error":"#DIV/0!"},{"$f":"SUM(B$3:B117)","v":0},null,null,null,null,null,null,null,null,null,{"$f":"SUMIF(ブログ経費!A:A,\"<=\"&A117,ブログ経費!B:B)","v":3300},-3300]
["2021-04-26",0,0,null,null,0,0,0,{"$error":"#DIV/0!"},{"$f":"SUM(B$3:B118)","v":0},null,null,null,null,null,null,null,null,null,{"$f":"SUMIF(ブログ経費!A:A,\"<=\"&A118,ブログ経費!B:B)","v":3300},-3300]
["2021-04-27",0,0,null,null,0,0,0,{"$error":"#DIV/0!"},{"$f":"SUM(B$3:B119)","v":0},null,null,null,null,null,null,null,null,null,{"$f":"SUMIF(ブログ経費!A:A,\"<=\"&A119,ブログ経費!B:B)","v":3300},-3300]
["2021-04-28",0,0,null,null,0,0,0,{"$error":"#DIV/0!"},{"$f":"SUM(B$3:B120)","v":0},null,null,null,null,null,null,null,null,null,{"$f":"SUMIF(ブログ経費!A:A,\"<=\"&A120,ブログ経費!B:B)","v":3300},-3300]
["2021-04-29",0,0,null,null,0,0,0,{"$error":"#DIV/0!"},{"$f":"SUM(B$3:B121)","v":0},null,null,null,null,null,null,null,null,null,{"$f":"SUMIF(ブログ経費!A:A,\"<=\"&A121,ブログ経費!B:B)","v":3300},-3300]
["2021-04-30",0,0,null,null,0,0,0,{"$error":"#DIV/0!"},{"$f":"SUM(B$3:B122)","v":0},null,null,null,null,null,null,null,null,null,{"$f":"SUMIF(ブログ経費!A:A,\"<=\"&A122,ブログ経費!B:B)","v":3300},-3300]
["2021-05-01",0,0,null,null,0,0,0,{"$error":"#DIV/0!"},{"$f":"SUM(B$3:B123)","v":0},null,null,null,null,null,null,null,null,null,{"$f":"SUMIF(ブログ経費!A:A,\"<=\"&A123,ブログ経費!B:B)","v":3300},-3300]
["2021-05-02",0,0,null,null,0,0,0,{"$error":"#DIV/0!"},{"$f":"SUM(B$3:B124)","v":0},null,null,null,null,null,null,null,null,null,{"$f":"SUMIF(ブログ経費!A:A,\"<=\"&A124,ブログ経費!B:B)","v":3300},-3300]
["2021-05-03",0,0,null,null,0,0,0,{"$error":"#DIV/0!"},{"$f":"SUM(B$3:B125)","v":0},null,null,null,null,null,null,null,null,null,{"$f":"SUMIF(ブログ経費!A:A,\"<=\"&A125,ブログ経費!B:B)","v":3300},-3300]
["2021-05-04",0,0,null,null,0,0,0,{"$error":"#DIV/0!"},{"$f":"SUM(B$3:B126)","v":0},null,null,null,null,null,null,null,null,null,{"$f":"SUMIF(ブログ経費!A:A,\"<=\"&A126,ブログ経費!B:B)","v":3300},-3300]
["2021-05-05",0,0,null,null,{"$f":"SUM(B98:B127)","v":0},{"$f":"SUM(B68:B97)","v":0},{"$f":"F127-G127","v":0},{"$f":"H127/G127","v":{"$error":"#DIV/0!"}},{"$f":"SUM(B$3:B127)","v":0},null,null,null,null,null,null,null,null,null,{"$f":"SUMIF(ブログ経費!A:A,\"<=\"&A127,ブログ経費!B:B)","v":3300},-3300]
["2021-05-06",0,0,null,null,0,0,0,{"$error":"#DIV/0!"},{"$f":"SUM(B$3:B128)","v":0},null,null,null,null,null,null,null,null,null,{"$f":"SUMIF(ブログ経費!A:A,\"<=\"&A128,ブログ経費!B:B)","v":3300},-3300]
["2021-05-07",0,0,null,null,0,0,0,{"$error":"#DIV/0!"},{"$f":"SUM(B$3:B129)","v":0},null,null,null,null,null,null,null,null,null,{"$f":"SUMIF(ブログ経費!A:A,\"<=\"&A129,ブログ経費!B:B)","v":3300},-3300]
["2021-05-08",0,0,null,null,0,0,0,{"$error":"#DIV/0!"},{"$f":"SUM(B$3:B130)","v":0},null,null,null,null,null,null,null,null,null,{"$f":"SUMIF(ブログ経費!A:A,\"<=\"&A130,ブログ経費!B:B)","v":5335},-5335]
["2021-05-09",0,0,null,null,0,0,0,{"$error":"#DIV/0!"},{"$f":"SUM(B$3:B131)","v":0},null,null,null,null,null,null,null,null,null,{"$f":"SUMIF(ブログ経費!A:A,\"<=\"&A131,ブログ経費!B:B)","v":5335},-5335]
["2021-05-10",0,0,null,null,0,0,0,{"$error":"#DIV/0!"},{"$f":"SUM(B$3:B132)","v":0},null,null,null,null,null,null,null,null,null,{"$f":"SUMIF(ブログ経費!A:A,\"<=\"&A132,ブログ経費!B:B)","v":5335},{"$f":"J132-T132","v":-5335}]
["2021-05-11",0,{"$f":"B133-B132","v":0},null,null,0,0,0,{"$error":"#DIV/0!"},{"$f":"SUM(B$3:B133)","v":0},null,null,null,null,null,null,null,null,null,{"$f":"SUMIF(ブログ経費!A:A,\"<=\"&A133,ブログ経費!B:B)","v":5335},-5335]
["2021-05-12",0,0,null,null,0,0,0,{"$error":"#DIV/0!"},{"$f":"SUM(B$3:B134)","v":0},null,null,null,null,null,null,null,null,null,{"$f":"SUMIF(ブログ経費!A:A,\"<=\"&A134,ブログ経費!B:B)","v":5335},-5335]
["2021-05-13",0,0,null,null,0,0,0,{"$error":"#DIV/0!"},{"$f":"SUM(B$3:B135)","v":0},null,null,null,null,null,null,null,null,null,{"$f":"SUMIF(ブログ経費!A:A,\"<=\"&A135,ブログ経費!B:B)","v":5335},-5335]
["2021-05-14",0,0,null,null,0,0,0,{"$error":"#DIV/0!"},{"$f":"SUM(B$3:B136)","v":0},null,null,null,null,null,null,null,null,null,{"$f":"SUMIF(ブログ経費!A:A,\"<=\"&A136,ブログ経費!B:B)","v":5335},-5335]
["2021-05-15",0,0,null,null,0,0,0,{"$error":"#DIV/0!"},{"$f":"SUM(B$3:B137)","v":0},null,null,null,null,null,null,null,null,null,{"$f":"SUMIF(ブログ経費!A:A,\"<=\"&A137,ブログ経費!B:B)","v":5335},-5335]
["2021-05-16",0,0,null,null,0,0,0,{"$error":"#DIV/0!"},{"$f":"SUM(B$3:B138)","v":0},null,null,null,null,null,null,null,null,null,{"$f":"SUMIF(ブログ経費!A:A,\"<=\"&A138,ブログ経費!B:B)","v":5335},-5335]
["2021-05-17",0,0,null,null,0,0,0,{"$error":"#DIV/0!"},{"$f":"SUM(B$3:B139)","v":0},null,null,null,null,null,null,null,null,null,{"$f":"SUMIF(ブログ経費!A:A,\"<=\"&A139,ブログ経費!B:B)","v":5335},-5335]
["2021-05-18",0,0,null,null,0,0,0,{"$error":"#DIV/0!"},{"$f":"SUM(B$3:B140)","v":0},null,null,null,null,null,null,null,null,null,{"$f":"SUMIF(ブログ経費!A:A,\"<=\"&A140,ブログ経費!B:B)","v":5335},-5335]
["2021-05-19",0,0,null,null,0,0,0,{"$error":"#DIV/0!"},{"$f":"SUM(B$3:B141)","v":0},null,null,null,null,null,null,null,null,null,{"$f":"SUMIF(ブログ経費!A:A,\"<=\"&A141,ブログ経費!B:B)","v":5335},-5335]
["2021-05-20",0,0,null,null,0,0,0,{"$error":"#DIV/0!"},{"$f":"SUM(B$3:B142)","v":0},null,null,null,null,null,null,null,null,null,{"$f":"SUMIF(ブログ経費!A:A,\"<=\"&A142,ブログ経費!B:B)","v":5335},-5335]
["2021-05-21",0,0,null,null,0,0,0,{"$error":"#DIV/0!"},{"$f":"SUM(B$3:B143)","v":0},null,null,null,null,null,null,null,null,null,{"$f":"SUMIF(ブログ経費!A:A,\"<=\"&A143,ブログ経費!B:B)","v":5335},-5335]
["2021-05-22",0,0,null,null,0,0,0,{"$error":"#DIV/0!"},{"$f":"SUM(B$3:B144)","v":0},null,null,null,null,null,null,null,null,null,{"$f":"SUMIF(ブログ経費!A:A,\"<=\"&A144,ブログ経費!B:B)","v":5335},-5335]
["2021-05-23",0,0,null,null,0,0,0,{"$error":"#DIV/0!"},{"$f":"SUM(B$3:B145)","v":0},null,null,null,null,null,null,null,null,null,{"$f":"SUMIF(ブログ経費!A:A,\"<=\"&A145,ブログ経費!B:B)","v":5335},-5335]
["2021-05-24",0,0,null,null,0,0,0,{"$error":"#DIV/0!"},{"$f":"SUM(B$3:B146)","v":0},null,null,null,null,null,null,null,null,null,{"$f":"SUMIF(ブログ経費!A:A,\"<=\"&A146,ブログ経費!B:B)","v":5335},-5335]
["2021-05-25",0,0,null,null,0,0,0,{"$error":"#DIV/0!"},{"$f":"SUM(B$3:B147)","v":0},null,null,null,null,null,null,null,null,null,{"$f":"SUMIF(ブログ経費!A:A,\"<=\"&A147,ブログ経費!B:B)","v":5335},-5335]
["2021-05-26",0,0,null,null,0,0,0,{"$error":"#DIV/0!"},{"$f":"SUM(B$3:B148)","v":0},null,null,null,null,null,null,null,null,null,{"$f":"SUMIF(ブログ経費!A:A,\"<=\"&A148,ブログ経費!B:B)","v":5335},-5335]
["2021-05-27",0,0,null,null,0,0,0,{"$error":"#DIV/0!"},{"$f":"SUM(B$3:B149)","v":0},null,null,null,null,null,null,null,null,null,{"$f":"SUMIF(ブログ経費!A:A,\"<=\"&A149,ブログ経費!B:B)","v":5335},-5335]
["2021-05-28",0,0,null,null,0,0,0,{"$error":"#DIV/0!"},{"$f":"SUM(B$3:B150)","v":0},null,null,null,null,null,null,null,null,null,{"$f":"SUMIF(ブログ経費!A:A,\"<=\"&A150,ブログ経費!B:B)","v":5335},-5335]
["2021-05-29",0,0,null,null,0,0,0,{"$error":"#DIV/0!"},{"$f":"SUM(B$3:B151)","v":0},null,null,null,null,null,null,null,null,null,{"$f":"SUMIF(ブログ経費!A:A,\"<=\"&A151,ブログ経費!B:B)","v":5335},-5335]
["2021-05-30",0,0,null,null,0,0,0,{"$error":"#DIV/0!"},{"$f":"SUM(B$3:B152)","v":0},null,null,null,null,null,null,null,null,null,{"$f":"SUMIF(ブログ経費!A:A,\"<=\"&A152,ブログ経費!B:B)","v":5335},-5335]
["2021-05-31",0,0,null,null,0,0,0,{"$error":"#DIV/0!"},{"$f":"SUM(B$3:B153)","v":0},null,null,null,null,null,null,null,null,null,{"$f":"SUMIF(ブログ経費!A:A,\"<=\"&A153,ブログ経費!B:B)","v":5335},-5335]
["2021-06-01",0,0,null,null,0,0,0,{"$error":"#DIV/0!"},{"$f":"SUM(B$3:B154)","v":0},null,null,null,null,null,null,null,null,null,{"$f":"SUMIF(ブログ経費!A:A,\"<=\"&A154,ブログ経費!B:B)","v":5335},-5335]
["2021-06-02",0,0,null,null,0,0,0,{"$error":"#DIV/0!"},{"$f":"SUM(B$3:B155)","v":0},null,null,null,null,null,null,null,null,null,{"$f":"SUMIF(ブログ経費!A:A,\"<=\"&A155,ブログ経費!B:B)","v":5335},-5335]
["2021-06-03",0,0,null,null,0,0,0,{"$error":"#DIV/0!"},{"$f":"SUM(B$3:B156)","v":0},null,null,null,null,null,null,null,null,null,{"$f":"SUMIF(ブログ経費!A:A,\"<=\"&A156,ブログ経費!B:B)","v":5335},-5335]
["2021-06-04",0,0,null,null,0,0,0,{"$error":"#DIV/0!"},{"$f":"SUM(B$3:B157)","v":0},null,null,null,null,null,null,null,null,null,{"$f":"SUMIF(ブログ経費!A:A,\"<=\"&A157,ブログ経費!B:B)","v":5335},-5335]
["2021-06-05",0,0,null,null,0,0,0,{"$error":"#DIV/0!"},{"$f":"SUM(B$3:B158)","v":0},null,null,null,null,null,null,null,null,null,{"$f":"SUMIF(ブログ経費!A:A,\"<=\"&A158,ブログ経費!B:B)","v":5335},-5335]
["2021-06-06",0,0,null,null,0,0,0,{"$error":"#DIV/0!"},{"$f":"SUM(B$3:B159)","v":0},null,null,null,null,null,null,null,null,null,{"$f":"SUMIF(ブログ経費!A:A,\"<=\"&A159,ブログ経費!B:B)","v":5335},-5335]
["2021-06-07",0,0,null,null,0,0,0,{"$error":"#DIV/0!"},{"$f":"SUM(B$3:B160)","v":0},null,null,null,null,null,null,null,null,null,{"$f":"SUMIF(ブログ経費!A:A,\"<=\"&A160,ブログ経費!B:B)","v":5335},-5335]
["2021-06-08",0,0,null,null,0,0,0,{"$error":"#DIV/0!"},{"$f":"SUM(B$3:B161)","v":0},null,null,null,null,null,null,null,null,null,{"$f":"SUMIF(ブログ経費!A:A,\"<=\"&A161,ブログ経費!B:B)","v":5335},-5335]
["2021-06-09",0,0,null,null,0,0,0,{"$error":"#DIV/0!"},{"$f":"SUM(B$3:B162)","v":0},null,null,null,null,null,null,null,null,null,{"$f":"SUMIF(ブログ経費!A:A,\"<=\"&A162,ブログ経費!B:B)","v":5335},-5335]
["2021-06-10",0,0,null,null,0,0,0,{"$error":"#DIV/0!"},{"$f":"SUM(B$3:B163)","v":0},null,null,null,null,null,null,null,null,null,{"$f":"SUMIF(ブログ経費!A:A,\"<=\"&A163,ブログ経費!B:B)","v":5335},-5335]
["2021-06-11",0,0,null,null,0,0,0,{"$error":"#DIV/0!"},{"$f":"SUM(B$3:B164)","v":0},null,null,null,null,null,null,null,null,null,{"$f":"SUMIF(ブログ経費!A:A,\"<=\"&A164,ブログ経費!B:B)","v":5335},-5335]
["2021-06-12",0,0,null,null,0,0,0,{"$error":"#DIV/0!"},{"$f":"SUM(B$3:B165)","v":0},null,null,null,null,null,null,null,null,null,{"$f":"SUMIF(ブログ経費!A:A,\"<=\"&A165,ブログ経費!B:B)","v":5335},-5335]
["2021-06-13",0,0,null,null,0,0,0,{"$error":"#DIV/0!"},{"$f":"SUM(B$3:B166)","v":0},null,null,null,null,null,null,null,null,null,{"$f":"SUMIF(ブログ経費!A:A,\"<=\"&A166,ブログ経費!B:B)","v":5335},-5335]
["2021-06-14",0,0,null,null,0,0,0,{"$error":"#DIV/0!"},{"$f":"SUM(B$3:B167)","v":0},null,null,null,null,null,null,null,null,null,{"$f":"SUMIF(ブログ経費!A:A,\"<=\"&A167,ブログ経費!B:B)","v":5335},-5335]
["2021-06-15",0,0,null,null,0,0,0,{"$error":"#DIV/0!"},{"$f":"SUM(B$3:B168)","v":0},null,null,null,null,null,null,null,null,null,{"$f":"SUMIF(ブログ経費!A:A,\"<=\"&A168,ブログ経費!B:B)","v":5335},-5335]
["2021-06-16",0,0,null,null,0,0,0,{"$error":"#DIV/0!"},{"$f":"SUM(B$3:B169)","v":0},null,null,null,null,null,null,null,null,null,{"$f":"SUMIF(ブログ経費!A:A,\"<=\"&A169,ブログ経費!B:B)","v":5335},-5335]
["2021-06-17",0,0,null,null,0,0,0,{"$error":"#DIV/0!"},{"$f":"SUM(B$3:B170)","v":0},null,null,null,null,null,null,null,null,null,{"$f":"SUMIF(ブログ経費!A:A,\"<=\"&A170,ブログ経費!B:B)","v":5335},-5335]
["2021-06-18",0,0,null,null,0,0,0,{"$error":"#DIV/0!"},{"$f":"SUM(B$3:B171)","v":0},null,null,null,null,null,null,null,null,null,{"$f":"SUMIF(ブログ経費!A:A,\"<=\"&A171,ブログ経費!B:B)","v":5335},-5335]
["2021-06-19",0,0,null,null,0,0,0,{"$error":"#DIV/0!"},{"$f":"SUM(B$3:B172)","v":0},null,null,null,null,null,null,null,null,null,{"$f":"SUMIF(ブログ経費!A:A,\"<=\"&A172,ブログ経費!B:B)","v":5335},-5335]
["2021-06-20",0,0,null,null,0,0,0,{"$error":"#DIV/0!"},{"$f":"SUM(B$3:B173)","v":0},null,null,null,null,null,null,null,null,null,{"$f":"SUMIF(ブログ経費!A:A,\"<=\"&A173,ブログ経費!B:B)","v":5335},-5335]
["2021-06-21",0,0,null,null,0,0,0,{"$error":"#DIV/0!"},{"$f":"SUM(B$3:B174)","v":0},null,null,null,null,null,null,null,null,null,{"$f":"SUMIF(ブログ経費!A:A,\"<=\"&A174,ブログ経費!B:B)","v":5335},-5335]
["2021-06-22",0,0,null,null,0,0,0,{"$error":"#DIV/0!"},{"$f":"SUM(B$3:B175)","v":0},null,null,null,null,null,null,null,null,null,{"$f":"SUMIF(ブログ経費!A:A,\"<=\"&A175,ブログ経費!B:B)","v":5335},-5335]
["2021-06-23",0,0,null,null,0,0,0,{"$error":"#DIV/0!"},{"$f":"SUM(B$3:B176)","v":0},null,null,null,null,null,null,null,null,null,{"$f":"SUMIF(ブログ経費!A:A,\"<=\"&A176,ブログ経費!B:B)","v":5335},-5335]
["2021-06-24",0,0,null,null,0,0,0,{"$error":"#DIV/0!"},{"$f":"SUM(B$3:B177)","v":0},null,null,null,null,null,null,null,null,null,{"$f":"SUMIF(ブログ経費!A:A,\"<=\"&A177,ブログ経費!B:B)","v":5335},-5335]
["2021-06-25",0,0,null,null,0,0,0,{"$error":"#DIV/0!"},{"$f":"SUM(B$3:B178)","v":0},null,null,null,null,null,null,null,null,null,{"$f":"SUMIF(ブログ経費!A:A,\"<=\"&A178,ブログ経費!B:B)","v":5335},-5335]
["2021-06-26",0,0,null,null,0,0,0,{"$error":"#DIV/0!"},{"$f":"SUM(B$3:B179)","v":0},null,null,null,null,null,null,null,null,null,{"$f":"SUMIF(ブログ経費!A:A,\"<=\"&A179,ブログ経費!B:B)","v":5335},-5335]
["2021-06-27",0,0,null,null,0,0,0,{"$error":"#DIV/0!"},{"$f":"SUM(B$3:B180)","v":0},null,null,null,null,null,null,null,null,null,{"$f":"SUMIF(ブログ経費!A:A,\"<=\"&A180,ブログ経費!B:B)","v":5335},-5335]
["2021-06-28",0,0,null,null,0,0,0,{"$error":"#DIV/0!"},{"$f":"SUM(B$3:B181)","v":0},null,null,null,null,null,null,null,null,null,{"$f":"SUMIF(ブログ経費!A:A,\"<=\"&A181,ブログ経費!B:B)","v":5335},-5335]
["2021-06-29",0,0,null,null,0,0,0,{"$error":"#DIV/0!"},{"$f":"SUM(B$3:B182)","v":0},null,null,null,null,null,null,null,null,null,{"$f":"SUMIF(ブログ経費!A:A,\"<=\"&A182,ブログ経費!B:B)","v":5335},-5335]
["2021-06-30",0,0,null,null,0,0,0,{"$error":"#DIV/0!"},{"$f":"SUM(B$3:B183)","v":0},null,null,null,null,null,null,null,null,null,{"$f":"SUMIF(ブログ経費!A:A,\"<=\"&A183,ブログ経費!B:B)","v":5335},-5335]
["2021-07-01",0,0,null,null,0,0,0,{"$error":"#DIV/0!"},{"$f":"SUM(B$3:B184)","v":0},null,null,null,null,null,null,null,null,null,{"$f":"SUMIF(ブログ経費!A:A,\"<=\"&A184,ブログ経費!B:B)","v":5335},-5335]
["2021-07-02",0,0,null,null,0,0,0,{"$error":"#DIV/0!"},{"$f":"SUM(B$3:B185)","v":0},null,null,null,null,null,null,null,null,null,{"$f":"SUMIF(ブログ経費!A:A,\"<=\"&A185,ブログ経費!B:B)","v":5335},-5335]
["2021-07-03",0,0,null,null,0,0,0,{"$error":"#DIV/0!"},{"$f":"SUM(B$3:B186)","v":0},null,null,null,null,null,null,null,null,null,{"$f":"SUMIF(ブログ経費!A:A,\"<=\"&A186,ブログ経費!B:B)","v":5335},-5335]
["2021-07-04",0,0,null,null,0,0,0,{"$error":"#DIV/0!"},{"$f":"SUM(B$3:B187)","v":0},null,null,null,null,null,null,null,null,null,{"$f":"SUMIF(ブログ経費!A:A,\"<=\"&A187,ブログ経費!B:B)","v":5335},-5335]
["2021-07-05",0,0,null,null,0,0,0,{"$error":"#DIV/0!"},{"$f":"SUM(B$3:B188)","v":0},null,null,null,null,null,null,null,null,null,{"$f":"SUMIF(ブログ経費!A:A,\"<=\"&A188,ブログ経費!B:B)","v":5335},-5335]
["2021-07-06",0,0,null,null,0,0,0,{"$error":"#DIV/0!"},{"$f":"SUM(B$3:B189)","v":0},null,null,null,null,null,null,null,null,null,{"$f":"SUMIF(ブログ経費!A:A,\"<=\"&A189,ブログ経費!B:B)","v":5335},-5335]
["2021-07-07",0,0,null,null,0,0,0,{"$error":"#DIV/0!"},{"$f":"SUM(B$3:B190)","v":0},null,null,null,null,null,null,null,null,null,{"$f":"SUMIF(ブログ経費!A:A,\"<=\"&A190,ブログ経費!B:B)","v":5335},-5335]
["2021-07-08",0,0,null,null,{"$f":"SUM(B162:B191)","v":0},{"$f":"SUM(B132:B161)","v":0},{"$f":"F191-G191","v":0},{"$f":"H191/G191","v":{"$error":"#DIV/0!"}},{"$f":"SUM(B$3:B191)","v":0},null,null,null,null,null,null,null,null,null,{"$f":"SUMIF(ブログ経費!A:A,\"<=\"&A191,ブログ経費!B:B)","v":5335},-5335]
["2021-07-09",0,0,null,null,0,0,0,{"$error":"#DIV/0!"},{"$f":"SUM(B$3:B192)","v":0},null,null,null,null,null,null,null,null,null,{"$f":"SUMIF(ブログ経費!A:A,\"<=\"&A192,ブログ経費!B:B)","v":5335},-5335]
["2021-07-10",0,0,null,null,0,0,0,{"$error":"#DIV/0!"},{"$f":"SUM(B$3:B193)","v":0},null,null,null,null,null,null,null,null,null,{"$f":"SUMIF(ブログ経費!A:A,\"<=\"&A193,ブログ経費!B:B)","v":5335},-5335]
["2021-07-11",0,0,null,null,0,0,0,{"$error":"#DIV/0!"},{"$f":"SUM(B$3:B194)","v":0},null,null,null,null,null,null,null,null,null,{"$f":"SUMIF(ブログ経費!A:A,\"<=\"&A194,ブログ経費!B:B)","v":5335},-5335]
["2021-07-12",0,0,null,null,0,0,0,{"$error":"#DIV/0!"},{"$f":"SUM(B$3:B195)","v":0},null,null,null,null,null,null,null,null,null,{"$f":"SUMIF(ブログ経費!A:A,\"<=\"&A195,ブログ経費!B:B)","v":5335},-5335]
["2021-07-13",0,0,null,null,0,0,0,{"$error":"#DIV/0!"},{"$f":"SUM(B$3:B196)","v":0},null,null,null,null,null,null,null,null,null,{"$f":"SUMIF(ブログ経費!A:A,\"<=\"&A196,ブログ経費!B:B)","v":5335},{"$f":"J196-T196","v":-5335}]
["2021-07-14",0,{"$f":"B197-B196","v":0},null,null,0,0,0,{"$error":"#DIV/0!"},{"$f":"SUM(B$3:B197)","v":0},null,null,null,null,null,null,null,null,null,{"$f":"SUMIF(ブログ経費!A:A,\"<=\"&A197,ブログ経費!B:B)","v":5335},-5335]
["2021-07-15",0,0,null,null,0,0,0,{"$error":"#DIV/0!"},{"$f":"SUM(B$3:B198)","v":0},null,null,null,null,null,null,null,null,null,{"$f":"SUMIF(ブログ経費!A:A,\"<=\"&A198,ブログ経費!B:B)","v":5335},-5335]
["2021-07-16",0,0,null,null,0,0,0,{"$error":"#DIV/0!"},{"$f":"SUM(B$3:B199)","v":0},null,null,null,null,null,null,null,null,null,{"$f":"SUMIF(ブログ経費!A:A,\"<=\"&A199,ブログ経費!B:B)","v":5335},-5335]
["2021-07-17",0,0,null,null,0,0,0,{"$error":"#DIV/0!"},{"$f":"SUM(B$3:B200)","v":0},null,null,null,null,null,null,null,null,null,{"$f":"SUMIF(ブログ経費!A:A,\"<=\"&A200,ブログ経費!B:B)","v":5335},-5335]
["2021-07-18",0,0,null,null,0,0,0,{"$error":"#DIV/0!"},{"$f":"SUM(B$3:B201)","v":0},null,null,null,null,null,null,null,null,null,{"$f":"SUMIF(ブログ経費!A:A,\"<=\"&A201,ブログ経費!B:B)","v":5335},-5335]
["2021-07-19",0,0,null,null,0,0,0,{"$error":"#DIV/0!"},{"$f":"SUM(B$3:B202)","v":0},null,null,null,null,null,null,null,null,null,{"$f":"SUMIF(ブログ経費!A:A,\"<=\"&A202,ブログ経費!B:B)","v":5335},-5335]
["2021-07-20",1,1,null,null,1,0,1,{"$error":"#DIV/0!"},{"$f":"SUM(B$3:B203)","v":1},null,null,null,null,null,null,null,null,null,{"$f":"SUMIF(ブログ経費!A:A,\"<=\"&A203,ブログ経費!B:B)","v":5335},-5334]
["2021-07-21",0,-1,null,null,1,0,1,{"$error":"#DIV/0!"},{"$f":"SUM(B$3:B204)","v":1},null,null,null,null,null,null,null,null,null,{"$f":"SUMIF(ブログ経費!A:A,\"<=\"&A204,ブログ経費!B:B)","v":5335},-5334]
["2021-07-22",0,0,null,null,1,0,1,{"$error":"#DIV/0!"},{"$f":"SUM(B$3:B205)","v":1},null,null,null,null,null,null,null,null,null,{"$f":"SUMIF(ブログ経費!A:A,\"<=\"&A205,ブログ経費!B:B)","v":5335},-5334]
["2021-07-23",0,0,null,null,1,0,1,{"$error":"#DIV/0!"},{"$f":"SUM(B$3:B206)","v":1},null,null,null,null,null,null,null,null,null,{"$f":"SUMIF(ブログ経費!A:A,\"<=\"&A206,ブログ経費!B:B)","v":5335},-5334]
["2021-07-24",null,0,null,null,1,0,1,{"$error":"#DIV/0!"},{"$f":"SUM(B$3:B207)","v":1},null,null,null,null,null,null,null,null,null,{"$f":"SUMIF(ブログ経費!A:A,\"<=\"&A207,ブログ経費!B:B)","v":5335},-5334]
["2021-07-25",0,0,null,null,1,0,1,{"$error":"#DIV/0!"},{"$f":"SUM(B$3:B208)","v":1},null,null,null,null,null,null,null,null,null,{"$f":"SUMIF(ブログ経費!A:A,\"<=\"&A208,ブログ経費!B:B)","v":5335},-5334]
["2021-07-26",0,0,null,null,1,0,1,{"$error":"#DIV/0!"},{"$f":"SUM(B$3:B209)","v":1},null,null,null,null,null,null,null,null,null,{"$f":"SUMIF(ブログ経費!A:A,\"<=\"&A209,ブログ経費!B:B)","v":5335},-5334]
["2021-07-27",0,0,null,null,1,0,1,{"$error":"#DIV/0!"},{"$f":"SUM(B$3:B210)","v":1},null,null,null,null,null,null,null,null,null,{"$f":"SUMIF(ブログ経費!A:A,\"<=\"&A210,ブログ経費!B:B)","v":5335},-5334]
["2021-07-28",null,0,null,null,1,0,1,{"$error":"#DIV/0!"},{"$f":"SUM(B$3:B211)","v":1},null,null,null,null,null,null,null,null,null,{"$f":"SUMIF(ブログ経費!A:A,\"<=\"&A211,ブログ経費!B:B)","v":5335},-5334]
["2021-07-29",0,0,null,null,1,0,1,{"$error":"#DIV/0!"},{"$f":"SUM(B$3:B212)","v":1},null,null,null,null,null,null,null,null,null,{"$f":"SUMIF(ブログ経費!A:A,\"<=\"&A212,ブログ経費!B:B)","v":5335},-5334]
["2021-07-30",null,0,null,null,1,0,1,{"$error":"#DIV/0!"},{"$f":"SUM(B$3:B213)","v":1},null,null,null,null,null,null,null,null,null,{"$f":"SUMIF(ブログ経費!A:A,\"<=\"&A213,ブログ経費!B:B)","v":5335},-5334]
["2021-07-31",30,30,null,null,31,0,31,{"$error":"#DIV/0!"},{"$f":"SUM(B$3:B214)","v":31},null,null,null,null,null,null,null,null,null,{"$f":"SUMIF(ブログ経費!A:A,\"<=\"&A214,ブログ経費!B:B)","v":5335},-5304]
["2021-08-01",0,-30,null,null,31,0,31,{"$error":"#DIV/0!"},{"$f":"SUM(B$3:B215)","v":31},null,null,null,null,null,null,null,null,null,{"$f":"SUMIF(ブログ経費!A:A,\"<=\"&A215,ブログ経費!B:B)","v":5335},-5304]
["2021-08-02",0,0,null,null,31,0,31,{"$error":"#DIV/0!"},{"$f":"SUM(B$3:B216)","v":31},null,null,null,null,null,null,null,null,null,{"$f":"SUMIF(ブログ経費!A:A,\"<=\"&A216,ブログ経費!B:B)","v":5335},-5304]
["2021-08-03",107,107,null,null,138,0,138,{"$error":"#DIV/0!"},{"$f":"SUM(B$3:B217)","v":138},null,null,null,null,null,null,null,null,null,{"$f":"SUMIF(ブログ経費!A:A,\"<=\"&A217,ブログ経費!B:B)","v":5335},-5197]
["2021-08-04",0,-107,null,null,138,0,138,{"$error":"#DIV/0!"},{"$f":"SUM(B$3:B218)","v":138},null,null,null,null,null,null,null,null,null,{"$f":"SUMIF(ブログ経費!A:A,\"<=\"&A218,ブログ経費!B:B)","v":5335},-5197]
["2021-08-05",null,0,null,null,138,0,138,{"$error":"#DIV/0!"},{"$f":"SUM(B$3:B219)","v":138},null,null,null,null,null,null,null,null,null,{"$f":"SUMIF(ブログ経費!A:A,\"<=\"&A219,ブログ経費!B:B)","v":5335},-5197]
["2021-08-06",0,0,null,null,138,0,138,{"$error":"#DIV/0!"},{"$f":"SUM(B$3:B220)","v":138},null,null,null,null,null,null,null,null,null,{"$f":"SUMIF(ブログ経費!A:A,\"<=\"&A220,ブログ経費!B:B)","v":5335},-5197]
["2021-08-07",null,0,null,null,138,0,138,{"$error":"#DIV/0!"},{"$f":"SUM(B$3:B221)","v":138},null,null,null,null,null,null,null,null,null,{"$f":"SUMIF(ブログ経費!A:A,\"<=\"&A221,ブログ経費!B:B)","v":5335},-5197]
["2021-08-08",0,0,null,null,138,0,138,{"$error":"#DIV/0!"},{"$f":"SUM(B$3:B222)","v":138},null,null,null,null,null,null,null,null,null,{"$f":"SUMIF(ブログ経費!A:A,\"<=\"&A222,ブログ経費!B:B)","v":5335},-5197]
["2021-08-09",0,0,null,null,138,0,138,{"$error":"#DIV/0!"},{"$f":"SUM(B$3:B223)","v":138},null,null,null,null,null,null,null,null,null,{"$f":"SUMIF(ブログ経費!A:A,\"<=\"&A223,ブログ経費!B:B)","v":5335},-5197]
["2021-08-10",0,0,null,null,138,0,138,{"$error":"#DIV/0!"},{"$f":"SUM(B$3:B224)","v":138},null,null,null,null,null,null,null,null,null,{"$f":"SUMIF(ブログ経費!A:A,\"<=\"&A224,ブログ経費!B:B)","v":5335},-5197]
["2021-08-11",0,0,null,null,138,0,138,{"$error":"#DIV/0!"},{"$f":"SUM(B$3:B225)","v":138},null,null,null,null,null,null,null,null,null,{"$f":"SUMIF(ブログ経費!A:A,\"<=\"&A225,ブログ経費!B:B)","v":5335},-5197]
["2021-08-12",0,0,null,null,138,0,138,{"$error":"#DIV/0!"},{"$f":"SUM(B$3:B226)","v":138},null,null,null,null,null,null,null,null,null,{"$f":"SUMIF(ブログ経費!A:A,\"<=\"&A226,ブログ経費!B:B)","v":5335},-5197]
["2021-08-13",0,0,null,null,138,0,138,{"$error":"#DIV/0!"},{"$f":"SUM(B$3:B227)","v":138},null,null,null,null,null,null,null,null,null,{"$f":"SUMIF(ブログ経費!A:A,\"<=\"&A227,ブログ経費!B:B)","v":5335},-5197]
["2021-08-14",0,0,null,null,138,0,138,{"$error":"#DIV/0!"},{"$f":"SUM(B$3:B228)","v":138},null,null,null,null,null,null,null,null,null,{"$f":"SUMIF(ブログ経費!A:A,\"<=\"&A228,ブログ経費!B:B)","v":5335},-5197]
["2021-08-15",0,0,null,null,138,0,138,{"$error":"#DIV/0!"},{"$f":"SUM(B$3:B229)","v":138},null,null,null,null,null,null,null,null,null,{"$f":"SUMIF(ブログ経費!A:A,\"<=\"&A229,ブログ経費!B:B)","v":5335},-5197]
["2021-08-16",null,0,null,null,138,0,138,{"$error":"#DIV/0!"},{"$f":"SUM(B$3:B230)","v":138},null,null,null,null,null,null,null,null,null,{"$f":"SUMIF(ブログ経費!A:A,\"<=\"&A230,ブログ経費!B:B)","v":5335},-5197]
["2021-08-17",null,0,null,null,138,0,138,{"$error":"#DIV/0!"},{"$f":"SUM(B$3:B231)","v":138},null,null,null,null,null,null,null,null,null,{"$f":"SUMIF(ブログ経費!A:A,\"<=\"&A231,ブログ経費!B:B)","v":5335},-5197]
["2021-08-18",null,0,null,null,138,0,138,{"$error":"#DIV/0!"},{"$f":"SUM(B$3:B232)","v":138},null,null,null,null,null,null,null,null,null,{"$f":"SUMIF(ブログ経費!A:A,\"<=\"&A232,ブログ経費!B:B)","v":5335},-5197]
["2021-08-19",0,0,null,null,137,1,136,136,{"$f":"SUM(B$3:B233)","v":138},null,null,null,null,null,null,null,null,null,{"$f":"SUMIF(ブログ経費!A:A,\"<=\"&A233,ブログ経費!B:B)","v":5335},-5197]
["2021-08-20",0,0,null,null,137,1,136,136,{"$f":"SUM(B$3:B234)","v":138},null,null,null,null,null,null,null,null,null,{"$f":"SUMIF(ブログ経費!A:A,\"<=\"&A234,ブログ経費!B:B)","v":5335},-5197]
["2021-08-21",0,0,null,null,137,1,136,136,{"$f":"SUM(B$3:B235)","v":138},null,null,null,null,null,null,null,null,null,{"$f":"SUMIF(ブログ経費!A:A,\"<=\"&A235,ブログ経費!B:B)","v":5335},-5197]
["2021-08-22",0,0,null,null,137,1,136,136,{"$f":"SUM(B$3:B236)","v":138},null,null,null,null,null,null,null,null,null,{"$f":"SUMIF(ブログ経費!A:A,\"<=\"&A236,ブログ経費!B:B)","v":5335},-5197]
["2021-08-23",0,0,null,null,137,1,136,136,{"$f":"SUM(B$3:B237)","v":138},null,null,null,null,null,null,null,null,null,{"$f":"SUMIF(ブログ経費!A:A,\"<=\"&A237,ブログ経費!B:B)","v":5335},-5197]
["2021-08-24",123,123,null,null,260,1,259,259,{"$f":"SUM(B$3:B238)","v":261},null,null,null,null,null,null,null,null,null,{"$f":"SUMIF(ブログ経費!A:A,\"<=\"&A238,ブログ経費!B:B)","v":5335},-5074]
["2021-08-25",0,-123,null,null,260,1,259,259,{"$f":"SUM(B$3:B239)","v":261},null,null,null,null,null,null,null,null,null,{"$f":"SUMIF(ブログ経費!A:A,\"<=\"&A239,ブログ経費!B:B)","v":5335},-5074]
["2021-08-26",0,0,null,null,260,1,259,259,{"$f":"SUM(B$3:B240)","v":261},null,null,null,null,null,null,null,null,null,{"$f":"SUMIF(ブログ経費!A:A,\"<=\"&A240,ブログ経費!B:B)","v":5335},-5074]
["2021-08-27",0,0,null,null,260,1,259,259,{"$f":"SUM(B$3:B241)","v":261},null,null,null,null,null,null,null,null,null,{"$f":"SUMIF(ブログ経費!A:A,\"<=\"&A241,ブログ経費!B:B)","v":5335},-5074]
["2021-08-28",0,0,null,null,260,1,259,259,{"$f":"SUM(B$3:B242)","v":261},null,null,null,null,null,null,null,null,null,{"$f":"SUMIF(ブログ経費!A:A,\"<=\"&A242,ブログ経費!B:B)","v":5335},-5074]
["2021-08-29",0,0,null,null,260,1,259,259,{"$f":"SUM(B$3:B243)","v":261},null,null,null,null,null,null,null,null,null,{"$f":"SUMIF(ブログ経費!A:A,\"<=\"&A243,ブログ経費!B:B)","v":5335},-5074]
["2021-08-30",0,0,null,null,230,31,199,6.419354838709677,{"$f":"SUM(B$3:B244)","v":261},null,null,null,null,null,null,null,null,null,{"$f":"SUMIF(ブログ経費!A:A,\"<=\"&A244,ブログ経費!B:B)","v":5335},-5074]
["2021-08-31",null,0,null,null,230,31,199,6.419354838709677,{"$f":"SUM(B$3:B245)","v":261},null,null,null,null,null,null,null,null,null,{"$f":"SUMIF(ブログ経費!A:A,\"<=\"&A245,ブログ経費!B:B)","v":5335},-5074]
["2021-09-01",0,0,null,null,230,31,199,6.419354838709677,{"$f":"SUM(B$3:B246)","v":261},null,null,null,null,null,null,null,null,null,{"$f":"SUMIF(ブログ経費!A:A,\"<=\"&A246,ブログ経費!B:B)","v":5335},-5074]
["2021-09-02",0,0,null,null,123,138,-15,-0.10869565217391304,{"$f":"SUM(B$3:B247)","v":261},null,null,null,null,null,null,null,null,null,{"$f":"SUMIF(ブログ経費!A:A,\"<=\"&A247,ブログ経費!B:B)","v":5335},-5074]
["2021-09-03",0,0,null,null,123,138,-15,-0.10869565217391304,{"$f":"SUM(B$3:B248)","v":261},null,null,null,null,null,null,null,null,null,{"$f":"SUMIF(ブログ経費!A:A,\"<=\"&A248,ブログ経費!B:B)","v":5335},-5074]
["2021-09-04",130,130,null,null,253,138,115,0.83333333333333337,{"$f":"SUM(B$3:B249)","v":391},null,null,null,null,null,null,null,null,null,{"$f":"SUMIF(ブログ経費!A:A,\"<=\"&A249,ブログ経費!B:B)","v":5335},-4944]
["2021-09-05",0,-130,null,null,253,138,115,0.83333333333333337,{"$f":"SUM(B$3:B250)","v":391},null,null,null,null,null,null,null,null,null,{"$f":"SUMIF(ブログ経費!A:A,\"<=\"&A250,ブログ経費!B:B)","v":5335},-4944]
["2021-09-06",0,0,null,null,253,138,115,0.83333333333333337,{"$f":"SUM(B$3:B251)","v":391},null,null,null,null,null,null,null,null,null,{"$f":"SUMIF(ブログ経費!A:A,\"<=\"&A251,ブログ経費!B:B)","v":5335},-4944]
["2021-09-07",0,0,null,null,253,138,115,0.83333333333333337,{"$f":"SUM(B$3:B252)","v":391},null,null,null,null,null,null,null,null,null,{"$f":"SUMIF(ブログ経費!A:A,\"<=\"&A252,ブログ経費!B:B)","v":5335},-4944]
["2021-09-08",null,0,null,null,253,138,115,0.83333333333333337,{"$f":"SUM(B$3:B253)","v":391},null,null,null,null,null,null,null,null,null,{"$f":"SUMIF(ブログ経費!A:A,\"<=\"&A253,ブログ経費!B:B)","v":5335},-4944]
["2021-09-09",0,0,null,null,253,138,115,0.83333333333333337,{"$f":"SUM(B$3:B254)","v":391},null,null,null,null,null,null,null,null,null,{"$f":"SUMIF(ブログ経費!A:A,\"<=\"&A254,ブログ経費!B:B)","v":5335},-4944]
["2021-09-10",0,0,null,null,{"$f":"SUM(B226:B255)","v":253},{"$f":"SUM(B196:B225)","v":138},{"$f":"F255-G255","v":115},{"$f":"H255/G255","v":0.83333333333333337},{"$f":"SUM(B$3:B255)","v":391},null,null,null,null,null,null,null,null,null,{"$f":"SUMIF(ブログ経費!A:A,\"<=\"&A255,ブログ経費!B:B)","v":5335},-4944]
["2021-09-11",0,0,null,null,253,138,115,0.83333333333333337,{"$f":"SUM(B$3:B256)","v":391},null,null,null,null,null,null,null,null,null,{"$f":"SUMIF(ブログ経費!A:A,\"<=\"&A256,ブログ経費!B:B)","v":5335},-4944]
["2021-09-12",0,0,null,null,253,138,115,0.83333333333333337,{"$f":"SUM(B$3:B257)","v":391},null,null,null,null,null,null,null,null,null,{"$f":"SUMIF(ブログ経費!A:A,\"<=\"&A257,ブログ経費!B:B)","v":5335},-4944]
["2021-09-13",0,0,null,null,253,138,115,0.83333333333333337,{"$f":"SUM(B$3:B258)","v":391},null,null,null,null,null,null,null,null,null,{"$f":"SUMIF(ブログ経費!A:A,\"<=\"&A258,ブログ経費!B:B)","v":5335},-4944]
["2021-09-14",1,1,null,null,254,138,116,0.84057971014492749,{"$f":"SUM(B$3:B259)","v":392},null,null,null,null,null,null,null,null,null,{"$f":"SUMIF(ブログ経費!A:A,\"<=\"&A259,ブログ経費!B:B)","v":5335},-4943]
["2021-09-15",null,-1,null,null,254,138,116,0.84057971014492749,{"$f":"SUM(B$3:B260)","v":392},null,null,null,null,null,null,null,null,null,{"$f":"SUMIF(ブログ経費!A:A,\"<=\"&A260,ブログ経費!B:B)","v":5335},{"$f":"J260-T260","v":-4943}]
["2021-09-16",0,{"$f":"B261-B260","v":0},null,null,254,138,116,0.84057971014492749,{"$f":"SUM(B$3:B261)","v":392},null,null,null,null,null,null,null,null,null,{"$f":"SUMIF(ブログ経費!A:A,\"<=\"&A261,ブログ経費!B:B)","v":5335},-4943]
["2021-09-17",0,0,null,null,254,138,116,0.84057971014492749,{"$f":"SUM(B$3:B262)","v":392},null,null,null,null,null,null,null,null,null,{"$f":"SUMIF(ブログ経費!A:A,\"<=\"&A262,ブログ経費!B:B)","v":5335},-4943]
["2021-09-18",0,0,null,null,254,137,117,0.85401459854014594,{"$f":"SUM(B$3:B263)","v":392},null,null,null,null,null,null,null,null,null,{"$f":"SUMIF(ブログ経費!A:A,\"<=\"&A263,ブログ経費!B:B)","v":5335},-4943]
["2021-09-19",0,0,null,null,254,137,117,0.85401459854014594,{"$f":"SUM(B$3:B264)","v":392},null,null,null,null,null,null,null,null,null,{"$f":"SUMIF(ブログ経費!A:A,\"<=\"&A264,ブログ経費!B:B)","v":5335},-4943]
["2021-09-20",0,0,null,null,254,137,117,0.85401459854014594,{"$f":"SUM(B$3:B265)","v":392},null,null,null,null,null,null,null,null,null,{"$f":"SUMIF(ブログ経費!A:A,\"<=\"&A265,ブログ経費!B:B)","v":5335},-4943]
["2021-09-21",0,0,null,null,254,137,117,0.85401459854014594,{"$f":"SUM(B$3:B266)","v":392},null,null,null,null,null,null,null,null,null,{"$f":"SUMIF(ブログ経費!A:A,\"<=\"&A266,ブログ経費!B:B)","v":5335},-4943]
["2021-09-22",0,0,null,null,254,137,117,0.85401459854014594,{"$f":"SUM(B$3:B267)","v":392},null,null,null,null,null,null,null,null,null,{"$f":"SUMIF(ブログ経費!A:A,\"<=\"&A267,ブログ経費!B:B)","v":5335},-4943]
["2021-09-23",0,0,null,null,131,260,-129,-0.49615384615384617,{"$f":"SUM(B$3:B268)","v":392},null,null,null,null,null,null,null,null,null,{"$f":"SUMIF(ブログ経費!A:A,\"<=\"&A268,ブログ経費!B:B)","v":5335},-4943]
["2021-09-24",0,0,null,null,131,260,-129,-0.49615384615384617,{"$f":"SUM(B$3:B269)","v":392},null,null,null,null,null,null,null,null,null,{"$f":"SUMIF(ブログ経費!A:A,\"<=\"&A269,ブログ経費!B:B)","v":5335},-4943]
["2021-09-25",0,0,null,null,131,260,-129,-0.49615384615384617,{"$f":"SUM(B$3:B270)","v":392},null,null,null,null,null,null,null,null,null,{"$f":"SUMIF(ブログ経費!A:A,\"<=\"&A270,ブログ経費!B:B)","v":5335},-4943]
["2021-09-26",0,0,null,null,131,260,-129,-0.49615384615384617,{"$f":"SUM(B$3:B271)","v":392},null,null,null,null,null,null,null,null,null,{"$f":"SUMIF(ブログ経費!A:A,\"<=\"&A271,ブログ経費!B:B)","v":5335},-4943]
["2021-09-27",null,0,null,null,131,260,-129,-0.49615384615384617,{"$f":"SUM(B$3:B272)","v":392},null,null,null,null,null,null,null,null,null,{"$f":"SUMIF(ブログ経費!A:A,\"<=\"&A272,ブログ経費!B:B)","v":5335},-4943]
["2021-09-28",0,0,null,null,131,260,-129,-0.49615384615384617,{"$f":"SUM(B$3:B273)","v":392},null,null,null,null,null,null,null,null,null,{"$f":"SUMIF(ブログ経費!A:A,\"<=\"&A273,ブログ経費!B:B)","v":5335},-4943]
["2021-09-29",0,0,null,null,131,230,-99,-0.43043478260869567,{"$f":"SUM(B$3:B274)","v":392},null,null,null,null,null,null,null,null,null,{"$f":"SUMIF(ブログ経費!A:A,\"<=\"&A274,ブログ経費!B:B)","v":5335},-4943]
["2021-09-30",1,1,null,null,132,230,-98,-0.42608695652173911,{"$f":"SUM(B$3:B275)","v":393},null,null,null,null,null,null,null,null,null,{"$f":"SUMIF(ブログ経費!A:A,\"<=\"&A275,ブログ経費!B:B)","v":5335},-4942]
["2021-10-01",8,7,null,null,140,230,-90,-0.39130434782608697,{"$f":"SUM(B$3:B276)","v":401},null,null,null,null,null,null,null,null,null,{"$f":"SUMIF(ブログ経費!A:A,\"<=\"&A276,ブログ経費!B:B)","v":5335},-4934]
["2021-10-02",0,-8,null,null,140,123,17,0.13821138211382114,{"$f":"SUM(B$3:B277)","v":401},null,null,null,null,null,null,null,null,null,{"$f":"SUMIF(ブログ経費!A:A,\"<=\"&A277,ブログ経費!B:B)","v":5335},-4934]
["2021-10-03",0,0,null,null,140,123,17,0.13821138211382114,{"$f":"SUM(B$3:B278)","v":401},null,null,null,null,null,null,null,null,null,{"$f":"SUMIF(ブログ経費!A:A,\"<=\"&A278,ブログ経費!B:B)","v":5335},-4934]
["2021-10-04",0,0,null,null,10,253,-243,-0.96047430830039526,{"$f":"SUM(B$3:B279)","v":401},null,null,null,null,null,null,null,null,null,{"$f":"SUMIF(ブログ経費!A:A,\"<=\"&A279,ブログ経費!B:B)","v":5335},-4934]
["2021-10-05",0,0,null,null,10,253,-243,-0.96047430830039526,{"$f":"SUM(B$3:B280)","v":401},null,null,null,null,null,null,null,null,null,{"$f":"SUMIF(ブログ経費!A:A,\"<=\"&A280,ブログ経費!B:B)","v":5335},-4934]
["2021-10-06",0,0,null,null,10,253,-243,-0.96047430830039526,{"$f":"SUM(B$3:B281)","v":401},null,null,null,null,null,null,null,null,null,{"$f":"SUMIF(ブログ経費!A:A,\"<=\"&A281,ブログ経費!B:B)","v":5335},-4934]
["2021-10-07",null,0,null,null,10,253,-243,-0.96047430830039526,{"$f":"SUM(B$3:B282)","v":401},null,null,null,null,null,null,null,null,null,{"$f":"SUMIF(ブログ経費!A:A,\"<=\"&A282,ブログ経費!B:B)","v":5335},-4934]
["2021-10-08",null,0,null,null,10,253,-243,-0.96047430830039526,{"$f":"SUM(B$3:B283)","v":401},null,null,null,null,null,null,null,null,null,{"$f":"SUMIF(ブログ経費!A:A,\"<=\"&A283,ブログ経費!B:B)","v":5335},-4934]
["2021-10-09",0,0,null,null,10,253,-243,-0.96047430830039526,{"$f":"SUM(B$3:B284)","v":401},null,null,null,null,null,null,null,null,null,{"$f":"SUMIF(ブログ経費!A:A,\"<=\"&A284,ブログ経費!B:B)","v":5335},-4934]
["2021-10-10",0,0,null,null,10,253,-243,-0.96047430830039526,{"$f":"SUM(B$3:B285)","v":401},null,null,null,null,null,null,null,null,null,{"$f":"SUMIF(ブログ経費!A:A,\"<=\"&A285,ブログ経費!B:B)","v":5335},-4934]
["2021-10-11",null,0,null,null,10,253,-243,-0.96047430830039526,{"$f":"SUM(B$3:B286)","v":401},null,null,null,null,null,null,null,null,null,{"$f":"SUMIF(ブログ経費!A:A,\"<=\"&A286,ブログ経費!B:B)","v":5335},-4934]
["2021-10-12",0,0,null,null,10,253,-243,-0.96047430830039526,{"$f":"SUM(B$3:B287)","v":401},null,null,null,null,null,null,null,null,null,{"$f":"SUMIF(ブログ経費!A:A,\"<=\"&A287,ブログ経費!B:B)","v":5335},-4934]
["2021-10-13",0,0,null,null,10,253,-243,-0.96047430830039526,{"$f":"SUM(B$3:B288)","v":401},null,null,null,null,null,null,null,null,null,{"$f":"SUMIF(ブログ経費!A:A,\"<=\"&A288,ブログ経費!B:B)","v":5335},-4934]
["2021-10-14",0,0,null,null,9,254,-245,-0.96456692913385822,{"$f":"SUM(B$3:B289)","v":401},null,null,null,null,null,null,null,null,null,{"$f":"SUMIF(ブログ経費!A:A,\"<=\"&A289,ブログ経費!B:B)","v":5335},-4934]
["2021-10-15",0,0,null,null,9,254,-245,-0.96456692913385822,{"$f":"SUM(B$3:B290)","v":401},null,null,null,null,null,null,null,null,null,{"$f":"SUMIF(ブログ経費!A:A,\"<=\"&A290,ブログ経費!B:B)","v":5335},-4934]
["2021-10-16",0,0,null,null,9,254,-245,-0.96456692913385822,{"$f":"SUM(B$3:B291)","v":401},null,null,null,null,null,null,null,null,null,{"$f":"SUMIF(ブログ経費!A:A,\"<=\"&A291,ブログ経費!B:B)","v":5335},-4934]
["2021-10-17",0,0,null,null,9,254,-245,-0.96456692913385822,{"$f":"SUM(B$3:B292)","v":401},null,null,null,null,null,null,null,null,null,{"$f":"SUMIF(ブログ経費!A:A,\"<=\"&A292,ブログ経費!B:B)","v":5335},-4934]
["2021-10-18",66,66,null,null,75,254,-179,-0.70472440944881887,{"$f":"SUM(B$3:B293)","v":467},null,null,null,null,null,null,null,null,null,{"$f":"SUMIF(ブログ経費!A:A,\"<=\"&A293,ブログ経費!B:B)","v":5335},-4868]
["2021-10-19",0,-66,null,null,75,254,-179,-0.70472440944881887,{"$f":"SUM(B$3:B294)","v":467},null,null,null,null,null,null,null,null,null,{"$f":"SUMIF(ブログ経費!A:A,\"<=\"&A294,ブログ経費!B:B)","v":5335},-4868]
["2021-10-20",0,0,null,null,75,254,-179,-0.70472440944881887,{"$f":"SUM(B$3:B295)","v":467},null,null,null,null,null,null,null,null,null,{"$f":"SUMIF(ブログ経費!A:A,\"<=\"&A295,ブログ経費!B:B)","v":5335},-4868]
["2021-10-21",0,0,null,null,75,254,-179,-0.70472440944881887,{"$f":"SUM(B$3:B296)","v":467},null,null,null,null,null,null,null,null,null,{"$f":"SUMIF(ブログ経費!A:A,\"<=\"&A296,ブログ経費!B:B)","v":5335},-4868]
["2021-10-22",1,1,null,null,76,254,-178,-0.70078740157480313,{"$f":"SUM(B$3:B297)","v":468},null,null,null,null,null,null,null,null,null,{"$f":"SUMIF(ブログ経費!A:A,\"<=\"&A297,ブログ経費!B:B)","v":5335},-4867]
["2021-10-23",0,-1,null,null,76,131,-55,-0.41984732824427479,{"$f":"SUM(B$3:B298)","v":468},null,null,null,null,null,null,null,null,null,{"$f":"SUMIF(ブログ経費!A:A,\"<=\"&A298,ブログ経費!B:B)","v":5335},-4867]
["2021-10-24",0,0,null,null,76,131,-55,-0.41984732824427479,{"$f":"SUM(B$3:B299)","v":468},null,null,null,null,null,null,null,null,null,{"$f":"SUMIF(ブログ経費!A:A,\"<=\"&A299,ブログ経費!B:B)","v":5335},-4867]
["2021-10-25",14,14,null,null,90,131,-41,-0.31297709923664124,{"$f":"SUM(B$3:B300)","v":482},null,null,null,null,null,null,null,null,null,{"$f":"SUMIF(ブログ経費!A:A,\"<=\"&A300,ブログ経費!B:B)","v":5335},-4853]
["2021-10-26",1,-13,null,null,91,131,-40,-0.30534351145038169,{"$f":"SUM(B$3:B301)","v":483},null,null,null,null,null,null,null,null,null,{"$f":"SUMIF(ブログ経費!A:A,\"<=\"&A301,ブログ経費!B:B)","v":5335},-4852]
["2021-10-27",0,-1,null,null,91,131,-40,-0.30534351145038169,{"$f":"SUM(B$3:B302)","v":483},null,null,null,null,null,null,null,null,null,{"$f":"SUMIF(ブログ経費!A:A,\"<=\"&A302,ブログ経費!B:B)","v":5335},-4852]
["2021-10-28",0,0,null,null,91,131,-40,-0.30534351145038169,{"$f":"SUM(B$3:B303)","v":483},null,null,null,null,null,null,null,null,null,{"$f":"SUMIF(ブログ経費!A:A,\"<=\"&A303,ブログ経費!B:B)","v":5335},-4852]
["2021-10-29",18,18,null,null,109,131,-22,-0.16793893129770993,{"$f":"SUM(B$3:B304)","v":501},null,null,null,null,null,null,null,null,null,{"$f":"SUMIF(ブログ経費!A:A,\"<=\"&A304,ブログ経費!B:B)","v":5335},-4834]
["2021-10-30",2,-16,null,null,110,132,-22,-0.16666666666666666,{"$f":"SUM(B$3:B305)","v":503},null,null,null,null,null,null,null,null,null,{"$f":"SUMIF(ブログ経費!A:A,\"<=\"&A305,ブログ経費!B:B)","v":5335},-4832]
["2021-10-31",0,-2,null,null,102,140,-38,-0.27142857142857141,{"$f":"SUM(B$3:B306)","v":503},null,null,null,null,null,null,null,null,null,{"$f":"SUMIF(ブログ経費!A:A,\"<=\"&A306,ブログ経費!B:B)","v":5335},-4832]
["2021-11-01",86,86,null,null,188,140,48,0.34285714285714286,{"$f":"SUM(B$3:B307)","v":589},null,null,null,null,null,null,null,null,null,{"$f":"SUMIF(ブログ経費!A:A,\"<=\"&A307,ブログ経費!B:B)","v":11935},-11346]
["2021-11-02",0,-86,null,null,188,140,48,0.34285714285714286,{"$f":"SUM(B$3:B308)","v":589},null,null,null,null,null,null,null,null,null,{"$f":"SUMIF(ブログ経費!A:A,\"<=\"&A308,ブログ経費!B:B)","v":11935},-11346]
["2021-11-03",0,0,null,null,188,10,178,17.8,{"$f":"SUM(B$3:B309)","v":589},null,null,null,null,null,null,null,null,null,{"$f":"SUMIF(ブログ経費!A:A,\"<=\"&A309,ブログ経費!B:B)","v":11935},-11346]
["2021-11-04",0,0,null,null,188,10,178,17.8,{"$f":"SUM(B$3:B310)","v":589},null,null,null,null,null,null,null,null,null,{"$f":"SUMIF(ブログ経費!A:A,\"<=\"&A310,ブログ経費!B:B)","v":11935},-11346]
["2021-11-05",1,1,null,null,189,10,179,17.899999999999999,{"$f":"SUM(B$3:B311)","v":590},null,null,null,null,null,null,null,null,null,{"$f":"SUMIF(ブログ経費!A:A,\"<=\"&A311,ブログ経費!B:B)","v":11935},-11345]
["2021-11-06",0,-1,null,null,189,10,179,17.899999999999999,{"$f":"SUM(B$3:B312)","v":590},null,null,null,null,null,null,null,null,null,{"$f":"SUMIF(ブログ経費!A:A,\"<=\"&A312,ブログ経費!B:B)","v":11935},-11345]
["2021-11-07",19,19,null,null,208,10,198,19.8,{"$f":"SUM(B$3:B313)","v":609},null,null,null,null,null,null,null,null,null,{"$f":"SUMIF(ブログ経費!A:A,\"<=\"&A313,ブログ経費!B:B)","v":11935},-11326]
["2021-11-08",6,-13,null,null,214,10,204,20.399999999999999,{"$f":"SUM(B$3:B314)","v":615},null,null,null,null,null,null,null,null,null,{"$f":"SUMIF(ブログ経費!A:A,\"<=\"&A314,ブログ経費!B:B)","v":11935},-11320]
["2021-11-09",0,-6,null,null,214,10,204,20.399999999999999,{"$f":"SUM(B$3:B315)","v":615},null,null,null,null,null,null,null,null,null,{"$f":"SUMIF(ブログ経費!A:A,\"<=\"&A315,ブログ経費!B:B)","v":11935},-11320]
["2021-11-10",25,25,null,null,239,10,229,22.9,{"$f":"SUM(B$3:B316)","v":640},null,null,null,null,null,null,null,null,null,{"$f":"SUMIF(ブログ経費!A:A,\"<=\"&A316,ブログ経費!B:B)","v":11935},-11295]
["2021-11-11",7,-18,null,null,246,10,236,23.6,{"$f":"SUM(B$3:B317)","v":647},null,null,null,null,null,null,null,null,null,{"$f":"SUMIF(ブログ経費!A:A,\"<=\"&A317,ブログ経費!B:B)","v":11935},-11288]
["2021-11-12",0,-7,null,null,246,10,236,23.6,{"$f":"SUM(B$3:B318)","v":647},null,null,null,null,null,null,null,null,null,{"$f":"SUMIF(ブログ経費!A:A,\"<=\"&A318,ブログ経費!B:B)","v":11935},-11288]
["2021-11-13",1,1,null,null,{"$f":"SUM(B290:B319)","v":247},{"$f":"SUM(B260:B289)","v":9},{"$f":"F319-G319","v":238},{"$f":"H319/G319","v":26.444444444444443},{"$f":"SUM(B$3:B319)","v":648},null,null,null,null,null,null,null,null,null,{"$f":"SUMIF(ブログ経費!A:A,\"<=\"&A319,ブログ経費!B:B)","v":11935},-11287]
["2021-11-14",1,0,null,null,248,9,239,26.555555555555557,{"$f":"SUM(B$3:B320)","v":649},null,null,null,null,null,null,null,null,null,{"$f":"SUMIF(ブログ経費!A:A,\"<=\"&A320,ブログ経費!B:B)","v":11935},-11286]
["2021-11-15",73,72,null,null,321,9,312,34.666666666666664,{"$f":"SUM(B$3:B321)","v":722},null,null,null,null,null,null,null,null,null,{"$f":"SUMIF(ブログ経費!A:A,\"<=\"&A321,ブログ経費!B:B)","v":11935},-11213]
["2021-11-16",1,-72,null,null,322,9,313,34.777777777777779,{"$f":"SUM(B$3:B322)","v":723},null,null,null,null,null,null,null,null,null,{"$f":"SUMIF(ブログ経費!A:A,\"<=\"&A322,ブログ経費!B:B)","v":11935},-11212]
["2021-11-17",1,0,null,null,257,75,182,2.4266666666666667,{"$f":"SUM(B$3:B323)","v":724},null,null,null,null,null,null,null,null,null,{"$f":"SUMIF(ブログ経費!A:A,\"<=\"&A323,ブログ経費!B:B)","v":11935},-11211]
["2021-11-18",0,-1,null,null,257,75,182,2.4266666666666667,{"$f":"SUM(B$3:B324)","v":724},null,null,null,null,null,null,null,null,null,{"$f":"SUMIF(ブログ経費!A:A,\"<=\"&A324,ブログ経費!B:B)","v":11935},{"$f":"J324-T324","v":-11211}]
["2021-11-19",0,{"$f":"B325-B324","v":0},null,null,257,75,182,2.4266666666666667,{"$f":"SUM(B$3:B325)","v":724},null,null,null,null,null,null,null,null,null,{"$f":"SUMIF(ブログ経費!A:A,\"<=\"&A325,ブログ経費!B:B)","v":11935},-11211]
["2021-11-20",2,2,null,null,259,75,184,2.4533333333333331,{"$f":"SUM(B$3:B326)","v":726},null,null,null,null,null,null,null,null,null,{"$f":"SUMIF(ブログ経費!A:A,\"<=\"&A326,ブログ経費!B:B)","v":11935},-11209]
["2021-11-21",1,-1,null,null,259,76,183,2.4078947368421053,{"$f":"SUM(B$3:B327)","v":727},null,null,null,null,null,null,null,null,null,{"$f":"SUMIF(ブログ経費!A:A,\"<=\"&A327,ブログ経費!B:B)","v":11935},-11208]
["2021-11-22",53,52,null,null,312,76,236,3.1052631578947367,{"$f":"SUM(B$3:B328)","v":780},null,null,null,null,null,null,null,null,null,{"$f":"SUMIF(ブログ経費!A:A,\"<=\"&A328,ブログ経費!B:B)","v":11935},-11155]
["2021-11-23",2,-51,null,null,314,76,238,3.1315789473684212,{"$f":"SUM(B$3:B329)","v":782},null,null,null,null,null,null,null,null,null,{"$f":"SUMIF(ブログ経費!A:A,\"<=\"&A329,ブログ経費!B:B)","v":11935},-11153]
["2021-11-24",1,-1,null,null,301,90,211,2.3444444444444446,{"$f":"SUM(B$3:B330)","v":783},null,null,null,null,null,null,null,null,null,{"$f":"SUMIF(ブログ経費!A:A,\"<=\"&A330,ブログ経費!B:B)","v":11935},-11152]
["2021-11-25",1,0,null,null,301,91,210,2.3076923076923075,{"$f":"SUM(B$3:B331)","v":784},null,null,null,null,null,null,null,null,null,{"$f":"SUMIF(ブログ経費!A:A,\"<=\"&A331,ブログ経費!B:B)","v":11935},-11151]
["2021-11-26",3,2,null,null,304,91,213,2.3406593406593408,{"$f":"SUM(B$3:B332)","v":787},null,null,null,null,null,null,null,null,null,{"$f":"SUMIF(ブログ経費!A:A,\"<=\"&A332,ブログ経費!B:B)","v":11935},-11148]
["2021-11-27",1,-2,null,null,305,91,214,2.3516483516483517,{"$f":"SUM(B$3:B333)","v":788},null,null,null,null,null,null,null,null,null,{"$f":"SUMIF(ブログ経費!A:A,\"<=\"&A333,ブログ経費!B:B)","v":11935},-11147]
["2021-11-28",1,0,null,null,288,109,179,1.6422018348623852,{"$f":"SUM(B$3:B334)","v":789},null,null,null,null,null,null,null,null,null,{"$f":"SUMIF(ブログ経費!A:A,\"<=\"&A334,ブログ経費!B:B)","v":11935},-11146]
["2021-11-29",2,1,null,null,288,110,178,1.6181818181818182,{"$f":"SUM(B$3:B335)","v":791},null,null,null,null,null,null,null,null,null,{"$f":"SUMIF(ブログ経費!A:A,\"<=\"&A335,ブログ経費!B:B)","v":11935},-11144]
["2021-11-30",{"$f":"1-4","v":-3},-5,null,null,285,102,183,1.7941176470588236,{"$f":"SUM(B$3:B336)","v":788},null,null,null,null,null,null,null,null,null,{"$f":"SUMIF(ブログ経費!A:A,\"<=\"&A336,ブログ経費!B:B)","v":11935},-11147]
["2021-12-01",3,6,null,null,202,188,14,7.4468085106382975E-2,{"$f":"SUM(B$3:B337)","v":791},null,null,null,null,null,null,null,null,null,{"$f":"SUMIF(ブログ経費!A:A,\"<=\"&A337,ブログ経費!B:B)","v":11935},-11144]
["2021-12-02",1,-2,null,null,203,188,15,7.9787234042553196E-2,{"$f":"SUM(B$3:B338)","v":792},null,null,null,null,null,null,null,null,null,{"$f":"SUMIF(ブログ経費!A:A,\"<=\"&A338,ブログ経費!B:B)","v":11935},-11143]
["2021-12-03",1,0,null,null,204,188,16,8.5106382978723402E-2,{"$f":"SUM(B$3:B339)","v":793},null,null,null,null,null,null,null,null,null,{"$f":"SUMIF(ブログ経費!A:A,\"<=\"&A339,ブログ経費!B:B)","v":11935},-11142]
["2021-12-04",37,36,null,null,241,188,53,0.28191489361702127,{"$f":"SUM(B$3:B340)","v":830},null,null,null,null,null,null,null,null,null,{"$f":"SUMIF(ブログ経費!A:A,\"<=\"&A340,ブログ経費!B:B)","v":11935},-11105]
["2021-12-05",0,-37,null,null,240,189,51,0.26984126984126983,{"$f":"SUM(B$3:B341)","v":830},null,null,null,null,null,null,null,null,null,{"$f":"SUMIF(ブログ経費!A:A,\"<=\"&A341,ブログ経費!B:B)","v":11935},-11105]
["2021-12-06",2,2,null,null,242,189,53,0.28042328042328041,{"$f":"SUM(B$3:B342)","v":832},null,null,null,null,null,null,null,null,null,{"$f":"SUMIF(ブログ経費!A:A,\"<=\"&A342,ブログ経費!B:B)","v":11935},-11103]
["2021-12-07",1,-1,null,null,224,208,16,7.6923076923076927E-2,{"$f":"SUM(B$3:B343)","v":833},null,null,null,null,null,null,null,null,null,{"$f":"SUMIF(ブログ経費!A:A,\"<=\"&A343,ブログ経費!B:B)","v":11935},-11102]
["2021-12-08",1,0,null,null,219,214,5,2.336448598130841E-2,{"$f":"SUM(B$3:B344)","v":834},null,null,null,null,null,null,null,null,null,{"$f":"SUMIF(ブログ経費!A:A,\"<=\"&A344,ブログ経費!B:B)","v":11935},-11101]
["2021-12-09",12,11,null,null,231,214,17,7.9439252336448593E-2,{"$f":"SUM(B$3:B345)","v":846},null,null,null,null,null,null,null,null,null,{"$f":"SUMIF(ブログ経費!A:A,\"<=\"&A345,ブログ経費!B:B)","v":11935},-11089]
["2021-12-10",0,-12,null,null,206,239,-33,-0.13807531380753138,{"$f":"SUM(B$3:B346)","v":846},null,null,null,null,null,null,null,null,null,{"$f":"SUMIF(ブログ経費!A:A,\"<=\"&A346,ブログ経費!B:B)","v":11935},-11089]
["2021-12-11",2,2,null,null,201,246,-45,-0.18292682926829268,{"$f":"SUM(B$3:B347)","v":848},null,null,null,null,null,null,null,null,null,{"$f":"SUMIF(ブログ経費!A:A,\"<=\"&A347,ブログ経費!B:B)","v":11935},-11087]
["2021-12-12",6,4,null,null,207,246,-39,-0.15853658536585366,{"$f":"SUM(B$3:B348)","v":854},null,null,null,null,null,null,null,null,null,{"$f":"SUMIF(ブログ経費!A:A,\"<=\"&A348,ブログ経費!B:B)","v":11935},-11081]
["2021-12-13",0,-6,null,null,206,247,-41,-0.16599190283400811,{"$f":"SUM(B$3:B349)","v":854},null,null,null,null,null,null,null,null,null,{"$f":"SUMIF(ブログ経費!A:A,\"<=\"&A349,ブログ経費!B:B)","v":11935},-11081]
["2021-12-14",2,2,null,null,207,248,-41,-0.16532258064516128,{"$f":"SUM(B$3:B350)","v":856},null,null,null,null,null,null,null,null,null,{"$f":"SUMIF(ブログ経費!A:A,\"<=\"&A350,ブログ経費!B:B)","v":11935},-11079]
["2021-12-15",2,0,null,null,136,321,-185,-0.57632398753894076,{"$f":"SUM(B$3:B351)","v":858},null,null,null,null,null,null,null,null,null,{"$f":"SUMIF(ブログ経費!A:A,\"<=\"&A351,ブログ経費!B:B)","v":11935},-11077]
["2021-12-16",5,3,null,null,140,322,-182,-0.56521739130434778,{"$f":"SUM(B$3:B352)","v":863},null,null,null,null,null,null,null,null,null,{"$f":"SUMIF(ブログ経費!A:A,\"<=\"&A352,ブログ経費!B:B)","v":11935},-11072]
["2021-12-17",32,27,null,null,171,257,-86,-0.33463035019455251,{"$f":"SUM(B$3:B353)","v":895},null,null,null,null,null,null,null,null,null,{"$f":"SUMIF(ブログ経費!A:A,\"<=\"&A353,ブログ経費!B:B)","v":11935},-11040]
["2021-12-18",1,-31,null,null,172,257,-85,-0.33073929961089493,{"$f":"SUM(B$3:B354)","v":896},null,null,null,null,null,null,null,null,null,{"$f":"SUMIF(ブログ経費!A:A,\"<=\"&A354,ブログ経費!B:B)","v":11935},-11039]
["2021-12-19",16,15,null,null,188,257,-69,-0.26848249027237353,{"$f":"SUM(B$3:B355)","v":912},null,null,null,null,null,null,null,null,null,{"$f":"SUMIF(ブログ経費!A:A,\"<=\"&A355,ブログ経費!B:B)","v":11935},-11023]
["2021-12-20",1,-15,null,null,187,259,-72,-0.27799227799227799,{"$f":"SUM(B$3:B356)","v":913},null,null,null,null,null,null,null,null,null,{"$f":"SUMIF(ブログ経費!A:A,\"<=\"&A356,ブログ経費!B:B)","v":11935},-11022]
["2021-12-21",4,3,null,null,190,259,-69,-0.26640926640926643,{"$f":"SUM(B$3:B357)","v":917},null,null,null,null,null,null,null,null,null,{"$f":"SUMIF(ブログ経費!A:A,\"<=\"&A357,ブログ経費!B:B)","v":11935},-11018]
["2021-12-22",2,-2,null,null,139,312,-173,-0.55448717948717952,{"$f":"SUM(B$3:B358)","v":919},null,null,null,null,null,null,null,null,null,{"$f":"SUMIF(ブログ経費!A:A,\"<=\"&A358,ブログ経費!B:B)","v":11935},-11016]
["2021-12-23",59,57,null,null,196,314,-118,-0.37579617834394907,{"$f":"SUM(B$3:B359)","v":978},null,null,null,null,null,null,null,null,null,{"$f":"SUMIF(ブログ経費!A:A,\"<=\"&A359,ブログ経費!B:B)","v":11935},-10957]
["2021-12-24",3,-56,null,null,198,301,-103,-0.34219269102990035,{"$f":"SUM(B$3:B360)","v":981},null,null,null,null,null,null,null,null,null,{"$f":"SUMIF(ブログ経費!A:A,\"<=\"&A360,ブログ経費!B:B)","v":11935},-10954]
["2021-12-25",0,-3,null,null,197,301,-104,-0.34551495016611294,{"$f":"SUM(B$3:B361)","v":981},null,null,null,null,null,null,null,null,null,{"$f":"SUMIF(ブログ経費!A:A,\"<=\"&A361,ブログ経費!B:B)","v":11935},-10954]
["2021-12-26",2,2,null,null,196,304,-108,-0.35526315789473684,{"$f":"SUM(B$3:B362)","v":983},null,null,null,null,null,null,null,null,null,{"$f":"SUMIF(ブログ経費!A:A,\"<=\"&A362,ブログ経費!B:B)","v":11935},-10952]
["2021-12-27",2,0,null,null,197,305,-108,-0.35409836065573769,{"$f":"SUM(B$3:B363)","v":985},null,null,null,null,null,null,null,null,null,{"$f":"SUMIF(ブログ経費!A:A,\"<=\"&A363,ブログ経費!B:B)","v":11935},-10950]
["2021-12-28",1,-1,null,null,197,288,-91,-0.31597222222222221,{"$f":"SUM(B$3:B364)","v":986},null,null,null,null,null,null,null,null,null,{"$f":"SUMIF(ブログ経費!A:A,\"<=\"&A364,ブログ経費!B:B)","v":11935},-10949]
["2021-12-29",2,1,null,null,197,288,-91,-0.31597222222222221,{"$f":"SUM(B$3:B365)","v":988},null,null,null,null,null,null,null,null,null,{"$f":"SUMIF(ブログ経費!A:A,\"<=\"&A365,ブログ経費!B:B)","v":11935},-10947]
["2021-12-30",1,-1,null,null,201,285,-84,-0.29473684210526313,{"$f":"SUM(B$3:B366)","v":989},null,null,null,null,null,null,null,null,null,{"$f":"SUMIF(ブログ経費!A:A,\"<=\"&A366,ブログ経費!B:B)","v":11935},-10946]
["2021-12-31",{"$f":"1-2","v":-1},-2,null,null,{"$f":"SUM(B338:B367)","v":197},{"$f":"SUM(B308:B337)","v":202},-5,-2.4752475247524754E-2,{"$f":"SUM(B$3:B367)","v":988},null,null,null,null,null,null,null,null,null,{"$f":"SUMIF(ブログ経費!A:A,\"<=\"&A367,ブログ経費!B:B)","v":11935},-10947]
["2022-01-01",2,3,null,null,198,{"$f":"SUM(B309:B338)","v":203},-5,-2.4630541871921183E-2,{"$f":"SUM(B$3:B368)","v":990},null,null,null,null,null,null,null,null,null,{"$f":"SUMIF(ブログ経費!A:A,\"<=\"&A368,ブログ経費!B:B)","v":11935},-10945]
["2022-01-02",34,32,null,null,231,204,27,0.13235294117647059,{"$f":"SUM(B$3:B369)","v":1024},null,null,null,null,null,null,null,297839,null,{"$f":"SUMIF(ブログ経費!A:A,\"<=\"&A369,ブログ経費!B:B)","v":11935},-10911]
["2022-01-03",1,-33,null,null,195,241,-46,-0.1908713692946058,{"$f":"SUM(B$3:B370)","v":1025},34,null,null,null,622,null,3919,297839,{"$f":"R370-R363","v":297839},{"$f":"SUMIF(ブログ経費!A:A,\"<=\"&A370,ブログ経費!B:B)","v":11935},-10910]
["2022-01-04",5,4,null,null,200,240,{"$f":"F371-G371","v":-40},-0.16666666666666666,{"$f":"SUM(B$3:B371)","v":1030},30,{"$f":"K371-K370","v":-4},null,null,637,null,3949,297839,{"$f":"R371-R364","v":297839},{"$f":"SUMIF(ブログ経費!A:A,\"<=\"&A371,ブログ経費!B:B)","v":11935},-10905]
["2022-01-05",1,-4,null,null,199,{"$f":"SUM(B313:B342)","v":242},-43,-0.17768595041322313,{"$f":"SUM(B$3:B372)","v":1031},16,{"$f":"K372-K371","v":-14},null,null,632,null,3965,297839,297839,{"$f":"SUMIF(ブログ経費!A:A,\"<=\"&A372,ブログ経費!B:B)","v":11935},-10904]
["2022-01-06",0,-1,null,null,198,224,-26,-0.11607142857142858,{"$f":"SUM(B$3:B373)","v":1031},27,11,null,null,643,null,3992,297839,297839,{"$f":"SUMIF(ブログ経費!A:A,\"<=\"&A373,ブログ経費!B:B)","v":11935},-10904]
["2022-01-07",5,5,null,null,202,219,-17,-7.7625570776255703E-2,{"$f":"SUM(B$3:B374)","v":1036},9,-18,null,null,640,null,4001,297839,297839,{"$f":"SUMIF(ブログ経費!A:A,\"<=\"&A374,ブログ経費!B:B)","v":11935},-10899]
["2022-01-08",2,-3,null,null,192,231,-39,-0.16883116883116883,{"$f":"SUM(B$3:B375)","v":1038},25,16,null,null,655,null,4026,297839,297839,{"$f":"SUMIF(ブログ経費!A:A,\"<=\"&A375,ブログ経費!B:B)","v":11935},-10897]
["2022-01-09",1,-1,null,null,193,206,-13,-6.3106796116504854E-2,{"$f":"SUM(B$3:B376)","v":1039},27,2,null,null,677,null,4053,298148,309,{"$f":"SUMIF(ブログ経費!A:A,\"<=\"&A376,ブログ経費!B:B)","v":11935},-10896]
["2022-01-10",1,0,null,null,192,201,-9,-4.4776119402985072E-2,{"$f":"SUM(B$3:B377)","v":1040},24,-3,null,null,682,null,4077,298147,308,{"$f":"SUMIF(ブログ経費!A:A,\"<=\"&A377,ブログ経費!B:B)","v":11935},-10895]
["2022-01-11",7,6,null,null,193,207,-14,-6.7632850241545889E-2,{"$f":"SUM(B$3:B378)","v":1047},55,31,null,null,711,null,4132,298541,702,{"$f":"SUMIF(ブログ経費!A:A,\"<=\"&A378,ブログ経費!B:B)","v":11935},-10888]
["2022-01-12",72,65,null,null,265,206,59,0.28640776699029125,{"$f":"SUM(B$3:B379)","v":1119},25,-30,null,null,725,null,4157,298845,1006,{"$f":"SUMIF(ブログ経費!A:A,\"<=\"&A379,ブログ経費!B:B)","v":11935},-10816]
["2022-01-13",4,-68,null,null,267,207,60,0.28985507246376813,{"$f":"SUM(B$3:B380)","v":1123},37,12,null,null,749,null,4194,299145,1306,{"$f":"SUMIF(ブログ経費!A:A,\"<=\"&A380,ブログ経費!B:B)","v":11935},-10812]
["2022-01-14",2,-2,null,null,267,136,131,0.96323529411764708,{"$f":"SUM(B$3:B381)","v":1125},29,-8,null,null,752,null,4223,299145,1306,{"$f":"SUMIF(ブログ経費!A:A,\"<=\"&A381,ブログ経費!B:B)","v":11935},-10810]
["2022-01-15",3,1,null,null,265,140,125,0.8928571428571429,{"$f":"SUM(B$3:B382)","v":1128},24,-5,null,null,759,null,4247,299618,1779,{"$f":"SUMIF(ブログ経費!A:A,\"<=\"&A382,ブログ経費!B:B)","v":11935},-10807]
["2022-01-16",0,-3,null,null,{"$f":"SUM(B354:B383)","v":233},171,{"$f":"F383-G383","v":62},{"$f":"H383/G383","v":0.36257309941520466},{"$f":"SUM(B$3:B383)","v":1128},18,-6,null,null,745,null,4265,299629,1481,{"$f":"SUMIF(ブログ経費!A:A,\"<=\"&A383,ブログ経費!B:B)","v":11935},-10807]
["2022-01-17",2,2,null,null,234,172,62,0.36046511627906974,{"$f":"SUM(B$3:B384)","v":1130},32,14,null,null,763,null,4297,299678,1531,{"$f":"SUMIF(ブログ経費!A:A,\"<=\"&A384,ブログ経費!B:B)","v":11935},-10805]
["2022-01-18",22,20,null,null,240,188,52,0.27659574468085107,{"$f":"SUM(B$3:B385)","v":1152},25,-7,null,null,770,null,4322,300184,1643,{"$f":"SUMIF(ブログ経費!A:A,\"<=\"&A385,ブログ経費!B:B)","v":11935},-10783]
["2022-01-19",1,-21,null,null,240,187,53,0.28342245989304815,{"$f":"SUM(B$3:B386)","v":1153},19,-6,null,null,767,null,4341,300810,1965,{"$f":"SUMIF(ブログ経費!A:A,\"<=\"&A386,ブログ経費!B:B)","v":11935},-10782]
["2022-01-20",12,11,null,null,248,190,58,0.30526315789473685,{"$f":"SUM(B$3:B387)","v":1165},39,20,null,null,794,null,4384,301238,2093,{"$f":"SUMIF(ブログ経費!A:A,\"<=\"&A387,ブログ経費!B:B)","v":11935},-10770]
["2022-01-21",1,-11,null,null,247,139,108,0.7769784172661871,{"$f":"SUM(B$3:B388)","v":1166},17,-22,null,null,796,null,4401,301570,2425,{"$f":"SUMIF(ブログ経費!A:A,\"<=\"&A388,ブログ経費!B:B)","v":11935},{"$f":"J388-T388","v":-10769}]
["2022-01-22",0,{"$f":"B389-B388","v":-1},null,null,188,196,-8,-4.0816326530612242E-2,{"$f":"SUM(B$3:B389)","v":1166},20,3,null,null,788,null,4421,306477,6859,{"$f":"SUMIF(ブログ経費!A:A,\"<=\"&A389,ブログ経費!B:B)","v":11935},-10769]
["2022-01-23",22,22,null,null,207,198,9,4.5454545454545456E-2,{"$f":"SUM(B$3:B390)","v":1188},40,20,null,null,805,null,4461,307892,8263,{"$f":"SUMIF(ブログ経費!A:A,\"<=\"&A390,ブログ経費!B:B)","v":11935},-10747]
["2022-01-24",14,-8,null,null,221,197,24,0.12182741116751269,{"$f":"SUM(B$3:B391)","v":1202},19,-21,null,null,785,null,4480,307892,8214,{"$f":"SUMIF(ブログ経費!A:A,\"<=\"&A391,ブログ経費!B:B)","v":11935},-10733]
["2022-01-25",2,-12,null,null,221,196,25,0.12755102040816327,{"$f":"SUM(B$3:B392)","v":1204},16,-3,null,null,774,null,4496,308985,8801,{"$f":"SUMIF(ブログ経費!A:A,\"<=\"&A392,ブログ経費!B:B)","v":11935},-10731]
["2022-01-26",2,0,null,null,221,197,24,0.12182741116751269,{"$f":"SUM(B$3:B393)","v":1206},23,7,null,null,765,null,4519,309892,9082,{"$f":"SUMIF(ブログ経費!A:A,\"<=\"&A393,ブログ経費!B:B)","v":11935},-10729]
["2022-01-27",2,0,null,null,222,197,25,0.12690355329949238,{"$f":"SUM(B$3:B394)","v":1208},28,5,null,null,779,null,4547,311435,10197,{"$f":"SUMIF(ブログ経費!A:A,\"<=\"&A394,ブログ経費!B:B)","v":11935},-10727]
["2022-01-28",1,-1,null,null,221,197,24,0.12182741116751269,{"$f":"SUM(B$3:B395)","v":1209},30,2,null,null,794,null,4577,312322,10752,{"$f":"SUMIF(ブログ経費!A:A,\"<=\"&A395,ブログ経費!B:B)","v":11935},-10726]
["2022-01-29",53,52,null,null,273,201,72,0.35820895522388058,{"$f":"SUM(B$3:B396)","v":1262},32,2,null,null,784,null,4609,312293,5816,{"$f":"SUMIF(ブログ経費!A:A,\"<=\"&A396,ブログ経費!B:B)","v":11935},-10673]
["2022-01-30",7,-46,null,null,281,197,84,0.42639593908629442,{"$f":"SUM(B$3:B397)","v":1269},79,47,null,null,841,null,4688,312454,4562,{"$f":"SUMIF(ブログ経費!A:A,\"<=\"&A397,ブログ経費!B:B)","v":11935},-10666]
["2022-01-31",{"$f":"0-12","v":-12},-19,null,null,267,198,69,0.34848484848484851,{"$f":"SUM(B$3:B398)","v":1257},26,-53,null,null,848,null,4714,312596,4704,{"$f":"SUMIF(ブログ経費!A:A,\"<=\"&A398,ブログ経費!B:B)","v":11935},-10678]
["2022-02-01",1,13,null,null,234,231,3,1.2987012987012988E-2,{"$f":"SUM(B$3:B399)","v":1258},29,3,null,null,858,null,4743,312694,3709,{"$f":"SUMIF(ブログ経費!A:A,\"<=\"&A399,ブログ経費!B:B)","v":11935},-10677]
["2022-02-02",1,0,null,null,234,195,39,0.2,{"$f":"SUM(B$3:B400)","v":1259},25,-4,null,null,849,{"$f":"(O400-O370)","v":227},4768,312733,2841,{"$f":"SUMIF(ブログ経費!A:A,\"<=\"&A400,ブログ経費!B:B)","v":11935},-10676]
["2022-02-03",1,0,null,null,230,200,30,0.15,{"$f":"SUM(B$3:B401)","v":1260},28,3,null,null,847,{"$f":"(O401-O371)","v":210},4796,313076,1641,{"$f":"SUMIF(ブログ経費!A:A,\"<=\"&A401,ブログ経費!B:B)","v":11935},-10675]
["2022-02-04",1,0,null,null,230,199,31,0.15577889447236182,{"$f":"SUM(B$3:B402)","v":1261},39,11,null,null,870,238,4835,313122,800,{"$f":"SUMIF(ブログ経費!A:A,\"<=\"&A402,ブログ経費!B:B)","v":11935},-10674]
["2022-02-05",11,10,null,null,241,198,43,0.21717171717171718,{"$f":"SUM(B$3:B403)","v":1272},42,3,null,null,885,242,4877,313385,1092,{"$f":"SUMIF(ブログ経費!A:A,\"<=\"&A403,ブログ経費!B:B)","v":11935},-10663]
["2022-02-06",9,-2,null,null,245,202,43,0.21287128712871287,{"$f":"SUM(B$3:B404)","v":1281},37,{"$f":"K404-K403","v":-5},null,null,913,273,4914,313580,1126,{"$f":"SUMIF(ブログ経費!A:A,\"<=\"&A404,ブログ経費!B:B)","v":11935},-10654]
["2022-02-07",1,-8,null,null,244,192,52,0.27083333333333331,{"$f":"SUM(B$3:B405)","v":1282},24,-13,null,null,912,257,4938,313744,1148,{"$f":"SUMIF(ブログ経費!A:A,\"<=\"&A405,ブログ経費!B:B)","v":11935},-10653]
["2022-02-08",1,0,null,null,244,193,51,0.26424870466321243,{"$f":"SUM(B$3:B406)","v":1283},27,3,null,null,912,235,4965,313782,1088,{"$f":"SUMIF(ブログ経費!A:A,\"<=\"&A406,ブログ経費!B:B)","v":11935},-10652]
["2022-02-09",33,32,null,null,276,192,84,0.4375,{"$f":"SUM(B$3:B407)","v":1316},44,17,null,null,932,250,5009,313897,1164,{"$f":"SUMIF(ブログ経費!A:A,\"<=\"&A407,ブログ経費!B:B)","v":11935},-10619]
["2022-02-10",1,-32,null,null,270,193,77,0.39896373056994816,{"$f":"SUM(B$3:B408)","v":1317},37,-7,null,null,914,203,5046,313892,816,{"$f":"SUMIF(ブログ経費!A:A,\"<=\"&A408,ブログ経費!B:B)","v":11935},-10618]
["2022-02-11",1,0,null,null,199,265,-66,-0.24905660377358491,{"$f":"SUM(B$3:B409)","v":1318},37,0,null,null,926,201,5083,313964,842,{"$f":"SUMIF(ブログ経費!A:A,\"<=\"&A409,ブログ経費!B:B)","v":11935},-10617]
["2022-02-12",40,39,null,null,235,267,-32,-0.1198501872659176,{"$f":"SUM(B$3:B410)","v":1358},57,20,null,null,946,197,5140,315284,1899,{"$f":"SUMIF(ブログ経費!A:A,\"<=\"&A410,ブログ経費!B:B)","v":11935},-10577]
["2022-02-13",3,-37,null,null,236,267,-31,-0.11610486891385768,{"$f":"SUM(B$3:B411)","v":1361},31,-26,null,null,948,196,5171,315753,2173,{"$f":"SUMIF(ブログ経費!A:A,\"<=\"&A411,ブログ経費!B:B)","v":11935},-10574]
["2022-02-14",2,-1,null,null,235,265,-30,-0.11320754716981132,{"$f":"SUM(B$3:B412)","v":1363},52,21,null,null,976,217,5223,315816,2072,{"$f":"SUMIF(ブログ経費!A:A,\"<=\"&A412,ブログ経費!B:B)","v":11935},-10572]
["2022-02-15",26,24,null,null,261,233,28,0.12017167381974249,{"$f":"SUM(B$3:B413)","v":1389},35,-17,null,null,993,248,5258,315854,2072,{"$f":"SUMIF(ブログ経費!A:A,\"<=\"&A413,ブログ経費!B:B)","v":11935},-10546]
["2022-02-16",1,-25,null,null,260,234,26,0.1111111111111111,{"$f":"SUM(B$3:B414)","v":1390},46,11,null,null,1010,247,5307,315854,1957,{"$f":"SUMIF(ブログ経費!A:A,\"<=\"&A414,ブログ経費!B:B)","v":11935},-10545]
["2022-02-17",6,5,null,null,244,240,4,1.6666666666666666E-2,{"$f":"SUM(B$3:B415)","v":1396},68,22,null,null,1053,283,5344,315854,1962,{"$f":"SUMIF(ブログ経費!A:A,\"<=\"&A415,ブログ経費!B:B)","v":11935},-10539]
["2022-02-18",20,14,null,null,263,240,23,9.583333333333334E-2,{"$f":"SUM(B$3:B416)","v":1416},28,-40,null,null,1058,291,5403,315843,1879,{"$f":"SUMIF(ブログ経費!A:A,\"<=\"&A416,ブログ経費!B:B)","v":11935},-10519]
["2022-02-19",19,-1,null,null,270,248,22,8.8709677419354843E-2,{"$f":"SUM(B$3:B417)","v":1435},41,13,null,null,1060,266,5444,316239,955,{"$f":"SUMIF(ブログ経費!A:A,\"<=\"&A417,ブログ経費!B:B)","v":11935},-10500]
["2022-02-20",27,8,null,null,296,247,49,0.19838056680161945,{"$f":"SUM(B$3:B418)","v":1462},58,17,null,null,1101,305,5502,318019,2266,{"$f":"SUMIF(ブログ経費!A:A,\"<=\"&A418,ブログ経費!B:B)","v":11935},-10473]
["2022-02-21",3,-24,null,null,299,188,111,0.59042553191489366,{"$f":"SUM(B$3:B419)","v":1465},35,-23,null,null,1116,328,5537,319049,3233,{"$f":"SUMIF(ブログ経費!A:A,\"<=\"&A419,ブログ経費!B:B)","v":11935},-10470]
["2022-02-22",5,2,null,null,282,207,75,0.36231884057971014,{"$f":"SUM(B$3:B420)","v":1470},35,0,null,null,1111,306,5572,319205,3351,{"$f":"SUMIF(ブログ経費!A:A,\"<=\"&A420,ブログ経費!B:B)","v":11935},-10465]
["2022-02-23",201,196,null,null,469,221,248,1.1221719457013575,{"$f":"SUM(B$3:B421)","v":1671},38,3,null,null,1130,345,5610,319696,3842,{"$f":"SUMIF(ブログ経費!A:A,\"<=\"&A421,ブログ経費!B:B)","v":11935},-10264]
["2022-02-24",7,-194,null,null,474,221,253,1.1447963800904977,{"$f":"SUM(B$3:B422)","v":1678},41,3,null,null,1154,380,5651,320245,4391,{"$f":"SUMIF(ブログ経費!A:A,\"<=\"&A422,ブログ経費!B:B)","v":11935},-10257]
["2022-02-25",4,-3,null,null,476,221,255,1.1538461538461537,{"$f":"SUM(B$3:B423)","v":1682},26,-15,null,null,1158,393,5677,320925,5082,{"$f":"SUMIF(ブログ経費!A:A,\"<=\"&A423,ブログ経費!B:B)","v":11935},-10253]
["2022-02-26",42,38,null,null,516,222,294,1.3243243243243243,{"$f":"SUM(B$3:B424)","v":1724},31,5,null,null,1161,382,5708,321906,5667,{"$f":"SUMIF(ブログ経費!A:A,\"<=\"&A424,ブログ経費!B:B)","v":11935},-10211]
["2022-02-27",4,-38,null,null,519,221,298,1.3484162895927603,{"$f":"SUM(B$3:B425)","v":1728},31,0,null,null,1162,368,5739,321906,3887,{"$f":"SUMIF(ブログ経費!A:A,\"<=\"&A425,ブログ経費!B:B)","v":11935},-10207]
["2022-02-28",2,-2,null,null,468,273,195,0.7142857142857143,{"$f":"SUM(B$3:B426)","v":1730},39,8,null,null,1169,385,5778,324192,5143,{"$f":"SUMIF(ブログ経費!A:A,\"<=\"&A426,ブログ経費!B:B)","v":11935},-10205]
["2022-03-01",3,1,null,null,464,281,183,0.6512455516014235,{"$f":"SUM(B$3:B427)","v":1733},38,-1,null,null,1128,287,5778,324779,5574,{"$f":"SUMIF(ブログ経費!A:A,\"<=\"&A427,ブログ経費!B:B)","v":11935},-10202]
["2022-03-02",258,255,null,null,734,267,467,1.7490636704119851,{"$f":"SUM(B$3:B428)","v":1991},51,13,null,null,1153,305,5867,325079,5383,{"$f":"SUMIF(ブログ経費!A:A,\"<=\"&A428,ブログ経費!B:B)","v":11935},-9944]
["2022-03-03",2,-256,null,null,735,234,501,2.141025641025641,{"$f":"SUM(B$3:B429)","v":1993},24,-27,null,null,1148,290,5891,325218,4973,{"$f":"SUMIF(ブログ経費!A:A,\"<=\"&A429,ブログ経費!B:B)","v":11935},-9942]
["2022-03-04",116,114,null,null,850,234,616,2.6324786324786325,{"$f":"SUM(B$3:B430)","v":2109},49,25,null,null,1172,323,5940,328941,8016,{"$f":"SUMIF(ブログ経費!A:A,\"<=\"&A430,ブログ経費!B:B)","v":11935},-9826]
["2022-03-05",3,-113,null,null,852,230,622,2.7043478260869565,{"$f":"SUM(B$3:B431)","v":2112},54,5,null,null,1198,351,5994,329877,7971,{"$f":"SUMIF(ブログ経費!A:A,\"<=\"&A431,ブログ経費!B:B)","v":11935},-9823]
["2022-03-06",5,2,null,null,856,230,626,2.7217391304347824,{"$f":"SUM(B$3:B432)","v":2117},55,1,null,null,1214,344,6049,331370,9464,{"$f":"SUMIF(ブログ経費!A:A,\"<=\"&A432,ブログ経費!B:B)","v":11935},-9818]
["2022-03-07",4,-1,null,null,849,241,608,2.5228215767634854,{"$f":"SUM(B$3:B433)","v":2121},27,-28,null,null,1199,314,6076,331960,7768,{"$f":"SUMIF(ブログ経費!A:A,\"<=\"&A433,ブログ経費!B:B)","v":11935},-9814]
["2022-03-08",3,-1,null,null,843,245,598,2.4408163265306122,{"$f":"SUM(B$3:B434)","v":2124},55,28,null,null,1217,304,6131,332277,7498,{"$f":"SUMIF(ブログ経費!A:A,\"<=\"&A434,ブログ経費!B:B)","v":11935},-9811]
["2022-03-09",94,91,null,null,936,244,692,2.8360655737704916,{"$f":"SUM(B$3:B435)","v":2218},47,-8,null,null,1240,328,6178,332763,{"$f":"R435-R428","v":7684},{"$f":"SUMIF(ブログ経費!A:A,\"<=\"&A435,ブログ経費!B:B)","v":11935},-9717]
["2022-03-10",3,-91,null,null,938,{"$f":"SUM(B377:B406)","v":244},694,2.8442622950819674,{"$f":"SUM(B$3:B436)","v":2221},50,{"$f":"K436-K435","v":3},null,null,1239,327,6228,333825,8607,{"$f":"SUMIF(ブログ経費!A:A,\"<=\"&A436,ブログ経費!B:B)","v":11935},-9714]
["2022-03-11",5,2,null,null,910,276,634,2.2971014492753623,{"$f":"SUM(B$3:B437)","v":2226},42,-8,null,null,1261,329,6270,334211,5270,{"$f":"SUMIF(ブログ経費!A:A,\"<=\"&A437,ブログ経費!B:B)","v":11935},-9709]
["2022-03-12",4,-1,null,null,913,270,643,2.3814814814814813,{"$f":"SUM(B$3:B438)","v":2230},60,18,null,null,1284,370,6330,334461,4584,{"$f":"SUMIF(ブログ経費!A:A,\"<=\"&A438,ブログ経費!B:B)","v":11935},-9705]
["2022-03-13",3,-1,null,null,915,199,716,3.5979899497487438,{"$f":"SUM(B$3:B439)","v":2233},40,-20,null,null,1287,361,6370,334962,3592,{"$f":"SUMIF(ブログ経費!A:A,\"<=\"&A439,ブログ経費!B:B)","v":11935},-9702]
["2022-03-14",35,32,null,null,910,235,675,2.8723404255319149,{"$f":"SUM(B$3:B440)","v":2268},35,-5,null,null,1265,319,6405,336683,4723,{"$f":"SUMIF(ブログ経費!A:A,\"<=\"&A440,ブログ経費!B:B)","v":11935},-9667]
["2022-03-15",2,-33,null,null,909,236,673,2.8516949152542375,{"$f":"SUM(B$3:B441)","v":2270},32,-3,null,null,1266,318,6437,336712,4435,{"$f":"SUMIF(ブログ経費!A:A,\"<=\"&A441,ブログ経費!B:B)","v":11935},-9665]
["2022-03-16",2,0,null,null,909,235,674,2.8680851063829786,{"$f":"SUM(B$3:B442)","v":2272},38,6,null,null,1252,276,6475,337018,4255,{"$f":"SUMIF(ブログ経費!A:A,\"<=\"&A442,ブログ経費!B:B)","v":11935},-9663]
["2022-03-17",6,4,null,null,889,261,628,2.4061302681992336,{"$f":"SUM(B$3:B443)","v":2278},45,7,null,null,1259,266,6520,337132,3307,{"$f":"SUMIF(ブログ経費!A:A,\"<=\"&A443,ブログ経費!B:B)","v":11935},-9657]
["2022-03-18",1,-5,null,null,889,260,629,2.4192307692307691,{"$f":"SUM(B$3:B444)","v":2279},28,-17,null,null,1241,231,6548,337409,3198,{"$f":"SUMIF(ブログ経費!A:A,\"<=\"&A444,ブログ経費!B:B)","v":11935},-9656]
["2022-03-19",36,35,null,null,919,244,675,2.7663934426229506,{"$f":"SUM(B$3:B445)","v":2315},86,58,null,null,1259,206,6634,344650,10189,{"$f":"SUMIF(ブログ経費!A:A,\"<=\"&A445,ブログ経費!B:B)","v":11935},-9620]
["2022-03-20",12,-24,null,null,911,263,648,2.4638783269961979,{"$f":"SUM(B$3:B446)","v":2327},27,-59,null,null,1258,200,6661,349219,14257,{"$f":"SUMIF(ブログ経費!A:A,\"<=\"&A446,ブログ経費!B:B)","v":11935},-9608]
["2022-03-21",2,-10,null,null,{"$f":"SUM(B418:B447)","v":894},270,{"$f":"F447-G447","v":624},{"$f":"H447/G447","v":2.3111111111111109},{"$f":"SUM(B$3:B447)","v":2329},40,13,null,null,1257,197,6701,349359,12676,{"$f":"SUMIF(ブログ経費!A:A,\"<=\"&A447,ブログ経費!B:B)","v":11935},-9606]
["2022-03-22",7,5,null,null,874,296,578,1.9527027027027026,{"$f":"SUM(B$3:B448)","v":2336},58,18,null,null,1257,156,6759,346522,9810,{"$f":"SUMIF(ブログ経費!A:A,\"<=\"&A448,ブログ経費!B:B)","v":11935},-9599]
["2022-03-23",99,92,null,null,970,299,671,2.2441471571906355,{"$f":"SUM(B$3:B449)","v":2435},46,-12,null,null,1268,152,6805,346691,9673,{"$f":"SUMIF(ブログ経費!A:A,\"<=\"&A449,ブログ経費!B:B)","v":11935},-9500]
["2022-03-24",3,-96,null,null,968,282,686,2.4326241134751774,{"$f":"SUM(B$3:B450)","v":2438},33,-13,null,null,1266,155,6838,347496,10364,{"$f":"SUMIF(ブログ経費!A:A,\"<=\"&A450,ブログ経費!B:B)","v":11935},-9497]
["2022-03-25",1,-2,null,null,768,469,299,0.63752665245202556,{"$f":"SUM(B$3:B451)","v":2439},33,0,null,null,1261,131,6871,371305,33896,{"$f":"SUMIF(ブログ経費!A:A,\"<=\"&A451,ブログ経費!B:B)","v":11935},-9496]
["2022-03-26",1,0,null,null,762,474,288,0.60759493670886078,{"$f":"SUM(B$3:B452)","v":2440},51,18,null,null,1271,117,6922,375309,30659,{"$f":"SUMIF(ブログ経費!A:A,\"<=\"&A452,ブログ経費!B:B)","v":11935},{"$f":"J452-T452","v":-9495}]
["2022-03-27",7,{"$f":"B453-B452","v":6},null,null,765,476,289,0.6071428571428571,{"$f":"SUM(B$3:B453)","v":2447},49,-2,null,null,1294,136,6971,375309,26090,{"$f":"SUMIF(ブログ経費!A:A,\"<=\"&A453,ブログ経費!B:B)","v":11935},-9488]
["2022-03-28",50,43,null,null,773,516,257,0.49806201550387597,{"$f":"SUM(B$3:B454)","v":2497},48,-1,null,null,1311,150,7019,373302,23943,{"$f":"SUMIF(ブログ経費!A:A,\"<=\"&A454,ブログ経費!B:B)","v":11935},-9438]
["2022-03-29",7,-43,null,null,776,519,257,0.4951830443159923,{"$f":"SUM(B$3:B455)","v":2504},75,27,null,null,1355,193,7094,373355,26833,{"$f":"SUMIF(ブログ経費!A:A,\"<=\"&A455,ブログ経費!B:B)","v":11935},-9431]
["2022-03-30",2,-5,null,null,776,468,308,0.65811965811965811,{"$f":"SUM(B$3:B456)","v":2506},44,-31,null,null,1360,191,7138,373505,26814,{"$f":"SUMIF(ブログ経費!A:A,\"<=\"&A456,ブログ経費!B:B)","v":11935},-9429]
["2022-03-31",{"$f":"3-12","v":-9},-11,null,null,764,464,300,0.64655172413793105,{"$f":"SUM(B$3:B457)","v":2497},20,-24,null,null,1342,214,7125,373571,26075,{"$f":"SUMIF(ブログ経費!A:A,\"<=\"&A457,ブログ経費!B:B)","v":11935},-9438]
["2022-04-01",12,21,null,null,518,734,-216,-0.29427792915531337,{"$f":"SUM(B$3:B458)","v":2509},19,-1,null,null,1343,190,7210,373571,2266,{"$f":"SUMIF(ブログ経費!A:A,\"<=\"&A458,ブログ経費!B:B)","v":11935},-9426]
["2022-04-02",6,-6,null,null,522,735,-213,-0.28979591836734692,{"$f":"SUM(B$3:B459)","v":2515},42,23,null,null,1373,225,7262,375410,101,{"$f":"SUMIF(ブログ経費!A:A,\"<=\"&A459,ブログ経費!B:B)","v":11935},-9420]
["2022-04-03",7,1,null,null,413,850,-437,-0.51411764705882357,{"$f":"SUM(B$3:B460)","v":2522},95,53,null,null,1424,252,7285,375793,484,{"$f":"SUMIF(ブログ経費!A:A,\"<=\"&A460,ブログ経費!B:B)","v":11935},-9413]
["2022-04-04",1,-6,null,null,411,852,-441,-0.51760563380281688,{"$f":"SUM(B$3:B461)","v":2523},9,-86,null,null,1406,208,7371,375704,2402,{"$f":"SUMIF(ブログ経費!A:A,\"<=\"&A461,ブログ経費!B:B)","v":11935},-9412]
["2022-04-05",1,0,null,null,407,856,-449,-0.52453271028037385,{"$f":"SUM(B$3:B462)","v":2524},38,29,null,null,1345,131,7436,375711,2356,{"$f":"SUMIF(ブログ経費!A:A,\"<=\"&A462,ブログ経費!B:B)","v":11935},-9411]
["2022-04-06",2,1,null,null,405,849,-444,-0.52296819787985871,{"$f":"SUM(B$3:B463)","v":2526},30,-8,null,null,1392,193,7466,375868,2363,{"$f":"SUMIF(ブログ経費!A:A,\"<=\"&A463,ブログ経費!B:B)","v":11935},-9409]
["2022-04-07",2,0,null,null,404,843,-439,-0.52075919335705811,{"$f":"SUM(B$3:B464)","v":2528},53,23,null,null,1390,173,7519,375895,2324,{"$f":"SUMIF(ブログ経費!A:A,\"<=\"&A464,ブログ経費!B:B)","v":11935},-9407]
["2022-04-08",2,0,null,null,312,936,-624,-0.66666666666666663,{"$f":"SUM(B$3:B465)","v":2530},57,4,null,null,1400,{"$f":"(O465-O435)","v":160},7576,376476,2905,{"$f":"SUMIF(ブログ経費!A:A,\"<=\"&A465,ブログ経費!B:B)","v":11935},-9405]
["2022-04-09",4,2,null,null,313,938,-625,-0.66631130063965882,{"$f":"SUM(B$3:B466)","v":2534},29,-28,null,null,1379,140,7605,376566,1156,{"$f":"SUMIF(ブログ経費!A:A,\"<=\"&A466,ブログ経費!B:B)","v":11935},-9401]
["2022-04-10",1,-3,null,null,309,910,-601,-0.66043956043956042,{"$f":"SUM(B$3:B467)","v":2535},21,-8,null,null,1358,97,7626,379470,3677,{"$f":"SUMIF(ブログ経費!A:A,\"<=\"&A467,ブログ経費!B:B)","v":11935},-9400]
["2022-04-11",2,1,null,null,307,913,-606,-0.66374589266155526,{"$f":"SUM(B$3:B468)","v":2537},43,22,null,null,1341,57,7652,379638,3934,{"$f":"SUMIF(ブログ経費!A:A,\"<=\"&A468,ブログ経費!B:B)","v":11935},-9398]
["2022-04-12",4,2,null,null,308,915,-607,-0.66338797814207651,{"$f":"SUM(B$3:B469)","v":2541},52,9,null,null,1353,66,7650,379638,3927,{"$f":"SUMIF(ブログ経費!A:A,\"<=\"&A469,ブログ経費!B:B)","v":11935},-9394]
["2022-04-13",75,71,null,null,348,910,-562,-0.61758241758241761,{"$f":"SUM(B$3:B470)","v":2616},42,-10,null,null,1360,95,7659,379638,3770,{"$f":"SUMIF(ブログ経費!A:A,\"<=\"&A470,ブログ経費!B:B)","v":11935},-9319]
["2022-04-14",3,-72,null,null,349,909,-560,-0.61606160616061612,{"$f":"SUM(B$3:B471)","v":2619},52,10,null,null,1380,114,7705,379788,3893,{"$f":"SUMIF(ブログ経費!A:A,\"<=\"&A471,ブログ経費!B:B)","v":11935},-9316]
["2022-04-15",28,25,null,null,375,909,-534,-0.58745874587458746,{"$f":"SUM(B$3:B472)","v":2647},43,-9,null,null,1390,138,7742,379788,3312,{"$f":"SUMIF(ブログ経費!A:A,\"<=\"&A472,ブログ経費!B:B)","v":11935},-9288]
["2022-04-16",10,-18,null,null,379,889,-510,-0.5736782902137233,{"$f":"SUM(B$3:B473)","v":2657},43,0,null,null,1388,129,7785,385584,9018,{"$f":"SUMIF(ブログ経費!A:A,\"<=\"&A473,ブログ経費!B:B)","v":11935},-9278]
["2022-04-17",3,-7,null,null,381,889,-508,-0.5714285714285714,{"$f":"SUM(B$3:B474)","v":2660},72,29,null,null,1432,191,7767,385646,6176,{"$f":"SUMIF(ブログ経費!A:A,\"<=\"&A474,ブログ経費!B:B)","v":11935},-9275]
["2022-04-18",9,6,null,null,354,919,-565,-0.61479869423286182,{"$f":"SUM(B$3:B475)","v":2669},50,-22,null,null,1396,137,7814,385646,6008,{"$f":"SUMIF(ブログ経費!A:A,\"<=\"&A475,ブログ経費!B:B)","v":11935},-9266]
["2022-04-19",3,-6,null,null,345,911,-566,-0.62129527991218436,{"$f":"SUM(B$3:B476)","v":2672},57,7,null,null,1426,168,7826,392052,12414,{"$f":"SUMIF(ブログ経費!A:A,\"<=\"&A476,ブログ経費!B:B)","v":11935},-9263]
["2022-04-20",29,26,null,null,372,894,-522,-0.58389261744966447,{"$f":"SUM(B$3:B477)","v":2701},65,8,null,null,1451,194,7891,392756,13118,{"$f":"SUMIF(ブログ経費!A:A,\"<=\"&A477,ブログ経費!B:B)","v":11935},-9234]
["2022-04-21",4,-25,null,null,369,874,-505,-0.5778032036613272,{"$f":"SUM(B$3:B478)","v":2705},85,20,null,null,1478,221,7976,392756,12968,{"$f":"SUMIF(ブログ経費!A:A,\"<=\"&A478,ブログ経費!B:B)","v":11935},-9230]
["2022-04-22",2,-2,null,null,272,970,-698,-0.71958762886597938,{"$f":"SUM(B$3:B479)","v":2707},50,-35,null,null,1482,214,8018,393019,13231,{"$f":"SUMIF(ブログ経費!A:A,\"<=\"&A479,ブログ経費!B:B)","v":11935},-9228]
["2022-04-23",1,-1,null,null,270,968,-698,-0.72107438016528924,{"$f":"SUM(B$3:B480)","v":2708},28,-22,null,null,1477,211,8046,395721,10137,{"$f":"SUMIF(ブログ経費!A:A,\"<=\"&A480,ブログ経費!B:B)","v":11935},-9227]
["2022-04-24",4,3,null,null,273,768,-495,-0.64453125,{"$f":"SUM(B$3:B481)","v":2712},70,42,null,null,1514,253,8116,406771,21125,{"$f":"SUMIF(ブログ経費!A:A,\"<=\"&A481,ブログ経費!B:B)","v":11935},-9223]
["2022-04-25",1,-3,null,null,273,762,-489,-0.6417322834645669,{"$f":"SUM(B$3:B482)","v":2713},42,-28,null,null,1499,228,8158,406881,21235,{"$f":"SUMIF(ブログ経費!A:A,\"<=\"&A482,ブログ経費!B:B)","v":11935},-9222]
["2022-04-26",3,2,null,null,269,765,-496,-0.64836601307189545,{"$f":"SUM(B$3:B483)","v":2716},51,9,null,null,1507,213,8209,406973,14921,{"$f":"SUMIF(ブログ経費!A:A,\"<=\"&A483,ブログ経費!B:B)","v":11935},-9219]
["2022-04-27",65,62,null,null,284,773,-489,-0.63260025873221215,{"$f":"SUM(B$3:B484)","v":2781},60,9,null,null,1519,208,8269,407145,14389,{"$f":"SUMIF(ブログ経費!A:A,\"<=\"&A484,ブログ経費!B:B)","v":11935},-9154]
["2022-04-28",2,-63,null,null,279,776,-497,-0.64046391752577314,{"$f":"SUM(B$3:B485)","v":2783},31,-29,null,null,1475,120,8300,407145,14389,{"$f":"SUMIF(ブログ経費!A:A,\"<=\"&A485,ブログ経費!B:B)","v":16225},-13442]
["2022-04-29",43,41,null,null,320,776,-456,-0.58762886597938147,{"$f":"SUM(B$3:B486)","v":2826},72,41,null,null,1503,143,8372,407705,14686,{"$f":"SUMIF(ブログ経費!A:A,\"<=\"&A486,ブログ経費!B:B)","v":16225},-13399]
["2022-04-30",{"$f":"20-4","v":16},-27,null,null,345,764,-419,-0.54842931937172779,{"$f":"SUM(B$3:B487)","v":2842},53,-19,null,null,1503,161,8425,408393,12672,{"$f":"SUMIF(ブログ経費!A:A,\"<=\"&A487,ブログ経費!B:B)","v":16225},-13383]
["2022-05-01",1,-15,null,null,334,518,-184,-0.35521235521235522,{"$f":"SUM(B$3:B488)","v":2843},49,-4,null,null,1521,178,8474,405364,-1407,{"$f":"SUMIF(ブログ経費!A:A,\"<=\"&A488,ブログ経費!B:B)","v":19569},-16726]
["2022-05-02",5,4,null,null,333,522,-189,-0.36206896551724138,{"$f":"SUM(B$3:B489)","v":2848},52,3,null,null,1526,153,8523,405364,-1517,{"$f":"SUMIF(ブログ経費!A:A,\"<=\"&A489,ブログ経費!B:B)","v":19569},-16721]
["2022-05-03",19,14,null,null,345,413,-68,-0.16464891041162227,{"$f":"SUM(B$3:B490)","v":2867},40,-12,null,null,1471,47,8563,405364,-1609,{"$f":"SUMIF(ブログ経費!A:A,\"<=\"&A490,ブログ経費!B:B)","v":19569},-16702]
["2022-05-04",15,-4,null,null,359,411,-52,-0.12652068126520682,{"$f":"SUM(B$3:B491)","v":2882},33,-7,null,null,1468,62,8585,405364,-1781,{"$f":"SUMIF(ブログ経費!A:A,\"<=\"&A491,ブログ経費!B:B)","v":19569},-16687]
["2022-05-05",3,-12,null,null,361,407,-46,-0.11302211302211303,{"$f":"SUM(B$3:B492)","v":2885},67,34,null,null,1497,152,8644,407005,-140,{"$f":"SUMIF(ブログ経費!A:A,\"<=\"&A492,ブログ経費!B:B)","v":19569},-16684]
["2022-05-06",51,48,null,null,410,405,5,1.2345679012345678E-2,{"$f":"SUM(B$3:B493)","v":2936},62,-5,null,null,1529,137,8690,407005,-700,{"$f":"SUMIF(ブログ経費!A:A,\"<=\"&A493,ブログ経費!B:B)","v":19569},-16633]
["2022-05-07",3,-48,null,null,411,404,7,1.7326732673267328E-2,{"$f":"SUM(B$3:B494)","v":2939},54,-8,null,null,1530,140,8742,407629,-764,{"$f":"SUMIF(ブログ経費!A:A,\"<=\"&A494,ブログ経費!B:B)","v":19569},-16630]
["2022-05-08",13,10,null,null,422,312,110,0.35256410256410259,{"$f":"SUM(B$3:B495)","v":2952},80,26,null,null,1553,153,8807,407233,1869,{"$f":"SUMIF(ブログ経費!A:A,\"<=\"&A495,ブログ経費!B:B)","v":19569},-16617]
["2022-05-09",33,20,null,null,451,313,138,0.44089456869009586,{"$f":"SUM(B$3:B496)","v":2985},33,-47,null,null,1557,178,8822,407329,1965,{"$f":"SUMIF(ブログ経費!A:A,\"<=\"&A496,ブログ経費!B:B)","v":19569},-16584]
["2022-05-10",2,-31,null,null,452,309,143,0.4627831715210356,{"$f":"SUM(B$3:B497)","v":2987},50,17,null,null,1586,228,8859,407643,2279,{"$f":"SUMIF(ブログ経費!A:A,\"<=\"&A497,ブログ経費!B:B)","v":19569},-16582]
["2022-05-11",1,-1,null,null,451,307,144,0.46905537459283386,{"$f":"SUM(B$3:B498)","v":2988},44,-6,null,null,1587,246,8880,408126,2762,{"$f":"SUMIF(ブログ経費!A:A,\"<=\"&A498,ブログ経費!B:B)","v":19569},-16581]
["2022-05-12",26,25,null,null,473,308,165,0.5357142857142857,{"$f":"SUM(B$3:B499)","v":3014},37,-7,null,null,1572,219,8897,408198,{"$f":"R499-R492","v":1193},{"$f":"SUMIF(ブログ経費!A:A,\"<=\"&A499,ブログ経費!B:B)","v":19569},-16555]
["2022-05-13",47,21,null,null,445,{"$f":"SUM(B441:B470)","v":348},97,0.27873563218390807,{"$f":"SUM(B$3:B500)","v":3061},49,{"$f":"K500-K499","v":12},null,null,1579,219,8943,408724,1719,{"$f":"SUMIF(ブログ経費!A:A,\"<=\"&A500,ブログ経費!B:B)","v":19569},-16508]
["2022-05-14",6,-41,null,null,448,349,99,0.28366762177650429,{"$f":"SUM(B$3:B501)","v":3067},52,3,null,null,1574,194,8992,410207,2578,{"$f":"SUMIF(ブログ経費!A:A,\"<=\"&A501,ブログ経費!B:B)","v":19569},-16502]
["2022-05-15",4,-2,null,null,424,375,49,0.13066666666666665,{"$f":"SUM(B$3:B502)","v":3071},33,-19,null,null,1564,174,9018,410407,3174,{"$f":"SUMIF(ブログ経費!A:A,\"<=\"&A502,ブログ経費!B:B)","v":19569},-16498]
["2022-05-16",30,26,null,null,444,379,65,0.17150395778364116,{"$f":"SUM(B$3:B503)","v":3101},62,29,null,null,1583,195,9072,410499,3170,{"$f":"SUMIF(ブログ経費!A:A,\"<=\"&A503,ブログ経費!B:B)","v":19569},-16468]
["2022-05-17",36,6,null,null,477,381,96,0.25196850393700787,{"$f":"SUM(B$3:B504)","v":3137},63,1,null,null,1574,142,9132,410499,2856,{"$f":"SUMIF(ブログ経費!A:A,\"<=\"&A504,ブログ経費!B:B)","v":19569},-16432]
["2022-05-18",38,2,null,null,506,354,152,0.42937853107344631,{"$f":"SUM(B$3:B505)","v":3175},63,0,null,null,1587,191,9193,411465,3339,{"$f":"SUMIF(ブログ経費!A:A,\"<=\"&A505,ブログ経費!B:B)","v":19569},-16394]
["2022-05-19",2,-36,null,null,505,345,160,0.46376811594202899,{"$f":"SUM(B$3:B506)","v":3177},50,-13,null,null,1580,154,9242,411407,3209,{"$f":"SUMIF(ブログ経費!A:A,\"<=\"&A506,ブログ経費!B:B)","v":19569},-16392]
["2022-05-20",3,1,null,null,479,372,107,0.28763440860215056,{"$f":"SUM(B$3:B507)","v":3180},48,-2,null,null,1563,112,9286,412227,3503,{"$f":"SUMIF(ブログ経費!A:A,\"<=\"&A507,ブログ経費!B:B)","v":19569},-16389]
["2022-05-21",5,2,null,null,480,369,111,0.30081300813008133,{"$f":"SUM(B$3:B508)","v":3185},57,9,null,null,1535,57,9343,412821,2614,{"$f":"SUMIF(ブログ経費!A:A,\"<=\"&A508,ブログ経費!B:B)","v":19569},-16384]
["2022-05-22",1,-4,null,null,479,272,207,0.76102941176470584,{"$f":"SUM(B$3:B509)","v":3186},49,-8,null,null,1534,52,9391,412883,2476,{"$f":"SUMIF(ブログ経費!A:A,\"<=\"&A509,ブログ経費!B:B)","v":19569},-16383]
["2022-05-23",1,0,null,null,479,270,209,0.77407407407407403,{"$f":"SUM(B$3:B510)","v":3187},39,-10,null,null,1545,68,9428,413010,2511,{"$f":"SUMIF(ブログ経費!A:A,\"<=\"&A510,ブログ経費!B:B)","v":19569},-16382]
["2022-05-24",36,35,null,null,{"$f":"SUM(B482:B511)","v":511},273,{"$f":"F511-G511","v":238},{"$f":"H511/G511","v":0.87179487179487181},{"$f":"SUM(B$3:B511)","v":3223},74,35,null,null,1549,35,9496,413316,2817,{"$f":"SUMIF(ブログ経費!A:A,\"<=\"&A511,ブログ経費!B:B)","v":19569},-16346]
["2022-05-25",2,-34,null,null,512,273,239,0.87545787545787546,{"$f":"SUM(B$3:B512)","v":3225},63,-11,null,null,1570,71,9553,413591,2126,{"$f":"SUMIF(ブログ経費!A:A,\"<=\"&A512,ブログ経費!B:B)","v":19569},-16344]
["2022-05-26",40,38,null,null,549,269,280,1.0408921933085502,{"$f":"SUM(B$3:B513)","v":3265},66,3,null,null,1585,78,9614,414221,2814,{"$f":"SUMIF(ブログ経費!A:A,\"<=\"&A513,ブログ経費!B:B)","v":19569},-16304]
["2022-05-27",4,-36,null,null,488,284,204,0.71830985915492962,{"$f":"SUM(B$3:B514)","v":3269},61,-5,null,null,1586,67,9673,414617,2390,{"$f":"SUMIF(ブログ経費!A:A,\"<=\"&A514,ブログ経費!B:B)","v":19569},-16300]
["2022-05-28",1,-3,null,null,487,279,208,0.74551971326164879,{"$f":"SUM(B$3:B515)","v":3270},54,-7,null,null,1609,134,9727,415203,2382,{"$f":"SUMIF(ブログ経費!A:A,\"<=\"&A515,ブログ経費!B:B)","v":19569},-16299]
["2022-05-29",2,1,null,null,446,320,126,0.39374999999999999,{"$f":"SUM(B$3:B516)","v":3272},66,12,null,null,1603,100,9793,415704,2821,{"$f":"SUMIF(ブログ経費!A:A,\"<=\"&A516,ブログ経費!B:B)","v":19569},{"$f":"J516-T516","v":-16297}]
["2022-05-30",13,{"$f":"B517-B516","v":11},null,null,443,345,98,0.28405797101449276,{"$f":"SUM(B$3:B517)","v":3285},122,56,null,null,1672,169,9913,417211,4201,{"$f":"SUMIF(ブログ経費!A:A,\"<=\"&A517,ブログ経費!B:B)","v":19569},-16284]
["2022-05-31",{"$f":"10-17","v":-7},-20,null,null,435,334,101,0.30239520958083832,{"$f":"SUM(B$3:B518)","v":3278},62,-60,null,null,1685,164,9974,417211,3895,{"$f":"SUMIF(ブログ経費!A:A,\"<=\"&A518,ブログ経費!B:B)","v":19569},-16291]
["2022-06-01",34,41,null,null,464,333,131,0.39339339339339341,{"$f":"SUM(B$3:B519)","v":3312},40,-22,null,null,1673,147,"1万",418591,5000,{"$f":"SUMIF(ブログ経費!A:A,\"<=\"&A519,ブログ経費!B:B)","v":19569},-16257]
["2022-06-02",3,-31,null,null,448,345,103,0.29855072463768118,{"$f":"SUM(B$3:B520)","v":3315},54,14,null,null,1699,228,"1万",418591,4370,{"$f":"SUMIF(ブログ経費!A:A,\"<=\"&A520,ブログ経費!B:B)","v":19569},-16254]
["2022-06-03",2,-1,null,null,435,359,76,0.2116991643454039,{"$f":"SUM(B$3:B521)","v":3317},61,7,null,null,1733,265,"1万",418591,3974,{"$f":"SUMIF(ブログ経費!A:A,\"<=\"&A521,ブログ経費!B:B)","v":19569},-16252]
["2022-06-04",28,26,null,null,460,361,99,0.2742382271468144,{"$f":"SUM(B$3:B522)","v":3345},61,0,null,null,1727,230,"1万",419388,4185,{"$f":"SUMIF(ブログ経費!A:A,\"<=\"&A522,ブログ経費!B:B)","v":19569},-16224]
["2022-06-05",7,-21,null,null,416,410,6,1.4634146341463415E-2,{"$f":"SUM(B$3:B523)","v":3352},48,-13,null,null,1713,184,"1万",419753,4049,{"$f":"SUMIF(ブログ経費!A:A,\"<=\"&A523,ブログ経費!B:B)","v":19569},-16217]
["2022-06-06",3,-4,null,null,416,411,5,1.2165450121654502E-2,{"$f":"SUM(B$3:B524)","v":3355},58,10,null,null,1717,187,"1万",420102,2891,{"$f":"SUMIF(ブログ経費!A:A,\"<=\"&A524,ブログ経費!B:B)","v":19569},-16214]
["2022-06-07",8,5,null,null,411,422,-11,-2.6066350710900472E-2,{"$f":"SUM(B$3:B525)","v":3363},62,4,null,null,1699,146,"1万",420495,3284,{"$f":"SUMIF(ブログ経費!A:A,\"<=\"&A525,ブログ経費!B:B)","v":19569},-16206]
["2022-06-08",34,26,null,null,412,451,-39,-8.6474501108647447E-2,{"$f":"SUM(B$3:B526)","v":3397},91,29,null,null,1759,202,"1万",421500,2909,{"$f":"SUMIF(ブログ経費!A:A,\"<=\"&A526,ブログ経費!B:B)","v":19569},-16172]
["2022-06-09",6,-28,null,null,416,452,-36,-7.9646017699115043E-2,{"$f":"SUM(B$3:B527)","v":3403},53,-38,null,null,1768,182,"1.1万",421588,2997,{"$f":"SUMIF(ブログ経費!A:A,\"<=\"&A527,ブログ経費!B:B)","v":19569},-16166]
["2022-06-10",84,78,null,null,499,451,48,0.10643015521064302,{"$f":"SUM(B$3:B528)","v":3487},61,8,null,null,1785,198,"1.1万",422083,3492,{"$f":"SUMIF(ブログ経費!A:A,\"<=\"&A528,ブログ経費!B:B)","v":19569},-16082]
["2022-06-11",1,-83,null,null,474,473,1,2.1141649048625794E-3,{"$f":"SUM(B$3:B529)","v":3488},67,6,null,null,1817,{"$f":"(O529-O499)","v":245},"1.1万",436549,17161,{"$f":"SUMIF(ブログ経費!A:A,\"<=\"&A529,ブログ経費!B:B)","v":19569},-16081]
["2022-06-12",202,201,null,null,629,445,184,0.41348314606741571,{"$f":"SUM(B$3:B530)","v":3690},118,51,null,null,1886,307,"1.1万",435696,15943,{"$f":"SUMIF(ブログ経費!A:A,\"<=\"&A530,ブログ経費!B:B)","v":19569},-15879]
["2022-06-13",4,-198,null,null,627,448,179,0.39955357142857145,{"$f":"SUM(B$3:B531)","v":3694},67,-51,null,null,1901,327,"1.1万",436133,16031,{"$f":"SUMIF(ブログ経費!A:A,\"<=\"&A531,ブログ経費!B:B)","v":19569},-15875]
["2022-06-14",2,-2,null,null,625,424,201,0.47405660377358488,{"$f":"SUM(B$3:B532)","v":3696},70,3,null,null,1938,374,"1.1万",436417,15922,{"$f":"SUMIF(ブログ経費!A:A,\"<=\"&A532,ブログ経費!B:B)","v":19569},-15873]
["2022-06-15",11,9,null,null,606,444,162,0.36486486486486486,{"$f":"SUM(B$3:B533)","v":3707},51,-19,null,null,1927,344,"1.1万",436503,15003,{"$f":"SUMIF(ブログ経費!A:A,\"<=\"&A533,ブログ経費!B:B)","v":19569},-15862]
["2022-06-16",2,-9,null,null,572,477,95,0.19916142557651992,{"$f":"SUM(B$3:B534)","v":3709},76,25,null,null,1940,366,"1.1万",436602,15014,{"$f":"SUMIF(ブログ経費!A:A,\"<=\"&A534,ブログ経費!B:B)","v":19569},-15860]
["2022-06-17",2,0,null,null,536,506,30,5.9288537549407112E-2,{"$f":"SUM(B$3:B535)","v":3711},58,-18,null,null,1937,350,"1.1万",437494,15411,{"$f":"SUMIF(ブログ経費!A:A,\"<=\"&A535,ブログ経費!B:B)","v":19569},-15858]
["2022-06-18",14,12,null,null,548,505,43,8.5148514851485155E-2,{"$f":"SUM(B$3:B536)","v":3725},50,-8,null,null,1937,357,"1.1万",439095,2546,{"$f":"SUMIF(ブログ経費!A:A,\"<=\"&A536,ブログ経費!B:B)","v":19569},-15844]
["2022-06-19",23,9,null,null,568,479,89,0.18580375782881003,{"$f":"SUM(B$3:B537)","v":3748},65,15,null,null,1983,420,"1.1万",439884,4188,{"$f":"SUMIF(ブログ経費!A:A,\"<=\"&A537,ブログ経費!B:B)","v":19569},-15821]
["2022-06-20",100,77,null,null,663,480,183,0.38124999999999998,{"$f":"SUM(B$3:B538)","v":3848},96,31,null,null,2022,487,"1.1万",440296,4163,{"$f":"SUMIF(ブログ経費!A:A,\"<=\"&A538,ブログ経費!B:B)","v":19569},-15721]
["2022-06-21",2,-98,null,null,664,479,185,0.38622129436325681,{"$f":"SUM(B$3:B539)","v":3850},56,-40,null,null,2029,495,"1.1万",440577,4160,{"$f":"SUMIF(ブログ経費!A:A,\"<=\"&A539,ブログ経費!B:B)","v":19569},-15719]
["2022-06-22",31,29,null,null,694,479,215,0.44885177453027142,{"$f":"SUM(B$3:B540)","v":3881},49,-7,null,null,2039,494,"1.1万",440612,4109,{"$f":"SUMIF(ブログ経費!A:A,\"<=\"&A540,ブログ経費!B:B)","v":19569},-15688]
["2022-06-23",4,-27,null,null,662,511,151,0.29549902152641877,{"$f":"SUM(B$3:B541)","v":3885},60,11,null,null,2025,476,"1.1万",440719,4117,{"$f":"SUMIF(ブログ経費!A:A,\"<=\"&A541,ブログ経費!B:B)","v":19569},-15684]
["2022-06-24",4,0,null,null,664,512,152,0.296875,{"$f":"SUM(B$3:B542)","v":3889},49,-11,null,null,2011,441,"1.1万",440719,3225,{"$f":"SUMIF(ブログ経費!A:A,\"<=\"&A542,ブログ経費!B:B)","v":19569},-15680]
["2022-06-25",1,-3,null,null,625,549,76,0.13843351548269581,{"$f":"SUM(B$3:B543)","v":3890},30,-19,null,null,1975,390,"1.1万",440719,1624,{"$f":"SUMIF(ブログ経費!A:A,\"<=\"&A543,ブログ経費!B:B)","v":19569},-15679]
["2022-06-26",3,2,null,null,624,488,136,0.27868852459016391,{"$f":"SUM(B$3:B544)","v":3893},35,5,null,null,1949,363,"1.2万",440856,972,{"$f":"SUMIF(ブログ経費!A:A,\"<=\"&A544,ブログ経費!B:B)","v":19569},-15676]
["2022-06-27",2,-1,null,null,625,487,138,0.28336755646817247,{"$f":"SUM(B$3:B545)","v":3895},44,9,null,null,1939,330,"1.2万",440935,639,{"$f":"SUMIF(ブログ経費!A:A,\"<=\"&A545,ブログ経費!B:B)","v":19569},-15674]
["2022-06-28",3,1,null,null,626,446,180,0.40358744394618834,{"$f":"SUM(B$3:B546)","v":3898},65,21,null,null,1938,335,"1.2万",441171,594,{"$f":"SUMIF(ブログ経費!A:A,\"<=\"&A546,ブログ経費!B:B)","v":19569},-15671]
["2022-06-29",29,26,null,null,642,443,199,0.44920993227990968,{"$f":"SUM(B$3:B547)","v":3927},101,36,null,null,1917,245,"1.2万",441230,618,{"$f":"SUMIF(ブログ経費!A:A,\"<=\"&A547,ブログ経費!B:B)","v":19569},-15642]
["2022-06-30",{"$f":"2-11","v":-9},-38,null,null,640,435,205,0.47126436781609193,{"$f":"SUM(B$3:B548)","v":3918},55,-46,null,null,1910,225,"1.2万",441313,594,{"$f":"SUMIF(ブログ経費!A:A,\"<=\"&A548,ブログ経費!B:B)","v":19569},-15651]
["2022-07-01",256,265,null,null,862,464,398,0.85775862068965514,{"$f":"SUM(B$3:B549)","v":4174},60,5,null,null,1918,245,"1.2万",442267,1548,{"$f":"SUMIF(ブログ経費!A:A,\"<=\"&A549,ブログ経費!B:B)","v":19569},-15395]
["2022-07-02",5,-251,null,null,864,448,416,0.9285714285714286,{"$f":"SUM(B$3:B550)","v":4179},58,-2,null,null,1916,217,"1.2万",442793,2074,{"$f":"SUMIF(ブログ経費!A:A,\"<=\"&A550,ブログ経費!B:B)","v":19569},-15390]
["2022-07-03",37,32,null,null,899,435,464,1.0666666666666667,{"$f":"SUM(B$3:B551)","v":4216},49,-9,null,null,1904,171,"1.2万",444389,3533,{"$f":"SUMIF(ブログ経費!A:A,\"<=\"&A551,ブログ経費!B:B)","v":19569},-15353]
["2022-07-04",1,-36,null,null,872,460,412,0.89565217391304353,{"$f":"SUM(B$3:B552)","v":4217},75,26,null,null,1918,191,"1.2万",447706,6771,{"$f":"SUMIF(ブログ経費!A:A,\"<=\"&A552,ブログ経費!B:B)","v":19569},-15352]
["2022-07-05",3,2,null,null,868,416,452,1.0865384615384615,{"$f":"SUM(B$3:B553)","v":4220},59,-16,null,null,1929,216,"1.2万",447845,6674,{"$f":"SUMIF(ブログ経費!A:A,\"<=\"&A553,ブログ経費!B:B)","v":19569},-15349]
["2022-07-06",3,0,null,null,868,416,452,1.0865384615384615,{"$f":"SUM(B$3:B554)","v":4223},57,-2,null,null,1928,211,"1.2万",448014,6784,{"$f":"SUMIF(ブログ経費!A:A,\"<=\"&A554,ブログ経費!B:B)","v":19569},-15346]
["2022-07-07",3,0,null,null,863,411,452,1.0997566909975669,{"$f":"SUM(B$3:B555)","v":4226},66,9,null,null,1932,233,"1.2万",448162,6849,{"$f":"SUMIF(ブログ経費!A:A,\"<=\"&A555,ブログ経費!B:B)","v":19569},-15343]
["2022-07-08",3,0,null,null,832,412,420,1.0194174757281553,{"$f":"SUM(B$3:B556)","v":4229},78,12,null,null,1913,154,"1.2万",448612,6345,{"$f":"SUMIF(ブログ経費!A:A,\"<=\"&A556,ブログ経費!B:B)","v":19569},-15340]
["2022-07-09",1,-2,null,null,827,416,411,0.98798076923076927,{"$f":"SUM(B$3:B557)","v":4230},47,-31,null,null,1907,139,"1.2万",449082,6289,{"$f":"SUMIF(ブログ経費!A:A,\"<=\"&A557,ブログ経費!B:B)","v":19569},-15339]
["2022-07-10",2,1,null,null,745,499,246,0.49298597194388777,{"$f":"SUM(B$3:B558)","v":4232},64,17,null,null,1908,123,"1.2万",452520,8131,{"$f":"SUMIF(ブログ経費!A:A,\"<=\"&A558,ブログ経費!B:B)","v":19569},-15337]
["2022-07-11",1,-1,null,null,745,474,271,0.57172995780590719,{"$f":"SUM(B$3:B559)","v":4233},45,-19,null,null,1886,69,"1.2万",452790,5084,{"$f":"SUMIF(ブログ経費!A:A,\"<=\"&A559,ブログ経費!B:B)","v":19569},-15336]
["2022-07-12",2,1,null,null,545,629,-84,-0.13354531001589826,{"$f":"SUM(B$3:B560)","v":4235},71,26,null,null,1839,-47,"1.2万",452805,4960,{"$f":"SUMIF(ブログ経費!A:A,\"<=\"&A560,ブログ経費!B:B)","v":19569},-15334]
["2022-07-13",2,0,null,null,543,627,-84,-0.13397129186602871,{"$f":"SUM(B$3:B561)","v":4237},41,-30,null,null,1813,-88,"1.2万",452860,4846,{"$f":"SUMIF(ブログ経費!A:A,\"<=\"&A561,ブログ経費!B:B)","v":19569},-15332]
["2022-07-14",3,1,null,null,544,625,-81,-0.12959999999999999,{"$f":"SUM(B$3:B562)","v":4240},57,16,null,null,1806,-132,"1.2万",452860,4698,{"$f":"SUMIF(ブログ経費!A:A,\"<=\"&A562,ブログ経費!B:B)","v":19569},-15329]
["2022-07-15",1,-2,null,null,534,606,-72,-0.11881188118811881,{"$f":"SUM(B$3:B563)","v":4241},56,-1,null,null,1811,-116,"1.2万",452901,{"$f":"R563-R556","v":4289},{"$f":"SUMIF(ブログ経費!A:A,\"<=\"&A563,ブログ経費!B:B)","v":19569},-15328]
["2022-07-16",14,13,null,null,546,{"$f":"SUM(B505:B534)","v":572},-26,-4.5454545454545456E-2,{"$f":"SUM(B$3:B564)","v":4255},44,{"$f":"K564-K563","v":-12},null,null,1777,-163,"1.3万",452884,3802,{"$f":"SUMIF(ブログ経費!A:A,\"<=\"&A564,ブログ経費!B:B)","v":19569},-15314]
["2022-07-17",3,-11,null,null,547,536,11,2.0522388059701493E-2,{"$f":"SUM(B$3:B565)","v":4258},46,2,null,null,1765,-172,"1.2万",454580,2060,{"$f":"SUMIF(ブログ経費!A:A,\"<=\"&A565,ブログ経費!B:B)","v":19569},-15311]
["2022-07-18",1,-2,null,null,534,548,-14,-2.5547445255474453E-2,{"$f":"SUM(B$3:B566)","v":4259},74,28,null,null,1760,-177,"1.3万",454961,2171,{"$f":"SUMIF(ブログ経費!A:A,\"<=\"&A566,ブログ経費!B:B)","v":19569},-15310]
["2022-07-19",4,3,null,null,515,568,-53,-9.3309859154929578E-2,{"$f":"SUM(B$3:B567)","v":4263},82,8,null,null,1777,-206,"1.3万",455277,2472,{"$f":"SUMIF(ブログ経費!A:A,\"<=\"&A567,ブログ経費!B:B)","v":19569},-15306]
["2022-07-20",17,13,null,null,432,663,-231,-0.34841628959276016,{"$f":"SUM(B$3:B568)","v":4280},66,-16,null,null,1747,-275,"1.3万",455447,2587,{"$f":"SUMIF(ブログ経費!A:A,\"<=\"&A568,ブログ経費!B:B)","v":19569},-15289]
["2022-07-21",79,62,null,null,509,664,-155,-0.23343373493975902,{"$f":"SUM(B$3:B569)","v":4359},69,3,null,null,1760,-269,"1.3万",455873,3013,{"$f":"SUMIF(ブログ経費!A:A,\"<=\"&A569,ブログ経費!B:B)","v":19569},-15210]
["2022-07-22",7,-72,null,null,485,694,-209,-0.30115273775216139,{"$f":"SUM(B$3:B570)","v":4366},38,{"$f":"K570-K569","v":-31},null,null,1749,-290,"1.3万",455873,2972,{"$f":"SUMIF(ブログ経費!A:A,\"<=\"&A570,ブログ経費!B:B)","v":19569},-15203]
["2022-07-23",1,-6,null,null,482,662,-180,-0.27190332326283989,{"$f":"SUM(B$3:B571)","v":4367},56,18,null,null,1745,-280,"1.3万",456502,3618,{"$f":"SUMIF(ブログ経費!A:A,\"<=\"&A571,ブログ経費!B:B)","v":19569},-15202]
["2022-07-24",1,0,null,null,479,664,-185,-0.27861445783132532,{"$f":"SUM(B$3:B572)","v":4368},73,17,null,null,1769,-242,"1.3万",456677,2097,{"$f":"SUMIF(ブログ経費!A:A,\"<=\"&A572,ブログ経費!B:B)","v":19569},-15201]
["2022-07-25",12,11,null,null,490,625,-135,-0.216,{"$f":"SUM(B$3:B573)","v":4380},66,-7,null,null,1805,-170,"1.3万",456769,1808,{"$f":"SUMIF(ブログ経費!A:A,\"<=\"&A573,ブログ経費!B:B)","v":19569},-15189]
["2022-07-26",2,-10,null,null,489,624,-135,-0.21634615384615385,{"$f":"SUM(B$3:B574)","v":4382},67,1,null,null,1837,-112,"1.3万",456769,1492,{"$f":"SUMIF(ブログ経費!A:A,\"<=\"&A574,ブログ経費!B:B)","v":19569},-15187]
["2022-07-27",25,23,null,null,{"$f":"SUM(B546:B575)","v":512},625,{"$f":"F575-G575","v":-113},{"$f":"H575/G575","v":-0.18079999999999999},{"$f":"SUM(B$3:B575)","v":4407},77,10,null,null,1870,-69,"1.3万",457084,1637,{"$f":"SUMIF(ブログ経費!A:A,\"<=\"&A575,ブログ経費!B:B)","v":19569},-15162]
["2022-07-28",5,-20,null,null,514,626,-112,-0.17891373801916932,{"$f":"SUM(B$3:B576)","v":4412},77,0,null,null,1882,-56,"1.3万",457677,1804,{"$f":"SUMIF(ブログ経費!A:A,\"<=\"&A576,ブログ経費!B:B)","v":19569},-15157]
["2022-07-29",23,18,null,null,508,642,-134,-0.2087227414330218,{"$f":"SUM(B$3:B577)","v":4435},74,-3,null,null,1855,-62,"1.3万",458433,2560,{"$f":"SUMIF(ブログ経費!A:A,\"<=\"&A577,ブログ経費!B:B)","v":19569},-15134]
["2022-07-30",0,-23,null,null,517,640,-123,-0.19218750000000001,{"$f":"SUM(B$3:B578)","v":4435},49,-25,null,null,1849,-61,"1.3万",459155,2653,{"$f":"SUMIF(ブログ経費!A:A,\"<=\"&A578,ブログ経費!B:B)","v":19569},-15134]
["2022-07-31",{"$f":"2-5","v":-3},-3,null,null,258,862,-604,-0.70069605568445481,{"$f":"SUM(B$3:B579)","v":4432},71,22,null,null,1860,-58,"1.3万",459414,2737,{"$f":"SUMIF(ブログ経費!A:A,\"<=\"&A579,ブログ経費!B:B)","v":19569},-15137]
["2022-08-01",2,5,null,null,255,864,-609,-0.70486111111111116,{"$f":"SUM(B$3:B580)","v":4434},83,12,null,null,1885,-31,"1.3万",460099,3330,{"$f":"SUMIF(ブログ経費!A:A,\"<=\"&A580,ブログ経費!B:B)","v":19569},{"$f":"J580-T580","v":-15135}]
["2022-08-02",116,{"$f":"B581-B580","v":114},null,null,334,899,-565,-0.628476084538376,{"$f":"SUM(B$3:B581)","v":4550},98,15,null,null,1934,30,"1.3万",460354,3585,{"$f":"SUMIF(ブログ経費!A:A,\"<=\"&A581,ブログ経費!B:B)","v":19569},-15019]
["2022-08-03",2,-114,null,null,335,872,-537,-0.61582568807339455,{"$f":"SUM(B$3:B582)","v":4552},78,-20,null,null,1937,19,"1.3万",460442,3358,{"$f":"SUMIF(ブログ経費!A:A,\"<=\"&A582,ブログ経費!B:B)","v":19569},-15017]
["2022-08-04",14,12,null,null,346,868,-522,-0.60138248847926268,{"$f":"SUM(B$3:B583)","v":4566},86,8,null,null,1964,35,"1.3万",460442,2765,{"$f":"SUMIF(ブログ経費!A:A,\"<=\"&A583,ブログ経費!B:B)","v":19569},-15003]
["2022-08-05",5,-9,null,null,348,868,-520,-0.59907834101382484,{"$f":"SUM(B$3:B584)","v":4571},68,-18,null,null,1973,45,"1.4万",460442,2009,{"$f":"SUMIF(ブログ経費!A:A,\"<=\"&A584,ブログ経費!B:B)","v":19569},-14998]
["2022-08-06",272,267,null,null,617,863,-246,-0.2850521436848204,{"$f":"SUM(B$3:B585)","v":4843},56,-12,null,null,1963,31,"1.4万",460442,1287,{"$f":"SUMIF(ブログ経費!A:A,\"<=\"&A585,ブログ経費!B:B)","v":19569},-14726]
["2022-08-07",2,-270,null,null,616,832,-216,-0.25961538461538464,{"$f":"SUM(B$3:B586)","v":4845},59,3,null,null,1944,31,"1.4万",460442,1028,{"$f":"SUMIF(ブログ経費!A:A,\"<=\"&A586,ブログ経費!B:B)","v":19569},-14724]
["2022-08-08",8,6,null,null,623,827,-204,-0.24667472793228537,{"$f":"SUM(B$3:B587)","v":4853},111,52,null,null,2008,101,"1.4万",460632,533,{"$f":"SUMIF(ブログ経費!A:A,\"<=\"&A587,ブログ経費!B:B)","v":19569},-14716]
["2022-08-09",8,0,null,null,629,745,-116,-0.15570469798657718,{"$f":"SUM(B$3:B588)","v":4861},71,-40,null,null,2015,107,"1.4万",460925,571,{"$f":"SUMIF(ブログ経費!A:A,\"<=\"&A588,ブログ経費!B:B)","v":19569},-14708]
["2022-08-10",6,-2,null,null,634,745,-111,-0.14899328859060404,{"$f":"SUM(B$3:B589)","v":4867},106,35,null,null,2076,190,"1.4万",460925,483,{"$f":"SUMIF(ブログ経費!A:A,\"<=\"&A589,ブログ経費!B:B)","v":19569},-14702]
["2022-08-11",37,31,null,null,669,545,124,0.22752293577981653,{"$f":"SUM(B$3:B590)","v":4904},54,-52,null,null,2059,220,"1.4万",460925,483,{"$f":"SUMIF(ブログ経費!A:A,\"<=\"&A590,ブログ経費!B:B)","v":19569},-14665]
["2022-08-12",2,-35,null,null,669,543,126,0.23204419889502761,{"$f":"SUM(B$3:B591)","v":4906},75,21,null,null,2087,274,"1.4万",460925,483,{"$f":"SUMIF(ブログ経費!A:A,\"<=\"&A591,ブログ経費!B:B)","v":19569},-14663]
["2022-08-13",17,15,null,null,683,544,139,0.25551470588235292,{"$f":"SUM(B$3:B592)","v":4923},77,2,null,null,2107,301,"1.4万",460925,483,{"$f":"SUMIF(ブログ経費!A:A,\"<=\"&A592,ブログ経費!B:B)","v":19569},-14646]
["2022-08-14",3,-14,null,null,685,534,151,0.28277153558052437,{"$f":"SUM(B$3:B593)","v":4926},86,9,null,null,2137,{"$f":"(O593-O563)","v":326},"1.4万",460925,483,{"$f":"SUMIF(ブログ経費!A:A,\"<=\"&A593,ブログ経費!B:B)","v":19569},-14643]
["2022-08-15",43,40,null,null,714,546,168,0.30769230769230771,{"$f":"SUM(B$3:B594)","v":4969},70,-16,null,null,2155,378,"1.4万",460925,293,{"$f":"SUMIF(ブログ経費!A:A,\"<=\"&A594,ブログ経費!B:B)","v":19569},-14600]
["2022-08-16",15,-28,null,null,726,547,179,0.32723948811700182,{"$f":"SUM(B$3:B595)","v":4984},83,13,null,null,2182,417,"1.4万",460925,0,{"$f":"SUMIF(ブログ経費!A:A,\"<=\"&A595,ブログ経費!B:B)","v":19569},-14585]
["2022-08-17",24,9,null,null,749,534,215,0.40262172284644193,{"$f":"SUM(B$3:B596)","v":5008},75,-8,null,null,2201,441,"1.4万",460925,0,{"$f":"SUMIF(ブログ経費!A:A,\"<=\"&A596,ブログ経費!B:B)","v":19569},-14561]
["2022-08-18",2,-22,null,null,747,515,232,0.45048543689320386,{"$f":"SUM(B$3:B597)","v":5010},91,16,null,null,2060,283,"1.4万",460925,0,{"$f":"SUMIF(ブログ経費!A:A,\"<=\"&A597,ブログ経費!B:B)","v":19569},-14559]
["2022-08-19",3,1,null,null,733,432,301,0.6967592592592593,{"$f":"SUM(B$3:B598)","v":5013},64,-27,null,null,2133,386,"1.4万",460925,0,{"$f":"SUMIF(ブログ経費!A:A,\"<=\"&A598,ブログ経費!B:B)","v":19569},-14556]
["2022-08-20",3,0,null,null,657,509,148,0.29076620825147348,{"$f":"SUM(B$3:B599)","v":5016},67,3,null,null,2206,446,"1.4万",460925,0,{"$f":"SUMIF(ブログ経費!A:A,\"<=\"&A599,ブログ経費!B:B)","v":19569},-14553]
["2022-08-21",5,2,null,null,655,485,170,0.35051546391752575,{"$f":"SUM(B$3:B600)","v":5021},61,-6,null,null,2229,480,"1.5万",460925,0,{"$f":"SUMIF(ブログ経費!A:A,\"<=\"&A600,ブログ経費!B:B)","v":19569},-14548]
["2022-08-22",90,85,null,null,744,482,262,0.54356846473029041,{"$f":"SUM(B$3:B601)","v":5111},68,7,null,null,2241,496,"1.5万",460925,0,{"$f":"SUMIF(ブログ経費!A:A,\"<=\"&A601,ブログ経費!B:B)","v":19569},-14458]
["2022-08-23",7,-83,null,null,750,479,271,0.56576200417536537,{"$f":"SUM(B$3:B602)","v":5118},63,-5,null,null,2231,462,"1.5万",460925,0,{"$f":"SUMIF(ブログ経費!A:A,\"<=\"&A602,ブログ経費!B:B)","v":19569},-14451]
["2022-08-24",14,7,null,null,752,490,262,0.53469387755102038,{"$f":"SUM(B$3:B603)","v":5132},83,20,null,null,2206,401,"1.5万",460925,0,{"$f":"SUMIF(ブログ経費!A:A,\"<=\"&A603,ブログ経費!B:B)","v":19569},-14437]
["2022-08-25",29,15,null,null,779,489,290,0.59304703476482623,{"$f":"SUM(B$3:B604)","v":5161},65,-18,null,null,2246,409,"1.5万",460925,0,{"$f":"SUMIF(ブログ経費!A:A,\"<=\"&A604,ブログ経費!B:B)","v":19569},-14408]
["2022-08-26",128,99,null,null,882,512,370,0.72265625,{"$f":"SUM(B$3:B605)","v":5289},97,32,null,null,2266,396,"1.5万",460925,0,{"$f":"SUMIF(ブログ経費!A:A,\"<=\"&A605,ブログ経費!B:B)","v":19569},-14280]
["2022-08-27",2,-126,null,null,879,514,365,0.71011673151750976,{"$f":"SUM(B$3:B606)","v":5291},69,-28,null,null,2258,376,"1.5万",460925,0,{"$f":"SUMIF(ブログ経費!A:A,\"<=\"&A606,ブログ経費!B:B)","v":19569},-14278]
["2022-08-28",4,2,null,null,860,508,352,0.69291338582677164,{"$f":"SUM(B$3:B607)","v":5295},74,5,null,null,2258,403,"1.5万",460925,0,{"$f":"SUMIF(ブログ経費!A:A,\"<=\"&A607,ブログ経費!B:B)","v":19569},-14274]
["2022-08-29",7,3,null,null,867,517,350,0.67698259187620891,{"$f":"SUM(B$3:B608)","v":5302},73,-1,null,null,2266,417,"1.5万",460925,0,{"$f":"SUMIF(ブログ経費!A:A,\"<=\"&A608,ブログ経費!B:B)","v":19569},-14267]
["2022-08-30",46,39,null,null,916,258,658,2.5503875968992249,{"$f":"SUM(B$3:B609)","v":5348},82,9,null,null,2293,433,"1.5万",460925,0,{"$f":"SUMIF(ブログ経費!A:A,\"<=\"&A609,ブログ経費!B:B)","v":19569},-14221]
["2022-08-31",{"$f":"78-15","v":63},17,null,null,977,255,722,2.831372549019608,{"$f":"SUM(B$3:B610)","v":5411},76,-6,null,null,2260,375,"1.5万",460925,0,{"$f":"SUMIF(ブログ経費!A:A,\"<=\"&A610,ブログ経費!B:B)","v":19569},-14158]
["2022-09-01",20,-43,null,null,881,334,547,1.6377245508982037,{"$f":"SUM(B$3:B611)","v":5431},84,8,null,null,2272,338,"1.5万",460925,0,{"$f":"SUMIF(ブログ経費!A:A,\"<=\"&A611,ブログ経費!B:B)","v":19569},-14138]
["2022-09-02",86,66,null,null,965,335,630,1.8805970149253732,{"$f":"SUM(B$3:B612)","v":5517},70,-14,null,null,2264,327,"1.5万",460925,0,{"$f":"SUMIF(ブログ経費!A:A,\"<=\"&A612,ブログ経費!B:B)","v":19569},-14052]
["2022-09-03",2,-84,null,null,953,346,607,1.754335260115607,{"$f":"SUM(B$3:B613)","v":5519},45,-25,null,null,2223,259,"1.5万",460925,0,{"$f":"SUMIF(ブログ経費!A:A,\"<=\"&A613,ブログ経費!B:B)","v":19569},-14050]
["2022-09-04",3,1,null,null,951,348,603,1.7327586206896552,{"$f":"SUM(B$3:B614)","v":5522},49,4,null,null,2204,231,"1.5万",460925,0,{"$f":"SUMIF(ブログ経費!A:A,\"<=\"&A614,ブログ経費!B:B)","v":19569},-14047]
["2022-09-05",2,-1,null,null,681,617,64,0.10372771474878444,{"$f":"SUM(B$3:B615)","v":5524},60,11,null,null,2208,245,"1.5万",460982,57,{"$f":"SUMIF(ブログ経費!A:A,\"<=\"&A615,ブログ経費!B:B)","v":19569},-14045]
["2022-09-06",282,280,null,null,961,616,345,0.56006493506493504,{"$f":"SUM(B$3:B616)","v":5806},96,36,null,null,2198,254,"1.5万",461298,373,{"$f":"SUMIF(ブログ経費!A:A,\"<=\"&A616,ブログ経費!B:B)","v":19569},-13763]
["2022-09-07",211,-71,null,null,1164,623,541,0.8683788121990369,{"$f":"SUM(B$3:B617)","v":6017},44,-52,null,null,2178,170,"1.5万",463084,2159,{"$f":"SUMIF(ブログ経費!A:A,\"<=\"&A617,ブログ経費!B:B)","v":19569},-13552]
["2022-09-08",1,-210,null,null,1157,629,528,0.83942766295707472,{"$f":"SUM(B$3:B618)","v":6018},48,4,null,null,2108,93,"1.5万",470215,9290,{"$f":"SUMIF(ブログ経費!A:A,\"<=\"&A618,ブログ経費!B:B)","v":19569},-13551]
["2022-09-09",5,4,null,null,1156,634,522,0.82334384858044163,{"$f":"SUM(B$3:B619)","v":6023},48,0,null,null,2097,21,"1.6万",470542,9617,{"$f":"SUMIF(ブログ経費!A:A,\"<=\"&A619,ブログ経費!B:B)","v":19569},-13546]
["2022-09-10",26,21,null,null,1145,669,476,0.71150971599402091,{"$f":"SUM(B$3:B620)","v":6049},37,-11,null,null,2062,3,"1.6万",470615,9690,{"$f":"SUMIF(ブログ経費!A:A,\"<=\"&A620,ブログ経費!B:B)","v":19569},-13520]
["2022-09-11",9,-17,null,null,1152,669,483,0.72197309417040356,{"$f":"SUM(B$3:B621)","v":6058},87,50,null,null,2092,5,"1.6万",470846,9921,{"$f":"SUMIF(ブログ経費!A:A,\"<=\"&A621,ブログ経費!B:B)","v":19569},-13511]
["2022-09-12",1,-8,null,null,1136,683,453,0.66325036603221088,{"$f":"SUM(B$3:B622)","v":6059},56,-31,null,null,2042,-65,"1.6万",471152,10170,{"$f":"SUMIF(ブログ経費!A:A,\"<=\"&A622,ブログ経費!B:B)","v":19569},-13510]
["2022-09-13",4,3,null,null,1137,685,452,0.6598540145985401,{"$f":"SUM(B$3:B623)","v":6063},71,15,null,null,2056,-81,"1.6万",471381,10083,{"$f":"SUMIF(ブログ経費!A:A,\"<=\"&A623,ブログ経費!B:B)","v":19569},-13506]
["2022-09-14",3,-1,null,null,1097,714,383,0.53641456582633051,{"$f":"SUM(B$3:B624)","v":6066},128,57,null,null,2114,-41,"1.6万",471579,8495,{"$f":"SUMIF(ブログ経費!A:A,\"<=\"&A624,ブログ経費!B:B)","v":19569},-13503]
["2022-09-15",11,8,null,null,1093,726,367,0.50550964187327818,{"$f":"SUM(B$3:B625)","v":6077},102,-26,null,null,2133,-49,"1.6万",471579,1364,{"$f":"SUMIF(ブログ経費!A:A,\"<=\"&A625,ブログ経費!B:B)","v":19569},-13492]
["2022-09-16",1,-10,null,null,1070,749,321,0.42857142857142855,{"$f":"SUM(B$3:B626)","v":6078},56,-46,null,null,2114,-87,"1.6万",471579,1037,{"$f":"SUMIF(ブログ経費!A:A,\"<=\"&A626,ブログ経費!B:B)","v":19569},-13491]
["2022-09-17",220,219,null,null,1288,747,541,0.72423025435073629,{"$f":"SUM(B$3:B627)","v":6298},70,14,null,null,2093,33,"1.6万",471579,{"$f":"R627-R620","v":964},{"$f":"SUMIF(ブログ経費!A:A,\"<=\"&A627,ブログ経費!B:B)","v":19569},-13271]
["2022-09-18",2,-218,null,null,1287,{"$f":"SUM(B569:B598)","v":733},554,0.75579809004092768,{"$f":"SUM(B$3:B628)","v":6300},50,{"$f":"K628-K627","v":-20},null,null,2079,-54,"1.6万",471671,825,{"$f":"SUMIF(ブログ経費!A:A,\"<=\"&A628,ブログ経費!B:B)","v":19569},-13269]
["2022-09-19",24,22,null,null,1308,657,651,0.9908675799086758,{"$f":"SUM(B$3:B629)","v":6324},97,47,null,null,2109,-97,"1.6万",472045,893,{"$f":"SUMIF(ブログ経費!A:A,\"<=\"&A629,ブログ経費!B:B)","v":19569},-13245]
["2022-09-20",65,41,null,null,1368,655,713,1.0885496183206107,{"$f":"SUM(B$3:B630)","v":6389},84,-13,null,null,2132,-97,"1.6万",472091,710,{"$f":"SUMIF(ブログ経費!A:A,\"<=\"&A630,ブログ経費!B:B)","v":19569},-13180]
["2022-09-21",5,-60,null,null,1283,744,539,0.72446236559139787,{"$f":"SUM(B$3:B631)","v":6394},76,-8,null,null,2140,-101,"1.6万",472091,512,{"$f":"SUMIF(ブログ経費!A:A,\"<=\"&A631,ブログ経費!B:B)","v":19569},-13175]
["2022-09-22",30,25,null,null,1306,750,556,0.74133333333333329,{"$f":"SUM(B$3:B632)","v":6424},64,-12,null,null,2141,-90,"1.6万",474472,2893,{"$f":"SUMIF(ブログ経費!A:A,\"<=\"&A632,ブログ経費!B:B)","v":19569},-13145]
["2022-09-23",514,484,null,null,1806,752,1054,1.4015957446808511,{"$f":"SUM(B$3:B633)","v":6938},94,30,null,null,2152,-54,"1.6万",474506,2927,{"$f":"SUMIF(ブログ経費!A:A,\"<=\"&A633,ブログ経費!B:B)","v":19569},-12631]
["2022-09-24",21,-493,null,null,1798,779,1019,1.3080872913992299,{"$f":"SUM(B$3:B634)","v":6959},77,-17,null,null,2164,-82,"1.6万",474506,2927,{"$f":"SUMIF(ブログ経費!A:A,\"<=\"&A634,ブログ経費!B:B)","v":19569},-12610]
["2022-09-25",88,67,null,null,1758,882,876,0.99319727891156462,{"$f":"SUM(B$3:B635)","v":7047},70,-7,null,null,2137,-129,"1.7万",479320,7649,{"$f":"SUMIF(ブログ経費!A:A,\"<=\"&A635,ブログ経費!B:B)","v":19569},-12522]
["2022-09-26",5,-83,null,null,1761,879,882,1.0034129692832765,{"$f":"SUM(B$3:B636)","v":7052},74,4,null,null,2142,-116,"1.7万",479340,7295,{"$f":"SUMIF(ブログ経費!A:A,\"<=\"&A636,ブログ経費!B:B)","v":19569},-12517]
["2022-09-27",4,-1,null,null,1761,860,901,1.0476744186046512,{"$f":"SUM(B$3:B637)","v":7056},65,-9,null,null,2072,-186,"1.7万",479340,7249,{"$f":"SUMIF(ブログ経費!A:A,\"<=\"&A637,ブログ経費!B:B)","v":19569},-12513]
["2022-09-28",7,3,null,null,1761,867,894,1.0311418685121108,{"$f":"SUM(B$3:B638)","v":7063},74,9,null,null,2078,-188,"1.7万",483861,11770,{"$f":"SUMIF(ブログ経費!A:A,\"<=\"&A638,ブログ経費!B:B)","v":19569},-12506]
["2022-09-29",1,-6,null,null,{"$f":"SUM(B610:B639)","v":1716},916,{"$f":"F639-G639","v":800},{"$f":"H639/G639","v":0.8733624454148472},{"$f":"SUM(B$3:B639)","v":7064},41,-33,null,null,2093,-200,"1.7万",483894,9422,{"$f":"SUMIF(ブログ経費!A:A,\"<=\"&A639,ブログ経費!B:B)","v":19569},-12505]
["2022-09-30",{"$f":"3-58","v":-55},-56,null,null,1598,977,621,0.63561924257932445,{"$f":"SUM(B$3:B640)","v":7009},48,7,null,null,2036,-224,"1.7万",483897,9391,{"$f":"SUMIF(ブログ経費!A:A,\"<=\"&A640,ブログ経費!B:B)","v":19569},-12560]
["2022-10-01",2,57,null,null,1580,881,699,0.79341657207718497,{"$f":"SUM(B$3:B641)","v":7011},66,18,null,null,2047,-225,"1.7万",484000,9494,{"$f":"SUMIF(ブログ経費!A:A,\"<=\"&A641,ブログ経費!B:B)","v":19569},-12558]
["2022-10-02",2,0,null,null,1496,965,531,0.55025906735751295,{"$f":"SUM(B$3:B642)","v":7013},43,-23,null,null,2020,-244,"1.7万",484034,4714,{"$f":"SUMIF(ブログ経費!A:A,\"<=\"&A642,ブログ経費!B:B)","v":19569},-12556]
["2022-10-03",2,0,null,null,1496,953,543,0.56977964323189922,{"$f":"SUM(B$3:B643)","v":7015},91,48,null,null,2066,-157,"1.7万",485116,5776,{"$f":"SUMIF(ブログ経費!A:A,\"<=\"&A643,ブログ経費!B:B)","v":19569},-12554]
["2022-10-04",5,3,null,null,1498,951,547,0.57518401682439535,{"$f":"SUM(B$3:B644)","v":7020},88,-3,null,null,2105,-99,"1.7万",485249,5909,{"$f":"SUMIF(ブログ経費!A:A,\"<=\"&A644,ブログ経費!B:B)","v":19569},{"$f":"J644-T644","v":-12549}]
["2022-10-05",3,{"$f":"B645-B644","v":-2},null,null,1499,681,818,1.2011747430249633,{"$f":"SUM(B$3:B645)","v":7023},94,6,null,null,2139,-69,"1.7万",485506,1645,{"$f":"SUMIF(ブログ経費!A:A,\"<=\"&A645,ブログ経費!B:B)","v":19569},-12546]
["2022-10-06",65,62,null,null,1282,961,321,0.33402705515088449,{"$f":"SUM(B$3:B646)","v":7088},100,6,null,null,2143,-55,"1.7万",485506,1612,{"$f":"SUMIF(ブログ経費!A:A,\"<=\"&A646,ブログ経費!B:B)","v":19569},-12481]
["2022-10-07",10,-55,null,null,1081,1164,-83,-7.1305841924398622E-2,{"$f":"SUM(B$3:B647)","v":7098},67,-33,null,null,2166,-12,"1.7万",485536,1639,{"$f":"SUMIF(ブログ経費!A:A,\"<=\"&A647,ブログ経費!B:B)","v":19569},-12471]
["2022-10-08",4,-6,null,null,1084,1157,-73,-6.3094209161624892E-2,{"$f":"SUM(B$3:B648)","v":7102},58,-9,null,null,2176,68,"1.7万",485667,1667,{"$f":"SUMIF(ブログ経費!A:A,\"<=\"&A648,ブログ経費!B:B)","v":19569},-12467]
["2022-10-09",1,-3,null,null,1080,1156,-76,-6.5743944636678195E-2,{"$f":"SUM(B$3:B649)","v":7103},47,-11,null,null,2175,78,"1.7万",485667,1633,{"$f":"SUMIF(ブログ経費!A:A,\"<=\"&A649,ブログ経費!B:B)","v":19569},-12466]
["2022-10-10",2,1,null,null,1056,1145,-89,-7.7729257641921401E-2,{"$f":"SUM(B$3:B650)","v":7105},52,5,null,null,2190,128,"1.7万",485987,871,{"$f":"SUMIF(ブログ経費!A:A,\"<=\"&A650,ブログ経費!B:B)","v":19569},-12464]
["2022-10-11",87,85,null,null,1134,1152,-18,-1.5625E-2,{"$f":"SUM(B$3:B651)","v":7192},64,12,null,null,2167,75,"1.7万",485987,738,{"$f":"SUMIF(ブログ経費!A:A,\"<=\"&A651,ブログ経費!B:B)","v":19569},-12377]
["2022-10-12",5,-82,null,null,1138,1136,2,1.7605633802816902E-3,{"$f":"SUM(B$3:B652)","v":7197},85,21,null,null,2196,154,"1.7万",485987,481,{"$f":"SUMIF(ブログ経費!A:A,\"<=\"&A652,ブログ経費!B:B)","v":19569},-12372]
["2022-10-13",173,168,null,null,1307,1137,170,0.14951627088830255,{"$f":"SUM(B$3:B653)","v":7370},74,-11,null,null,2199,143,"1.8万",485987,481,{"$f":"SUMIF(ブログ経費!A:A,\"<=\"&A653,ブログ経費!B:B)","v":19569},-12199]
["2022-10-14",8,-165,null,null,1312,1097,215,0.19598906107566089,{"$f":"SUM(B$3:B654)","v":7378},67,-7,null,null,2138,24,"1.8万",485987,451,{"$f":"SUMIF(ブログ経費!A:A,\"<=\"&A654,ブログ経費!B:B)","v":19569},-12191]
["2022-10-15",42,34,null,null,1343,1093,250,0.22872827081427263,{"$f":"SUM(B$3:B655)","v":7420},54,-13,null,null,2090,-43,"1.8万",485987,320,{"$f":"SUMIF(ブログ経費!A:A,\"<=\"&A655,ブログ経費!B:B)","v":19569},-12149]
["2022-10-16",10,-32,null,null,1352,1070,282,0.26355140186915887,{"$f":"SUM(B$3:B656)","v":7430},68,14,null,null,2102,-12,"1.8万",485987,320,{"$f":"SUMIF(ブログ経費!A:A,\"<=\"&A656,ブログ経費!B:B)","v":19569},-12139]
["2022-10-17",10,0,null,null,1142,1288,-146,-0.11335403726708075,{"$f":"SUM(B$3:B657)","v":7440},53,-15,null,null,2085,{"$f":"(O657-O627)","v":-8},"1.8万",486331,344,{"$f":"SUMIF(ブログ経費!A:A,\"<=\"&A657,ブログ経費!B:B)","v":19569},-12129]
["2022-10-18",3,-7,null,null,1143,1287,-144,-0.11188811188811189,{"$f":"SUM(B$3:B658)","v":7443},72,19,null,null,2107,28,"1.8万",486454,467,{"$f":"SUMIF(ブログ経費!A:A,\"<=\"&A658,ブログ経費!B:B)","v":19569},-12126]
["2022-10-19",56,53,null,null,1175,1308,-133,-0.10168195718654434,{"$f":"SUM(B$3:B659)","v":7499},68,-4,null,null,2078,-31,"1.8万",486454,467,{"$f":"SUMIF(ブログ経費!A:A,\"<=\"&A659,ブログ経費!B:B)","v":19569},-12070]
["2022-10-20",1,-55,null,null,1111,1368,-257,-0.1878654970760234,{"$f":"SUM(B$3:B660)","v":7500},49,-19,null,null,2043,-89,"1.8万",486454,467,{"$f":"SUMIF(ブログ経費!A:A,\"<=\"&A660,ブログ経費!B:B)","v":19569},-12069]
["2022-10-21",1,0,null,null,1107,1283,-176,-0.13717848791894,{"$f":"SUM(B$3:B661)","v":7501},56,7,null,null,2023,-117,"1.8万",486461,474,{"$f":"SUMIF(ブログ経費!A:A,\"<=\"&A661,ブログ経費!B:B)","v":19569},-12068]
["2022-10-22",19,18,null,null,1096,1306,-210,-0.16079632465543645,{"$f":"SUM(B$3:B662)","v":7520},126,70,null,null,2085,-56,"1.8万",487412,1425,{"$f":"SUMIF(ブログ経費!A:A,\"<=\"&A662,ブログ経費!B:B)","v":19569},-12049]
["2022-10-23",4,-15,null,null,586,1806,-1220,-0.67552602436323361,{"$f":"SUM(B$3:B663)","v":7524},99,-27,null,null,2090,-62,"1.8万",487388,1401,{"$f":"SUMIF(ブログ経費!A:A,\"<=\"&A663,ブログ経費!B:B)","v":19569},-12045]
["2022-10-24",4,0,null,null,569,1798,-1229,-0.68353726362625145,{"$f":"SUM(B$3:B664)","v":7528},116,17,null,null,2129,-35,"1.8万",487421,1090,{"$f":"SUMIF(ブログ経費!A:A,\"<=\"&A664,ブログ経費!B:B)","v":19569},-12041]
["2022-10-25",3,-1,null,null,484,1758,-1274,-0.72468714448236637,{"$f":"SUM(B$3:B665)","v":7531},59,-57,null,null,2118,-19,"1.8万",487496,1042,{"$f":"SUMIF(ブログ経費!A:A,\"<=\"&A665,ブログ経費!B:B)","v":19569},-12038]
["2022-10-26",26,23,null,null,505,1761,-1256,-0.71323111868256672,{"$f":"SUM(B$3:B666)","v":7557},81,22,null,null,2125,-17,"1.8万",486611,157,{"$f":"SUMIF(ブログ経費!A:A,\"<=\"&A666,ブログ経費!B:B)","v":19569},-12012]
["2022-10-27",64,38,null,null,565,1761,-1196,-0.67915956842703007,{"$f":"SUM(B$3:B667)","v":7621},82,1,null,null,2142,70,"1.8万",486611,157,{"$f":"SUMIF(ブログ経費!A:A,\"<=\"&A667,ブログ経費!B:B)","v":19569},-11948]
["2022-10-28",2,-62,null,null,560,1761,-1201,-0.68199886428165812,{"$f":"SUM(B$3:B668)","v":7623},68,-14,null,null,2136,58,"1.8万",486611,150,{"$f":"SUMIF(ブログ経費!A:A,\"<=\"&A668,ブログ経費!B:B)","v":19569},-11946]
["2022-10-29",57,55,null,null,616,1716,-1100,-0.64102564102564108,{"$f":"SUM(B$3:B669)","v":7680},50,-18,null,null,2145,52,"1.8万",487164,-248,{"$f":"SUMIF(ブログ経費!A:A,\"<=\"&A669,ブログ経費!B:B)","v":19569},-11889]
["2022-10-30",3,-54,null,null,674,1598,-924,-0.57822277847309134,{"$f":"SUM(B$3:B670)","v":7683},44,-6,null,null,2141,105,"1.8万",487215,-173,{"$f":"SUMIF(ブログ経費!A:A,\"<=\"&A670,ブログ経費!B:B)","v":35409},-27726]
["2022-10-31",{"$f":"46-6","v":40},37,null,null,712,1580,-868,-0.54936708860759498,{"$f":"SUM(B$3:B671)","v":7723},86,42,null,null,2161,114,"1.8万",487282,-139,{"$f":"SUMIF(ブログ経費!A:A,\"<=\"&A671,ブログ経費!B:B)","v":35409},-27686]
["2022-11-01",29,-11,null,null,739,1496,-757,-0.50601604278074863,{"$f":"SUM(B$3:B672)","v":7752},55,-31,null,null,2173,153,"1.8万",487338,-158,{"$f":"SUMIF(ブログ経費!A:A,\"<=\"&A672,ブログ経費!B:B)","v":35409},-27657]
["2022-11-02",1,-28,null,null,738,1496,-758,-0.50668449197860965,{"$f":"SUM(B$3:B673)","v":7753},45,-10,null,null,2127,61,"1.8万",487338,727,{"$f":"SUMIF(ブログ経費!A:A,\"<=\"&A673,ブログ経費!B:B)","v":35409},-27656]
["2022-11-03",48,47,null,null,781,1498,-717,-0.4786381842456609,{"$f":"SUM(B$3:B674)","v":7801},74,29,null,null,2113,8,"1.8万",487513,902,{"$f":"SUMIF(ブログ経費!A:A,\"<=\"&A674,ブログ経費!B:B)","v":35409},-27608]
["2022-11-04",1,-47,null,null,779,1499,-720,-0.48032021347565046,{"$f":"SUM(B$3:B675)","v":7802},36,-38,null,null,2055,-84,"1.8万",487513,902,{"$f":"SUMIF(ブログ経費!A:A,\"<=\"&A675,ブログ経費!B:B)","v":35409},-27607]
["2022-11-05",2,1,null,null,716,1282,-566,-0.44149765990639628,{"$f":"SUM(B$3:B676)","v":7804},51,15,null,null,2006,-137,"1.8万",487513,349,{"$f":"SUMIF(ブログ経費!A:A,\"<=\"&A676,ブログ経費!B:B)","v":35409},-27605]
["2022-11-06",16,14,null,null,722,1081,-359,-0.33209990749306195,{"$f":"SUM(B$3:B677)","v":7820},75,24,null,null,2014,-152,"1.8万",487513,298,{"$f":"SUMIF(ブログ経費!A:A,\"<=\"&A677,ブログ経費!B:B)","v":35409},-27589]
["2022-11-07",148,132,null,null,866,1084,-218,-0.2011070110701107,{"$f":"SUM(B$3:B678)","v":7968},73,-2,null,null,2029,-147,"1.9万",487513,231,{"$f":"SUMIF(ブログ経費!A:A,\"<=\"&A678,ブログ経費!B:B)","v":35409},-27441]
["2022-11-08",35,-113,null,null,900,1080,-180,-0.16666666666666666,{"$f":"SUM(B$3:B679)","v":8003},69,-4,null,null,2051,-124,"1.9万",487581,243,{"$f":"SUMIF(ブログ経費!A:A,\"<=\"&A679,ブログ経費!B:B)","v":35409},-27406]
["2022-11-09",2,-33,null,null,900,1056,-156,-0.14772727272727273,{"$f":"SUM(B$3:B680)","v":8005},58,-11,null,null,2057,-133,"1.9万",487581,243,{"$f":"SUMIF(ブログ経費!A:A,\"<=\"&A680,ブログ経費!B:B)","v":35409},-27404]
["2022-11-10",116,114,null,null,929,1134,-205,-0.18077601410934743,{"$f":"SUM(B$3:B681)","v":8121},71,13,null,null,2064,-103,"1.9万",487581,68,{"$f":"SUMIF(ブログ経費!A:A,\"<=\"&A681,ブログ経費!B:B)","v":35409},-27288]
["2022-11-11",15,-101,null,null,939,1138,-199,-0.17486818980667837,{"$f":"SUM(B$3:B682)","v":8136},77,6,null,null,2056,-140,"1.9万",487581,68,{"$f":"SUMIF(ブログ経費!A:A,\"<=\"&A682,ブログ経費!B:B)","v":35409},-27273]
["2022-11-12",4,-11,null,null,770,1307,-537,-0.41086457536342769,{"$f":"SUM(B$3:B683)","v":8140},56,-21,null,null,2038,-161,"1.9万",487581,68,{"$f":"SUMIF(ブログ経費!A:A,\"<=\"&A683,ブログ経費!B:B)","v":35409},-27269]
["2022-11-13",5,1,null,null,767,1312,-545,-0.41539634146341464,{"$f":"SUM(B$3:B684)","v":8145},64,8,null,null,2035,-103,"1.9万",487783,270,{"$f":"SUMIF(ブログ経費!A:A,\"<=\"&A684,ブログ経費!B:B)","v":35409},-27264]
["2022-11-14",54,49,null,null,779,1343,-564,-0.41995532390171258,{"$f":"SUM(B$3:B685)","v":8199},68,4,null,null,2049,-41,"1.9万",487923,410,{"$f":"SUMIF(ブログ経費!A:A,\"<=\"&A685,ブログ経費!B:B)","v":35409},-27210]
["2022-11-15",4,-50,null,null,773,1352,-579,-0.42825443786982248,{"$f":"SUM(B$3:B686)","v":8203},93,25,null,null,2074,-28,"1.9万",488018,437,{"$f":"SUMIF(ブログ経費!A:A,\"<=\"&A686,ブログ経費!B:B)","v":35409},-27206]
["2022-11-16",5,1,null,null,768,1142,-374,-0.32749562171628721,{"$f":"SUM(B$3:B687)","v":8208},66,-27,null,null,2087,2,"1.9万",488018,437,{"$f":"SUMIF(ブログ経費!A:A,\"<=\"&A687,ブログ経費!B:B)","v":35409},-27201]
["2022-11-17",19,14,null,null,784,1143,-359,-0.31408573928258965,{"$f":"SUM(B$3:B688)","v":8227},110,44,null,null,2125,18,"1.9万",488141,560,{"$f":"SUMIF(ブログ経費!A:A,\"<=\"&A688,ブログ経費!B:B)","v":35409},-27182]
["2022-11-18",205,186,null,null,933,1175,-242,-0.20595744680851064,{"$f":"SUM(B$3:B689)","v":8432},110,0,null,null,2167,89,"1.9万",488141,560,{"$f":"SUMIF(ブログ経費!A:A,\"<=\"&A689,ブログ経費!B:B)","v":35409},-26977]
["2022-11-19",8,-197,null,null,940,1111,-171,-0.15391539153915393,{"$f":"SUM(B$3:B690)","v":8440},54,-56,null,null,2172,129,"1.9万",488141,560,{"$f":"SUMIF(ブログ経費!A:A,\"<=\"&A690,ブログ経費!B:B)","v":35409},-26969]
["2022-11-20",5,-3,null,null,944,1107,-163,-0.14724480578139115,{"$f":"SUM(B$3:B691)","v":8445},44,-10,null,null,2160,137,"1.9万",488141,{"$f":"R691-R684","v":358},{"$f":"SUMIF(ブログ経費!A:A,\"<=\"&A691,ブログ経費!B:B)","v":35409},-26964]
["2022-11-21",3,-2,null,null,928,{"$f":"SUM(B633:B662)","v":1096},-168,-0.15328467153284672,{"$f":"SUM(B$3:B692)","v":8448},49,{"$f":"K692-K691","v":5},null,null,2083,-2,"1.9万",488141,218,{"$f":"SUMIF(ブログ経費!A:A,\"<=\"&A692,ブログ経費!B:B)","v":35409},-26961]
["2022-11-22",23,20,null,null,947,586,361,0.61604095563139927,{"$f":"SUM(B$3:B693)","v":8471},67,18,null,null,2051,-39,"1.9万",488141,123,{"$f":"SUMIF(ブログ経費!A:A,\"<=\"&A693,ブログ経費!B:B)","v":35409},-26938]
["2022-11-23",60,37,null,null,1003,569,434,0.76274165202108968,{"$f":"SUM(B$3:B694)","v":8531},69,2,null,null,2004,-125,"1.9万",488141,123,{"$f":"SUMIF(ブログ経費!A:A,\"<=\"&A694,ブログ経費!B:B)","v":35409},-26878]
["2022-11-24",15,-45,null,null,1015,484,531,1.0971074380165289,{"$f":"SUM(B$3:B695)","v":8546},65,-4,null,null,2010,-108,"1.9万",488141,0,{"$f":"SUMIF(ブログ経費!A:A,\"<=\"&A695,ブログ経費!B:B)","v":35409},-26863]
["2022-11-25",7,-8,null,null,996,505,491,0.97227722772277225,{"$f":"SUM(B$3:B696)","v":8553},24,-41,null,null,1953,-172,"1.9万",488141,0,{"$f":"SUMIF(ブログ経費!A:A,\"<=\"&A696,ブログ経費!B:B)","v":35409},-26856]
["2022-11-26",108,101,null,null,1040,565,475,0.84070796460176989,{"$f":"SUM(B$3:B697)","v":8661},50,26,null,null,1962,-180,"2万",488141,0,{"$f":"SUMIF(ブログ経費!A:A,\"<=\"&A697,ブログ経費!B:B)","v":35409},-26748]
["2022-11-27",3,-105,null,null,1041,560,481,0.85892857142857137,{"$f":"SUM(B$3:B698)","v":8664},35,-15,null,null,1929,-207,"2万",488141,0,{"$f":"SUMIF(ブログ経費!A:A,\"<=\"&A698,ブログ経費!B:B)","v":35409},-26745]
["2022-11-28",53,50,null,null,1037,616,421,0.68344155844155841,{"$f":"SUM(B$3:B699)","v":8717},56,21,null,null,1935,-210,"2万",488141,0,{"$f":"SUMIF(ブログ経費!A:A,\"<=\"&A699,ブログ経費!B:B)","v":35409},-26692]
["2022-11-29",2,-51,null,null,1036,674,362,0.5370919881305638,{"$f":"SUM(B$3:B700)","v":8719},57,1,null,null,1948,-193,"2万",488141,0,{"$f":"SUMIF(ブログ経費!A:A,\"<=\"&A700,ブログ経費!B:B)","v":35409},-26690]
["2022-11-30",49,47,null,null,1045,712,333,0.46769662921348315,{"$f":"SUM(B$3:B701)","v":8768},72,15,null,null,1934,-227,"2万",488141,0,{"$f":"SUMIF(ブログ経費!A:A,\"<=\"&A701,ブログ経費!B:B)","v":35409},-26641]
["2022-12-01",2,-47,null,null,1018,739,279,0.37753721244925575,{"$f":"SUM(B$3:B702)","v":8770},65,-7,null,null,1944,-229,"2万",488141,0,{"$f":"SUMIF(ブログ経費!A:A,\"<=\"&A702,ブログ経費!B:B)","v":35409},-26639]
["2022-12-02",38,36,null,null,{"$f":"SUM(B674:B703)","v":1055},738,{"$f":"F703-G703","v":317},{"$f":"H703/G703","v":0.42953929539295393},{"$f":"SUM(B$3:B703)","v":8808},52,-13,null,null,1927,-200,"2万",488141,0,{"$f":"SUMIF(ブログ経費!A:A,\"<=\"&A703,ブログ経費!B:B)","v":35409},-26601]
["2022-12-03",7,-31,null,null,1014,781,233,0.29833546734955185,{"$f":"SUM(B$3:B704)","v":8815},48,-4,null,null,1925,-188,"2万",488377,236,{"$f":"SUMIF(ブログ経費!A:A,\"<=\"&A704,ブログ経費!B:B)","v":35409},-26594]
["2022-12-04",2,-5,null,null,1015,779,236,0.30295250320924261,{"$f":"SUM(B$3:B705)","v":8817},54,6,null,null,1943,-112,"2万",488527,386,{"$f":"SUMIF(ブログ経費!A:A,\"<=\"&A705,ブログ経費!B:B)","v":35409},-26592]
["2022-12-05",2,0,null,null,1015,716,299,0.41759776536312848,{"$f":"SUM(B$3:B706)","v":8819},63,9,null,null,1955,-51,"2万",488726,585,{"$f":"SUMIF(ブログ経費!A:A,\"<=\"&A706,ブログ経費!B:B)","v":35409},-26590]
["2022-12-06",162,160,null,null,1161,722,439,0.60803324099722988,{"$f":"SUM(B$3:B707)","v":8981},50,-13,null,null,1930,-84,"2万",488817,676,{"$f":"SUMIF(ブログ経費!A:A,\"<=\"&A707,ブログ経費!B:B)","v":35409},-26428]
["2022-12-07",47,-115,null,null,1060,866,194,0.22401847575057737,{"$f":"SUM(B$3:B708)","v":9028},72,22,null,null,1929,-100,"2万",488817,676,{"$f":"SUMIF(ブログ経費!A:A,\"<=\"&A708,ブログ経費!B:B)","v":35409},{"$f":"J708-T708","v":-26381}]
["2022-12-08",27,{"$f":"B709-B708","v":-20},null,null,1052,900,152,0.16888888888888889,{"$f":"SUM(B$3:B709)","v":9055},69,-3,null,null,1929,-122,"2万",488899,758,{"$f":"SUMIF(ブログ経費!A:A,\"<=\"&A709,ブログ経費!B:B)","v":35409},-26354]
["2022-12-09",20,-7,null,null,1070,900,170,0.18888888888888888,{"$f":"SUM(B$3:B710)","v":9075},78,9,null,null,1949,-108,"2万",488937,796,{"$f":"SUMIF(ブログ経費!A:A,\"<=\"&A710,ブログ経費!B:B)","v":35409},-26334]
["2022-12-10",1,-19,null,null,955,929,26,2.7987082884822389E-2,{"$f":"SUM(B$3:B711)","v":9076},64,-14,null,null,1932,-132,"2万",488937,560,{"$f":"SUMIF(ブログ経費!A:A,\"<=\"&A711,ブログ経費!B:B)","v":35409},-26333]
["2022-12-11",36,35,null,null,976,939,37,3.9403620873269436E-2,{"$f":"SUM(B$3:B712)","v":9112},67,3,null,null,1932,-124,"2万",488937,410,{"$f":"SUMIF(ブログ経費!A:A,\"<=\"&A712,ブログ経費!B:B)","v":35409},-26297]
["2022-12-12",11,-25,null,null,983,770,213,0.2766233766233766,{"$f":"SUM(B$3:B713)","v":9123},71,4,null,null,1947,-91,"2万",489042,316,{"$f":"SUMIF(ブログ経費!A:A,\"<=\"&A713,ブログ経費!B:B)","v":35409},-26286]
["2022-12-13",4,-7,null,null,982,767,215,0.28031290743155152,{"$f":"SUM(B$3:B714)","v":9127},62,-9,null,null,1945,-90,"2万",489152,335,{"$f":"SUMIF(ブログ経費!A:A,\"<=\"&A714,ブログ経費!B:B)","v":35409},-26282]
["2022-12-14",4,0,null,null,932,779,153,0.19640564826700899,{"$f":"SUM(B$3:B715)","v":9131},94,32,null,null,1971,-78,"2万",489152,335,{"$f":"SUMIF(ブログ経費!A:A,\"<=\"&A715,ブログ経費!B:B)","v":35409},-26278]
["2022-12-15",77,73,null,null,1005,773,232,0.30012936610608021,{"$f":"SUM(B$3:B716)","v":9208},92,-2,null,null,1970,-104,"2万",489271,372,{"$f":"SUMIF(ブログ経費!A:A,\"<=\"&A716,ブログ経費!B:B)","v":35409},-26201]
["2022-12-16",59,-18,null,null,1059,768,291,0.37890625,{"$f":"SUM(B$3:B717)","v":9267},59,-33,null,null,1963,-124,"2万",489271,334,{"$f":"SUMIF(ブログ経費!A:A,\"<=\"&A717,ブログ経費!B:B)","v":35409},-26142]
["2022-12-17",18,-41,null,null,1058,784,274,0.34948979591836737,{"$f":"SUM(B$3:B718)","v":9285},68,9,null,null,1921,-204,"2万",489688,751,{"$f":"SUMIF(ブログ経費!A:A,\"<=\"&A718,ブログ経費!B:B)","v":35409},-26124]
["2022-12-18",7,-11,null,null,860,933,-73,-7.8242229367631297E-2,{"$f":"SUM(B$3:B719)","v":9292},65,-3,null,null,1876,-291,"2.1万",489872,935,{"$f":"SUMIF(ブログ経費!A:A,\"<=\"&A719,ブログ経費!B:B)","v":35409},-26117]
["2022-12-19",22,15,null,null,874,940,-66,-7.0212765957446813E-2,{"$f":"SUM(B$3:B720)","v":9314},57,-8,null,null,1879,-293,"2.1万",490110,1068,{"$f":"SUMIF(ブログ経費!A:A,\"<=\"&A720,ブログ経費!B:B)","v":35409},-26095]
["2022-12-20",4,-18,null,null,873,944,-71,-7.5211864406779655E-2,{"$f":"SUM(B$3:B721)","v":9318},84,27,null,null,1919,{"$f":"(O721-O691)","v":-241},"2.1万",490224,1072,{"$f":"SUMIF(ブログ経費!A:A,\"<=\"&A721,ブログ経費!B:B)","v":35409},-26091]
["2022-12-21",2,-2,null,null,872,928,-56,-6.0344827586206899E-2,{"$f":"SUM(B$3:B722)","v":9320},71,-13,null,null,1941,-142,"2.1万",490333,1181,{"$f":"SUMIF(ブログ経費!A:A,\"<=\"&A722,ブログ経費!B:B)","v":35409},-26089]
["2022-12-22",53,51,null,null,902,947,-45,-4.7518479408658922E-2,{"$f":"SUM(B$3:B723)","v":9373},83,12,null,null,1957,-94,"2.1万",490333,1062,{"$f":"SUMIF(ブログ経費!A:A,\"<=\"&A723,ブログ経費!B:B)","v":35409},-26036]
["2022-12-23",4,-49,null,null,846,1003,-157,-0.15653040877367896,{"$f":"SUM(B$3:B724)","v":9377},63,-20,null,null,1951,-53,"2.1万",490333,1062,{"$f":"SUMIF(ブログ経費!A:A,\"<=\"&A724,ブログ経費!B:B)","v":35409},-26032]
["2022-12-24",23,19,null,null,854,1015,-161,-0.15862068965517243,{"$f":"SUM(B$3:B725)","v":9400},72,9,null,null,1958,-52,"2.1万",490333,645,{"$f":"SUMIF(ブログ経費!A:A,\"<=\"&A725,ブログ経費!B:B)","v":35409},-26009]
["2022-12-25",8,-15,null,null,855,996,-141,-0.14156626506024098,{"$f":"SUM(B$3:B726)","v":9408},59,-13,null,null,1952,-1,"2.1万",490333,461,{"$f":"SUMIF(ブログ経費!A:A,\"<=\"&A726,ブログ経費!B:B)","v":35409},-26001]
["2022-12-26",8,0,null,null,755,1040,-285,-0.27403846153846156,{"$f":"SUM(B$3:B727)","v":9416},61,2,null,null,1963,1,"2.1万",490333,223,{"$f":"SUMIF(ブログ経費!A:A,\"<=\"&A727,ブログ経費!B:B)","v":35409},-25993]
["2022-12-27",5,-3,null,null,757,1041,-284,-0.27281460134486069,{"$f":"SUM(B$3:B728)","v":9421},71,10,null,null,1916,-13,"2.1万",490333,109,{"$f":"SUMIF(ブログ経費!A:A,\"<=\"&A728,ブログ経費!B:B)","v":35409},-25988]
["2022-12-28",25,20,null,null,729,1037,-308,-0.29701060752169722,{"$f":"SUM(B$3:B729)","v":9446},68,-3,null,null,2011,76,"2.1万",490333,0,{"$f":"SUMIF(ブログ経費!A:A,\"<=\"&A729,ブログ経費!B:B)","v":35409},-25963]
["2022-12-29",63,38,null,null,790,1036,-246,-0.23745173745173745,{"$f":"SUM(B$3:B730)","v":9509},85,17,null,null,2039,91,"2.1万",490333,0,{"$f":"SUMIF(ブログ経費!A:A,\"<=\"&A730,ブログ経費!B:B)","v":35409},-25900]
["2022-12-30",81,18,null,null,822,1045,-223,-0.21339712918660286,{"$f":"SUM(B$3:B731)","v":9590},64,-21,null,null,2031,97,"2.1万",490404,71,{"$f":"SUMIF(ブログ経費!A:A,\"<=\"&A731,ブログ経費!B:B)","v":35409},-25819]
["2022-12-31",4,-77,null,null,824,1018,-194,-0.19056974459724951,{"$f":"SUM(B$3:B732)","v":9594},99,35,null,null,2065,121,"2.1万",490404,71,{"$f":"SUMIF(ブログ経費!A:A,\"<=\"&A732,ブログ経費!B:B)","v":35409},-25815]
["2023-01-01",4,0,null,null,790,1055,-265,-0.25118483412322273,{"$f":"SUM(B$3:B733)","v":9598},93,-6,null,null,2106,179,"2.1万",490877,544,{"$f":"SUMIF(ブログ経費!A:A,\"<=\"&A733,ブログ経費!B:B)","v":35409},-25811]
["2023-01-02",9,5,null,null,792,1014,-222,-0.21893491124260356,{"$f":"SUM(B$3:B734)","v":9607},89,-4,null,null,2147,222,"2.1万",491786,1453,{"$f":"SUMIF(ブログ経費!A:A,\"<=\"&A734,ブログ経費!B:B)","v":35409},-25802]
["2023-01-03",3,-6,null,null,793,1015,-222,-0.2187192118226601,{"$f":"SUM(B$3:B735)","v":9610},99,10,null,null,2192,249,"2.1万",491786,1453,{"$f":"SUMIF(ブログ経費!A:A,\"<=\"&A735,ブログ経費!B:B)","v":35409},-25799]
["2023-01-04",4,1,null,null,795,1015,-220,-0.21674876847290642,{"$f":"SUM(B$3:B736)","v":9614},104,5,null,null,2233,278,"2.1万",491948,1615,{"$f":"SUMIF(ブログ経費!A:A,\"<=\"&A736,ブログ経費!B:B)","v":35409},-25795]
["2023-01-05",5,1,null,null,638,1161,-523,-0.45047372954349696,{"$f":"SUM(B$3:B737)","v":9619},83,-21,null,null,2266,336,"2.2万",492276,1943,{"$f":"SUMIF(ブログ経費!A:A,\"<=\"&A737,ブログ経費!B:B)","v":35409},-25790]
["2023-01-06",28,23,null,null,619,1060,-441,-0.41603773584905662,{"$f":"SUM(B$3:B738)","v":9647},103,20,null,null,2297,368,"2.2万",492478,2074,{"$f":"SUMIF(ブログ経費!A:A,\"<=\"&A738,ブログ経費!B:B)","v":35409},-25762]
["2023-01-07",37,9,null,null,629,1052,-423,-0.40209125475285173,{"$f":"SUM(B$3:B739)","v":9684},73,-30,null,null,2301,372,"2.2万",493216,2812,{"$f":"SUMIF(ブログ経費!A:A,\"<=\"&A739,ブログ経費!B:B)","v":35409},-25725]
["2023-01-08",3,-34,null,null,612,1070,-458,-0.42803738317757012,{"$f":"SUM(B$3:B740)","v":9687},72,-1,null,null,2295,346,"2.2万",493928,3051,{"$f":"SUMIF(ブログ経費!A:A,\"<=\"&A740,ブログ経費!B:B)","v":35409},-25722]
["2023-01-09",42,39,null,null,653,955,-302,-0.31623036649214659,{"$f":"SUM(B$3:B741)","v":9729},80,8,null,null,2311,379,"2.2万",494470,2684,{"$f":"SUMIF(ブログ経費!A:A,\"<=\"&A741,ブログ経費!B:B)","v":35409},-25680]
["2023-01-10",4,-38,null,null,621,976,-355,-0.36372950819672129,{"$f":"SUM(B$3:B742)","v":9733},101,21,null,null,2345,413,"2.2万",494524,2738,{"$f":"SUMIF(ブログ経費!A:A,\"<=\"&A742,ブログ経費!B:B)","v":35409},-25676]
["2023-01-11",78,74,null,null,688,983,-295,-0.30010172939979657,{"$f":"SUM(B$3:B743)","v":9811},106,5,null,null,2380,433,"2.2万",494627,2679,{"$f":"SUMIF(ブログ経費!A:A,\"<=\"&A743,ブログ経費!B:B)","v":35409},-25598]
["2023-01-12",6,-72,null,null,690,982,-292,-0.29735234215885947,{"$f":"SUM(B$3:B744)","v":9817},130,24,null,null,2448,503,"2.2万",495104,2828,{"$f":"SUMIF(ブログ経費!A:A,\"<=\"&A744,ブログ経費!B:B)","v":35409},-25592]
["2023-01-13",78,72,null,null,764,932,-168,-0.18025751072961374,{"$f":"SUM(B$3:B745)","v":9895},81,-49,null,null,2435,464,"2.2万",495377,2899,{"$f":"SUMIF(ブログ経費!A:A,\"<=\"&A745,ブログ経費!B:B)","v":35409},-25514]
["2023-01-14",30,-48,null,null,717,1005,-288,-0.28656716417910449,{"$f":"SUM(B$3:B746)","v":9925},80,-1,null,null,2423,453,"2.2万",495995,2779,{"$f":"SUMIF(ブログ経費!A:A,\"<=\"&A746,ブログ経費!B:B)","v":35409},-25484]
["2023-01-15",223,193,null,null,881,1059,-178,-0.1680830972615675,{"$f":"SUM(B$3:B747)","v":10148},98,18,null,null,2462,499,"2.2万",496027,2099,{"$f":"SUMIF(ブログ経費!A:A,\"<=\"&A747,ブログ経費!B:B)","v":35409},-25261]
["2023-01-16",2,-221,null,null,865,1058,-193,-0.18241965973534971,{"$f":"SUM(B$3:B748)","v":10150},103,5,null,null,2497,576,"2.2万",496002,1532,{"$f":"SUMIF(ブログ経費!A:A,\"<=\"&A748,ブログ経費!B:B)","v":35409},-25259]
["2023-01-17",4,2,null,null,862,860,2,2.3255813953488372E-3,{"$f":"SUM(B$3:B749)","v":10154},133,30,null,null,2565,689,"2.2万",495990,1466,{"$f":"SUMIF(ブログ経費!A:A,\"<=\"&A749,ブログ経費!B:B)","v":35409},-25255]
["2023-01-18",2,-2,null,null,842,874,-32,-3.6613272311212815E-2,{"$f":"SUM(B$3:B750)","v":10156},102,-31,null,null,2610,731,"2.2万",496177,1550,{"$f":"SUMIF(ブログ経費!A:A,\"<=\"&A750,ブログ経費!B:B)","v":35409},-25253]
["2023-01-19",12,10,null,null,850,873,-23,-2.6345933562428408E-2,{"$f":"SUM(B$3:B751)","v":10168},117,15,null,null,2643,724,"2.3万",496299,1195,{"$f":"SUMIF(ブログ経費!A:A,\"<=\"&A751,ブログ経費!B:B)","v":35409},-25241]
["2023-01-20",5,-7,null,null,853,872,-19,-2.1788990825688075E-2,{"$f":"SUM(B$3:B752)","v":10173},88,-29,null,null,2660,719,"2.3万",496487,1110,{"$f":"SUMIF(ブログ経費!A:A,\"<=\"&A752,ブログ経費!B:B)","v":35409},-25236]
["2023-01-21",2,-3,null,null,802,902,-100,-0.11086474501108648,{"$f":"SUM(B$3:B753)","v":10175},78,-10,null,null,2655,698,"2.3万",496487,492,{"$f":"SUMIF(ブログ経費!A:A,\"<=\"&A753,ブログ経費!B:B)","v":35409},-25234]
["2023-01-22",191,189,null,null,989,846,143,0.16903073286052009,{"$f":"SUM(B$3:B754)","v":10366},112,34,null,null,2704,753,"2.3万",496487,460,{"$f":"SUMIF(ブログ経費!A:A,\"<=\"&A754,ブログ経費!B:B)","v":35409},-25043]
["2023-01-23",29,-162,null,null,995,854,141,0.16510538641686182,{"$f":"SUM(B$3:B755)","v":10395},171,59,null,null,2803,845,"2.3万",496441,{"$f":"R755-R748","v":439},{"$f":"SUMIF(ブログ経費!A:A,\"<=\"&A755,ブログ経費!B:B)","v":35409},-25014]
["2023-01-24",7,-22,null,null,994,{"$f":"SUM(B697:B726)","v":855},139,0.16257309941520467,{"$f":"SUM(B$3:B756)","v":10402},72,{"$f":"K756-K755","v":-99},null,null,2816,864,"2.3万",496424,434,{"$f":"SUMIF(ブログ経費!A:A,\"<=\"&A756,ブログ経費!B:B)","v":35409},-25007]
["2023-01-25",3,-4,null,null,989,755,234,0.30993377483443707,{"$f":"SUM(B$3:B757)","v":10405},113,41,null,null,2868,905,"2.3万",496452,275,{"$f":"SUMIF(ブログ経費!A:A,\"<=\"&A757,ブログ経費!B:B)","v":35409},-25004]
["2023-01-26",2,-1,null,null,986,757,229,0.30250990752972257,{"$f":"SUM(B$3:B758)","v":10407},82,-31,null,null,2879,963,"2.3万",496485,186,{"$f":"SUMIF(ブログ経費!A:A,\"<=\"&A758,ブログ経費!B:B)","v":35409},-25002]
["2023-01-27",162,160,null,null,1123,729,394,0.54046639231824412,{"$f":"SUM(B$3:B759)","v":10569},113,31,null,null,2924,913,"2.3万",496485,-2,{"$f":"SUMIF(ブログ経費!A:A,\"<=\"&A759,ブログ経費!B:B)","v":35409},-24840]
["2023-01-28",14,-148,null,null,1074,790,284,0.35949367088607592,{"$f":"SUM(B$3:B760)","v":10583},91,-22,null,null,2930,891,"2.3万",496583,96,{"$f":"SUMIF(ブログ経費!A:A,\"<=\"&A760,ブログ経費!B:B)","v":35409},-24826]
["2023-01-29",38,24,null,null,1031,822,209,0.2542579075425791,{"$f":"SUM(B$3:B761)","v":10621},97,6,null,null,2963,932,"2.3万",496877,390,{"$f":"SUMIF(ブログ経費!A:A,\"<=\"&A761,ブログ経費!B:B)","v":35409},-24788]
["2023-01-30",108,70,null,null,1135,824,311,0.37742718446601942,{"$f":"SUM(B$3:B762)","v":10729},138,41,null,null,3002,937,"2.3万",496869,428,{"$f":"SUMIF(ブログ経費!A:A,\"<=\"&A762,ブログ経費!B:B)","v":35409},-24680]
["2023-01-31",6,-102,null,null,1137,790,347,0.43924050632911393,{"$f":"SUM(B$3:B763)","v":10735},168,30,null,null,3077,971,"2.3万",496932,508,{"$f":"SUMIF(ブログ経費!A:A,\"<=\"&A763,ブログ経費!B:B)","v":35409},-24674]
["2023-02-01",35,29,null,null,1163,792,371,0.46843434343434343,{"$f":"SUM(B$3:B764)","v":10770},120,-48,null,null,3108,961,"2.4万",496963,511,{"$f":"SUMIF(ブログ経費!A:A,\"<=\"&A764,ブログ経費!B:B)","v":35409},-24639]
["2023-02-02",4,-31,null,null,1164,793,371,0.46784363177805799,{"$f":"SUM(B$3:B765)","v":10774},111,-9,null,null,3120,928,"2.4万",497124,639,{"$f":"SUMIF(ブログ経費!A:A,\"<=\"&A765,ブログ経費!B:B)","v":35409},-24635]
["2023-02-03",17,13,null,null,1177,795,382,0.48050314465408805,{"$f":"SUM(B$3:B766)","v":10791},77,-34,null,null,3093,860,"2.4万",497513,1028,{"$f":"SUMIF(ブログ経費!A:A,\"<=\"&A766,ブログ経費!B:B)","v":35409},-24618]
["2023-02-04",85,68,null,null,{"$f":"SUM(B738:B767)","v":1257},638,{"$f":"F767-G767","v":619},{"$f":"H767/G767","v":0.97021943573667713},{"$f":"SUM(B$3:B767)","v":10876},125,48,null,null,3135,869,"2.4万",497585,1002,{"$f":"SUMIF(ブログ経費!A:A,\"<=\"&A767,ブログ経費!B:B)","v":35409},-24533]
["2023-02-05",51,-34,null,null,1280,619,661,1.0678513731825525,{"$f":"SUM(B$3:B768)","v":10927},107,-18,null,null,3139,842,"2.4万",497690,813,{"$f":"SUMIF(ブログ経費!A:A,\"<=\"&A768,ブログ経費!B:B)","v":35409},-24482]
["2023-02-06",7,-44,null,null,1250,629,621,0.9872813990461049,{"$f":"SUM(B$3:B769)","v":10934},114,7,null,null,3180,879,"2.4万",497797,928,{"$f":"SUMIF(ブログ経費!A:A,\"<=\"&A769,ブログ経費!B:B)","v":35409},-24475]
["2023-02-07",66,59,null,null,1313,612,701,1.1454248366013071,{"$f":"SUM(B$3:B770)","v":11000},102,-12,null,null,3210,915,"2.4万",497841,909,{"$f":"SUMIF(ブログ経費!A:A,\"<=\"&A770,ブログ経費!B:B)","v":35409},-24409]
["2023-02-08",47,-19,null,null,1318,653,665,1.0183767228177643,{"$f":"SUM(B$3:B771)","v":11047},124,22,null,null,3254,943,"2.4万",498002,1039,{"$f":"SUMIF(ブログ経費!A:A,\"<=\"&A771,ブログ経費!B:B)","v":35409},-24362]
["2023-02-09",4,-43,null,null,1318,621,697,1.1223832528180355,{"$f":"SUM(B$3:B772)","v":11051},105,-19,null,null,3258,913,"2.4万",498064,940,{"$f":"SUMIF(ブログ経費!A:A,\"<=\"&A772,ブログ経費!B:B)","v":35409},{"$f":"J772-T772","v":-24358}]
["2023-02-10",3,{"$f":"B773-B772","v":-1},null,null,1243,688,555,0.8066860465116279,{"$f":"SUM(B$3:B773)","v":11054},102,-3,null,null,3254,874,"2.4万",499111,1598,{"$f":"SUMIF(ブログ経費!A:A,\"<=\"&A773,ブログ経費!B:B)","v":35409},-24355]
["2023-02-11",5,2,null,null,1242,690,552,0.8,{"$f":"SUM(B$3:B774)","v":11059},102,0,null,null,3226,778,"2.4万",499522,1937,{"$f":"SUMIF(ブログ経費!A:A,\"<=\"&A774,ブログ経費!B:B)","v":35409},-24350]
["2023-02-12",52,47,null,null,1216,764,452,0.59162303664921467,{"$f":"SUM(B$3:B775)","v":11111},94,-8,null,null,3239,804,"2.4万",499467,1777,{"$f":"SUMIF(ブログ経費!A:A,\"<=\"&A775,ブログ経費!B:B)","v":35409},-24298]
["2023-02-13",6,-46,null,null,1192,717,475,0.66248256624825663,{"$f":"SUM(B$3:B776)","v":11117},105,11,null,null,3264,841,"2.4万",499507,1710,{"$f":"SUMIF(ブログ経費!A:A,\"<=\"&A776,ブログ経費!B:B)","v":35409},-24292]
["2023-02-14",6,0,null,null,975,881,94,0.10669693530079455,{"$f":"SUM(B$3:B777)","v":11123},121,16,null,null,3287,825,"2.4万",499612,1771,{"$f":"SUMIF(ブログ経費!A:A,\"<=\"&A777,ブログ経費!B:B)","v":35409},-24286]
["2023-02-15",40,34,null,null,1013,865,148,0.17109826589595376,{"$f":"SUM(B$3:B778)","v":11163},124,3,null,null,3308,811,"2.5万",499739,1737,{"$f":"SUMIF(ブログ経費!A:A,\"<=\"&A778,ブログ経費!B:B)","v":35409},-24246]
["2023-02-16",5,-35,null,null,1014,862,152,0.17633410672853828,{"$f":"SUM(B$3:B779)","v":11168},107,-17,null,null,3282,717,"2.5万",500038,1974,{"$f":"SUMIF(ブログ経費!A:A,\"<=\"&A779,ブログ経費!B:B)","v":35409},-24241]
["2023-02-17",10,5,null,null,1022,842,180,0.21377672209026127,{"$f":"SUM(B$3:B780)","v":11178},106,-1,null,null,3286,676,"2.5万",500196,1085,{"$f":"SUMIF(ブログ経費!A:A,\"<=\"&A780,ブログ経費!B:B)","v":35409},-24231]
["2023-02-18",3,-7,null,null,1013,850,163,0.19176470588235295,{"$f":"SUM(B$3:B781)","v":11181},91,-15,null,null,3260,617,"2.5万",500659,1137,{"$f":"SUMIF(ブログ経費!A:A,\"<=\"&A781,ブログ経費!B:B)","v":35409},-24228]
["2023-02-19",259,256,null,null,1267,853,414,0.48534583821805394,{"$f":"SUM(B$3:B782)","v":11440},113,22,null,null,3285,625,"2.5万",500761,1294,{"$f":"SUMIF(ブログ経費!A:A,\"<=\"&A782,ブログ経費!B:B)","v":35409},-23969]
["2023-02-20",58,-201,null,null,1323,802,521,0.64962593516209477,{"$f":"SUM(B$3:B783)","v":11498},119,6,null,null,3326,671,"2.5万",500844,1337,{"$f":"SUMIF(ブログ経費!A:A,\"<=\"&A783,ブログ経費!B:B)","v":35409},-23911]
["2023-02-21",31,-27,null,null,1163,989,174,0.17593528816986856,{"$f":"SUM(B$3:B784)","v":11529},142,23,null,null,3356,652,"2.5万",501069,1457,{"$f":"SUMIF(ブログ経費!A:A,\"<=\"&A784,ブログ経費!B:B)","v":35409},-23880]
["2023-02-22",14,-17,null,null,1148,995,153,0.15376884422110554,{"$f":"SUM(B$3:B785)","v":11543},103,-39,null,null,3288,{"$f":"(O785-O755)","v":485},"2.5万",501069,1330,{"$f":"SUMIF(ブログ経費!A:A,\"<=\"&A785,ブログ経費!B:B)","v":35409},-23866]
["2023-02-23",128,114,null,null,1269,994,275,0.27665995975855129,{"$f":"SUM(B$3:B786)","v":11671},118,15,null,null,3334,518,"2.5万",501069,1031,{"$f":"SUMIF(ブログ経費!A:A,\"<=\"&A786,ブログ経費!B:B)","v":35409},-23738]
["2023-02-24",50,-78,null,null,1316,989,327,0.33063700707785643,{"$f":"SUM(B$3:B787)","v":11721},110,-8,null,null,3331,463,"2.5万",501069,873,{"$f":"SUMIF(ブログ経費!A:A,\"<=\"&A787,ブログ経費!B:B)","v":35409},-23688]
["2023-02-25",101,51,null,null,1415,986,429,0.43509127789046653,{"$f":"SUM(B$3:B788)","v":11822},134,24,null,null,3383,504,"2.5万",501069,410,{"$f":"SUMIF(ブログ経費!A:A,\"<=\"&A788,ブログ経費!B:B)","v":35409},-23587]
["2023-02-26",3,-98,null,null,1256,1123,133,0.11843276936776491,{"$f":"SUM(B$3:B789)","v":11825},90,-44,null,null,3360,436,"2.5万",501069,308,{"$f":"SUMIF(ブログ経費!A:A,\"<=\"&A789,ブログ経費!B:B)","v":35409},-23584]
["2023-02-27",3,0,null,null,1245,1074,171,0.15921787709497207,{"$f":"SUM(B$3:B790)","v":11828},121,31,null,null,3390,460,"2.5万",501099,255,{"$f":"SUMIF(ブログ経費!A:A,\"<=\"&A790,ブログ経費!B:B)","v":35409},-23581]
["2023-02-28",4,1,null,null,1211,1031,180,0.17458777885548013,{"$f":"SUM(B$3:B791)","v":11832},95,-26,null,null,3388,425,"2.5万",501099,30,{"$f":"SUMIF(ブログ経費!A:A,\"<=\"&A791,ブログ経費!B:B)","v":35409},-23577]
["2023-03-01",4,0,null,null,1107,1135,-28,-2.4669603524229075E-2,{"$f":"SUM(B$3:B792)","v":11836},119,24,null,null,3369,367,"2.6万",501099,30,{"$f":"SUMIF(ブログ経費!A:A,\"<=\"&A792,ブログ経費!B:B)","v":35409},-23573]
["2023-03-02",76,72,null,null,1177,1137,40,3.518029903254178E-2,{"$f":"SUM(B$3:B793)","v":11912},130,11,null,null,3331,254,"2.6万",501099,30,{"$f":"SUMIF(ブログ経費!A:A,\"<=\"&A793,ブログ経費!B:B)","v":35409},-23497]
["2023-03-03",11,-65,null,null,1153,1163,-10,-8.5984522785898538E-3,{"$f":"SUM(B$3:B794)","v":11923},104,-26,null,null,3315,207,"2.6万",501078,9,{"$f":"SUMIF(ブログ経費!A:A,\"<=\"&A794,ブログ経費!B:B)","v":35409},-23486]
["2023-03-04",32,21,null,null,1181,1164,17,1.4604810996563574E-2,{"$f":"SUM(B$3:B795)","v":11955},89,-15,null,null,3293,173,"2.6万",501007,-62,{"$f":"SUMIF(ブログ経費!A:A,\"<=\"&A795,ブログ経費!B:B)","v":35409},-23454]
["2023-03-05",2,-30,null,null,1166,1177,-11,-9.3457943925233638E-3,{"$f":"SUM(B$3:B796)","v":11957},65,-24,null,null,3281,188,"2.6万",501007,-62,{"$f":"SUMIF(ブログ経費!A:A,\"<=\"&A796,ブログ経費!B:B)","v":35409},-23452]
["2023-03-06",3,1,null,null,{"$f":"SUM(B769:B797)","v":1033},{"$f":"SUM(B739:B768)","v":1280},-247,-0.19296874999999999,{"$f":"SUM(B$3:B797)","v":11960},73,8,null,null,3229,94,"2.6万",501007,-92,{"$f":"SUMIF(ブログ経費!A:A,\"<=\"&A797,ブログ経費!B:B)","v":35409},-23449]
["2023-03-07",5,2,null,null,1031,1250,-219,-0.17519999999999999,{"$f":"SUM(B$3:B798)","v":11965},116,43,null,null,3238,99,"2.6万",501007,-92,{"$f":"SUMIF(ブログ経費!A:A,\"<=\"&A798,ブログ経費!B:B)","v":35409},-23444]
["2023-03-08",4,-1,null,null,969,1313,-344,-0.26199543031226202,{"$f":"SUM(B$3:B799)","v":11969},102,-14,null,null,3226,46,"2.6万",501007,-92,{"$f":"SUMIF(ブログ経費!A:A,\"<=\"&A799,ブログ経費!B:B)","v":35409},-23440]
["2023-03-09",19,15,null,null,941,1318,-377,-0.28603945371775419,{"$f":"SUM(B$3:B800)","v":11988},119,17,null,null,3243,33,"2.6万",501007,-92,{"$f":"SUMIF(ブログ経費!A:A,\"<=\"&A800,ブログ経費!B:B)","v":35409},-23421]
["2023-03-10",65,46,null,null,1002,1318,-316,-0.23975720789074356,{"$f":"SUM(B$3:B801)","v":12053},103,-16,null,null,3222,-32,"2.6万",501007,-71,{"$f":"SUMIF(ブログ経費!A:A,\"<=\"&A801,ブログ経費!B:B)","v":35409},-23356]
["2023-03-11",3,-62,null,null,1002,1243,-241,-0.19388576025744167,{"$f":"SUM(B$3:B802)","v":12056},85,-18,null,null,3202,-56,"2.6万",500922,-85,{"$f":"SUMIF(ブログ経費!A:A,\"<=\"&A802,ブログ経費!B:B)","v":35409},-23353]
["2023-03-12",28,25,null,null,1025,1242,-217,-0.17471819645732689,{"$f":"SUM(B$3:B803)","v":12084},126,41,null,null,3226,-28,"2.6万",500922,-85,{"$f":"SUMIF(ブログ経費!A:A,\"<=\"&A803,ブログ経費!B:B)","v":35409},-23325]
["2023-03-13",11,-17,null,null,984,1216,-232,-0.19078947368421054,{"$f":"SUM(B$3:B804)","v":12095},115,-11,null,null,3239,13,"2.6万",500947,-60,{"$f":"SUMIF(ブログ経費!A:A,\"<=\"&A804,ブログ経費!B:B)","v":35409},-23314]
["2023-03-14",289,278,null,null,1267,1192,75,6.2919463087248328E-2,{"$f":"SUM(B$3:B805)","v":12384},129,14,null,null,3274,35,"2.6万",500960,-47,{"$f":"SUMIF(ブログ経費!A:A,\"<=\"&A805,ブログ経費!B:B)","v":35409},-23025]
["2023-03-15",9,-280,null,null,1270,975,295,0.30256410256410254,{"$f":"SUM(B$3:B806)","v":12393},136,7,null,null,3305,41,"2.6万",500960,-47,{"$f":"SUMIF(ブログ経費!A:A,\"<=\"&A806,ブログ経費!B:B)","v":35409},-23016]
["2023-03-16",21,12,null,null,1251,1013,238,0.23494570582428431,{"$f":"SUM(B$3:B807)","v":12414},66,-70,null,null,3250,-37,"2.6万",500960,-47,{"$f":"SUMIF(ブログ経費!A:A,\"<=\"&A807,ブログ経費!B:B)","v":35409},-22995]
["2023-03-17",5,-16,null,null,1251,1014,237,0.23372781065088757,{"$f":"SUM(B$3:B808)","v":12419},98,32,null,null,3224,-84,"2.7万",500960,-47,{"$f":"SUMIF(ブログ経費!A:A,\"<=\"&A808,ブログ経費!B:B)","v":35409},-22990]
["2023-03-18",25,20,null,null,1266,1022,244,0.23874755381604695,{"$f":"SUM(B$3:B809)","v":12444},91,-7,null,null,3208,-74,"2.7万",500960,38,{"$f":"SUMIF(ブログ経費!A:A,\"<=\"&A809,ブログ経費!B:B)","v":35409},-22965]
["2023-03-19",2,-23,null,null,1265,1013,252,0.24876604146100692,{"$f":"SUM(B$3:B810)","v":12446},77,-14,null,null,3179,-107,"2.7万",500960,38,{"$f":"SUMIF(ブログ経費!A:A,\"<=\"&A810,ブログ経費!B:B)","v":35409},-22963]
["2023-03-20",2,0,null,null,1008,1267,-259,-0.20441988950276244,{"$f":"SUM(B$3:B811)","v":12448},79,2,null,null,3167,-93,"2.7万",500960,13,{"$f":"SUMIF(ブログ経費!A:A,\"<=\"&A811,ブログ経費!B:B)","v":35409},-22961]
["2023-03-21",18,16,null,null,968,1323,-355,-0.26832955404383974,{"$f":"SUM(B$3:B812)","v":12466},91,12,null,null,3145,-140,"2.7万",500960,0,{"$f":"SUMIF(ブログ経費!A:A,\"<=\"&A812,ブログ経費!B:B)","v":35409},-22943]
["2023-03-22",3,-15,null,null,940,1163,-223,-0.19174548581255374,{"$f":"SUM(B$3:B813)","v":12469},79,-12,null,null,3105,-221,"2.7万",500960,0,{"$f":"SUMIF(ブログ経費!A:A,\"<=\"&A813,ブログ経費!B:B)","v":35409},-22940]
["2023-03-23",76,73,null,null,1002,1148,-146,-0.12717770034843207,{"$f":"SUM(B$3:B814)","v":12545},113,34,null,null,3076,-280,"2.7万",500960,0,{"$f":"SUMIF(ブログ経費!A:A,\"<=\"&A814,ブログ経費!B:B)","v":35409},-22864]
["2023-03-24",70,-6,null,null,944,1269,-325,-0.256107171000788,{"$f":"SUM(B$3:B815)","v":12615},116,3,null,null,3089,-199,"2.7万",500960,0,{"$f":"SUMIF(ブログ経費!A:A,\"<=\"&A815,ブログ経費!B:B)","v":35409},-22794]
["2023-03-25",16,-54,null,null,910,1316,-406,-0.30851063829787234,{"$f":"SUM(B$3:B816)","v":12631},95,-21,null,null,3066,-268,"2.7万",500960,0,{"$f":"SUMIF(ブログ経費!A:A,\"<=\"&A816,ブログ経費!B:B)","v":35409},-22778]
["2023-03-26",17,1,null,null,826,1415,-589,-0.41625441696113075,{"$f":"SUM(B$3:B817)","v":12648},102,7,null,null,3058,-273,"2.7万",500960,0,{"$f":"SUMIF(ブログ経費!A:A,\"<=\"&A817,ブログ経費!B:B)","v":35409},-22761]
["2023-03-27",4,-13,null,null,827,1256,-429,-0.34156050955414013,{"$f":"SUM(B$3:B818)","v":12652},72,-30,null,null,2996,-387,"2.7万",500960,0,{"$f":"SUMIF(ブログ経費!A:A,\"<=\"&A818,ブログ経費!B:B)","v":35409},-22757]
["2023-03-28",17,13,null,null,841,1245,-404,-0.32449799196787149,{"$f":"SUM(B$3:B819)","v":12669},100,28,null,null,3006,-354,"2.7万",500960,{"$f":"R819-R812","v":0},{"$f":"SUMIF(ブログ経費!A:A,\"<=\"&A819,ブログ経費!B:B)","v":35409},-22740]
["2023-03-29",4,-13,null,null,841,1211,-370,-0.30553261767134599,{"$f":"SUM(B$3:B820)","v":12673},100,{"$f":"K820-K819","v":0},null,null,2985,-405,"2.7万",500960,0,{"$f":"SUMIF(ブログ経費!A:A,\"<=\"&A820,ブログ経費!B:B)","v":35409},-22736]
["2023-03-30",39,35,null,null,876,1107,-231,-0.20867208672086721,{"$f":"SUM(B$3:B821)","v":12712},82,-18,null,null,2972,-416,"2.7万",500960,0,{"$f":"SUMIF(ブログ経費!A:A,\"<=\"&A821,ブログ経費!B:B)","v":35409},-22697]
["2023-03-31",5,-34,null,null,805,1177,-372,-0.31605777400169921,{"$f":"SUM(B$3:B822)","v":12717},74,-8,null,null,2927,-442,"2.7万",500960,0,{"$f":"SUMIF(ブログ経費!A:A,\"<=\"&A822,ブログ経費!B:B)","v":35409},-22692]
["2023-04-01",13,8,null,null,807,1153,-346,-0.30008673026886384,{"$f":"SUM(B$3:B823)","v":12730},64,-10,null,null,2869,-462,"2.7万",500960,0,{"$f":"SUMIF(ブログ経費!A:A,\"<=\"&A823,ブログ経費!B:B)","v":35409},-22679]
["2023-04-02",132,119,null,null,907,1181,-274,-0.23200677392040644,{"$f":"SUM(B$3:B824)","v":12862},69,5,null,null,2834,-481,"2.7万",500960,0,{"$f":"SUMIF(ブログ経費!A:A,\"<=\"&A824,ブログ経費!B:B)","v":35409},-22547]
["2023-04-03",25,-107,null,null,930,1166,-236,-0.20240137221269297,{"$f":"SUM(B$3:B825)","v":12887},70,1,null,null,null,-3293,null,null,-500960,{"$f":"SUMIF(ブログ経費!A:A,\"<=\"&A825,ブログ経費!B:B)","v":35409},-22522]
["2023-04-04",9,-16,null,null,939,{"$f":"SUM(B768:B796)","v":1081},-142,-0.13135985198889916,{"$f":"SUM(B$3:B826)","v":12896},73,3,null,null,null,-3281,null,null,-500960,{"$f":"SUMIF(ブログ経費!A:A,\"<=\"&A826,ブログ経費!B:B)","v":35409},-22513]
["2023-04-05",58,49,null,null,994,1033,-39,-3.7754114230396901E-2,{"$f":"SUM(B$3:B827)","v":12954},87,14,null,null,null,-3229,null,null,-500960,{"$f":"SUMIF(ブログ経費!A:A,\"<=\"&A827,ブログ経費!B:B)","v":35409},-22455]
["2023-04-06",4,-54,null,null,993,1031,-38,-3.6857419980601359E-2,{"$f":"SUM(B$3:B828)","v":12958},90,3,null,null,null,-3238,null,null,-500960,{"$f":"SUMIF(ブログ経費!A:A,\"<=\"&A828,ブログ経費!B:B)","v":35409},-22451]
["2023-04-07",15,11,null,null,1004,969,35,3.611971104231166E-2,{"$f":"SUM(B$3:B829)","v":12973},84,-6,null,null,2792,-434,"2.7万",500960,0,{"$f":"SUMIF(ブログ経費!A:A,\"<=\"&A829,ブログ経費!B:B)","v":35409},-22436]
["2023-04-08",31,16,null,null,{"$f":"SUM(B801:B830)","v":1016},941,{"$f":"F830-G830","v":75},{"$f":"H830/G830","v":7.970244420828905E-2},{"$f":"SUM(B$3:B830)","v":13004},56,-28,null,null,2737,-506,"2.7万",500960,0,{"$f":"SUMIF(ブログ経費!A:A,\"<=\"&A830,ブログ経費!B:B)","v":35409},-22405]
["2023-04-09",2,-29,null,null,953,1002,-49,-4.8902195608782437E-2,{"$f":"SUM(B$3:B831)","v":13006},76,20,null,null,2710,-512,"2.7万",500960,0,{"$f":"SUMIF(ブログ経費!A:A,\"<=\"&A831,ブログ経費!B:B)","v":35409},-22403]
["2023-04-10",3,1,null,null,953,1002,-49,-4.8902195608782437E-2,{"$f":"SUM(B$3:B832)","v":13009},76,0,null,null,2701,-501,"2.7万",500960,500960,{"$f":"SUMIF(ブログ経費!A:A,\"<=\"&A832,ブログ経費!B:B)","v":35409},-22400]
["2023-04-11",13,10,null,null,938,1025,-87,-8.4878048780487811E-2,{"$f":"SUM(B$3:B833)","v":13022},68,-8,null,null,2643,-583,"2.7万",500960,500960,{"$f":"SUMIF(ブログ経費!A:A,\"<=\"&A833,ブログ経費!B:B)","v":35409},-22387]
["2023-04-12",2,-11,null,null,929,984,-55,-5.589430894308943E-2,{"$f":"SUM(B$3:B834)","v":13024},98,30,null,null,2626,-613,"2.8万",500960,500960,{"$f":"SUMIF(ブログ経費!A:A,\"<=\"&A834,ブログ経費!B:B)","v":35409},-22385]
["2023-04-13",6,4,null,null,646,1267,-621,-0.49013417521704816,{"$f":"SUM(B$3:B835)","v":13030},71,-27,null,null,2568,-706,"2.8万",500960,500960,{"$f":"SUMIF(ブログ経費!A:A,\"<=\"&A835,ブログ経費!B:B)","v":35409},{"$f":"J835-T835","v":-22379}]
["2023-04-14",3,-3,null,null,640,1270,-630,-0.49606299212598426,{"$f":"SUM(B$3:B836)","v":13033},123,52,null,null,2563,-742,"2.8万",500960,0,{"$f":"SUMIF(ブログ経費!A:A,\"<=\"&A836,ブログ経費!B:B)","v":35409},-22376]
["2023-04-15",24,{"$f":"B837-B836","v":21},null,null,643,1251,-608,-0.48601119104716228,{"$f":"SUM(B$3:B837)","v":13057},100,-23,null,null,2606,-644,"2.8万",500960,0,{"$f":"SUMIF(ブログ経費!A:A,\"<=\"&A837,ブログ経費!B:B)","v":35409},-22352]
["2023-04-16",3,-21,null,null,641,1251,-610,-0.48760991207034371,{"$f":"SUM(B$3:B838)","v":13060},67,-33,null,null,2575,-649,"2.8万",500960,0,{"$f":"SUMIF(ブログ経費!A:A,\"<=\"&A838,ブログ経費!B:B)","v":35409},-22349]
["2023-04-17",6,3,null,null,622,1266,-644,-0.50868878357030012,{"$f":"SUM(B$3:B839)","v":13066},114,47,null,null,2598,-610,"2.8万",500960,0,{"$f":"SUMIF(ブログ経費!A:A,\"<=\"&A839,ブログ経費!B:B)","v":35409},-22343]
["2023-04-18",7,1,null,null,627,1265,-638,-0.5043478260869565,{"$f":"SUM(B$3:B840)","v":13073},81,-33,null,null,2602,-577,"2.8万",500960,0,{"$f":"SUMIF(ブログ経費!A:A,\"<=\"&A840,ブログ経費!B:B)","v":35409},-22336]
["2023-04-19",3,-4,null,null,628,1008,-380,-0.37698412698412698,{"$f":"SUM(B$3:B841)","v":13076},69,-12,null,null,2592,-575,"2.8万",500960,0,{"$f":"SUMIF(ブログ経費!A:A,\"<=\"&A841,ブログ経費!B:B)","v":35409},-22333]
["2023-04-20",4,1,null,null,614,968,-354,-0.36570247933884298,{"$f":"SUM(B$3:B842)","v":13080},65,-4,null,null,2566,-579,"2.8万",500960,0,{"$f":"SUMIF(ブログ経費!A:A,\"<=\"&A842,ブログ経費!B:B)","v":35409},-22329]
["2023-04-21",4,0,null,null,615,940,-325,-0.34574468085106386,{"$f":"SUM(B$3:B843)","v":13084},99,34,null,null,2586,-519,"2.8万",500960,0,{"$f":"SUMIF(ブログ経費!A:A,\"<=\"&A843,ブログ経費!B:B)","v":35409},-22325]
["2023-04-22",2,-2,null,null,541,1002,-461,-0.46007984031936128,{"$f":"SUM(B$3:B844)","v":13086},61,-38,null,null,2534,-542,"2.8万",500960,0,{"$f":"SUMIF(ブログ経費!A:A,\"<=\"&A844,ブログ経費!B:B)","v":35409},-22323]
["2023-04-23",5,3,null,null,476,944,-468,-0.49576271186440679,{"$f":"SUM(B$3:B845)","v":13091},31,-30,null,null,2449,-640,"2.8万",500960,0,{"$f":"SUMIF(ブログ経費!A:A,\"<=\"&A845,ブログ経費!B:B)","v":35409},-22318]
["2023-04-24",39,34,null,null,499,910,-411,-0.45164835164835165,{"$f":"SUM(B$3:B846)","v":13130},91,60,null,null,2445,-621,"2.8万",501102,142,{"$f":"SUMIF(ブログ経費!A:A,\"<=\"&A846,ブログ経費!B:B)","v":35409},-22279]
["2023-04-25",3,-36,null,null,485,826,-341,-0.4128329297820823,{"$f":"SUM(B$3:B847)","v":13133},83,-8,null,null,2426,-632,"2.8万",501102,142,{"$f":"SUMIF(ブログ経費!A:A,\"<=\"&A847,ブログ経費!B:B)","v":35409},-22276]
["2023-04-26",7,4,null,null,488,827,-339,-0.40991535671100365,{"$f":"SUM(B$3:B848)","v":13140},72,-11,null,null,2426,-570,"2.8万",501102,142,{"$f":"SUMIF(ブログ経費!A:A,\"<=\"&A848,ブログ経費!B:B)","v":35409},-22269]
["2023-04-27",63,56,null,null,534,841,-307,-0.36504161712247324,{"$f":"SUM(B$3:B849)","v":13203},96,24,null,null,2422,{"$f":"(O849-O819)","v":-584},"2.8万",501102,142,{"$f":"SUMIF(ブログ経費!A:A,\"<=\"&A849,ブログ経費!B:B)","v":35409},-22206]
["2023-04-28",3,-60,null,null,533,841,-308,-0.36623067776456597,{"$f":"SUM(B$3:B850)","v":13206},70,-26,null,null,2392,-593,"2.8万",501102,142,{"$f":"SUMIF(ブログ経費!A:A,\"<=\"&A850,ブログ経費!B:B)","v":35409},-22203]
["2023-04-29",2,-1,null,null,496,876,-380,-0.43378995433789952,{"$f":"SUM(B$3:B851)","v":13208},62,-8,null,null,2372,-600,"2.8万",501102,142,{"$f":"SUMIF(ブログ経費!A:A,\"<=\"&A851,ブログ経費!B:B)","v":35409},-22201]
["2023-04-30",6,4,null,null,497,805,-308,-0.38260869565217392,{"$f":"SUM(B$3:B852)","v":13214},68,6,null,null,2358,-569,"2.8万",501102,142,{"$f":"SUMIF(ブログ経費!A:A,\"<=\"&A852,ブログ経費!B:B)","v":35409},-22195]
["2023-05-01",24,18,null,null,508,807,-299,-0.3705080545229244,{"$f":"SUM(B$3:B853)","v":13238},null,-68,null,null,null,-2869,null,null,-501102,{"$f":"SUMIF(ブログ経費!A:A,\"<=\"&A853,ブログ経費!B:B)","v":39371},-26133]
["2023-05-02",6,-18,null,null,382,907,-525,-0.5788313120176406,{"$f":"SUM(B$3:B854)","v":13244},87,87,null,null,2389,-445,"2.8万",501102,0,{"$f":"SUMIF(ブログ経費!A:A,\"<=\"&A854,ブログ経費!B:B)","v":39371},-26127]
["2023-05-03",2,-4,null,null,359,930,-571,-0.61397849462365595,{"$f":"SUM(B$3:B855)","v":13246},46,-41,null,null,2365,2365,"2.8万",501102,0,{"$f":"SUMIF(ブログ経費!A:A,\"<=\"&A855,ブログ経費!B:B)","v":39371},-26125]
["2023-05-04",1,-1,null,null,351,{"$f":"SUM(B797:B826)","v":939},-588,-0.62619808306709268,{"$f":"SUM(B$3:B856)","v":13247},44,-2,null,null,2336,2336,"2.8万",501102,0,{"$f":"SUMIF(ブログ経費!A:A,\"<=\"&A856,ブログ経費!B:B)","v":39371},-26124]
["2023-05-05",6,5,null,null,299,994,-695,-0.69919517102615691,{"$f":"SUM(B$3:B857)","v":13253},58,14,null,null,2307,2307,"2.8万",501102,0,{"$f":"SUMIF(ブログ経費!A:A,\"<=\"&A857,ブログ経費!B:B)","v":39371},-26118]
["2023-05-06",7,1,null,null,302,993,-691,-0.69587109768378652,{"$f":"SUM(B$3:B858)","v":13260},85,27,null,null,2302,2302,"2.8万",501102,0,{"$f":"SUMIF(ブログ経費!A:A,\"<=\"&A858,ブログ経費!B:B)","v":39371},-26111]
["2023-05-07",2,-5,null,null,289,1004,-715,-0.71215139442231079,{"$f":"SUM(B$3:B859)","v":13262},89,4,null,null,2307,-485,"2.8万",501176,74,{"$f":"SUMIF(ブログ経費!A:A,\"<=\"&A859,ブログ経費!B:B)","v":39371},-26109]
["2023-05-08",1,-1,null,null,259,1016,-757,-0.74507874015748032,{"$f":"SUM(B$3:B860)","v":13263},63,-26,null,null,2314,-423,"2.8万",501176,501176,{"$f":"SUMIF(ブログ経費!A:A,\"<=\"&A860,ブログ経費!B:B)","v":39371},-26108]
["2023-05-09",2,1,null,null,259,953,-694,-0.72822665267576081,{"$f":"SUM(B$3:B861)","v":13265},79,16,null,null,2317,-393,"2.8万",501176,74,{"$f":"SUMIF(ブログ経費!A:A,\"<=\"&A861,ブログ経費!B:B)","v":39371},-26106]
["2023-05-10",3,1,null,null,259,953,-694,-0.72822665267576081,{"$f":"SUM(B$3:B862)","v":13268},77,-2,null,null,2318,-383,"2.8万",501176,74,{"$f":"SUMIF(ブログ経費!A:A,\"<=\"&A862,ブログ経費!B:B)","v":39371},-26103]
["2023-05-11",2,-1,null,null,248,938,-690,-0.73560767590618337,{"$f":"SUM(B$3:B863)","v":13270},48,-29,null,null,2298,-345,"2.8万",501464,362,{"$f":"SUMIF(ブログ経費!A:A,\"<=\"&A863,ブログ経費!B:B)","v":39371},-26101]
["2023-05-12",15,13,null,null,261,929,-668,-0.71905274488697524,{"$f":"SUM(B$3:B864)","v":13285},68,20,null,null,2268,-358,"2.8万",501464,362,{"$f":"SUMIF(ブログ経費!A:A,\"<=\"&A864,ブログ経費!B:B)","v":39371},-26086]
["2023-05-13",2,-13,null,null,257,646,-389,-0.60216718266253866,{"$f":"SUM(B$3:B865)","v":13287},47,-21,null,null,2236,-332,"2.8万",501464,362,{"$f":"SUMIF(ブログ経費!A:A,\"<=\"&A865,ブログ経費!B:B)","v":39371},-26084]
["2023-05-14",7,5,null,null,261,640,-379,-0.59218749999999998,{"$f":"SUM(B$3:B866)","v":13294},77,30,null,null,2181,-382,"2.8万",500861,-315,{"$f":"SUMIF(ブログ経費!A:A,\"<=\"&A866,ブログ経費!B:B)","v":39371},-26077]
["2023-05-15",13,6,null,null,250,643,-393,-0.61119751166407466,{"$f":"SUM(B$3:B867)","v":13307},82,5,null,null,2163,-443,"2.8万",500860,-316,{"$f":"SUMIF(ブログ経費!A:A,\"<=\"&A867,ブログ経費!B:B)","v":39371},-26064]
["2023-05-16",2,-11,null,null,249,641,-392,-0.6115444617784711,{"$f":"SUM(B$3:B868)","v":13309},70,-12,null,null,2166,-409,"2.8万",500967,-209,{"$f":"SUMIF(ブログ経費!A:A,\"<=\"&A868,ブログ経費!B:B)","v":39371},-26062]
["2023-05-17",1,-1,null,null,244,622,-378,-0.60771704180064312,{"$f":"SUM(B$3:B869)","v":13310},69,-1,null,null,2121,-477,"2.8万",500967,-209,{"$f":"SUMIF(ブログ経費!A:A,\"<=\"&A869,ブログ経費!B:B)","v":39371},-26061]
["2023-05-18",45,44,null,null,282,627,-345,-0.55023923444976075,{"$f":"SUM(B$3:B870)","v":13355},80,11,null,null,2120,-482,"2.8万",507903,6439,{"$f":"SUMIF(ブログ経費!A:A,\"<=\"&A870,ブログ経費!B:B)","v":39371},-26016]
["2023-05-19",9,-36,null,null,288,628,-340,-0.54140127388535031,{"$f":"SUM(B$3:B871)","v":13364},83,3,null,null,2134,-458,"2.8万",508204,6740,{"$f":"SUMIF(ブログ経費!A:A,\"<=\"&A871,ブログ経費!B:B)","v":39371},-26007]
["2023-05-20",2,-7,null,null,286,614,-328,-0.53420195439739415,{"$f":"SUM(B$3:B872)","v":13366},58,-25,null,null,2127,-439,"2.8万",509017,7553,{"$f":"SUMIF(ブログ経費!A:A,\"<=\"&A872,ブログ経費!B:B)","v":39371},-26005]
["2023-05-21",1,-1,null,null,283,615,-332,-0.5398373983739837,{"$f":"SUM(B$3:B873)","v":13367},57,-1,null,null,2085,-501,"2.8万",509017,8156,{"$f":"SUMIF(ブログ経費!A:A,\"<=\"&A873,ブログ経費!B:B)","v":39371},-26004]
["2023-05-22",17,16,null,null,298,541,-243,-0.4491682070240296,{"$f":"SUM(B$3:B874)","v":13384},88,31,null,null,2112,-422,"2.8万",509017,8157,{"$f":"SUMIF(ブログ経費!A:A,\"<=\"&A874,ブログ経費!B:B)","v":39371},-25987]
["2023-05-23",48,31,null,null,341,476,-135,-0.28361344537815125,{"$f":"SUM(B$3:B875)","v":13432},99,11,null,null,2180,-269,"2.8万",509017,8050,{"$f":"SUMIF(ブログ経費!A:A,\"<=\"&A875,ブログ経費!B:B)","v":39371},-25939]
["2023-05-24",4,-44,null,null,306,499,-193,-0.38677354709418837,{"$f":"SUM(B$3:B876)","v":13436},82,-17,null,null,2171,-274,"2.9万",509017,8050,{"$f":"SUMIF(ブログ経費!A:A,\"<=\"&A876,ブログ経費!B:B)","v":39371},-25935]
["2023-05-25",4,0,null,null,307,485,-178,-0.36701030927835049,{"$f":"SUM(B$3:B877)","v":13440},97,15,null,null,2185,-241,"2.9万",509017,1114,{"$f":"SUMIF(ブログ経費!A:A,\"<=\"&A877,ブログ経費!B:B)","v":39371},-25931]
["2023-05-26",3,-1,null,null,303,488,-185,-0.37909836065573771,{"$f":"SUM(B$3:B878)","v":13443},95,-2,null,null,2208,-218,"2.9万",509312,1108,{"$f":"SUMIF(ブログ経費!A:A,\"<=\"&A878,ブログ経費!B:B)","v":39371},-25928]
["2023-05-27",71,68,null,null,311,534,-223,-0.41760299625468167,{"$f":"SUM(B$3:B879)","v":13514},66,-29,null,null,2178,-244,"2.9万",509312,295,{"$f":"SUMIF(ブログ経費!A:A,\"<=\"&A879,ブログ経費!B:B)","v":39371},-25857]
["2023-05-28",5,-66,null,null,313,533,-220,-0.41275797373358347,{"$f":"SUM(B$3:B880)","v":13519},66,0,null,null,2174,-218,"2.9万",509312,295,{"$f":"SUMIF(ブログ経費!A:A,\"<=\"&A880,ブログ経費!B:B)","v":39371},-25852]
["2023-05-29",62,57,null,null,373,496,-123,-0.24798387096774194,{"$f":"SUM(B$3:B881)","v":13581},101,35,null,null,2213,-159,"2.9万",509849,832,{"$f":"SUMIF(ブログ経費!A:A,\"<=\"&A881,ブログ経費!B:B)","v":39371},-25790]
["2023-05-30",5,-57,null,null,372,497,-125,-0.25150905432595572,{"$f":"SUM(B$3:B882)","v":13586},78,-23,null,null,2223,-135,"2.9万",510006,989,{"$f":"SUMIF(ブログ経費!A:A,\"<=\"&A882,ブログ経費!B:B)","v":39371},-25785]
["2023-05-31",6,1,null,null,354,{"$f":"SUM(B824:B853)","v":508},-154,-0.30314960629921262,{"$f":"SUM(B$3:B883)","v":13592},72,-6,null,null,2211,2211,"2.9万",510006,{"$f":"R883-R876","v":989},{"$f":"SUMIF(ブログ経費!A:A,\"<=\"&A883,ブログ経費!B:B)","v":39371},-25779]
["2023-06-01",4,-2,null,null,352,382,-30,-7.8534031413612565E-2,{"$f":"SUM(B$3:B884)","v":13596},83,{"$f":"K884-K883","v":11},null,null,2207,-182,"2.9万",510154,1137,{"$f":"SUMIF(ブログ経費!A:A,\"<=\"&A884,ブログ経費!B:B)","v":39371},-25775]
["2023-06-02",10,6,null,null,360,359,1,2.7855153203342618E-3,{"$f":"SUM(B$3:B885)","v":13606},106,23,null,null,2267,-98,"2.9万",510287,975,{"$f":"SUMIF(ブログ経費!A:A,\"<=\"&A885,ブログ経費!B:B)","v":39371},-25765]
["2023-06-03",2,-8,null,null,361,351,10,2.8490028490028491E-2,{"$f":"SUM(B$3:B886)","v":13608},76,-30,null,null,2299,-37,"2.9万",510287,975,{"$f":"SUMIF(ブログ経費!A:A,\"<=\"&A886,ブログ経費!B:B)","v":39371},-25763]
["2023-06-04",16,14,null,null,371,299,72,0.24080267558528429,{"$f":"SUM(B$3:B887)","v":13624},76,0,null,null,2317,10,"2.9万",510287,975,{"$f":"SUMIF(ブログ経費!A:A,\"<=\"&A887,ブログ経費!B:B)","v":39371},-25747]
["2023-06-05",3,-13,null,null,367,302,65,0.21523178807947019,{"$f":"SUM(B$3:B888)","v":13627},88,12,null,null,2320,18,"2.9万",510415,566,{"$f":"SUMIF(ブログ経費!A:A,\"<=\"&A888,ブログ経費!B:B)","v":39371},-25744]
["2023-06-06",3,0,null,null,368,289,79,0.27335640138408307,{"$f":"SUM(B$3:B889)","v":13630},74,-14,null,null,2305,-2,"2.9万",510415,409,{"$f":"SUMIF(ブログ経費!A:A,\"<=\"&A889,ブログ経費!B:B)","v":39371},-25741]
["2023-06-07",3,0,null,null,370,259,111,0.42857142857142855,{"$f":"SUM(B$3:B890)","v":13633},80,6,null,null,2322,8,"2.9万",510415,409,{"$f":"SUMIF(ブログ経費!A:A,\"<=\"&A890,ブログ経費!B:B)","v":39371},-25738]
["2023-06-08",18,15,null,null,386,259,127,0.49034749034749037,{"$f":"SUM(B$3:B891)","v":13651},110,30,null,null,2353,36,"2.9万",516408,6254,{"$f":"SUMIF(ブログ経費!A:A,\"<=\"&A891,ブログ経費!B:B)","v":39371},-25720]
["2023-06-09",87,69,null,null,470,259,211,0.81467181467181471,{"$f":"SUM(B$3:B892)","v":13738},70,-40,null,null,2346,28,"2.9万",516408,6121,{"$f":"SUMIF(ブログ経費!A:A,\"<=\"&A892,ブログ経費!B:B)","v":39371},-25633]
["2023-06-10",22,-65,null,null,490,248,242,0.97580645161290325,{"$f":"SUM(B$3:B893)","v":13760},79,9,null,null,2377,79,"2.9万",516408,6121,{"$f":"SUMIF(ブログ経費!A:A,\"<=\"&A893,ブログ経費!B:B)","v":39371},-25611]
["2023-06-11",10,-12,null,null,{"$f":"SUM(B865:B894)","v":485},261,{"$f":"F894-G894","v":224},{"$f":"H894/G894","v":0.85823754789272033},{"$f":"SUM(B$3:B894)","v":13770},105,26,null,null,2414,146,"2.9万",517174,6887,{"$f":"SUMIF(ブログ経費!A:A,\"<=\"&A894,ブログ経費!B:B)","v":39371},-25601]
["2023-06-12",62,52,null,null,545,257,288,1.1206225680933852,{"$f":"SUM(B$3:B895)","v":13832},125,20,null,null,2492,256,"2.9万",520935,10520,{"$f":"SUMIF(ブログ経費!A:A,\"<=\"&A895,ブログ経費!B:B)","v":39371},-25539]
["2023-06-13",3,-59,null,null,541,261,280,1.0727969348659003,{"$f":"SUM(B$3:B896)","v":13835},91,-34,null,null,2506,325,"2.9万",520935,10520,{"$f":"SUMIF(ブログ経費!A:A,\"<=\"&A896,ブログ経費!B:B)","v":39371},-25536]
["2023-06-14",3,0,null,null,531,250,281,1.1240000000000001,{"$f":"SUM(B$3:B897)","v":13838},94,3,null,null,2518,355,"2.9万",521055,10640,{"$f":"SUMIF(ブログ経費!A:A,\"<=\"&A897,ブログ経費!B:B)","v":39371},-25533]
["2023-06-15",111,108,null,null,640,249,391,1.570281124497992,{"$f":"SUM(B$3:B898)","v":13949},141,47,null,null,2589,423,"2.9万",521649,5241,{"$f":"SUMIF(ブログ経費!A:A,\"<=\"&A898,ブログ経費!B:B)","v":39371},-25422]
["2023-06-16",81,-30,null,null,720,244,476,1.9508196721311475,{"$f":"SUM(B$3:B899)","v":14030},92,-49,null,null,2612,491,"2.9万",521649,5241,{"$f":"SUMIF(ブログ経費!A:A,\"<=\"&A899,ブログ経費!B:B)","v":39371},{"$f":"J899-T899","v":-25341}]
["2023-06-17",3,-78,null,null,678,282,396,1.4042553191489362,{"$f":"SUM(B$3:B900)","v":14033},82,-10,null,null,2614,494,"2.9万",521649,5241,{"$f":"SUMIF(ブログ経費!A:A,\"<=\"&A900,ブログ経費!B:B)","v":39371},-25338]
["2023-06-18",38,{"$f":"B901-B900","v":35},null,null,707,288,419,1.4548611111111112,{"$f":"SUM(B$3:B901)","v":14071},87,5,null,null,2618,484,"2.9万",516574,-600,{"$f":"SUMIF(ブログ経費!A:A,\"<=\"&A901,ブログ経費!B:B)","v":39371},-25300]
["2023-06-19",5,-33,null,null,710,286,424,1.4825174825174825,{"$f":"SUM(B$3:B902)","v":14076},106,19,null,null,2401,274,"2.9万",515353,-5582,{"$f":"SUMIF(ブログ経費!A:A,\"<=\"&A902,ブログ経費!B:B)","v":39371},-25295]
["2023-06-20",38,33,null,null,747,283,464,1.6395759717314489,{"$f":"SUM(B$3:B903)","v":14114},105,-1,null,null,2714,629,"2.9万",515391,-5544,{"$f":"SUMIF(ブログ経費!A:A,\"<=\"&A903,ブログ経費!B:B)","v":39371},-25257]
["2023-06-21",4,-34,null,null,734,298,436,1.4630872483221478,{"$f":"SUM(B$3:B904)","v":14118},85,-20,null,null,2711,599,"2.9万",515391,-5664,{"$f":"SUMIF(ブログ経費!A:A,\"<=\"&A904,ブログ経費!B:B)","v":39371},-25253]
["2023-06-22",43,39,null,null,729,341,388,1.1378299120234605,{"$f":"SUM(B$3:B905)","v":14161},117,32,null,null,2729,549,"2.9万",515552,-6097,{"$f":"SUMIF(ブログ経費!A:A,\"<=\"&A905,ブログ経費!B:B)","v":39371},-25210]
["2023-06-23",2,-41,null,null,727,306,421,1.3758169934640523,{"$f":"SUM(B$3:B906)","v":14163},83,-34,null,null,2730,559,"2.9万",515783,-5866,{"$f":"SUMIF(ブログ経費!A:A,\"<=\"&A906,ブログ経費!B:B)","v":39371},-25208]
["2023-06-24",60,58,null,null,783,307,476,1.5504885993485342,{"$f":"SUM(B$3:B907)","v":14223},82,-1,null,null,2715,530,"2.9万",515783,-5866,{"$f":"SUMIF(ブログ経費!A:A,\"<=\"&A907,ブログ経費!B:B)","v":39371},-25148]
["2023-06-25",4,-56,null,null,784,303,481,1.5874587458745875,{"$f":"SUM(B$3:B908)","v":14227},97,15,null,null,2717,509,"2.9万",515783,-791,{"$f":"SUMIF(ブログ経費!A:A,\"<=\"&A908,ブログ経費!B:B)","v":39371},-25144]
["2023-06-26",22,18,null,null,735,311,424,1.3633440514469453,{"$f":"SUM(B$3:B909)","v":14249},114,17,null,null,2765,587,"2.9万",518088,2735,{"$f":"SUMIF(ブログ経費!A:A,\"<=\"&A909,ブログ経費!B:B)","v":39371},-25122]
["2023-06-27",15,-7,null,null,745,313,432,1.3801916932907348,{"$f":"SUM(B$3:B910)","v":14264},109,-5,null,null,2808,634,"2.9万",518088,2697,{"$f":"SUMIF(ブログ経費!A:A,\"<=\"&A910,ブログ経費!B:B)","v":39371},-25107]
["2023-06-28",6,-9,null,null,689,373,316,0.84718498659517427,{"$f":"SUM(B$3:B911)","v":14270},104,-5,null,null,2811,598,"2.9万",518088,2697,{"$f":"SUMIF(ブログ経費!A:A,\"<=\"&A911,ブログ経費!B:B)","v":39371},-25101]
["2023-06-29",29,23,null,null,713,372,341,0.91666666666666663,{"$f":"SUM(B$3:B912)","v":14299},96,-8,null,null,2829,606,"3万",519647,4095,{"$f":"SUMIF(ブログ経費!A:A,\"<=\"&A912,ブログ経費!B:B)","v":39371},-25072]
["2023-06-30",31,2,null,null,738,354,384,1.0847457627118644,{"$f":"SUM(B$3:B913)","v":14330},143,47,null,null,2900,{"$f":"(O913-O883)","v":689},"3万",519647,3864,{"$f":"SUMIF(ブログ経費!A:A,\"<=\"&A913,ブログ経費!B:B)","v":39371},-25041]
["2023-07-01",17,-14,null,null,751,352,399,1.1335227272727273,{"$f":"SUM(B$3:B914)","v":14347},103,-40,null,null,2920,713,"3万",519647,3864,{"$f":"SUMIF(ブログ経費!A:A,\"<=\"&A914,ブログ経費!B:B)","v":39371},-25024]
["2023-07-02",3,-14,null,null,744,360,384,1.0666666666666667,{"$f":"SUM(B$3:B915)","v":14350},75,-28,null,null,2889,622,"3万",519647,3864,{"$f":"SUMIF(ブログ経費!A:A,\"<=\"&A915,ブログ経費!B:B)","v":39371},-25021]
["2023-07-03",13,10,null,null,755,361,394,1.0914127423822715,{"$f":"SUM(B$3:B916)","v":14363},99,24,null,null,2912,613,"3万",519647,1559,{"$f":"SUMIF(ブログ経費!A:A,\"<=\"&A916,ブログ経費!B:B)","v":39371},-25008]
["2023-07-04",5,-8,null,null,744,371,373,1.0053908355795149,{"$f":"SUM(B$3:B917)","v":14368},83,-16,null,null,2919,602,"3万",519647,1559,{"$f":"SUMIF(ブログ経費!A:A,\"<=\"&A917,ブログ経費!B:B)","v":39371},-25003]
["2023-07-05",30,25,null,null,771,367,404,1.1008174386920981,{"$f":"SUM(B$3:B918)","v":14398},82,-1,null,null,2913,593,"3万",519647,1559,{"$f":"SUMIF(ブログ経費!A:A,\"<=\"&A918,ブログ経費!B:B)","v":39371},-24973]
["2023-07-06",4,-26,null,null,772,368,404,1.0978260869565217,{"$f":"SUM(B$3:B919)","v":14402},108,26,null,null,2947,642,"3万",519647,0,{"$f":"SUMIF(ブログ経費!A:A,\"<=\"&A919,ブログ経費!B:B)","v":39371},-24969]
["2023-07-07",3,-1,null,null,772,370,402,1.0864864864864865,{"$f":"SUM(B$3:B920)","v":14405},96,-12,null,null,2963,641,"3万",519642,-5,{"$f":"SUMIF(ブログ経費!A:A,\"<=\"&A920,ブログ経費!B:B)","v":39371},-24966]
["2023-07-08",12,9,null,null,766,386,380,0.98445595854922274,{"$f":"SUM(B$3:B921)","v":14417},83,-13,null,null,2936,583,"3万",519642,-5,{"$f":"SUMIF(ブログ経費!A:A,\"<=\"&A921,ブログ経費!B:B)","v":39371},-24954]
["2023-07-09",56,44,null,null,735,470,265,0.56382978723404253,{"$f":"SUM(B$3:B922)","v":14473},85,2,null,null,2951,605,"3万",519642,-5,{"$f":"SUMIF(ブログ経費!A:A,\"<=\"&A922,ブログ経費!B:B)","v":39371},-24898]
["2023-07-10",19,-37,null,null,732,490,242,0.49387755102040815,{"$f":"SUM(B$3:B923)","v":14492},68,-17,null,null,2940,563,"3万",521692,2045,{"$f":"SUMIF(ブログ経費!A:A,\"<=\"&A923,ブログ経費!B:B)","v":39371},-24879]
["2023-07-11",3,-16,null,null,725,485,240,0.49484536082474229,{"$f":"SUM(B$3:B924)","v":14495},53,-15,null,null,2888,474,"3万",521764,2117,{"$f":"SUMIF(ブログ経費!A:A,\"<=\"&A924,ブログ経費!B:B)","v":39371},-24876]
["2023-07-12",4,1,null,null,667,545,122,0.22385321100917432,{"$f":"SUM(B$3:B925)","v":14499},73,20,null,null,2836,344,"3万",521794,2147,{"$f":"SUMIF(ブログ経費!A:A,\"<=\"&A925,ブログ経費!B:B)","v":39371},-24872]
["2023-07-13",1,-3,null,null,665,541,124,0.22920517560073936,{"$f":"SUM(B$3:B926)","v":14500},62,-11,null,null,2807,301,"3万",521794,2147,{"$f":"SUMIF(ブログ経費!A:A,\"<=\"&A926,ブログ経費!B:B)","v":39371},-24871]
["2023-07-14",3,2,null,null,665,531,134,0.25235404896421848,{"$f":"SUM(B$3:B927)","v":14503},81,19,null,null,2794,276,"3万",521539,1897,{"$f":"SUMIF(ブログ経費!A:A,\"<=\"&A927,ブログ経費!B:B)","v":39371},-24868]
["2023-07-15",4,1,null,null,558,640,-82,-0.12812499999999999,{"$f":"SUM(B$3:B928)","v":14507},56,-25,null,null,2709,120,"3万",521539,1897,{"$f":"SUMIF(ブログ経費!A:A,\"<=\"&A928,ブログ経費!B:B)","v":39371},-24864]
["2023-07-16",4,0,null,null,481,720,-239,-0.33194444444444443,{"$f":"SUM(B$3:B929)","v":14511},74,18,null,null,2691,79,"3万",521590,1948,{"$f":"SUMIF(ブログ経費!A:A,\"<=\"&A929,ブログ経費!B:B)","v":39371},-24860]
["2023-07-17",7,3,null,null,485,678,-193,-0.28466076696165193,{"$f":"SUM(B$3:B930)","v":14518},77,3,null,null,2686,72,"3万",528306,6614,{"$f":"SUMIF(ブログ経費!A:A,\"<=\"&A930,ブログ経費!B:B)","v":39371},-24853]
["2023-07-18",5,-2,null,null,452,707,-255,-0.3606789250353607,{"$f":"SUM(B$3:B931)","v":14523},84,7,null,null,2683,65,"3万",528306,6542,{"$f":"SUMIF(ブログ経費!A:A,\"<=\"&A931,ブログ経費!B:B)","v":39371},-24848]
["2023-07-19",5,0,null,null,452,710,-258,-0.36338028169014086,{"$f":"SUM(B$3:B932)","v":14528},68,-16,null,null,2645,244,"3万",528306,6512,{"$f":"SUMIF(ブログ経費!A:A,\"<=\"&A932,ブログ経費!B:B)","v":39371},-24843]
["2023-07-20",3,-2,null,null,417,747,-330,-0.44176706827309237,{"$f":"SUM(B$3:B933)","v":14531},62,-6,null,null,2602,-112,"3万",528306,6512,{"$f":"SUMIF(ブログ経費!A:A,\"<=\"&A933,ブログ経費!B:B)","v":39371},-24840]
["2023-07-21",29,26,null,null,442,734,-292,-0.39782016348773841,{"$f":"SUM(B$3:B934)","v":14560},90,28,null,null,2607,-104,"3万",528306,6767,{"$f":"SUMIF(ブログ経費!A:A,\"<=\"&A934,ブログ経費!B:B)","v":39371},-24811]
["2023-07-22",18,-11,null,null,417,729,-312,-0.4279835390946502,{"$f":"SUM(B$3:B935)","v":14578},63,-27,null,null,2553,-176,"3万",528306,6767,{"$f":"SUMIF(ブログ経費!A:A,\"<=\"&A935,ブログ経費!B:B)","v":39371},-24793]
["2023-07-23",13,-5,null,null,428,727,-299,-0.41127922971114167,{"$f":"SUM(B$3:B936)","v":14591},68,5,null,null,2538,-192,"3万",528306,6716,{"$f":"SUMIF(ブログ経費!A:A,\"<=\"&A936,ブログ経費!B:B)","v":39371},-24780]
["2023-07-24",3,-10,null,null,371,783,-412,-0.5261813537675607,{"$f":"SUM(B$3:B937)","v":14594},59,-9,null,null,2515,-200,"3万",528132,-174,{"$f":"SUMIF(ブログ経費!A:A,\"<=\"&A937,ブログ経費!B:B)","v":39371},-24777]
["2023-07-25",32,29,null,null,399,784,-385,-0.49107142857142855,{"$f":"SUM(B$3:B938)","v":14626},70,11,null,null,2488,-229,"3万",528248,-58,{"$f":"SUMIF(ブログ経費!A:A,\"<=\"&A938,ブログ経費!B:B)","v":39371},-24745]
["2023-07-26",4,-28,null,null,381,735,-354,-0.48163265306122449,{"$f":"SUM(B$3:B939)","v":14630},108,38,null,null,2482,-283,"3万",528248,-58,{"$f":"SUMIF(ブログ経費!A:A,\"<=\"&A939,ブログ経費!B:B)","v":39371},-24741]
["2023-07-27",54,50,null,null,420,745,-325,-0.43624161073825501,{"$f":"SUM(B$3:B940)","v":14684},50,-58,null,null,2423,-385,"3万",528308,2,{"$f":"SUMIF(ブログ経費!A:A,\"<=\"&A940,ブログ経費!B:B)","v":39371},-24687]
["2023-07-28",4,-50,null,null,418,689,-271,-0.39332365747460085,{"$f":"SUM(B$3:B941)","v":14688},114,64,null,null,2451,-360,"3万",528448,142,{"$f":"SUMIF(ブログ経費!A:A,\"<=\"&A941,ブログ経費!B:B)","v":39371},-24683]
["2023-07-29",13,9,null,null,402,713,-311,-0.43618513323983171,{"$f":"SUM(B$3:B942)","v":14701},90,-24,null,null,2445,-384,"3万",528448,142,{"$f":"SUMIF(ブログ経費!A:A,\"<=\"&A942,ブログ経費!B:B)","v":39371},-24670]
["2023-07-30",100,87,null,null,471,738,-267,-0.36178861788617889,{"$f":"SUM(B$3:B943)","v":14801},64,-26,null,null,2366,-534,"3万",528448,142,{"$f":"SUMIF(ブログ経費!A:A,\"<=\"&A943,ブログ経費!B:B)","v":39371},-24570]
["2023-07-31",5,-95,null,null,459,751,-292,-0.38881491344873503,{"$f":"SUM(B$3:B944)","v":14806},83,19,null,null,2346,-574,"3万",528540,408,{"$f":"SUMIF(ブログ経費!A:A,\"<=\"&A944,ブログ経費!B:B)","v":39371},-24565]
["2023-08-01",65,60,null,null,521,744,-223,-0.29973118279569894,{"$f":"SUM(B$3:B945)","v":14871},49,-34,null,null,2320,-569,"3万",530053,1805,{"$f":"SUMIF(ブログ経費!A:A,\"<=\"&A945,ブログ経費!B:B)","v":39371},-24500]
["2023-08-02",2,-63,null,null,510,755,-245,-0.32450331125827814,{"$f":"SUM(B$3:B946)","v":14873},95,46,null,null,2316,-596,"3万",530053,1805,{"$f":"SUMIF(ブログ経費!A:A,\"<=\"&A946,ブログ経費!B:B)","v":39371},-24498]
["2023-08-03",53,51,null,null,558,{"$f":"SUM(B888:B917)","v":744},-186,-0.25,{"$f":"SUM(B$3:B947)","v":14926},88,-7,null,null,2321,-598,"3万",530164,{"$f":"R947-R940","v":1856},{"$f":"SUMIF(ブログ経費!A:A,\"<=\"&A947,ブログ経費!B:B)","v":39371},-24445]
["2023-08-04",6,-47,null,null,534,771,-237,-0.30739299610894943,{"$f":"SUM(B$3:B948)","v":14932},84,{"$f":"K948-K947","v":-4},null,null,2323,-590,"3万",530405,1957,{"$f":"SUMIF(ブログ経費!A:A,\"<=\"&A948,ブログ経費!B:B)","v":39371},-24439]
["2023-08-05",30,24,null,null,560,772,-212,-0.27461139896373055,{"$f":"SUM(B$3:B949)","v":14962},74,-10,null,null,2289,-658,"3万",530405,1957,{"$f":"SUMIF(ブログ経費!A:A,\"<=\"&A949,ブログ経費!B:B)","v":39371},-24409]
["2023-08-06",8,-22,null,null,565,772,-207,-0.26813471502590674,{"$f":"SUM(B$3:B950)","v":14970},59,-15,null,null,2252,-711,"3万",530405,1957,{"$f":"SUMIF(ブログ経費!A:A,\"<=\"&A950,ブログ経費!B:B)","v":39371},-24401]
["2023-08-07",3,-5,null,null,556,766,-210,-0.27415143603133157,{"$f":"SUM(B$3:B951)","v":14973},69,10,null,null,2238,-698,"3万",530858,2318,{"$f":"SUMIF(ブログ経費!A:A,\"<=\"&A951,ブログ経費!B:B)","v":39371},-24398]
["2023-08-08",4,1,null,null,504,735,-231,-0.31428571428571428,{"$f":"SUM(B$3:B952)","v":14977},67,-2,null,null,2220,-731,"3万",530858,805,{"$f":"SUMIF(ブログ経費!A:A,\"<=\"&A952,ブログ経費!B:B)","v":39371},-24394]
["2023-08-09",3,-1,null,null,488,732,-244,-0.33333333333333331,{"$f":"SUM(B$3:B953)","v":14980},100,33,null,null,2252,-688,"3万",530858,805,{"$f":"SUMIF(ブログ経費!A:A,\"<=\"&A953,ブログ経費!B:B)","v":39371},-24391]
["2023-08-10",1,-2,null,null,486,725,-239,-0.32965517241379311,{"$f":"SUM(B$3:B954)","v":14981},56,-44,null,null,2255,-633,"3万",531297,1133,{"$f":"SUMIF(ブログ経費!A:A,\"<=\"&A954,ブログ経費!B:B)","v":39371},-24390]
["2023-08-11",15,14,null,null,497,667,-170,-0.25487256371814093,{"$f":"SUM(B$3:B955)","v":14996},74,18,null,null,2256,-580,"3万",531297,892,{"$f":"SUMIF(ブログ経費!A:A,\"<=\"&A955,ブログ経費!B:B)","v":39371},-24375]
["2023-08-12",9,-6,null,null,505,665,-160,-0.24060150375939848,{"$f":"SUM(B$3:B956)","v":15005},48,-26,null,null,2242,-565,"3万",531297,892,{"$f":"SUMIF(ブログ経費!A:A,\"<=\"&A956,ブログ経費!B:B)","v":39371},-24366]
["2023-08-13",33,24,null,null,535,665,-130,-0.19548872180451127,{"$f":"SUM(B$3:B957)","v":15038},59,11,null,null,2220,-574,"3万",531297,892,{"$f":"SUMIF(ブログ経費!A:A,\"<=\"&A957,ブログ経費!B:B)","v":39371},-24333]
["2023-08-14",30,-3,null,null,{"$f":"SUM(B929:B958)","v":561},558,{"$f":"F958-G958","v":3},{"$f":"H958/G958","v":5.3763440860215058E-3},{"$f":"SUM(B$3:B958)","v":15068},58,-1,null,null,2222,-487,"3万",531385,527,{"$f":"SUMIF(ブログ経費!A:A,\"<=\"&A958,ブログ経費!B:B)","v":39371},-24303]
["2023-08-15",167,137,null,null,724,481,243,0.50519750519750517,{"$f":"SUM(B$3:B959)","v":15235},108,50,null,null,2256,-435,"3万",531385,527,{"$f":"SUMIF(ブログ経費!A:A,\"<=\"&A959,ブログ経費!B:B)","v":39371},-24136]
["2023-08-16",27,-140,null,null,744,485,259,0.53402061855670102,{"$f":"SUM(B$3:B960)","v":15262},77,-31,null,null,2256,-430,"3万",531434,576,{"$f":"SUMIF(ブログ経費!A:A,\"<=\"&A960,ブログ経費!B:B)","v":39371},-24109]
["2023-08-17",47,20,null,null,786,452,334,0.73893805309734517,{"$f":"SUM(B$3:B961)","v":15309},112,35,null,null,2284,-399,"3万",531434,137,{"$f":"SUMIF(ブログ経費!A:A,\"<=\"&A961,ブログ経費!B:B)","v":39371},-24062]
["2023-08-18",3,-44,null,null,784,452,332,0.73451327433628322,{"$f":"SUM(B$3:B962)","v":15312},83,-29,null,null,2299,-346,"3万",531606,309,{"$f":"SUMIF(ブログ経費!A:A,\"<=\"&A962,ブログ経費!B:B)","v":39371},-24059]
["2023-08-19",3,0,null,null,784,417,367,0.88009592326139086,{"$f":"SUM(B$3:B963)","v":15315},75,-8,null,null,2336,-266,"3万",531670,373,{"$f":"SUMIF(ブログ経費!A:A,\"<=\"&A963,ブログ経費!B:B)","v":39371},{"$f":"J963-T963","v":-24056}]
["2023-08-20",4,1,null,null,759,442,317,0.71719457013574661,{"$f":"SUM(B$3:B964)","v":15319},119,44,null,null,2365,-242,"3万",531670,373,{"$f":"SUMIF(ブログ経費!A:A,\"<=\"&A964,ブログ経費!B:B)","v":39371},-24052]
["2023-08-21",3,{"$f":"B965-B964","v":-1},null,null,744,417,327,0.78417266187050361,{"$f":"SUM(B$3:B965)","v":15322},120,1,null,null,2422,-131,"3万",531749,364,{"$f":"SUMIF(ブログ経費!A:A,\"<=\"&A965,ブログ経費!B:B)","v":39371},-24049]
["2023-08-22",6,3,null,null,737,428,309,0.7219626168224299,{"$f":"SUM(B$3:B966)","v":15328},99,-21,null,null,2453,-85,"3万",531749,364,{"$f":"SUMIF(ブログ経費!A:A,\"<=\"&A966,ブログ経費!B:B)","v":39371},-24043]
["2023-08-23",4,-2,null,null,738,371,367,0.98921832884097038,{"$f":"SUM(B$3:B967)","v":15332},92,-7,null,null,2486,-29,"3万",531849,415,{"$f":"SUMIF(ブログ経費!A:A,\"<=\"&A967,ブログ経費!B:B)","v":39371},-24039]
["2023-08-24",84,80,null,null,790,399,391,0.97994987468671679,{"$f":"SUM(B$3:B968)","v":15416},114,22,null,null,2530,42,"3万",531968,534,{"$f":"SUMIF(ブログ経費!A:A,\"<=\"&A968,ブログ経費!B:B)","v":39371},-23955]
["2023-08-25",3,-81,null,null,789,381,408,1.0708661417322836,{"$f":"SUM(B$3:B969)","v":15419},93,-21,null,null,2515,33,"3万",532027,421,{"$f":"SUMIF(ブログ経費!A:A,\"<=\"&A969,ブログ経費!B:B)","v":39371},-23952]
["2023-08-26",20,17,null,null,755,420,335,0.79761904761904767,{"$f":"SUM(B$3:B970)","v":15439},58,-35,null,null,2505,82,"3万",532027,357,{"$f":"SUMIF(ブログ経費!A:A,\"<=\"&A970,ブログ経費!B:B)","v":39371},-23932]
["2023-08-27",5,-15,null,null,756,418,338,0.80861244019138756,{"$f":"SUM(B$3:B971)","v":15444},93,35,null,null,2484,33,"3万",532027,357,{"$f":"SUMIF(ブログ経費!A:A,\"<=\"&A971,ブログ経費!B:B)","v":39371},-23927]
["2023-08-28",13,8,null,null,756,402,354,0.88059701492537312,{"$f":"SUM(B$3:B972)","v":15457},90,-3,null,null,2484,39,"3万",532255,506,{"$f":"SUMIF(ブログ経費!A:A,\"<=\"&A972,ブログ経費!B:B)","v":39371},-23914]
["2023-08-29",10,-3,null,null,666,471,195,0.4140127388535032,{"$f":"SUM(B$3:B973)","v":15467},133,43,null,null,2553,187,"3万",532299,550,{"$f":"SUMIF(ブログ経費!A:A,\"<=\"&A973,ブログ経費!B:B)","v":39371},-23904]
["2023-08-30",8,-2,null,null,669,459,210,0.45751633986928103,{"$f":"SUM(B$3:B974)","v":15475},101,-32,null,null,2571,225,"3万",532367,518,{"$f":"SUMIF(ブログ経費!A:A,\"<=\"&A974,ブログ経費!B:B)","v":39371},-23896]
["2023-08-31",6,-2,null,null,610,521,89,0.17082533589251439,{"$f":"SUM(B$3:B975)","v":15481},96,-5,null,null,2618,298,"3万",532563,595,{"$f":"SUMIF(ブログ経費!A:A,\"<=\"&A975,ブログ経費!B:B)","v":39371},-23890]
["2023-09-01",98,92,null,null,706,510,196,0.3843137254901961,{"$f":"SUM(B$3:B976)","v":15579},102,6,null,null,2625,309,"3万",532682,655,{"$f":"SUMIF(ブログ経費!A:A,\"<=\"&A976,ブログ経費!B:B)","v":39371},-23792]
["2023-09-02",17,-81,null,null,670,558,112,0.20071684587813621,{"$f":"SUM(B$3:B977)","v":15596},79,-23,null,null,2616,{"$f":"(O977-O947)","v":295},"3万",535830,3803,{"$f":"SUMIF(ブログ経費!A:A,\"<=\"&A977,ブログ経費!B:B)","v":39371},-23775]
["2023-09-03",9,-8,null,null,673,534,139,0.26029962546816482,{"$f":"SUM(B$3:B978)","v":15605},116,37,null,null,2648,325,"3万",535830,3803,{"$f":"SUMIF(ブログ経費!A:A,\"<=\"&A978,ブログ経費!B:B)","v":39371},-23766]
["2023-09-04",6,-3,null,null,649,560,89,0.15892857142857142,{"$f":"SUM(B$3:B979)","v":15611},108,-8,null,null,2682,393,"3.1万",536001,3746,{"$f":"SUMIF(ブログ経費!A:A,\"<=\"&A979,ブログ経費!B:B)","v":39371},-23760]
["2023-09-05",19,13,null,null,660,565,95,0.16814159292035399,{"$f":"SUM(B$3:B980)","v":15630},115,7,null,null,2738,486,"3.1万",536175,3876,{"$f":"SUMIF(ブログ経費!A:A,\"<=\"&A980,ブログ経費!B:B)","v":39371},-23741]
["2023-09-06",51,32,null,null,708,556,152,0.2733812949640288,{"$f":"SUM(B$3:B981)","v":15681},127,12,null,null,2796,558,"3.1万",536350,3983,{"$f":"SUMIF(ブログ経費!A:A,\"<=\"&A981,ブログ経費!B:B)","v":39371},-23690]
["2023-09-07",40,-11,null,null,744,504,240,0.47619047619047616,{"$f":"SUM(B$3:B982)","v":15721},59,-68,null,null,2788,568,"3.1万",536437,3874,{"$f":"SUMIF(ブログ経費!A:A,\"<=\"&A982,ブログ経費!B:B)","v":39371},-23650]
["2023-09-08",48,8,null,null,789,488,301,0.61680327868852458,{"$f":"SUM(B$3:B983)","v":15769},92,33,null,null,2827,575,"3.1万",536546,3864,{"$f":"SUMIF(ブログ経費!A:A,\"<=\"&A983,ブログ経費!B:B)","v":39371},-23602]
["2023-09-09",5,-43,null,null,793,486,307,0.63168724279835387,{"$f":"SUM(B$3:B984)","v":15774},56,-36,null,null,2827,572,"3.1万",536546,716,{"$f":"SUMIF(ブログ経費!A:A,\"<=\"&A984,ブログ経費!B:B)","v":39371},-23597]
["2023-09-10",30,25,null,null,808,497,311,0.62575452716297786,{"$f":"SUM(B$3:B985)","v":15804},46,-10,null,null,2799,543,"3.1万",536546,716,{"$f":"SUMIF(ブログ経費!A:A,\"<=\"&A985,ブログ経費!B:B)","v":39371},-23567]
["2023-09-11",5,-25,null,null,804,505,299,0.59207920792079205,{"$f":"SUM(B$3:B986)","v":15809},61,15,null,null,2812,570,"3.1万",536947,946,{"$f":"SUMIF(ブログ経費!A:A,\"<=\"&A986,ブログ経費!B:B)","v":39371},-23562]
["2023-09-12",5,0,null,null,776,535,241,0.45046728971962618,{"$f":"SUM(B$3:B987)","v":15814},103,42,null,null,2856,636,"3.1万",536947,772,{"$f":"SUMIF(ブログ経費!A:A,\"<=\"&A987,ブログ経費!B:B)","v":39371},-23557]
["2023-09-13",4,-1,null,null,750,561,189,0.33689839572192515,{"$f":"SUM(B$3:B988)","v":15818},118,15,null,null,2916,694,"3.1万",537276,926,{"$f":"SUMIF(ブログ経費!A:A,\"<=\"&A988,ブログ経費!B:B)","v":39371},-23553]
["2023-09-14",27,23,null,null,610,724,-114,-0.15745856353591159,{"$f":"SUM(B$3:B989)","v":15845},84,-34,null,null,2892,636,"3.1万",537484,1047,{"$f":"SUMIF(ブログ経費!A:A,\"<=\"&A989,ブログ経費!B:B)","v":39371},-23526]
["2023-09-15",67,40,null,null,650,744,-94,-0.12634408602150538,{"$f":"SUM(B$3:B990)","v":15912},69,-15,null,null,2884,628,"3.1万",537790,1244,{"$f":"SUMIF(ブログ経費!A:A,\"<=\"&A990,ブログ経費!B:B)","v":39371},-23459]
["2023-09-16",87,20,null,null,690,786,-96,-0.12213740458015267,{"$f":"SUM(B$3:B991)","v":15999},90,21,null,null,2862,578,"3.1万",537790,1244,{"$f":"SUMIF(ブログ経費!A:A,\"<=\"&A991,ブログ経費!B:B)","v":39371},-23372]
["2023-09-17",9,-78,null,null,696,784,-88,-0.11224489795918367,{"$f":"SUM(B$3:B992)","v":16008},99,9,null,null,2854,555,"3.1万",537790,1244,{"$f":"SUMIF(ブログ経費!A:A,\"<=\"&A992,ブログ経費!B:B)","v":39371},-23363]
["2023-09-18",8,-1,null,null,701,784,-83,-0.10586734693877552,{"$f":"SUM(B$3:B993)","v":16016},115,16,null,null,2894,558,"3.1万",537790,843,{"$f":"SUMIF(ブログ経費!A:A,\"<=\"&A993,ブログ経費!B:B)","v":39371},-23355]
["2023-09-19",6,-2,null,null,703,759,-56,-7.378129117259552E-2,{"$f":"SUM(B$3:B994)","v":16022},81,-34,null,null,2856,491,"3.1万",537790,843,{"$f":"SUMIF(ブログ経費!A:A,\"<=\"&A994,ブログ経費!B:B)","v":39371},-23349]
["2023-09-20",5,-1,null,null,705,744,-39,-5.2419354838709679E-2,{"$f":"SUM(B$3:B995)","v":16027},86,5,null,null,2822,400,"3.1万",537928,652,{"$f":"SUMIF(ブログ経費!A:A,\"<=\"&A995,ブログ経費!B:B)","v":39371},-23344]
["2023-09-21",2,-3,null,null,701,737,-36,-4.8846675712347354E-2,{"$f":"SUM(B$3:B996)","v":16029},86,0,null,null,2809,356,"3.1万",537928,444,{"$f":"SUMIF(ブログ経費!A:A,\"<=\"&A996,ブログ経費!B:B)","v":39371},-23342]
["2023-09-22",14,12,null,null,711,738,-27,-3.6585365853658534E-2,{"$f":"SUM(B$3:B997)","v":16043},93,7,null,null,2810,324,"3.1万",538074,284,{"$f":"SUMIF(ブログ経費!A:A,\"<=\"&A997,ブログ経費!B:B)","v":39371},-23328]
["2023-09-23",56,42,null,null,683,790,-107,-0.13544303797468354,{"$f":"SUM(B$3:B998)","v":16099},76,-17,null,null,2772,242,"3.1万",538074,284,{"$f":"SUMIF(ブログ経費!A:A,\"<=\"&A998,ブログ経費!B:B)","v":39371},-23272]
["2023-09-24",7,-49,null,null,687,789,-102,-0.12927756653992395,{"$f":"SUM(B$3:B999)","v":16106},145,69,null,null,2824,309,"3.1万",538074,284,{"$f":"SUMIF(ブログ経費!A:A,\"<=\"&A999,ブログ経費!B:B)","v":39371},-23265]
["2023-09-25",4,-3,null,null,671,755,-84,-0.11125827814569536,{"$f":"SUM(B$3:B1000)","v":16110},60,-85,null,null,2826,321,"3.1万",538074,284,{"$f":"SUMIF(ブログ経費!A:A,\"<=\"&A1000,ブログ経費!B:B)","v":39371},-23261]
["2023-09-26",158,154,null,null,824,756,68,8.9947089947089942E-2,{"$f":"SUM(B$3:B1001)","v":16268},112,52,null,null,2845,361,"3.1万",538664,874,{"$f":"SUMIF(ブログ経費!A:A,\"<=\"&A1001,ブログ経費!B:B)","v":39371},-23103]
["2023-09-27",23,-135,null,null,834,756,78,0.10317460317460317,{"$f":"SUM(B$3:B1002)","v":16291},98,-14,null,null,2853,369,"3.1万",539017,1089,{"$f":"SUMIF(ブログ経費!A:A,\"<=\"&A1002,ブログ経費!B:B)","v":39371},-23080]
["2023-09-28",8,-15,null,null,832,666,166,0.24924924924924924,{"$f":"SUM(B$3:B1003)","v":16299},95,-3,null,null,2815,262,"3.1万",539706,1778,{"$f":"SUMIF(ブログ経費!A:A,\"<=\"&A1003,ブログ経費!B:B)","v":39371},-23072]
["2023-09-29",239,231,null,null,1063,669,394,0.58893871449925261,{"$f":"SUM(B$3:B1004)","v":16538},98,3,null,null,2812,241,"3.1万",539706,1632,{"$f":"SUMIF(ブログ経費!A:A,\"<=\"&A1004,ブログ経費!B:B)","v":39371},-22833]
["2023-09-30",6,-233,null,null,1063,610,453,0.74262295081967211,{"$f":"SUM(B$3:B1005)","v":16544},108,10,null,null,2824,206,"3.1万",539706,1632,{"$f":"SUMIF(ブログ経費!A:A,\"<=\"&A1005,ブログ経費!B:B)","v":39371},-22827]
["2023-10-01",47,41,null,null,1012,706,306,0.43342776203966005,{"$f":"SUM(B$3:B1006)","v":16591},76,-32,null,null,2798,173,"3.1万",539706,1632,{"$f":"SUMIF(ブログ経費!A:A,\"<=\"&A1006,ブログ経費!B:B)","v":39371},-22780]
["2023-10-02",64,17,null,null,1059,670,389,0.58059701492537319,{"$f":"SUM(B$3:B1007)","v":16655},94,18,null,null,2813,197,"3.1万",540233,2159,{"$f":"SUMIF(ブログ経費!A:A,\"<=\"&A1007,ブログ経費!B:B)","v":39371},-22716]
["2023-10-03",6,-58,null,null,1056,673,383,0.5690936106983655,{"$f":"SUM(B$3:B1008)","v":16661},95,1,null,null,2792,144,"3.1万",540725,2061,{"$f":"SUMIF(ブログ経費!A:A,\"<=\"&A1008,ブログ経費!B:B)","v":39371},-22710]
["2023-10-04",36,30,null,null,1086,649,437,0.67334360554699535,{"$f":"SUM(B$3:B1009)","v":16697},143,48,null,null,2827,145,"3.1万",540826,1809,{"$f":"SUMIF(ブログ経費!A:A,\"<=\"&A1009,ブログ経費!B:B)","v":39371},-22674]
["2023-10-05",278,242,null,null,1345,660,685,1.0378787878787878,{"$f":"SUM(B$3:B1010)","v":16975},167,24,null,null,2879,141,"3.1万",540905,1199,{"$f":"SUMIF(ブログ経費!A:A,\"<=\"&A1010,ブログ経費!B:B)","v":39371},-22396]
["2023-10-06",38,-240,null,null,1332,{"$f":"SUM(B952:B981)","v":708},624,0.88135593220338981,{"$f":"SUM(B$3:B1011)","v":17013},96,-71,null,null,2848,52,"3.1万",540905,{"$f":"R1011-R1004","v":1199},{"$f":"SUMIF(ブログ経費!A:A,\"<=\"&A1011,ブログ経費!B:B)","v":39371},-22358]
["2023-10-07",28,-10,null,null,1320,744,576,0.77419354838709675,{"$f":"SUM(B$3:B1012)","v":17041},72,{"$f":"K1012-K1011","v":-24},null,null,2814,26,"3.1万",540905,1199,{"$f":"SUMIF(ブログ経費!A:A,\"<=\"&A1012,ブログ経費!B:B)","v":39371},-22330]
["2023-10-08",119,91,null,null,1391,789,602,0.76299112801013946,{"$f":"SUM(B$3:B1013)","v":17160},91,19,null,null,2813,-14,"3.1万",540905,1199,{"$f":"SUMIF(ブログ経費!A:A,\"<=\"&A1013,ブログ経費!B:B)","v":39371},-22211]
["2023-10-09",9,-110,null,null,1395,793,602,0.75914249684741486,{"$f":"SUM(B$3:B1014)","v":17169},88,-3,null,null,2845,18,"3.1万",540905,672,{"$f":"SUMIF(ブログ経費!A:A,\"<=\"&A1014,ブログ経費!B:B)","v":39371},-22202]
["2023-10-10",7,-2,null,null,1372,808,564,0.69801980198019797,{"$f":"SUM(B$3:B1015)","v":17176},94,6,null,null,2893,94,"3.1万",541045,320,{"$f":"SUMIF(ブログ経費!A:A,\"<=\"&A1015,ブログ経費!B:B)","v":39371},-22195]
["2023-10-11",13,6,null,null,1380,804,576,0.71641791044776115,{"$f":"SUM(B$3:B1016)","v":17189},82,-12,null,null,2914,102,"3.1万",541219,393,{"$f":"SUMIF(ブログ経費!A:A,\"<=\"&A1016,ブログ経費!B:B)","v":39371},-22182]
["2023-10-12",7,-6,null,null,1382,776,606,0.78092783505154639,{"$f":"SUM(B$3:B1017)","v":17196},70,-12,null,null,2897,41,"3.2万",541339,434,{"$f":"SUMIF(ブログ経費!A:A,\"<=\"&A1017,ブログ経費!B:B)","v":39371},-22175]
["2023-10-13",57,50,null,null,1435,750,685,0.91333333333333333,{"$f":"SUM(B$3:B1018)","v":17253},51,-19,null,null,2830,-86,"3.1万",541339,434,{"$f":"SUMIF(ブログ経費!A:A,\"<=\"&A1018,ブログ経費!B:B)","v":39371},-22118]
["2023-10-14",22,-35,null,null,1430,610,820,1.3442622950819672,{"$f":"SUM(B$3:B1019)","v":17275},91,40,null,null,2889,-3,"3.2万",541339,434,{"$f":"SUMIF(ブログ経費!A:A,\"<=\"&A1019,ブログ経費!B:B)","v":39371},-22096]
["2023-10-15",51,29,null,null,1414,650,764,1.1753846153846155,{"$f":"SUM(B$3:B1020)","v":17326},101,10,null,null,2921,37,"3.2万",541339,434,{"$f":"SUMIF(ブログ経費!A:A,\"<=\"&A1020,ブログ経費!B:B)","v":39371},-22045]
["2023-10-16",9,-42,null,null,1336,690,646,0.93623188405797098,{"$f":"SUM(B$3:B1021)","v":17335},112,11,null,null,2943,81,"3.2万",541562,657,{"$f":"SUMIF(ブログ経費!A:A,\"<=\"&A1021,ブログ経費!B:B)","v":39371},-22036]
["2023-10-17",26,17,null,null,{"$f":"SUM(B993:B1022)","v":1353},696,{"$f":"F1022-G1022","v":657},{"$f":"H1022/G1022","v":0.94396551724137934},{"$f":"SUM(B$3:B1022)","v":17361},100,-12,null,null,2944,90,"3.2万",541865,820,{"$f":"SUMIF(ブログ経費!A:A,\"<=\"&A1022,ブログ経費!B:B)","v":39371},-22010]
["2023-10-18",17,-9,null,null,1362,701,661,0.94293865905848784,{"$f":"SUM(B$3:B1023)","v":17378},83,-17,null,null,2912,18,"3.2万",542038,819,{"$f":"SUMIF(ブログ経費!A:A,\"<=\"&A1023,ブログ経費!B:B)","v":39371},-21993]
["2023-10-19",21,4,null,null,1377,703,674,0.95874822190611664,{"$f":"SUM(B$3:B1024)","v":17399},72,-11,null,null,2949,93,"3.2万",542038,699,{"$f":"SUMIF(ブログ経費!A:A,\"<=\"&A1024,ブログ経費!B:B)","v":39371},-21972]
["2023-10-20",4,-17,null,null,1376,705,671,0.95177304964539011,{"$f":"SUM(B$3:B1025)","v":17403},64,-8,null,null,2927,105,"3.2万",542186,847,{"$f":"SUMIF(ブログ経費!A:A,\"<=\"&A1025,ブログ経費!B:B)","v":39371},-21968]
["2023-10-21",5,1,null,null,1379,701,678,0.96718972895863053,{"$f":"SUM(B$3:B1026)","v":17408},63,-1,null,null,2904,95,"3.2万",542186,847,{"$f":"SUMIF(ブログ経費!A:A,\"<=\"&A1026,ブログ経費!B:B)","v":39371},-21963]
["2023-10-22",4,-1,null,null,1369,711,658,0.92545710267229253,{"$f":"SUM(B$3:B1027)","v":17412},62,-1,null,null,2888,78,"3.2万",542186,847,{"$f":"SUMIF(ブログ経費!A:A,\"<=\"&A1027,ブログ経費!B:B)","v":39371},{"$f":"J1027-T1027","v":-21959}]
["2023-10-23",57,53,null,null,1370,683,687,1.0058565153733527,{"$f":"SUM(B$3:B1028)","v":17469},71,9,null,null,2883,111,"3.2万",542186,624,{"$f":"SUMIF(ブログ経費!A:A,\"<=\"&A1028,ブログ経費!B:B)","v":39371},-21902]
["2023-10-24",15,{"$f":"B1029-B1028","v":-42},null,null,1378,687,691,1.0058224163027656,{"$f":"SUM(B$3:B1029)","v":17484},86,15,null,null,2824,0,"3.2万",542186,321,{"$f":"SUMIF(ブログ経費!A:A,\"<=\"&A1029,ブログ経費!B:B)","v":39371},-21887]
["2023-10-25",8,-7,null,null,1382,671,711,1.059612518628912,{"$f":"SUM(B$3:B1030)","v":17492},73,-13,null,null,2854,28,"3.2万",542186,148,{"$f":"SUMIF(ブログ経費!A:A,\"<=\"&A1030,ブログ経費!B:B)","v":39371},-21879]
["2023-10-26",6,-2,null,null,1230,824,406,0.49271844660194175,{"$f":"SUM(B$3:B1031)","v":17498},84,11,null,null,2869,24,"3.2万",542186,148,{"$f":"SUMIF(ブログ経費!A:A,\"<=\"&A1031,ブログ経費!B:B)","v":39371},-21873]
["2023-10-27",7,1,null,null,1214,834,380,0.45563549160671463,{"$f":"SUM(B$3:B1032)","v":17505},92,8,null,null,2863,10,"3.2万",542434,248,{"$f":"SUMIF(ブログ経費!A:A,\"<=\"&A1032,ブログ経費!B:B)","v":39371},-21866]
["2023-10-28",3,-4,null,null,1209,832,377,0.453125,{"$f":"SUM(B$3:B1033)","v":17508},46,-46,null,null,2814,-1,"3.2万",542434,248,{"$f":"SUMIF(ブログ経費!A:A,\"<=\"&A1033,ブログ経費!B:B)","v":39371},-21863]
["2023-10-29",19,16,null,null,989,1063,-74,-6.9614299153339609E-2,{"$f":"SUM(B$3:B1034)","v":17527},72,26,null,null,2798,-14,"3.2万",542434,248,{"$f":"SUMIF(ブログ経費!A:A,\"<=\"&A1034,ブログ経費!B:B)","v":39371},-21844]
["2023-10-30",22,3,null,null,1005,1063,-58,-5.456255879586077E-2,{"$f":"SUM(B$3:B1035)","v":17549},91,19,null,null,2781,-43,"3.2万",542574,388,{"$f":"SUMIF(ブログ経費!A:A,\"<=\"&A1035,ブログ経費!B:B)","v":39371},-21822]
["2023-10-31",11,-11,null,null,969,1012,-43,-4.2490118577075096E-2,{"$f":"SUM(B$3:B1036)","v":17560},112,21,null,null,2817,19,"3.2万",542761,575,{"$f":"SUMIF(ブログ経費!A:A,\"<=\"&A1036,ブログ経費!B:B)","v":39371},-21811]
["2023-11-01",8,-3,null,null,913,1059,-146,-0.13786591123701605,{"$f":"SUM(B$3:B1037)","v":17568},98,-14,null,null,2821,8,"3.2万",542761,575,{"$f":"SUMIF(ブログ経費!A:A,\"<=\"&A1037,ブログ経費!B:B)","v":39371},-21803]
["2023-11-02",10,2,null,null,917,1056,-139,-0.13162878787878787,{"$f":"SUM(B$3:B1038)","v":17578},64,-34,null,null,2790,-2,"3.2万",542890,704,{"$f":"SUMIF(ブログ経費!A:A,\"<=\"&A1038,ブログ経費!B:B)","v":39371},-21793]
["2023-11-03",4,-6,null,null,885,1086,-201,-0.18508287292817679,{"$f":"SUM(B$3:B1039)","v":17582},50,-14,null,null,2697,-130,"3.2万",542890,456,{"$f":"SUMIF(ブログ経費!A:A,\"<=\"&A1039,ブログ経費!B:B)","v":39371},-21789]
["2023-11-04",12,8,null,null,619,1345,-726,-0.53977695167286244,{"$f":"SUM(B$3:B1040)","v":17594},78,28,null,null,2608,-271,"3.2万",542890,456,{"$f":"SUMIF(ブログ経費!A:A,\"<=\"&A1040,ブログ経費!B:B)","v":39371},-21777]
["2023-11-05",6,-6,null,null,587,1332,-745,-0.55930930930930933,{"$f":"SUM(B$3:B1041)","v":17600},55,-23,null,null,2567,{"$f":"(O1041-O1011)","v":-281},"3.2万",542890,456,{"$f":"SUMIF(ブログ経費!A:A,\"<=\"&A1041,ブログ経費!B:B)","v":39371},-21771]
["2023-11-06",66,60,null,null,625,1320,-695,-0.52651515151515149,{"$f":"SUM(B$3:B1042)","v":17666},76,21,null,null,2571,-243,"3.2万",542890,316,{"$f":"SUMIF(ブログ経費!A:A,\"<=\"&A1042,ブログ経費!B:B)","v":39371},-21705]
["2023-11-07",11,-55,null,null,517,1391,-874,-0.62832494608195544,{"$f":"SUM(B$3:B1043)","v":17677},64,-12,null,null,2544,-269,"3.2万",542917,156,{"$f":"SUMIF(ブログ経費!A:A,\"<=\"&A1043,ブログ経費!B:B)","v":39371},-21694]
["2023-11-08",48,37,null,null,556,1395,-839,-0.60143369175627237,{"$f":"SUM(B$3:B1044)","v":17725},75,11,null,null,2531,-314,"3.2万",543069,308,{"$f":"SUMIF(ブログ経費!A:A,\"<=\"&A1044,ブログ経費!B:B)","v":39371},-21646]
["2023-11-09",3,-45,null,null,552,1372,-820,-0.59766763848396498,{"$f":"SUM(B$3:B1045)","v":17728},86,11,null,null,2523,-370,"3.2万",543469,579,{"$f":"SUMIF(ブログ経費!A:A,\"<=\"&A1045,ブログ経費!B:B)","v":39371},-21643]
["2023-11-10",3,0,null,null,542,1380,-838,-0.60724637681159421,{"$f":"SUM(B$3:B1046)","v":17731},57,-29,null,null,2482,-432,"3.2万",543568,678,{"$f":"SUMIF(ブログ経費!A:A,\"<=\"&A1046,ブログ経費!B:B)","v":39371},-21640]
["2023-11-11",6,3,null,null,541,1382,-841,-0.6085383502170767,{"$f":"SUM(B$3:B1047)","v":17737},69,12,null,null,2481,-416,"3.2万",543568,678,{"$f":"SUMIF(ブログ経費!A:A,\"<=\"&A1047,ブログ経費!B:B)","v":39371},-21634]
["2023-11-12",9,3,null,null,493,1435,-942,-0.65644599303135887,{"$f":"SUM(B$3:B1048)","v":17746},60,-9,null,null,2438,-392,"3.2万",543568,678,{"$f":"SUMIF(ブログ経費!A:A,\"<=\"&A1048,ブログ経費!B:B)","v":39371},-21625]
["2023-11-13",10,1,null,null,481,1430,-949,-0.66363636363636369,{"$f":"SUM(B$3:B1049)","v":17756},73,13,null,null,2420,-469,"3.2万",543651,761,{"$f":"SUMIF(ブログ経費!A:A,\"<=\"&A1049,ブログ経費!B:B)","v":39371},-21615]
["2023-11-14",6,-4,null,null,436,1414,-978,-0.69165487977369167,{"$f":"SUM(B$3:B1050)","v":17762},82,9,null,null,2401,-520,"3.2万",543651,734,{"$f":"SUMIF(ブログ経費!A:A,\"<=\"&A1050,ブログ経費!B:B)","v":39371},-21609]
["2023-11-15",13,7,null,null,440,1336,-896,-0.6706586826347305,{"$f":"SUM(B$3:B1051)","v":17775},77,-5,null,null,2366,-577,"3.2万",544445,1376,{"$f":"SUMIF(ブログ経費!A:A,\"<=\"&A1051,ブログ経費!B:B)","v":39371},-21596]
["2023-11-16",8,-5,null,null,422,1353,-931,-0.68810051736881006,{"$f":"SUM(B$3:B1052)","v":17783},93,16,null,null,2359,-585,"3.2万",544478,1009,{"$f":"SUMIF(ブログ経費!A:A,\"<=\"&A1052,ブログ経費!B:B)","v":39371},-21588]
["2023-11-17",9,1,null,null,414,1362,-948,-0.69603524229074887,{"$f":"SUM(B$3:B1053)","v":17792},131,38,null,null,2361,-551,"3.2万",544614,1046,{"$f":"SUMIF(ブログ経費!A:A,\"<=\"&A1053,ブログ経費!B:B)","v":39371},-21579]
["2023-11-18",36,27,null,null,429,1377,-948,-0.68845315904139437,{"$f":"SUM(B$3:B1054)","v":17828},70,-61,null,null,2359,-590,"3.2万",544614,1046,{"$f":"SUMIF(ブログ経費!A:A,\"<=\"&A1054,ブログ経費!B:B)","v":39371},-21543]
["2023-11-19",22,-14,null,null,447,1376,-929,-0.67514534883720934,{"$f":"SUM(B$3:B1055)","v":17850},76,6,null,null,2371,-556,"3.2万",544614,1046,{"$f":"SUMIF(ブログ経費!A:A,\"<=\"&A1055,ブログ経費!B:B)","v":39371},-21521]
["2023-11-20",69,47,null,null,511,1379,-868,-0.62944162436548223,{"$f":"SUM(B$3:B1056)","v":17919},71,-5,null,null,2364,-540,"3.2万",544614,963,{"$f":"SUMIF(ブログ経費!A:A,\"<=\"&A1056,ブログ経費!B:B)","v":39371},-21452]
["2023-11-21",16,-53,null,null,523,1369,-846,-0.61796932067202337,{"$f":"SUM(B$3:B1057)","v":17935},107,36,null,null,2409,-479,"3.2万",544614,963,{"$f":"SUMIF(ブログ経費!A:A,\"<=\"&A1057,ブログ経費!B:B)","v":39371},-21436]
["2023-11-22",5,-11,null,null,471,1370,-899,-0.6562043795620438,{"$f":"SUM(B$3:B1058)","v":17940},75,-32,null,null,2413,-470,"3.2万",544908,463,{"$f":"SUMIF(ブログ経費!A:A,\"<=\"&A1058,ブログ経費!B:B)","v":39371},-21431]
["2023-11-23",17,12,null,null,473,1378,-905,-0.65674891146589265,{"$f":"SUM(B$3:B1059)","v":17957},69,-6,null,null,2379,-445,"3.2万",544908,430,{"$f":"SUMIF(ブログ経費!A:A,\"<=\"&A1059,ブログ経費!B:B)","v":39371},-21414]
["2023-11-24",24,7,null,null,489,1382,-893,-0.64616497829232999,{"$f":"SUM(B$3:B1060)","v":17981},63,-6,null,null,2326,-528,"3.2万",544984,370,{"$f":"SUMIF(ブログ経費!A:A,\"<=\"&A1060,ブログ経費!B:B)","v":39371},-21390]
["2023-11-25",113,89,null,null,596,1230,-634,-0.51544715447154477,{"$f":"SUM(B$3:B1061)","v":18094},55,-8,null,null,2297,-572,"3.2万",544983,369,{"$f":"SUMIF(ブログ経費!A:A,\"<=\"&A1061,ブログ経費!B:B)","v":39371},-21277]
["2023-11-26",5,-108,null,null,594,1214,-620,-0.51070840197693579,{"$f":"SUM(B$3:B1062)","v":18099},81,26,null,null,2286,-577,"3.2万",544983,369,{"$f":"SUMIF(ブログ経費!A:A,\"<=\"&A1062,ブログ経費!B:B)","v":39371},-21272]
["2023-11-27",4,-1,null,null,595,1209,-614,-0.5078577336641853,{"$f":"SUM(B$3:B1063)","v":18103},60,-21,null,null,2290,-524,"3.2万",545081,467,{"$f":"SUMIF(ブログ経費!A:A,\"<=\"&A1063,ブログ経費!B:B)","v":39371},-21268]
["2023-11-28",8,4,null,null,584,989,-405,-0.40950455005055614,{"$f":"SUM(B$3:B1064)","v":18111},68,8,null,null,2286,-512,"3.2万",545081,467,{"$f":"SUMIF(ブログ経費!A:A,\"<=\"&A1064,ブログ経費!B:B)","v":39371},-21260]
["2023-11-29",7,-1,null,null,569,1005,-436,-0.43383084577114428,{"$f":"SUM(B$3:B1065)","v":18118},80,12,null,null,2275,-506,"3.2万",545081,173,{"$f":"SUMIF(ブログ経費!A:A,\"<=\"&A1065,ブログ経費!B:B)","v":39371},-21253]
["2023-11-30",10,3,null,null,568,969,-401,-0.41382868937048506,{"$f":"SUM(B$3:B1066)","v":18128},78,-2,null,null,2241,-576,"3.2万",545208,300,{"$f":"SUMIF(ブログ経費!A:A,\"<=\"&A1066,ブログ経費!B:B)","v":39371},-21243]
["2023-12-01",5,-5,null,null,565,913,-348,-0.38116100766703176,{"$f":"SUM(B$3:B1067)","v":18133},58,-20,null,null,2201,-620,"3.2万",545321,337,{"$f":"SUMIF(ブログ経費!A:A,\"<=\"&A1067,ブログ経費!B:B)","v":39371},-21238]
["2023-12-02",41,36,null,null,596,917,-321,-0.3500545256270447,{"$f":"SUM(B$3:B1068)","v":18174},44,-14,null,null,2181,-609,"3.2万",545313,330,{"$f":"SUMIF(ブログ経費!A:A,\"<=\"&A1068,ブログ経費!B:B)","v":39371},-21197]
["2023-12-03",10,-31,null,null,602,885,-283,-0.319774011299435,{"$f":"SUM(B$3:B1069)","v":18184},51,7,null,null,2182,-515,"3.2万",545313,330,{"$f":"SUMIF(ブログ経費!A:A,\"<=\"&A1069,ブログ経費!B:B)","v":39371},-21187]
["2023-12-04",7,-3,null,null,597,619,-22,-3.5541195476575124E-2,{"$f":"SUM(B$3:B1070)","v":18191},59,8,null,null,2163,-445,"3.2万",545313,232,{"$f":"SUMIF(ブログ経費!A:A,\"<=\"&A1070,ブログ経費!B:B)","v":39371},-21180]
["2023-12-05",6,-1,null,null,597,587,10,1.7035775127768313E-2,{"$f":"SUM(B$3:B1071)","v":18197},50,-9,null,null,2158,-409,"3.2万",551115,6034,{"$f":"SUMIF(ブログ経費!A:A,\"<=\"&A1071,ブログ経費!B:B)","v":39371},-21174]
["2023-12-06",14,8,null,null,545,625,-80,-0.128,{"$f":"SUM(B$3:B1072)","v":18211},99,49,null,null,2194,-377,"3.2万",551115,6034,{"$f":"SUMIF(ブログ経費!A:A,\"<=\"&A1072,ブログ経費!B:B)","v":39371},-21160]
["2023-12-07",9,-5,null,null,543,517,26,5.0290135396518373E-2,{"$f":"SUM(B$3:B1073)","v":18220},74,-25,null,null,2204,-340,"3.2万",551260,6052,{"$f":"SUMIF(ブログ経費!A:A,\"<=\"&A1073,ブログ経費!B:B)","v":39371},-21151]
["2023-12-08",6,-3,null,null,501,556,-55,-9.8920863309352514E-2,{"$f":"SUM(B$3:B1074)","v":18226},74,0,null,null,2203,-328,"3.2万",551208,5887,{"$f":"SUMIF(ブログ経費!A:A,\"<=\"&A1074,ブログ経費!B:B)","v":39371},-21145]
["2023-12-09",11,5,null,null,509,{"$f":"SUM(B1016:B1045)","v":552},-43,-7.789855072463768E-2,{"$f":"SUM(B$3:B1075)","v":18237},76,2,null,null,2193,-330,"3.2万",551183,{"$f":"R1075-R1068","v":5870},{"$f":"SUMIF(ブログ経費!A:A,\"<=\"&A1075,ブログ経費!B:B)","v":39371},-21134]
["2023-12-10",6,-5,null,null,512,542,-30,-5.5350553505535055E-2,{"$f":"SUM(B$3:B1076)","v":18243},61,{"$f":"K1076-K1075","v":-15},null,null,2197,-285,"3.2万",551183,5870,{"$f":"SUMIF(ブログ経費!A:A,\"<=\"&A1076,ブログ経費!B:B)","v":39371},-21128]
["2023-12-11",42,36,null,null,548,541,7,1.2939001848428836E-2,{"$f":"SUM(B$3:B1077)","v":18285},88,27,null,null,2216,-265,"3.2万",551196,5883,{"$f":"SUMIF(ブログ経費!A:A,\"<=\"&A1077,ブログ経費!B:B)","v":39371},-21086]
["2023-12-12",16,-26,null,null,555,493,62,0.12576064908722109,{"$f":"SUM(B$3:B1078)","v":18301},103,15,null,null,2259,-179,"3.2万",551264,149,{"$f":"SUMIF(ブログ経費!A:A,\"<=\"&A1078,ブログ経費!B:B)","v":39371},-21070]
["2023-12-13",8,-8,null,null,553,481,72,0.1496881496881497,{"$f":"SUM(B$3:B1079)","v":18309},127,24,null,null,2313,-107,"3.2万",551338,223,{"$f":"SUMIF(ブログ経費!A:A,\"<=\"&A1079,ブログ経費!B:B)","v":39371},-21062]
["2023-12-14",7,-1,null,null,554,436,118,0.27064220183486237,{"$f":"SUM(B$3:B1080)","v":18316},63,-64,null,null,2312,-89,"3.2万",551338,78,{"$f":"SUMIF(ブログ経費!A:A,\"<=\"&A1080,ブログ経費!B:B)","v":39371},-21055]
["2023-12-15",10,3,null,null,551,440,111,0.25227272727272726,{"$f":"SUM(B$3:B1081)","v":18326},90,27,null,null,2325,-41,"3.2万",551373,165,{"$f":"SUMIF(ブログ経費!A:A,\"<=\"&A1081,ブログ経費!B:B)","v":39371},-21045]
["2023-12-16",6,-4,null,null,549,422,127,0.3009478672985782,{"$f":"SUM(B$3:B1082)","v":18332},66,-24,null,null,2298,-61,"3.2万",551373,190,{"$f":"SUMIF(ブログ経費!A:A,\"<=\"&A1082,ブログ経費!B:B)","v":39371},-21039]
["2023-12-17",6,0,null,null,546,414,132,0.3188405797101449,{"$f":"SUM(B$3:B1083)","v":18338},49,-17,null,null,2216,-145,"3.2万",551373,190,{"$f":"SUMIF(ブログ経費!A:A,\"<=\"&A1083,ブログ経費!B:B)","v":39371},-21033]
["2023-12-18",3,-3,null,null,513,429,84,0.19580419580419581,{"$f":"SUM(B$3:B1084)","v":18341},54,5,null,null,2200,-159,"3.2万",551641,445,{"$f":"SUMIF(ブログ経費!A:A,\"<=\"&A1084,ブログ経費!B:B)","v":39371},-21030]
["2023-12-19",195,192,null,null,686,447,239,0.53467561521252793,{"$f":"SUM(B$3:B1085)","v":18536},71,17,null,null,2195,-176,"3.2万",551714,450,{"$f":"SUMIF(ブログ経費!A:A,\"<=\"&A1085,ブログ経費!B:B)","v":39371},-20835]
["2023-12-20",21,-174,null,null,{"$f":"SUM(B1057:B1086)","v":638},511,{"$f":"F1086-G1086","v":127},{"$f":"H1086/G1086","v":0.24853228962818003},{"$f":"SUM(B$3:B1086)","v":18557},90,19,null,null,2214,-150,"3.2万",551714,376,{"$f":"SUMIF(ブログ経費!A:A,\"<=\"&A1086,ブログ経費!B:B)","v":39371},-20814]
["2023-12-21",13,-8,null,null,635,523,112,0.21414913957934992,{"$f":"SUM(B$3:B1087)","v":18570},78,-12,null,null,2185,-224,"3.2万",551957,619,{"$f":"SUMIF(ブログ経費!A:A,\"<=\"&A1087,ブログ経費!B:B)","v":39371},-20801]
["2023-12-22",8,-5,null,null,638,471,167,0.35456475583864117,{"$f":"SUM(B$3:B1088)","v":18578},97,19,null,null,2207,-206,"3.2万",551931,558,{"$f":"SUMIF(ブログ経費!A:A,\"<=\"&A1088,ブログ経費!B:B)","v":39371},-20793]
["2023-12-23",2,-6,null,null,623,473,150,0.31712473572938688,{"$f":"SUM(B$3:B1089)","v":18580},37,-60,null,null,2175,-204,"3.2万",551931,558,{"$f":"SUMIF(ブログ経費!A:A,\"<=\"&A1089,ブログ経費!B:B)","v":39371},-20791]
["2023-12-24",33,31,{"$f":"SUM(B1084:B1090)","v":275},{"$f":"D1090-D1083","v":275},632,489,143,0.29243353783231085,{"$f":"SUM(B$3:B1090)","v":18613},71,34,null,{"$f":"M1090-M1083","v":0},2183,-143,"3.2万",551931,558,{"$f":"SUMIF(ブログ経費!A:A,\"<=\"&A1090,ブログ経費!B:B)","v":39371},-20758]
["2023-12-25",15,-18,287,{"$f":"D1091-D1084","v":287},534,596,-62,-0.1040268456375839,{"$f":"SUM(B$3:B1091)","v":18628},63,-8,507,{"$f":"M1091-M1084","v":507},2191,-106,"3.2万",551931,290,{"$f":"SUMIF(ブログ経費!A:A,\"<=\"&A1091,ブログ経費!B:B)","v":39371},{"$f":"J1091-T1091","v":-20743}]
["2023-12-26",15,0,107,107,544,594,-50,-8.4175084175084181E-2,{"$f":"SUM(B$3:B1092)","v":18643},85,22,521,521,2195,-91,"3.2万",551961,{"$f":"R1092-R1085","v":247},{"$f":"SUMIF(ブログ経費!A:A,\"<=\"&A1092,ブログ経費!B:B)","v":39371},-20728]
[null,null,{"$f":"B1093-B1092","v":-15},86,86,540,595,-55,-9.2436974789915971E-2,{"$f":"SUM(B$3:B1093)","v":18643},null,-85,null,0,null,-2290,null,null,-551714,{"$f":"SUMIF(ブログ経費!A:A,\"<=\"&A1093,ブログ経費!B:B)","v":0},18643]
[null,null,0,73,73,532,584,-52,-8.9041095890410954E-2,{"$f":"SUM(B$3:B1094)","v":18643},null,0,null,0,null,-2286,null,null,-551957,{"$f":"SUMIF(ブログ経費!A:A,\"<=\"&A1094,ブログ経費!B:B)","v":0},18643]
[null,null,0,65,65,525,569,-44,-7.7328646748681895E-2,{"$f":"SUM(B$3:B1095)","v":18643},null,0,null,0,null,-2275,null,null,-551931,{"$f":"SUMIF(ブログ経費!A:A,\"<=\"&A1095,ブログ経費!B:B)","v":0},18643]
[null,null,0,63,63,515,568,{"$f":"F1096-G1096","v":-53},-9.3309859154929578E-2,{"$f":"SUM(B$3:B1096)","v":18643},null,0,null,0,null,-2241,null,null,-551931,{"$f":"SUMIF(ブログ経費!A:A,\"<=\"&A1096,ブログ経費!B:B)","v":0},18643]
[null,null,0,30,-245,510,565,-55,-9.7345132743362831E-2,{"$f":"SUM(B$3:B1097)","v":18643},null,0,null,0,null,-2201,null,null,-551931,{"$f":"SUMIF(ブログ経費!A:A,\"<=\"&A1097,ブログ経費!B:B)","v":0},18643]
[null,null,0,15,-272,469,596,-127,-0.21308724832214765,{"$f":"SUM(B$3:B1098)","v":18643},null,0,null,-507,null,-2181,null,null,-551931,{"$f":"SUMIF(ブログ経費!A:A,\"<=\"&A1098,ブログ経費!B:B)","v":0},18643]
[null,null,0,0,-107,459,602,-143,-0.23754152823920266,{"$f":"SUM(B$3:B1099)","v":18643},null,0,null,-521,null,-2182,null,null,-551961,{"$f":"SUMIF(ブログ経費!A:A,\"<=\"&A1099,ブログ経費!B:B)","v":0},18643]
[null,null,0,0,-86,452,597,-145,-0.24288107202680068,{"$f":"SUM(B$3:B1100)","v":18643},null,0,null,0,null,-2163,null,null,0,{"$f":"SUMIF(ブログ経費!A:A,\"<=\"&A1100,ブログ経費!B:B)","v":0},18643]
[null,null,0,0,-73,446,597,-151,-0.2529313232830821,{"$f":"SUM(B$3:B1101)","v":18643},null,0,null,0,null,-2158,null,null,0,{"$f":"SUMIF(ブログ経費!A:A,\"<=\"&A1101,ブログ経費!B:B)","v":0},18643]
[null,null,0,0,-65,432,545,-113,-0.20733944954128442,{"$f":"SUM(B$3:B1102)","v":18643},null,0,null,0,null,-2194,null,null,0,{"$f":"SUMIF(ブログ経費!A:A,\"<=\"&A1102,ブログ経費!B:B)","v":0},18643]
[null,null,0,0,-63,423,543,-120,-0.22099447513812154,{"$f":"SUM(B$3:B1103)","v":18643},null,0,null,0,null,-2204,null,null,0,{"$f":"SUMIF(ブログ経費!A:A,\"<=\"&A1103,ブログ経費!B:B)","v":0},18643]
[null,null,0,0,-30,417,501,-84,-0.16766467065868262,{"$f":"SUM(B$3:B1104)","v":18643},null,0,null,0,null,-2203,null,null,0,{"$f":"SUMIF(ブログ経費!A:A,\"<=\"&A1104,ブログ経費!B:B)","v":0},18643]
[null,null,0,0,-15,406,509,-103,-0.20235756385068762,{"$f":"SUM(B$3:B1105)","v":18643},null,0,null,0,null,{"$f":"(O1105-O1075)","v":-2193},null,null,0,{"$f":"SUMIF(ブログ経費!A:A,\"<=\"&A1105,ブログ経費!B:B)","v":0},18643]
[null,null,0,0,0,400,512,-112,-0.21875,{"$f":"SUM(B$3:B1106)","v":18643},null,0,null,0,null,-2197,null,null,0,{"$f":"SUMIF(ブログ経費!A:A,\"<=\"&A1106,ブログ経費!B:B)","v":0},18643]
[null,null,0,0,0,358,548,-190,-0.34671532846715331,{"$f":"SUM(B$3:B1107)","v":18643},null,0,null,0,null,-2216,null,null,0,{"$f":"SUMIF(ブログ経費!A:A,\"<=\"&A1107,ブログ経費!B:B)","v":0},18643]
[null,null,0,0,0,342,555,-213,-0.38378378378378381,{"$f":"SUM(B$3:B1108)","v":18643},null,0,null,0,null,-2259,null,null,0,{"$f":"SUMIF(ブログ経費!A:A,\"<=\"&A1108,ブログ経費!B:B)","v":0},18643]
[null,null,0,0,0,334,553,-219,-0.39602169981916818,{"$f":"SUM(B$3:B1109)","v":18643},null,0,null,0,null,-2313,null,null,0,{"$f":"SUMIF(ブログ経費!A:A,\"<=\"&A1109,ブログ経費!B:B)","v":0},18643]
[null,null,0,0,0,327,554,-227,-0.40974729241877256,{"$f":"SUM(B$3:B1110)","v":18643},null,0,null,0,null,-2312,null,null,0,{"$f":"SUMIF(ブログ経費!A:A,\"<=\"&A1110,ブログ経費!B:B)","v":0},18643]
[null,null,0,0,0,317,551,-234,-0.42468239564428312,{"$f":"SUM(B$3:B1111)","v":18643},null,0,null,0,null,-2325,null,null,0,{"$f":"SUMIF(ブログ経費!A:A,\"<=\"&A1111,ブログ経費!B:B)","v":0},18643]
[null,null,0,0,0,311,549,-238,-0.43351548269581058,{"$f":"SUM(B$3:B1112)","v":18643},null,0,null,0,null,-2298,null,null,0,{"$f":"SUMIF(ブログ経費!A:A,\"<=\"&A1112,ブログ経費!B:B)","v":0},18643]
[null,null,0,0,0,305,546,-241,-0.44139194139194138,{"$f":"SUM(B$3:B1113)","v":18643},null,0,null,0,null,-2216,null,null,0,{"$f":"SUMIF(ブログ経費!A:A,\"<=\"&A1113,ブログ経費!B:B)","v":0},18643]
[null,null,0,0,0,302,513,-211,-0.41130604288499023,{"$f":"SUM(B$3:B1114)","v":18643},null,0,null,0,null,-2200,null,null,0,{"$f":"SUMIF(ブログ経費!A:A,\"<=\"&A1114,ブログ経費!B:B)","v":0},18643]
[null,null,0,0,0,107,686,-579,-0.8440233236151603,{"$f":"SUM(B$3:B1115)","v":18643},null,0,null,0,null,-2195,null,null,0,{"$f":"SUMIF(ブログ経費!A:A,\"<=\"&A1115,ブログ経費!B:B)","v":0},18643]
[null,null,0,0,0,86,638,-552,-0.86520376175548586,{"$f":"SUM(B$3:B1116)","v":18643},null,0,null,0,null,-2214,null,null,0,{"$f":"SUMIF(ブログ経費!A:A,\"<=\"&A1116,ブログ経費!B:B)","v":0},18643]
[null,null,0,0,0,73,635,-562,-0.88503937007874012,{"$f":"SUM(B$3:B1117)","v":18643},null,0,null,0,null,-2185,null,null,0,{"$f":"SUMIF(ブログ経費!A:A,\"<=\"&A1117,ブログ経費!B:B)","v":0},18643]
[null,null,0,0,0,65,638,-573,-0.89811912225705326,{"$f":"SUM(B$3:B1118)","v":18643},null,0,null,0,null,-2207,null,null,0,{"$f":"SUMIF(ブログ経費!A:A,\"<=\"&A1118,ブログ経費!B:B)","v":0},18643]
[null,null,0,0,0,63,623,-560,-0.898876404494382,{"$f":"SUM(B$3:B1119)","v":18643},null,0,null,0,null,-2175,null,null,0,{"$f":"SUMIF(ブログ経費!A:A,\"<=\"&A1119,ブログ経費!B:B)","v":0},18643]
[null,null,0,0,0,30,632,-602,-0.95253164556962022,{"$f":"SUM(B$3:B1120)","v":18643},null,0,null,0,null,-2183,null,null,0,{"$f":"SUMIF(ブログ経費!A:A,\"<=\"&A1120,ブログ経費!B:B)","v":0},18643]
[null,null,0,0,0,15,534,-519,-0.9719101123595506,{"$f":"SUM(B$3:B1121)","v":18643},null,0,null,0,null,-2191,null,null,0,{"$f":"SUMIF(ブログ経費!A:A,\"<=\"&A1121,ブログ経費!B:B)","v":0},18643]
[null,null,0,0,0,0,544,-544,-1,{"$f":"SUM(B$3:B1122)","v":18643},null,0,null,0,null,-2195,null,null,0,{"$f":"SUMIF(ブログ経費!A:A,\"<=\"&A1122,ブログ経費!B:B)","v":0},18643]
[null,null,0,0,0,0,540,-540,-1,{"$f":"SUM(B$3:B1123)","v":18643},null,0,null,0,null,0,null,null,0,{"$f":"SUMIF(ブログ経費!A:A,\"<=\"&A1123,ブログ経費!B:B)","v":0},18643]
[null,null,0,0,0,0,532,-532,-1,{"$f":"SUM(B$3:B1124)","v":18643},null,0,null,0,null,0,null,null,0,{"$f":"SUMIF(ブログ経費!A:A,\"<=\"&A1124,ブログ経費!B:B)","v":0},18643]
[null,null,0,0,0,0,525,-525,-1,{"$f":"SUM(B$3:B1125)","v":18643},null,0,null,0,null,0,null,null,0,{"$f":"SUMIF(ブログ経費!A:A,\"<=\"&A1125,ブログ経費!B:B)","v":0},18643]
[null,null,0,0,0,0,515,-515,-1,{"$f":"SUM(B$3:B1126)","v":18643},null,0,null,0,null,0,null,null,0,{"$f":"SUMIF(ブログ経費!A:A,\"<=\"&A1126,ブログ経費!B:B)","v":0},18643]
[null,null,0,0,0,0,510,-510,-1,{"$f":"SUM(B$3:B1127)","v":18643},null,0,null,0,null,0,null,null,0,{"$f":"SUMIF(ブログ経費!A:A,\"<=\"&A1127,ブログ経費!B:B)","v":0},18643]
[null,null,0,0,0,0,469,-469,-1,{"$f":"SUM(B$3:B1128)","v":18643},null,0,null,0,null,0,null,null,0,{"$f":"SUMIF(ブログ経費!A:A,\"<=\"&A1128,ブログ経費!B:B)","v":0},18643]
[null,null,0,0,0,0,459,-459,-1,{"$f":"SUM(B$3:B1129)","v":18643},null,0,null,0,null,0,null,null,0,{"$f":"SUMIF(ブログ経費!A:A,\"<=\"&A1129,ブログ経費!B:B)","v":0},18643]
[null,null,0,0,0,0,452,-452,-1,{"$f":"SUM(B$3:B1130)","v":18643},null,0,null,0,null,0,null,null,0,{"$f":"SUMIF(ブログ経費!A:A,\"<=\"&A1130,ブログ経費!B:B)","v":0},18643]
[null,null,0,0,0,0,446,-446,-1,{"$f":"SUM(B$3:B1131)","v":18643},null,0,null,0,null,0,null,null,0,{"$f":"SUMIF(ブログ経費!A:A,\"<=\"&A1131,ブログ経費!B:B)","v":0},18643]
[null,null,0,0,0,0,432,-432,-1,{"$f":"SUM(B$3:B1132)","v":18643},null,0,null,0,null,0,null,null,0,{"$f":"SUMIF(ブログ経費!A:A,\"<=\"&A1132,ブログ経費!B:B)","v":0},18643]
[null,null,0,0,0,0,423,-423,-1,{"$f":"SUM(B$3:B1133)","v":18643},null,0,null,0,null,0,null,null,0,{"$f":"SUMIF(ブログ経費!A:A,\"<=\"&A1133,ブログ経費!B:B)","v":0},18643]
[null,null,0,0,0,0,417,-417,-1,{"$f":"SUM(B$3:B1134)","v":18643},null,0,null,0,null,0,null,null,0,{"$f":"SUMIF(ブログ経費!A:A,\"<=\"&A1134,ブログ経費!B:B)","v":0},18643]
[null,null,0,0,0,0,406,-406,-1,{"$f":"SUM(B$3:B1135)","v":18643},null,0,null,0,null,0,null,null,0,{"$f":"SUMIF(ブログ経費!A:A,\"<=\"&A1135,ブログ経費!B:B)","v":0},18643]
[null,null,0,0,0,0,400,-400,-1,{"$f":"SUM(B$3:B1136)","v":18643},null,0,null,0,null,0,null,null,0,{"$f":"SUMIF(ブログ経費!A:A,\"<=\"&A1136,ブログ経費!B:B)","v":0},18643]
[null,null,0,0,0,0,358,-358,-1,{"$f":"SUM(B$3:B1137)","v":18643},null,0,null,0,null,0,null,null,0,{"$f":"SUMIF(ブログ経費!A:A,\"<=\"&A1137,ブログ経費!B:B)","v":0},18643]
[null,null,0,0,0,0,342,-342,-1,{"$f":"SUM(B$3:B1138)","v":18643},null,0,null,0,null,0,null,null,0,{"$f":"SUMIF(ブログ経費!A:A,\"<=\"&A1138,ブログ経費!B:B)","v":0},18643]
[null,null,0,0,0,0,{"$f":"SUM(B1080:B1109)","v":334},-334,-1,{"$f":"SUM(B$3:B1139)","v":18643},null,0,null,0,null,0,null,null,{"$f":"R1139-R1132","v":0},{"$f":"SUMIF(ブログ経費!A:A,\"<=\"&A1139,ブログ経費!B:B)","v":0},18643]
[null,null,0,0,0,0,327,-327,-1,{"$f":"SUM(B$3:B1140)","v":18643},null,{"$f":"K1140-K1139","v":0},null,0,null,0,null,null,0,{"$f":"SUMIF(ブログ経費!A:A,\"<=\"&A1140,ブログ経費!B:B)","v":0},18643]
[null,null,0,0,0,0,317,-317,-1,{"$f":"SUM(B$3:B1141)","v":18643},null,0,null,0,null,0,null,null,0,{"$f":"SUMIF(ブログ経費!A:A,\"<=\"&A1141,ブログ経費!B:B)","v":0},18643]
[null,null,0,0,0,0,311,-311,-1,{"$f":"SUM(B$3:B1142)","v":18643},null,0,null,0,null,0,null,null,0,{"$f":"SUMIF(ブログ経費!A:A,\"<=\"&A1142,ブログ経費!B:B)","v":0},18643]
[null,null,0,0,0,0,305,-305,-1,{"$f":"SUM(B$3:B1143)","v":18643},null,0,null,0,null,0,null,null,0,{"$f":"SUMIF(ブログ経費!A:A,\"<=\"&A1143,ブログ経費!B:B)","v":0},18643]
[null,null,0,0,0,0,302,-302,-1,{"$f":"SUM(B$3:B1144)","v":18643},null,0,null,0,null,0,null,null,0,{"$f":"SUMIF(ブログ経費!A:A,\"<=\"&A1144,ブログ経費!B:B)","v":0},18643]
[null,null,0,0,0,0,107,-107,-1,{"$f":"SUM(B$3:B1145)","v":18643},null,0,null,0,null,0,null,null,0,{"$f":"SUMIF(ブログ経費!A:A,\"<=\"&A1145,ブログ経費!B:B)","v":0},18643]
[null,null,0,0,0,0,86,-86,-1,{"$f":"SUM(B$3:B1146)","v":18643},null,0,null,0,null,0,null,null,0,{"$f":"SUMIF(ブログ経費!A:A,\"<=\"&A1146,ブログ経費!B:B)","v":0},18643]
[null,null,0,0,0,0,73,-73,-1,{"$f":"SUM(B$3:B1147)","v":18643},null,0,null,0,null,0,null,null,0,{"$f":"SUMIF(ブログ経費!A:A,\"<=\"&A1147,ブログ経費!B:B)","v":0},18643]
[null,null,0,0,0,0,65,-65,-1,{"$f":"SUM(B$3:B1148)","v":18643},null,0,null,0,null,0,null,null,0,{"$f":"SUMIF(ブログ経費!A:A,\"<=\"&A1148,ブログ経費!B:B)","v":0},18643]
[null,null,0,0,0,0,63,-63,-1,{"$f":"SUM(B$3:B1149)","v":18643},null,0,null,0,null,0,null,null,0,{"$f":"SUMIF(ブログ経費!A:A,\"<=\"&A1149,ブログ経費!B:B)","v":0},18643]
[null,null,0,0,0,{"$f":"SUM(B1121:B1150)","v":0},30,{"$f":"F1150-G1150","v":-30},{"$f":"H1150/G1150","v":-1},{"$f":"SUM(B$3:B1150)","v":18643},null,0,null,0,null,0,null,null,0,{"$f":"SUMIF(ブログ経費!A:A,\"<=\"&A1150,ブログ経費!B:B)","v":0},18643]
[null,null,0,0,0,0,15,-15,-1,{"$f":"SUM(B$3:B1151)","v":18643},null,0,null,0,null,0,null,null,0,{"$f":"SUMIF(ブログ経費!A:A,\"<=\"&A1151,ブログ経費!B:B)","v":0},18643]
[null,null,0,0,0,0,0,0,{"$error":"#DIV/0!"},{"$f":"SUM(B$3:B1152)","v":18643},null,0,null,0,null,0,null,null,0,{"$f":"SUMIF(ブログ経費!A:A,\"<=\"&A1152,ブログ経費!B:B)","v":0},18643]
[null,null,0,0,0,0,0,0,{"$error":"#DIV/0!"},{"$f":"SUM(B$3:B1153)","v":18643},null,0,null,0,null,0,null,null,0,{"$f":"SUMIF(ブログ経費!A:A,\"<=\"&A1153,ブログ経費!B:B)","v":0},18643]
[null,null,0,{"$f":"SUM(B1148:B1154)","v":0},0,0,0,0,{"$error":"#DIV/0!"},{"$f":"SUM(B$3:B1154)","v":18643},null,0,null,0,null,0,null,null,0,{"$f":"SUMIF(ブログ経費!A:A,\"<=\"&A1154,ブログ経費!B:B)","v":0},18643]
[null,null,0,0,{"$f":"D1155-D1148","v":0},0,0,0,{"$error":"#DIV/0!"},{"$f":"SUM(B$3:B1155)","v":18643},null,0,null,{"$f":"M1155-M1148","v":0},null,0,null,null,0,{"$f":"SUMIF(ブログ経費!A:A,\"<=\"&A1155,ブログ経費!B:B)","v":0},{"$f":"J1155-T1155","v":18643}]
[null,null,0,0,0,0,0,0,{"$error":"#DIV/0!"},{"$f":"SUM(B$3:B1156)","v":18643},null,0,null,0,null,0,null,null,0,{"$f":"SUMIF(ブログ経費!A:A,\"<=\"&A1156,ブログ経費!B:B)","v":0},18643]
[null,null,{"$f":"B1157-B1156","v":0},0,0,0,0,0,{"$error":"#DIV/0!"},{"$f":"SUM(B$3:B1157)","v":18643},null,0,null,0,null,0,null,null,0,{"$f":"SUMIF(ブログ経費!A:A,\"<=\"&A1157,ブログ経費!B:B)","v":0},18643]
[null,null,0,0,0,0,0,0,{"$error":"#DIV/0!"},{"$f":"SUM(B$3:B1158)","v":18643},null,0,null,0,null,0,null,null,0,{"$f":"SUMIF(ブログ経費!A:A,\"<=\"&A1158,ブログ経費!B:B)","v":0},18643]
[null,null,0,0,0,0,0,0,{"$error":"#DIV/0!"},{"$f":"SUM(B$3:B1159)","v":18643},null,0,null,0,null,0,null,null,0,{"$f":"SUMIF(ブログ経費!A:A,\"<=\"&A1159,ブログ経費!B:B)","v":0},18643]
[null,null,0,0,0,0,0,0,{"$error":"#DIV/0!"},{"$f":"SUM(B$3:B1160)","v":18643},null,0,null,0,null,0,null,null,0,{"$f":"SUMIF(ブログ経費!A:A,\"<=\"&A1160,ブログ経費!B:B)","v":0},18643]
[null,null,0,0,0,0,0,0,{"$error":"#DIV/0!"},{"$f":"SUM(B$3:B1161)","v":18643},null,0,null,0,null,0,null,null,0,{"$f":"SUMIF(ブログ経費!A:A,\"<=\"&A1161,ブログ経費!B:B)","v":0},18643]
[null,null,0,0,0,0,0,0,{"$error":"#DIV/0!"},{"$f":"SUM(B$3:B1162)","v":18643},null,0,null,0,null,0,null,null,0,{"$f":"SUMIF(ブログ経費!A:A,\"<=\"&A1162,ブログ経費!B:B)","v":0},18643]
[null,null,0,0,0,0,0,0,{"$error":"#DIV/0!"},{"$f":"SUM(B$3:B1163)","v":18643},null,0,null,0,null,0,null,null,0,{"$f":"SUMIF(ブログ経費!A:A,\"<=\"&A1163,ブログ経費!B:B)","v":0},18643]
[null,null,0,0,0,0,0,0,{"$error":"#DIV/0!"},{"$f":"SUM(B$3:B1164)","v":18643},null,0,null,0,null,0,null,null,0,{"$f":"SUMIF(ブログ経費!A:A,\"<=\"&A1164,ブログ経費!B:B)","v":0},18643]
[null,null,0,0,0,0,0,0,{"$error":"#DIV/0!"},{"$f":"SUM(B$3:B1165)","v":18643},null,0,null,0,null,0,null,null,0,{"$f":"SUMIF(ブログ経費!A:A,\"<=\"&A1165,ブログ経費!B:B)","v":0},18643]
[null,null,0,0,0,0,0,0,{"$error":"#DIV/0!"},{"$f":"SUM(B$3:B1166)","v":18643},null,0,null,0,null,0,null,null,0,{"$f":"SUMIF(ブログ経費!A:A,\"<=\"&A1166,ブログ経費!B:B)","v":0},18643]
[null,null,0,0,0,0,0,0,{"$error":"#DIV/0!"},{"$f":"SUM(B$3:B1167)","v":18643},null,0,null,0,null,0,null,null,0,{"$f":"SUMIF(ブログ経費!A:A,\"<=\"&A1167,ブログ経費!B:B)","v":0},18643]
[null,null,0,0,0,0,0,0,{"$error":"#DIV/0!"},{"$f":"SUM(B$3:B1168)","v":18643},null,0,null,0,null,0,null,null,0,{"$f":"SUMIF(ブログ経費!A:A,\"<=\"&A1168,ブログ経費!B:B)","v":0},18643]
[null,null,0,0,0,0,0,0,{"$error":"#DIV/0!"},{"$f":"SUM(B$3:B1169)","v":18643},null,0,null,0,null,{"$f":"(O1169-O1139)","v":0},null,null,0,{"$f":"SUMIF(ブログ経費!A:A,\"<=\"&A1169,ブログ経費!B:B)","v":0},18643]
[null,null,0,0,0,0,0,0,{"$error":"#DIV/0!"},{"$f":"SUM(B$3:B1170)","v":18643},null,0,null,0,null,0,null,null,0,{"$f":"SUMIF(ブログ経費!A:A,\"<=\"&A1170,ブログ経費!B:B)","v":0},18643]
[null,null,0,0,0,0,0,0,{"$error":"#DIV/0!"},{"$f":"SUM(B$3:B1171)","v":18643},null,0,null,0,null,0,null,null,0,{"$f":"SUMIF(ブログ経費!A:A,\"<=\"&A1171,ブログ経費!B:B)","v":0},18643]
[null,null,0,0,0,0,0,0,{"$error":"#DIV/0!"},{"$f":"SUM(B$3:B1172)","v":18643},null,0,null,0,null,0,null,null,0,{"$f":"SUMIF(ブログ経費!A:A,\"<=\"&A1172,ブログ経費!B:B)","v":0},18643]
[null,null,0,0,0,0,0,0,{"$error":"#DIV/0!"},{"$f":"SUM(B$3:B1173)","v":18643},null,0,null,0,null,0,null,null,0,{"$f":"SUMIF(ブログ経費!A:A,\"<=\"&A1173,ブログ経費!B:B)","v":0},18643]
[null,null,0,0,0,0,0,0,{"$error":"#DIV/0!"},{"$f":"SUM(B$3:B1174)","v":18643},null,0,null,0,null,0,null,null,0,{"$f":"SUMIF(ブログ経費!A:A,\"<=\"&A1174,ブログ経費!B:B)","v":0},18643]
[null,null,0,0,0,0,0,0,{"$error":"#DIV/0!"},{"$f":"SUM(B$3:B1175)","v":18643},null,0,null,0,null,0,null,null,0,{"$f":"SUMIF(ブログ経費!A:A,\"<=\"&A1175,ブログ経費!B:B)","v":0},18643]
[null,null,0,0,0,0,0,0,{"$error":"#DIV/0!"},{"$f":"SUM(B$3:B1176)","v":18643},null,0,null,0,null,0,null,null,0,{"$f":"SUMIF(ブログ経費!A:A,\"<=\"&A1176,ブログ経費!B:B)","v":0},18643]
[null,null,0,0,0,0,0,0,{"$error":"#DIV/0!"},{"$f":"SUM(B$3:B1177)","v":18643},null,0,null,0,null,0,null,null,0,{"$f":"SUMIF(ブログ経費!A:A,\"<=\"&A1177,ブログ経費!B:B)","v":0},18643]
[null,null,0,0,0,0,0,0,{"$error":"#DIV/0!"},{"$f":"SUM(B$3:B1178)","v":18643},null,0,null,0,null,0,null,null,0,{"$f":"SUMIF(ブログ経費!A:A,\"<=\"&A1178,ブログ経費!B:B)","v":0},18643]
[null,null,0,0,0,0,0,0,{"$error":"#DIV/0!"},{"$f":"SUM(B$3:B1179)","v":18643},null,0,null,0,null,0,null,null,0,{"$f":"SUMIF(ブログ経費!A:A,\"<=\"&A1179,ブログ経費!B:B)","v":0},18643]
[null,null,0,0,0,0,0,0,{"$error":"#DIV/0!"},{"$f":"SUM(B$3:B1180)","v":18643},null,0,null,0,null,0,null,null,0,{"$f":"SUMIF(ブログ経費!A:A,\"<=\"&A1180,ブログ経費!B:B)","v":0},18643]
[null,null,0,0,0,0,0,0,{"$error":"#DIV/0!"},{"$f":"SUM(B$3:B1181)","v":18643},null,0,null,0,null,0,null,null,0,{"$f":"SUMIF(ブログ経費!A:A,\"<=\"&A1181,ブログ経費!B:B)","v":0},18643]
[null,null,0,0,0,0,0,0,{"$error":"#DIV/0!"},{"$f":"SUM(B$3:B1182)","v":18643},null,0,null,0,null,0,null,null,0,{"$f":"SUMIF(ブログ経費!A:A,\"<=\"&A1182,ブログ経費!B:B)","v":0},18643]
[null,null,0,0,0,0,0,0,{"$error":"#DIV/0!"},{"$f":"SUM(B$3:B1183)","v":18643},null,0,null,0,null,0,null,null,0,{"$f":"SUMIF(ブログ経費!A:A,\"<=\"&A1183,ブログ経費!B:B)","v":0},18643]
[null,null,0,0,0,0,0,0,{"$error":"#DIV/0!"},{"$f":"SUM(B$3:B1184)","v":18643},null,0,null,0,null,0,null,null,0,{"$f":"SUMIF(ブログ経費!A:A,\"<=\"&A1184,ブログ経費!B:B)","v":0},18643]
[null,null,0,0,0,0,0,0,{"$error":"#DIV/0!"},{"$f":"SUM(B$3:B1185)","v":18643},null,0,null,0,null,0,null,null,0,{"$f":"SUMIF(ブログ経費!A:A,\"<=\"&A1185,ブログ経費!B:B)","v":0},18643]
[null,null,0,0,0,0,0,0,{"$error":"#DIV/0!"},{"$f":"SUM(B$3:B1186)","v":18643},null,0,null,0,null,0,null,null,0,{"$f":"SUMIF(ブログ経費!A:A,\"<=\"&A1186,ブログ経費!B:B)","v":0},18643]
[null,null,0,0,0,0,0,0,{"$error":"#DIV/0!"},{"$f":"SUM(B$3:B1187)","v":18643},null,0,null,0,null,0,null,null,0,{"$f":"SUMIF(ブログ経費!A:A,\"<=\"&A1187,ブログ経費!B:B)","v":0},18643]
[null,null,0,0,0,0,0,0,{"$error":"#DIV/0!"},{"$f":"SUM(B$3:B1188)","v":18643},null,0,null,0,null,0,null,null,0,{"$f":"SUMIF(ブログ経費!A:A,\"<=\"&A1188,ブログ経費!B:B)","v":0},18643]
[null,null,0,0,0,0,0,0,{"$error":"#DIV/0!"},{"$f":"SUM(B$3:B1189)","v":18643},null,0,null,0,null,0,null,null,0,{"$f":"SUMIF(ブログ経費!A:A,\"<=\"&A1189,ブログ経費!B:B)","v":0},18643]
[null,null,0,0,0,0,0,0,{"$error":"#DIV/0!"},{"$f":"SUM(B$3:B1190)","v":18643},null,0,null,0,null,0,null,null,0,{"$f":"SUMIF(ブログ経費!A:A,\"<=\"&A1190,ブログ経費!B:B)","v":0},18643]
[null,null,0,0,0,0,0,0,{"$error":"#DIV/0!"},{"$f":"SUM(B$3:B1191)","v":18643},null,0,null,0,null,0,null,null,0,{"$f":"SUMIF(ブログ経費!A:A,\"<=\"&A1191,ブログ経費!B:B)","v":0},18643]
[null,null,0,0,0,0,0,0,{"$error":"#DIV/0!"},{"$f":"SUM(B$3:B1192)","v":18643},null,0,null,0,null,0,null,null,0,{"$f":"SUMIF(ブログ経費!A:A,\"<=\"&A1192,ブログ経費!B:B)","v":0},18643]
[null,null,0,0,0,0,0,0,{"$error":"#DIV/0!"},{"$f":"SUM(B$3:B1193)","v":18643},null,0,null,0,null,0,null,null,0,{"$f":"SUMIF(ブログ経費!A:A,\"<=\"&A1193,ブログ経費!B:B)","v":0},18643]
[null,null,0,0,0,0,0,0,{"$error":"#DIV/0!"},{"$f":"SUM(B$3:B1194)","v":18643},null,0,null,0,null,0,null,null,0,{"$f":"SUMIF(ブログ経費!A:A,\"<=\"&A1194,ブログ経費!B:B)","v":0},18643]
[null,null,0,0,0,0,0,0,{"$error":"#DIV/0!"},{"$f":"SUM(B$3:B1195)","v":18643},null,0,null,0,null,0,null,null,0,{"$f":"SUMIF(ブログ経費!A:A,\"<=\"&A1195,ブログ経費!B:B)","v":0},18643]
[null,null,0,0,0,0,0,0,{"$error":"#DIV/0!"},{"$f":"SUM(B$3:B1196)","v":18643},null,0,null,0,null,0,null,null,0,{"$f":"SUMIF(ブログ経費!A:A,\"<=\"&A1196,ブログ経費!B:B)","v":0},18643]
[null,null,0,0,0,0,0,0,{"$error":"#DIV/0!"},{"$f":"SUM(B$3:B1197)","v":18643},null,0,null,0,null,0,null,null,0,{"$f":"SUMIF(ブログ経費!A:A,\"<=\"&A1197,ブログ経費!B:B)","v":0},18643]
[null,null,0,0,0,0,0,0,{"$error":"#DIV/0!"},{"$f":"SUM(B$3:B1198)","v":18643},null,0,null,0,null,0,null,null,0,{"$f":"SUMIF(ブログ経費!A:A,\"<=\"&A1198,ブログ経費!B:B)","v":0},18643]
[null,null,0,0,0,0,0,0,{"$error":"#DIV/0!"},{"$f":"SUM(B$3:B1199)","v":18643},null,0,null,0,null,0,null,null,0,{"$f":"SUMIF(ブログ経費!A:A,\"<=\"&A1199,ブログ経費!B:B)","v":0},18643]
[null,null,0,0,0,0,0,0,{"$error":"#DIV/0!"},{"$f":"SUM(B$3:B1200)","v":18643},null,0,null,0,null,0,null,null,0,{"$f":"SUMIF(ブログ経費!A:A,\"<=\"&A1200,ブログ経費!B:B)","v":0},18643]
[null,null,0,0,0,0,0,0,{"$error":"#DIV/0!"},{"$f":"SUM(B$3:B1201)","v":18643},null,0,null,0,null,0,null,null,0,{"$f":"SUMIF(ブログ経費!A:A,\"<=\"&A1201,ブログ経費!B:B)","v":0},18643]
[null,null,0,0,0,0,0,0,{"$error":"#DIV/0!"},{"$f":"SUM(B$3:B1202)","v":18643},null,0,null,0,null,0,null,null,0,{"$f":"SUMIF(ブログ経費!A:A,\"<=\"&A1202,ブログ経費!B:B)","v":0},18643]
[null,null,0,0,0,0,{"$f":"SUM(B1144:B1173)","v":0},0,{"$error":"#DIV/0!"},{"$f":"SUM(B$3:B1203)","v":18643},null,0,null,0,null,0,null,null,{"$f":"R1203-R1196","v":0},{"$f":"SUMIF(ブログ経費!A:A,\"<=\"&A1203,ブログ経費!B:B)","v":0},18643]
[null,null,0,0,0,0,0,0,{"$error":"#DIV/0!"},{"$f":"SUM(B$3:B1204)","v":18643},null,{"$f":"K1204-K1203","v":0},null,0,null,0,null,null,0,{"$f":"SUMIF(ブログ経費!A:A,\"<=\"&A1204,ブログ経費!B:B)","v":0},18643]
[null,null,0,0,0,0,0,0,{"$error":"#DIV/0!"},{"$f":"SUM(B$3:B1205)","v":18643},null,0,null,0,null,0,null,null,0,{"$f":"SUMIF(ブログ経費!A:A,\"<=\"&A1205,ブログ経費!B:B)","v":0},18643]
[null,null,0,0,0,0,0,0,{"$error":"#DIV/0!"},{"$f":"SUM(B$3:B1206)","v":18643},null,0,null,0,null,0,null,null,0,{"$f":"SUMIF(ブログ経費!A:A,\"<=\"&A1206,ブログ経費!B:B)","v":0},18643]
[null,null,0,0,0,0,0,0,{"$error":"#DIV/0!"},{"$f":"SUM(B$3:B1207)","v":18643},null,0,null,0,null,0,null,null,0,{"$f":"SUMIF(ブログ経費!A:A,\"<=\"&A1207,ブログ経費!B:B)","v":0},18643]
[null,null,0,0,0,0,0,0,{"$error":"#DIV/0!"},{"$f":"SUM(B$3:B1208)","v":18643},null,0,null,0,null,0,null,null,0,{"$f":"SUMIF(ブログ経費!A:A,\"<=\"&A1208,ブログ経費!B:B)","v":0},18643]
[null,null,0,0,0,0,0,0,{"$error":"#DIV/0!"},{"$f":"SUM(B$3:B1209)","v":18643},null,0,null,0,null,0,null,null,0,{"$f":"SUMIF(ブログ経費!A:A,\"<=\"&A1209,ブログ経費!B:B)","v":0},18643]
[null,null,0,0,0,0,0,0,{"$error":"#DIV/0!"},{"$f":"SUM(B$3:B1210)","v":18643},null,0,null,0,null,0,null,null,0,{"$f":"SUMIF(ブログ経費!A:A,\"<=\"&A1210,ブログ経費!B:B)","v":0},18643]
[null,null,0,0,0,0,0,0,{"$error":"#DIV/0!"},{"$f":"SUM(B$3:B1211)","v":18643},null,0,null,0,null,0,null,null,0,{"$f":"SUMIF(ブログ経費!A:A,\"<=\"&A1211,ブログ経費!B:B)","v":0},18643]
[null,null,0,0,0,0,0,0,{"$error":"#DIV/0!"},{"$f":"SUM(B$3:B1212)","v":18643},null,0,null,0,null,0,null,null,0,{"$f":"SUMIF(ブログ経費!A:A,\"<=\"&A1212,ブログ経費!B:B)","v":0},18643]
[null,null,0,0,0,0,0,0,{"$error":"#DIV/0!"},{"$f":"SUM(B$3:B1213)","v":18643},null,0,null,0,null,0,null,null,0,{"$f":"SUMIF(ブログ経費!A:A,\"<=\"&A1213,ブログ経費!B:B)","v":0},18643]
[null,null,0,0,0,{"$f":"SUM(B1185:B1214)","v":0},0,{"$f":"F1214-G1214","v":0},{"$f":"H1214/G1214","v":{"$error":"#DIV/0!"}},{"$f":"SUM(B$3:B1214)","v":18643},null,0,null,0,null,0,null,null,0,{"$f":"SUMIF(ブログ経費!A:A,\"<=\"&A1214,ブログ経費!B:B)","v":0},18643]
[null,null,0,0,0,0,0,0,{"$error":"#DIV/0!"},{"$f":"SUM(B$3:B1215)","v":18643},null,0,null,0,null,0,null,null,0,{"$f":"SUMIF(ブログ経費!A:A,\"<=\"&A1215,ブログ経費!B:B)","v":0},18643]
[null,null,0,0,0,0,0,0,{"$error":"#DIV/0!"},{"$f":"SUM(B$3:B1216)","v":18643},null,0,null,0,null,0,null,null,0,{"$f":"SUMIF(ブログ経費!A:A,\"<=\"&A1216,ブログ経費!B:B)","v":0},18643]
[null,null,0,0,0,0,0,0,{"$error":"#DIV/0!"},{"$f":"SUM(B$3:B1217)","v":18643},null,0,null,0,null,0,null,null,0,{"$f":"SUMIF(ブログ経費!A:A,\"<=\"&A1217,ブログ経費!B:B)","v":0},18643]
[null,null,0,{"$f":"SUM(B1212:B1218)","v":0},0,0,0,0,{"$error":"#DIV/0!"},{"$f":"SUM(B$3:B1218)","v":18643},null,0,null,0,null,0,null,null,0,{"$f":"SUMIF(ブログ経費!A:A,\"<=\"&A1218,ブログ経費!B:B)","v":0},18643]
[null,null,0,0,{"$f":"D1219-D1212","v":0},0,0,0,{"$error":"#DIV/0!"},{"$f":"SUM(B$3:B1219)","v":18643},null,0,null,{"$f":"M1219-M1212","v":0},null,0,null,null,0,{"$f":"SUMIF(ブログ経費!A:A,\"<=\"&A1219,ブログ経費!B:B)","v":0},{"$f":"J1219-T1219","v":18643}]
[null,null,0,0,0,0,0,0,{"$error":"#DIV/0!"},{"$f":"SUM(B$3:B1220)","v":18643},null,0,null,0,null,0,null,null,0,{"$f":"SUMIF(ブログ経費!A:A,\"<=\"&A1220,ブログ経費!B:B)","v":0},18643]
[null,null,{"$f":"B1221-B1220","v":0},0,0,0,0,0,{"$error":"#DIV/0!"},{"$f":"SUM(B$3:B1221)","v":18643},null,0,null,0,null,0,null,null,0,{"$f":"SUMIF(ブログ経費!A:A,\"<=\"&A1221,ブログ経費!B:B)","v":0},18643]
[null,null,0,0,0,0,0,0,{"$error":"#DIV/0!"},{"$f":"SUM(B$3:B1222)","v":18643},null,0,null,0,null,0,null,null,0,{"$f":"SUMIF(ブログ経費!A:A,\"<=\"&A1222,ブログ経費!B:B)","v":0},18643]
[null,null,0,0,0,0,0,0,{"$error":"#DIV/0!"},{"$f":"SUM(B$3:B1223)","v":18643},null,0,null,0,null,0,null,null,0,{"$f":"SUMIF(ブログ経費!A:A,\"<=\"&A1223,ブログ経費!B:B)","v":0},18643]
[null,null,0,0,0,0,0,0,{"$error":"#DIV/0!"},{"$f":"SUM(B$3:B1224)","v":18643},null,0,null,0,null,0,null,null,0,{"$f":"SUMIF(ブログ経費!A:A,\"<=\"&A1224,ブログ経費!B:B)","v":0},18643]
[null,null,0,0,0,0,0,0,{"$error":"#DIV/0!"},{"$f":"SUM(B$3:B1225)","v":18643},null,0,null,0,null,0,null,null,0,{"$f":"SUMIF(ブログ経費!A:A,\"<=\"&A1225,ブログ経費!B:B)","v":0},18643]
[null,null,0,0,0,0,0,0,{"$error":"#DIV/0!"},{"$f":"SUM(B$3:B1226)","v":18643},null,0,null,0,null,0,null,null,0,{"$f":"SUMIF(ブログ経費!A:A,\"<=\"&A1226,ブログ経費!B:B)","v":0},18643]
[null,null,0,0,0,0,0,0,{"$error":"#DIV/0!"},{"$f":"SUM(B$3:B1227)","v":18643},null,0,null,0,null,0,null,null,0,{"$f":"SUMIF(ブログ経費!A:A,\"<=\"&A1227,ブログ経費!B:B)","v":0},18643]
[null,null,0,0,0,0,0,0,{"$error":"#DIV/0!"},{"$f":"SUM(B$3:B1228)","v":18643},null,0,null,0,null,0,null,null,0,{"$f":"SUMIF(ブログ経費!A:A,\"<=\"&A1228,ブログ経費!B:B)","v":0},18643]
[null,null,0,0,0,0,0,0,{"$error":"#DIV/0!"},{"$f":"SUM(B$3:B1229)","v":18643},null,0,null,0,null,0,null,null,0,{"$f":"SUMIF(ブログ経費!A:A,\"<=\"&A1229,ブログ経費!B:B)","v":0},18643]
[null,null,0,0,0,0,0,0,{"$error":"#DIV/0!"},{"$f":"SUM(B$3:B1230)","v":18643},null,0,null,0,null,0,null,null,0,{"$f":"SUMIF(ブログ経費!A:A,\"<=\"&A1230,ブログ経費!B:B)","v":0},18643]
[null,null,0,0,0,0,0,0,{"$error":"#DIV/0!"},{"$f":"SUM(B$3:B1231)","v":18643},null,0,null,0,null,0,null,null,0,{"$f":"SUMIF(ブログ経費!A:A,\"<=\"&A1231,ブログ経費!B:B)","v":0},18643]
[null,null,0,0,0,0,0,0,{"$error":"#DIV/0!"},{"$f":"SUM(B$3:B1232)","v":18643},null,0,null,0,null,0,null,null,0,{"$f":"SUMIF(ブログ経費!A:A,\"<=\"&A1232,ブログ経費!B:B)","v":0},18643]
[null,null,0,0,0,0,0,0,{"$error":"#DIV/0!"},{"$f":"SUM(B$3:B1233)","v":18643},null,0,null,0,null,{"$f":"(O1233-O1203)","v":0},null,null,0,{"$f":"SUMIF(ブログ経費!A:A,\"<=\"&A1233,ブログ経費!B:B)","v":0},18643]
[null,null,0,0,0,0,0,0,{"$error":"#DIV/0!"},{"$f":"SUM(B$3:B1234)","v":18643},null,0,null,0,null,0,null,null,0,{"$f":"SUMIF(ブログ経費!A:A,\"<=\"&A1234,ブログ経費!B:B)","v":0},18643]
[null,null,0,0,0,0,0,0,{"$error":"#DIV/0!"},{"$f":"SUM(B$3:B1235)","v":18643},null,0,null,0,null,0,null,null,0,{"$f":"SUMIF(ブログ経費!A:A,\"<=\"&A1235,ブログ経費!B:B)","v":0},18643]
[null,null,0,0,0,0,0,0,{"$error":"#DIV/0!"},{"$f":"SUM(B$3:B1236)","v":18643},null,0,null,0,null,0,null,null,0,{"$f":"SUMIF(ブログ経費!A:A,\"<=\"&A1236,ブログ経費!B:B)","v":0},18643]
[null,null,0,0,0,0,0,0,{"$error":"#DIV/0!"},{"$f":"SUM(B$3:B1237)","v":18643},null,0,null,0,null,0,null,null,0,{"$f":"SUMIF(ブログ経費!A:A,\"<=\"&A1237,ブログ経費!B:B)","v":0},18643]
[null,null,0,0,0,0,0,0,{"$error":"#DIV/0!"},{"$f":"SUM(B$3:B1238)","v":18643},null,0,null,0,null,0,null,null,0,{"$f":"SUMIF(ブログ経費!A:A,\"<=\"&A1238,ブログ経費!B:B)","v":0},18643]
[null,null,0,0,0,0,0,0,{"$error":"#DIV/0!"},{"$f":"SUM(B$3:B1239)","v":18643},null,0,null,0,null,0,null,null,0,{"$f":"SUMIF(ブログ経費!A:A,\"<=\"&A1239,ブログ経費!B:B)","v":0},18643]
[null,null,0,0,0,0,0,0,{"$error":"#DIV/0!"},{"$f":"SUM(B$3:B1240)","v":18643},null,0,null,0,null,0,null,null,0,{"$f":"SUMIF(ブログ経費!A:A,\"<=\"&A1240,ブログ経費!B:B)","v":0},18643]
[null,null,0,0,0,0,0,0,{"$error":"#DIV/0!"},{"$f":"SUM(B$3:B1241)","v":18643},null,0,null,0,null,0,null,null,0,{"$f":"SUMIF(ブログ経費!A:A,\"<=\"&A1241,ブログ経費!B:B)","v":0},18643]
[null,null,0,0,0,0,0,0,{"$error":"#DIV/0!"},{"$f":"SUM(B$3:B1242)","v":18643},null,0,null,0,null,0,null,null,0,{"$f":"SUMIF(ブログ経費!A:A,\"<=\"&A1242,ブログ経費!B:B)","v":0},18643]
[null,null,0,0,0,0,0,0,{"$error":"#DIV/0!"},{"$f":"SUM(B$3:B1243)","v":18643},null,0,null,0,null,0,null,null,0,{"$f":"SUMIF(ブログ経費!A:A,\"<=\"&A1243,ブログ経費!B:B)","v":0},18643]
[null,null,0,0,0,0,0,0,{"$error":"#DIV/0!"},{"$f":"SUM(B$3:B1244)","v":18643},null,0,null,0,null,0,null,null,0,{"$f":"SUMIF(ブログ経費!A:A,\"<=\"&A1244,ブログ経費!B:B)","v":0},18643]
[null,null,0,0,0,0,0,0,{"$error":"#DIV/0!"},{"$f":"SUM(B$3:B1245)","v":18643},null,0,null,0,null,0,null,null,0,{"$f":"SUMIF(ブログ経費!A:A,\"<=\"&A1245,ブログ経費!B:B)","v":0},18643]
[null,null,0,0,0,0,0,0,{"$error":"#DIV/0!"},{"$f":"SUM(B$3:B1246)","v":18643},null,0,null,0,null,0,null,null,0,{"$f":"SUMIF(ブログ経費!A:A,\"<=\"&A1246,ブログ経費!B:B)","v":0},18643]
[null,null,0,0,0,0,0,0,{"$error":"#DIV/0!"},{"$f":"SUM(B$3:B1247)","v":18643},null,0,null,0,null,0,null,null,0,{"$f":"SUMIF(ブログ経費!A:A,\"<=\"&A1247,ブログ経費!B:B)","v":0},18643]
[null,null,0,0,0,0,0,0,{"$error":"#DIV/0!"},{"$f":"SUM(B$3:B1248)","v":18643},null,0,null,0,null,0,null,null,0,{"$f":"SUMIF(ブログ経費!A:A,\"<=\"&A1248,ブログ経費!B:B)","v":0},18643]
[null,null,0,0,0,0,0,0,{"$error":"#DIV/0!"},{"$f":"SUM(B$3:B1249)","v":18643},null,0,null,0,null,0,null,null,0,{"$f":"SUMIF(ブログ経費!A:A,\"<=\"&A1249,ブログ経費!B:B)","v":0},18643]
[null,null,0,0,0,0,0,0,{"$error":"#DIV/0!"},{"$f":"SUM(B$3:B1250)","v":18643},null,0,null,0,null,0,null,null,0,{"$f":"SUMIF(ブログ経費!A:A,\"<=\"&A1250,ブログ経費!B:B)","v":0},18643]
[null,null,0,0,0,0,0,0,{"$error":"#DIV/0!"},{"$f":"SUM(B$3:B1251)","v":18643},null,0,null,0,null,0,null,null,0,{"$f":"SUMIF(ブログ経費!A:A,\"<=\"&A1251,ブログ経費!B:B)","v":0},18643]
[null,null,0,0,0,0,0,0,{"$error":"#DIV/0!"},{"$f":"SUM(B$3:B1252)","v":18643},null,0,null,0,null,0,null,null,0,{"$f":"SUMIF(ブログ経費!A:A,\"<=\"&A1252,ブログ経費!B:B)","v":0},18643]
[null,null,0,0,0,0,0,0,{"$error":"#DIV/0!"},{"$f":"SUM(B$3:B1253)","v":18643},null,0,null,0,null,0,null,null,0,{"$f":"SUMIF(ブログ経費!A:A,\"<=\"&A1253,ブログ経費!B:B)","v":0},18643]
[null,null,0,0,0,0,0,0,{"$error":"#DIV/0!"},{"$f":"SUM(B$3:B1254)","v":18643},null,0,null,0,null,0,null,null,0,{"$f":"SUMIF(ブログ経費!A:A,\"<=\"&A1254,ブログ経費!B:B)","v":0},18643]
[null,null,0,0,0,0,0,0,{"$error":"#DIV/0!"},{"$f":"SUM(B$3:B1255)","v":18643},null,0,null,0,null,0,null,null,0,{"$f":"SUMIF(ブログ経費!A:A,\"<=\"&A1255,ブログ経費!B:B)","v":0},18643]
[null,null,0,0,0,0,0,0,{"$error":"#DIV/0!"},{"$f":"SUM(B$3:B1256)","v":18643},null,0,null,0,null,0,null,null,0,{"$f":"SUMIF(ブログ経費!A:A,\"<=\"&A1256,ブログ経費!B:B)","v":0},18643]
[null,null,0,0,0,0,0,0,{"$error":"#DIV/0!"},{"$f":"SUM(B$3:B1257)","v":18643},null,0,null,0,null,0,null,null,0,{"$f":"SUMIF(ブログ経費!A:A,\"<=\"&A1257,ブログ経費!B:B)","v":0},18643]
[null,null,0,0,0,0,0,0,{"$error":"#DIV/0!"},{"$f":"SUM(B$3:B1258)","v":18643},null,0,null,0,null,0,null,null,0,{"$f":"SUMIF(ブログ経費!A:A,\"<=\"&A1258,ブログ経費!B:B)","v":0},18643]
[null,null,0,0,0,0,0,0,{"$error":"#DIV/0!"},{"$f":"SUM(B$3:B1259)","v":18643},null,0,null,0,null,0,null,null,0,{"$f":"SUMIF(ブログ経費!A:A,\"<=\"&A1259,ブログ経費!B:B)","v":0},18643]
[null,null,0,0,0,0,0,0,{"$error":"#DIV/0!"},{"$f":"SUM(B$3:B1260)","v":18643},null,0,null,0,null,0,null,null,0,{"$f":"SUMIF(ブログ経費!A:A,\"<=\"&A1260,ブログ経費!B:B)","v":0},18643]
[null,null,0,0,0,0,0,0,{"$error":"#DIV/0!"},{"$f":"SUM(B$3:B1261)","v":18643},null,0,null,0,null,0,null,null,0,{"$f":"SUMIF(ブログ経費!A:A,\"<=\"&A1261,ブログ経費!B:B)","v":0},18643]
[null,null,0,0,0,0,0,0,{"$error":"#DIV/0!"},{"$f":"SUM(B$3:B1262)","v":18643},null,0,null,0,null,0,null,null,0,{"$f":"SUMIF(ブログ経費!A:A,\"<=\"&A1262,ブログ経費!B:B)","v":0},18643]
[null,null,0,0,0,0,0,0,{"$error":"#DIV/0!"},{"$f":"SUM(B$3:B1263)","v":18643},null,0,null,0,null,0,null,null,0,{"$f":"SUMIF(ブログ経費!A:A,\"<=\"&A1263,ブログ経費!B:B)","v":0},18643]
[null,null,0,0,0,0,0,0,{"$error":"#DIV/0!"},{"$f":"SUM(B$3:B1264)","v":18643},null,0,null,0,null,0,null,null,0,{"$f":"SUMIF(ブログ経費!A:A,\"<=\"&A1264,ブログ経費!B:B)","v":0},18643]
[null,null,0,0,0,0,0,0,{"$error":"#DIV/0!"},{"$f":"SUM(B$3:B1265)","v":18643},null,0,null,0,null,0,null,null,0,{"$f":"SUMIF(ブログ経費!A:A,\"<=\"&A1265,ブログ経費!B:B)","v":0},18643]
[null,null,0,0,0,0,0,0,{"$error":"#DIV/0!"},{"$f":"SUM(B$3:B1266)","v":18643},null,0,null,0,null,0,null,null,0,{"$f":"SUMIF(ブログ経費!A:A,\"<=\"&A1266,ブログ経費!B:B)","v":0},18643]
[null,null,0,0,0,0,{"$f":"SUM(B1208:B1237)","v":0},0,{"$error":"#DIV/0!"},{"$f":"SUM(B$3:B1267)","v":18643},null,0,null,0,null,0,null,null,{"$f":"R1267-R1260","v":0},{"$f":"SUMIF(ブログ経費!A:A,\"<=\"&A1267,ブログ経費!B:B)","v":0},18643]
[null,null,0,0,0,0,0,0,{"$error":"#DIV/0!"},{"$f":"SUM(B$3:B1268)","v":18643},null,{"$f":"K1268-K1267","v":0},null,0,null,0,null,null,0,{"$f":"SUMIF(ブログ経費!A:A,\"<=\"&A1268,ブログ経費!B:B)","v":0},18643]
[null,null,0,0,0,0,0,0,{"$error":"#DIV/0!"},{"$f":"SUM(B$3:B1269)","v":18643},null,0,null,0,null,0,null,null,0,{"$f":"SUMIF(ブログ経費!A:A,\"<=\"&A1269,ブログ経費!B:B)","v":0},18643]
[null,null,0,0,0,0,0,0,{"$error":"#DIV/0!"},{"$f":"SUM(B$3:B1270)","v":18643},null,0,null,0,null,0,null,null,0,{"$f":"SUMIF(ブログ経費!A:A,\"<=\"&A1270,ブログ経費!B:B)","v":0},18643]
[null,null,0,0,0,0,0,0,{"$error":"#DIV/0!"},{"$f":"SUM(B$3:B1271)","v":18643},null,0,null,0,null,0,null,null,0,{"$f":"SUMIF(ブログ経費!A:A,\"<=\"&A1271,ブログ経費!B:B)","v":0},18643]
[null,null,0,0,0,0,0,0,{"$error":"#DIV/0!"},{"$f":"SUM(B$3:B1272)","v":18643},null,0,null,0,null,0,null,null,0,{"$f":"SUMIF(ブログ経費!A:A,\"<=\"&A1272,ブログ経費!B:B)","v":0},18643]
[null,null,0,0,0,0,0,0,{"$error":"#DIV/0!"},{"$f":"SUM(B$3:B1273)","v":18643},null,0,null,0,null,0,null,null,0,{"$f":"SUMIF(ブログ経費!A:A,\"<=\"&A1273,ブログ経費!B:B)","v":0},18643]
[null,null,0,0,0,0,0,0,{"$error":"#DIV/0!"},{"$f":"SUM(B$3:B1274)","v":18643},null,0,null,0,null,0,null,null,0,{"$f":"SUMIF(ブログ経費!A:A,\"<=\"&A1274,ブログ経費!B:B)","v":0},18643]
[null,null,0,0,0,0,0,0,{"$error":"#DIV/0!"},{"$f":"SUM(B$3:B1275)","v":18643},null,0,null,0,null,0,null,null,0,{"$f":"SUMIF(ブログ経費!A:A,\"<=\"&A1275,ブログ経費!B:B)","v":0},18643]
[null,null,0,0,0,0,0,0,{"$error":"#DIV/0!"},{"$f":"SUM(B$3:B1276)","v":18643},null,0,null,0,null,0,null,null,0,{"$f":"SUMIF(ブログ経費!A:A,\"<=\"&A1276,ブログ経費!B:B)","v":0},18643]
[null,null,0,0,0,0,0,0,{"$error":"#DIV/0!"},{"$f":"SUM(B$3:B1277)","v":18643},null,0,null,0,null,0,null,null,0,{"$f":"SUMIF(ブログ経費!A:A,\"<=\"&A1277,ブログ経費!B:B)","v":0},18643]
[null,null,0,0,0,{"$f":"SUM(B1249:B1278)","v":0},0,{"$f":"F1278-G1278","v":0},{"$f":"H1278/G1278","v":{"$error":"#DIV/0!"}},{"$f":"SUM(B$3:B1278)","v":18643},null,0,null,0,null,0,null,null,0,{"$f":"SUMIF(ブログ経費!A:A,\"<=\"&A1278,ブログ経費!B:B)","v":0},18643]
[null,null,0,0,0,0,0,0,{"$error":"#DIV/0!"},{"$f":"SUM(B$3:B1279)","v":18643},null,0,null,0,null,0,null,null,0,{"$f":"SUMIF(ブログ経費!A:A,\"<=\"&A1279,ブログ経費!B:B)","v":0},18643]
[null,null,0,0,0,0,0,0,{"$error":"#DIV/0!"},{"$f":"SUM(B$3:B1280)","v":18643},null,0,null,0,null,0,null,null,0,{"$f":"SUMIF(ブログ経費!A:A,\"<=\"&A1280,ブログ経費!B:B)","v":0},18643]
[null,null,0,0,0,0,0,0,{"$error":"#DIV/0!"},{"$f":"SUM(B$3:B1281)","v":18643},null,0,null,0,null,0,null,null,0,{"$f":"SUMIF(ブログ経費!A:A,\"<=\"&A1281,ブログ経費!B:B)","v":0},18643]
[null,null,0,{"$f":"SUM(B1276:B1282)","v":0},0,0,0,0,{"$error":"#DIV/0!"},{"$f":"SUM(B$3:B1282)","v":18643},null,0,null,0,null,0,null,null,0,{"$f":"SUMIF(ブログ経費!A:A,\"<=\"&A1282,ブログ経費!B:B)","v":0},18643]
[null,null,0,0,{"$f":"D1283-D1276","v":0},0,0,0,{"$error":"#DIV/0!"},{"$f":"SUM(B$3:B1283)","v":18643},null,0,null,{"$f":"M1283-M1276","v":0},null,0,null,null,0,{"$f":"SUMIF(ブログ経費!A:A,\"<=\"&A1283,ブログ経費!B:B)","v":0},{"$f":"J1283-T1283","v":18643}]
[null,null,0,0,0,0,0,0,{"$error":"#DIV/0!"},{"$f":"SUM(B$3:B1284)","v":18643},null,0,null,0,null,0,null,null,0,{"$f":"SUMIF(ブログ経費!A:A,\"<=\"&A1284,ブログ経費!B:B)","v":0},18643]
[null,null,{"$f":"B1285-B1284","v":0},0,0,0,0,0,{"$error":"#DIV/0!"},{"$f":"SUM(B$3:B1285)","v":18643},null,0,null,0,null,0,null,null,0,{"$f":"SUMIF(ブログ経費!A:A,\"<=\"&A1285,ブログ経費!B:B)","v":0},18643]
[null,null,0,0,0,0,0,0,{"$error":"#DIV/0!"},{"$f":"SUM(B$3:B1286)","v":18643},null,0,null,0,null,0,null,null,0,{"$f":"SUMIF(ブログ経費!A:A,\"<=\"&A1286,ブログ経費!B:B)","v":0},18643]
[null,null,0,0,0,0,0,0,{"$error":"#DIV/0!"},{"$f":"SUM(B$3:B1287)","v":18643},null,0,null,0,null,0,null,null,0,{"$f":"SUMIF(ブログ経費!A:A,\"<=\"&A1287,ブログ経費!B:B)","v":0},18643]
[null,null,0,0,0,0,0,0,{"$error":"#DIV/0!"},{"$f":"SUM(B$3:B1288)","v":18643},null,0,null,0,null,0,null,null,0,{"$f":"SUMIF(ブログ経費!A:A,\"<=\"&A1288,ブログ経費!B:B)","v":0},18643]
[null,null,0,0,0,0,0,0,{"$error":"#DIV/0!"},{"$f":"SUM(B$3:B1289)","v":18643},null,0,null,0,null,0,null,null,0,{"$f":"SUMIF(ブログ経費!A:A,\"<=\"&A1289,ブログ経費!B:B)","v":0},18643]
[null,null,0,0,0,0,0,0,{"$error":"#DIV/0!"},{"$f":"SUM(B$3:B1290)","v":18643},null,0,null,0,null,0,null,null,0,{"$f":"SUMIF(ブログ経費!A:A,\"<=\"&A1290,ブログ経費!B:B)","v":0},18643]
[null,null,0,0,0,0,0,0,{"$error":"#DIV/0!"},{"$f":"SUM(B$3:B1291)","v":18643},null,0,null,0,null,0,null,null,0,{"$f":"SUMIF(ブログ経費!A:A,\"<=\"&A1291,ブログ経費!B:B)","v":0},18643]
[null,null,0,0,0,0,0,0,{"$error":"#DIV/0!"},{"$f":"SUM(B$3:B1292)","v":18643},null,0,null,0,null,0,null,null,0,{"$f":"SUMIF(ブログ経費!A:A,\"<=\"&A1292,ブログ経費!B:B)","v":0},18643]
[null,null,0,0,0,0,0,0,{"$error":"#DIV/0!"},{"$f":"SUM(B$3:B1293)","v":18643},null,0,null,0,null,0,null,null,0,{"$f":"SUMIF(ブログ経費!A:A,\"<=\"&A1293,ブログ経費!B:B)","v":0},18643]
[null,null,0,0,0,0,0,0,{"$error":"#DIV/0!"},{"$f":"SUM(B$3:B1294)","v":18643},null,0,null,0,null,0,null,null,0,{"$f":"SUMIF(ブログ経費!A:A,\"<=\"&A1294,ブログ経費!B:B)","v":0},18643]
[null,null,0,0,0,0,0,0,{"$error":"#DIV/0!"},{"$f":"SUM(B$3:B1295)","v":18643},null,0,null,0,null,0,null,null,0,{"$f":"SUMIF(ブログ経費!A:A,\"<=\"&A1295,ブログ経費!B:B)","v":0},18643]
[null,null,0,0,0,0,0,0,{"$error":"#DIV/0!"},{"$f":"SUM(B$3:B1296)","v":18643},null,0,null,0,null,0,null,null,0,{"$f":"SUMIF(ブログ経費!A:A,\"<=\"&A1296,ブログ経費!B:B)","v":0},18643]
[null,null,0,0,0,0,0,0,{"$error":"#DIV/0!"},{"$f":"SUM(B$3:B1297)","v":18643},null,0,null,0,null,{"$f":"(O1297-O1267)","v":0},null,null,0,{"$f":"SUMIF(ブログ経費!A:A,\"<=\"&A1297,ブログ経費!B:B)","v":0},18643]
[null,null,0,0,0,0,0,0,{"$error":"#DIV/0!"},{"$f":"SUM(B$3:B1298)","v":18643},null,0,null,0,null,0,null,null,0,{"$f":"SUMIF(ブログ経費!A:A,\"<=\"&A1298,ブログ経費!B:B)","v":0},18643]
[null,null,0,0,0,0,0,0,{"$error":"#DIV/0!"},{"$f":"SUM(B$3:B1299)","v":18643},null,0,null,0,null,0,null,null,0,{"$f":"SUMIF(ブログ経費!A:A,\"<=\"&A1299,ブログ経費!B:B)","v":0},18643]
[null,null,0,0,0,0,0,0,{"$error":"#DIV/0!"},{"$f":"SUM(B$3:B1300)","v":18643},null,0,null,0,null,0,null,null,0,{"$f":"SUMIF(ブログ経費!A:A,\"<=\"&A1300,ブログ経費!B:B)","v":0},18643]
[null,null,0,0,0,0,0,0,{"$error":"#DIV/0!"},{"$f":"SUM(B$3:B1301)","v":18643},null,0,null,0,null,0,null,null,0,{"$f":"SUMIF(ブログ経費!A:A,\"<=\"&A1301,ブログ経費!B:B)","v":0},18643]
[null,null,0,0,0,0,0,0,{"$error":"#DIV/0!"},{"$f":"SUM(B$3:B1302)","v":18643},null,0,null,0,null,0,null,null,0,{"$f":"SUMIF(ブログ経費!A:A,\"<=\"&A1302,ブログ経費!B:B)","v":0},18643]
[null,null,0,0,0,0,0,0,{"$error":"#DIV/0!"},{"$f":"SUM(B$3:B1303)","v":18643},null,0,null,0,null,0,null,null,0,{"$f":"SUMIF(ブログ経費!A:A,\"<=\"&A1303,ブログ経費!B:B)","v":0},18643]
[null,null,0,0,0,0,0,0,{"$error":"#DIV/0!"},{"$f":"SUM(B$3:B1304)","v":18643},null,0,null,0,null,0,null,null,0,{"$f":"SUMIF(ブログ経費!A:A,\"<=\"&A1304,ブログ経費!B:B)","v":0},18643]
[null,null,0,0,0,0,0,0,{"$error":"#DIV/0!"},{"$f":"SUM(B$3:B1305)","v":18643},null,0,null,0,null,0,null,null,0,{"$f":"SUMIF(ブログ経費!A:A,\"<=\"&A1305,ブログ経費!B:B)","v":0},18643]
[null,null,0,0,0,0,0,0,{"$error":"#DIV/0!"},{"$f":"SUM(B$3:B1306)","v":18643},null,0,null,0,null,0,null,null,0,{"$f":"SUMIF(ブログ経費!A:A,\"<=\"&A1306,ブログ経費!B:B)","v":0},18643]
[null,null,0,0,0,0,0,0,{"$error":"#DIV/0!"},{"$f":"SUM(B$3:B1307)","v":18643},null,0,null,0,null,0,null,null,0,{"$f":"SUMIF(ブログ経費!A:A,\"<=\"&A1307,ブログ経費!B:B)","v":0},18643]
[null,null,0,0,0,0,0,0,{"$error":"#DIV/0!"},{"$f":"SUM(B$3:B1308)","v":18643},null,0,null,0,null,0,null,null,0,{"$f":"SUMIF(ブログ経費!A:A,\"<=\"&A1308,ブログ経費!B:B)","v":0},18643]
[null,null,0,0,0,0,0,0,{"$error":"#DIV/0!"},{"$f":"SUM(B$3:B1309)","v":18643},null,0,null,0,null,0,null,null,0,{"$f":"SUMIF(ブログ経費!A:A,\"<=\"&A1309,ブログ経費!B:B)","v":0},18643]
[null,null,0,0,0,0,0,0,{"$error":"#DIV/0!"},{"$f":"SUM(B$3:B1310)","v":18643},null,0,null,0,null,0,null,null,0,{"$f":"SUMIF(ブログ経費!A:A,\"<=\"&A1310,ブログ経費!B:B)","v":0},18643]
[null,null,0,0,0,0,0,0,{"$error":"#DIV/0!"},{"$f":"SUM(B$3:B1311)","v":18643},null,0,null,0,null,0,null,null,0,{"$f":"SUMIF(ブログ経費!A:A,\"<=\"&A1311,ブログ経費!B:B)","v":0},18643]
[null,null,0,0,0,0,0,0,{"$error":"#DIV/0!"},{"$f":"SUM(B$3:B1312)","v":18643},null,0,null,0,null,0,null,null,0,{"$f":"SUMIF(ブログ経費!A:A,\"<=\"&A1312,ブログ経費!B:B)","v":0},18643]
[null,null,0,0,0,0,0,0,{"$error":"#DIV/0!"},{"$f":"SUM(B$3:B1313)","v":18643},null,0,null,0,null,0,null,null,0,{"$f":"SUMIF(ブログ経費!A:A,\"<=\"&A1313,ブログ経費!B:B)","v":0},18643]
[null,null,0,0,0,0,0,0,{"$error":"#DIV/0!"},{"$f":"SUM(B$3:B1314)","v":18643},null,0,null,0,null,0,null,null,0,{"$f":"SUMIF(ブログ経費!A:A,\"<=\"&A1314,ブログ経費!B:B)","v":0},18643]
[null,null,0,0,0,0,0,0,{"$error":"#DIV/0!"},{"$f":"SUM(B$3:B1315)","v":18643},null,0,null,0,null,0,null,null,0,{"$f":"SUMIF(ブログ経費!A:A,\"<=\"&A1315,ブログ経費!B:B)","v":0},18643]
[null,null,0,0,0,0,0,0,{"$error":"#DIV/0!"},{"$f":"SUM(B$3:B1316)","v":18643},null,0,null,0,null,0,null,null,0,{"$f":"SUMIF(ブログ経費!A:A,\"<=\"&A1316,ブログ経費!B:B)","v":0},18643]
[null,null,0,0,0,0,0,0,{"$error":"#DIV/0!"},{"$f":"SUM(B$3:B1317)","v":18643},null,0,null,0,null,0,null,null,0,{"$f":"SUMIF(ブログ経費!A:A,\"<=\"&A1317,ブログ経費!B:B)","v":0},18643]
[null,null,0,0,0,0,0,0,{"$error":"#DIV/0!"},{"$f":"SUM(B$3:B1318)","v":18643},null,0,null,0,null,0,null,null,0,{"$f":"SUMIF(ブログ経費!A:A,\"<=\"&A1318,ブログ経費!B:B)","v":0},18643]
[null,null,0,0,0,0,0,0,{"$error":"#DIV/0!"},{"$f":"SUM(B$3:B1319)","v":18643},null,0,null,0,null,0,null,null,0,{"$f":"SUMIF(ブログ経費!A:A,\"<=\"&A1319,ブログ経費!B:B)","v":0},18643]
[null,null,0,0,0,0,0,0,{"$error":"#DIV/0!"},{"$f":"SUM(B$3:B1320)","v":18643},null,0,null,0,null,0,null,null,0,{"$f":"SUMIF(ブログ経費!A:A,\"<=\"&A1320,ブログ経費!B:B)","v":0},18643]
[null,null,0,0,0,0,0,0,{"$error":"#DIV/0!"},{"$f":"SUM(B$3:B1321)","v":18643},null,0,null,0,null,0,null,null,0,{"$f":"SUMIF(ブログ経費!A:A,\"<=\"&A1321,ブログ経費!B:B)","v":0},18643]
[null,null,0,0,0,0,0,0,{"$error":"#DIV/0!"},{"$f":"SUM(B$3:B1322)","v":18643},null,0,null,0,null,0,null,null,0,{"$f":"SUMIF(ブログ経費!A:A,\"<=\"&A1322,ブログ経費!B:B)","v":0},18643]
[null,null,0,0,0,0,0,0,{"$error":"#DIV/0!"},{"$f":"SUM(B$3:B1323)","v":18643},null,0,null,0,null,0,null,null,0,{"$f":"SUMIF(ブログ経費!A:A,\"<=\"&A1323,ブログ経費!B:B)","v":0},18643]
[null,null,0,0,0,0,0,0,{"$error":"#DIV/0!"},{"$f":"SUM(B$3:B1324)","v":18643},null,0,null,0,null,0,null,null,0,{"$f":"SUMIF(ブログ経費!A:A,\"<=\"&A1324,ブログ経費!B:B)","v":0},18643]
[null,null,0,0,0,0,0,0,{"$error":"#DIV/0!"},{"$f":"SUM(B$3:B1325)","v":18643},null,0,null,0,null,0,null,null,0,{"$f":"SUMIF(ブログ経費!A:A,\"<=\"&A1325,ブログ経費!B:B)","v":0},18643]
[null,null,0,0,0,0,0,0,{"$error":"#DIV/0!"},{"$f":"SUM(B$3:B1326)","v":18643},null,0,null,0,null,0,null,null,0,{"$f":"SUMIF(ブログ経費!A:A,\"<=\"&A1326,ブログ経費!B:B)","v":0},18643]
[null,null,0,0,0,0,0,0,{"$error":"#DIV/0!"},{"$f":"SUM(B$3:B1327)","v":18643},null,0,null,0,null,0,null,null,0,{"$f":"SUMIF(ブログ経費!A:A,\"<=\"&A1327,ブログ経費!B:B)","v":0},18643]
[null,null,0,0,0,0,0,0,{"$error":"#DIV/0!"},{"$f":"SUM(B$3:B1328)","v":18643},null,0,null,0,null,0,null,null,0,{"$f":"SUMIF(ブログ経費!A:A,\"<=\"&A1328,ブログ経費!B:B)","v":0},18643]
[null,null,0,0,0,0,0,0,{"$error":"#DIV/0!"},{"$f":"SUM(B$3:B1329)","v":18643},null,0,null,0,null,0,null,null,0,{"$f":"SUMIF(ブログ経費!A:A,\"<=\"&A1329,ブログ経費!B:B)","v":0},18643]
[null,null,0,0,0,0,0,0,{"$error":"#DIV/0!"},{"$f":"SUM(B$3:B1330)","v":18643},null,0,null,0,null,0,null,null,0,{"$f":"SUMIF(ブログ経費!A:A,\"<=\"&A1330,ブログ経費!B:B)","v":0},18643]
[null,null,0,0,0,0,{"$f":"SUM(B1272:B1301)","v":0},0,{"$error":"#DIV/0!"},{"$f":"SUM(B$3:B1331)","v":18643},null,0,null,0,null,0,null,null,{"$f":"R1331-R1324","v":0},{"$f":"SUMIF(ブログ経費!A:A,\"<=\"&A1331,ブログ経費!B:B)","v":0},18643]
[null,null,0,0,0,0,0,0,{"$error":"#DIV/0!"},{"$f":"SUM(B$3:B1332)","v":18643},null,{"$f":"K1332-K1331","v":0},null,0,null,0,null,null,0,{"$f":"SUMIF(ブログ経費!A:A,\"<=\"&A1332,ブログ経費!B:B)","v":0},18643]
[null,null,0,0,0,0,0,0,{"$error":"#DIV/0!"},{"$f":"SUM(B$3:B1333)","v":18643},null,0,null,0,null,0,null,null,0,{"$f":"SUMIF(ブログ経費!A:A,\"<=\"&A1333,ブログ経費!B:B)","v":0},18643]
[null,null,0,0,0,0,0,0,{"$error":"#DIV/0!"},{"$f":"SUM(B$3:B1334)","v":18643},null,0,null,0,null,0,null,null,0,{"$f":"SUMIF(ブログ経費!A:A,\"<=\"&A1334,ブログ経費!B:B)","v":0},18643]
[null,null,0,0,0,0,0,0,{"$error":"#DIV/0!"},{"$f":"SUM(B$3:B1335)","v":18643},null,0,null,0,null,0,null,null,0,{"$f":"SUMIF(ブログ経費!A:A,\"<=\"&A1335,ブログ経費!B:B)","v":0},18643]
[null,null,0,0,0,0,0,0,{"$error":"#DIV/0!"},{"$f":"SUM(B$3:B1336)","v":18643},null,0,null,0,null,0,null,null,0,{"$f":"SUMIF(ブログ経費!A:A,\"<=\"&A1336,ブログ経費!B:B)","v":0},18643]
[null,null,0,0,0,0,0,0,{"$error":"#DIV/0!"},{"$f":"SUM(B$3:B1337)","v":18643},null,0,null,0,null,0,null,null,0,{"$f":"SUMIF(ブログ経費!A:A,\"<=\"&A1337,ブログ経費!B:B)","v":0},18643]
[null,null,0,0,0,0,0,0,{"$error":"#DIV/0!"},{"$f":"SUM(B$3:B1338)","v":18643},null,0,null,0,null,0,null,null,0,{"$f":"SUMIF(ブログ経費!A:A,\"<=\"&A1338,ブログ経費!B:B)","v":0},18643]
[null,null,0,0,0,0,0,0,{"$error":"#DIV/0!"},{"$f":"SUM(B$3:B1339)","v":18643},null,0,null,0,null,0,null,null,0,{"$f":"SUMIF(ブログ経費!A:A,\"<=\"&A1339,ブログ経費!B:B)","v":0},18643]
[null,null,0,0,0,0,0,0,{"$error":"#DIV/0!"},{"$f":"SUM(B$3:B1340)","v":18643},null,0,null,0,null,0,null,null,0,{"$f":"SUMIF(ブログ経費!A:A,\"<=\"&A1340,ブログ経費!B:B)","v":0},18643]
[null,null,0,0,0,0,0,0,{"$error":"#DIV/0!"},{"$f":"SUM(B$3:B1341)","v":18643},null,0,null,0,null,0,null,null,0,{"$f":"SUMIF(ブログ経費!A:A,\"<=\"&A1341,ブログ経費!B:B)","v":0},18643]
[null,null,0,0,0,{"$f":"SUM(B1313:B1342)","v":0},0,{"$f":"F1342-G1342","v":0},{"$f":"H1342/G1342","v":{"$error":"#DIV/0!"}},{"$f":"SUM(B$3:B1342)","v":18643},null,0,null,0,null,0,null,null,0,{"$f":"SUMIF(ブログ経費!A:A,\"<=\"&A1342,ブログ経費!B:B)","v":0},18643]
[null,null,0,0,0,0,0,0,{"$error":"#DIV/0!"},{"$f":"SUM(B$3:B1343)","v":18643},null,0,null,0,null,0,null,null,0,{"$f":"SUMIF(ブログ経費!A:A,\"<=\"&A1343,ブログ経費!B:B)","v":0},18643]
[null,null,0,0,0,0,0,0,{"$error":"#DIV/0!"},{"$f":"SUM(B$3:B1344)","v":18643},null,0,null,0,null,0,null,null,0,{"$f":"SUMIF(ブログ経費!A:A,\"<=\"&A1344,ブログ経費!B:B)","v":0},18643]
[null,null,0,0,0,0,0,0,{"$error":"#DIV/0!"},{"$f":"SUM(B$3:B1345)","v":18643},null,0,null,0,null,0,null,null,0,{"$f":"SUMIF(ブログ経費!A:A,\"<=\"&A1345,ブログ経費!B:B)","v":0},18643]
[null,null,0,{"$f":"SUM(B1340:B1346)","v":0},0,0,0,0,{"$error":"#DIV/0!"},{"$f":"SUM(B$3:B1346)","v":18643},null,0,null,0,null,0,null,null,0,{"$f":"SUMIF(ブログ経費!A:A,\"<=\"&A1346,ブログ経費!B:B)","v":0},18643]
[null,null,0,0,{"$f":"D1347-D1340","v":0},0,0,0,{"$error":"#DIV/0!"},{"$f":"SUM(B$3:B1347)","v":18643},null,0,null,{"$f":"M1347-M1340","v":0},null,0,null,null,0,{"$f":"SUMIF(ブログ経費!A:A,\"<=\"&A1347,ブログ経費!B:B)","v":0},{"$f":"J1347-T1347","v":18643}]
[null,null,0,0,0,0,0,0,{"$error":"#DIV/0!"},{"$f":"SUM(B$3:B1348)","v":18643},null,0,null,0,null,0,null,null,0,{"$f":"SUMIF(ブログ経費!A:A,\"<=\"&A1348,ブログ経費!B:B)","v":0},18643]
[null,null,{"$f":"B1349-B1348","v":0},0,0,0,0,0,{"$error":"#DIV/0!"},{"$f":"SUM(B$3:B1349)","v":18643},null,0,null,0,null,0,null,null,0,{"$f":"SUMIF(ブログ経費!A:A,\"<=\"&A1349,ブログ経費!B:B)","v":0},18643]
[null,null,0,0,0,0,0,0,{"$error":"#DIV/0!"},{"$f":"SUM(B$3:B1350)","v":18643},null,0,null,0,null,0,null,null,0,{"$f":"SUMIF(ブログ経費!A:A,\"<=\"&A1350,ブログ経費!B:B)","v":0},18643]
[null,null,0,0,0,0,0,0,{"$error":"#DIV/0!"},{"$f":"SUM(B$3:B1351)","v":18643},null,0,null,0,null,0,null,null,0,{"$f":"SUMIF(ブログ経費!A:A,\"<=\"&A1351,ブログ経費!B:B)","v":0},18643]
[null,null,0,0,0,0,0,0,{"$error":"#DIV/0!"},{"$f":"SUM(B$3:B1352)","v":18643},null,0,null,0,null,0,null,null,0,{"$f":"SUMIF(ブログ経費!A:A,\"<=\"&A1352,ブログ経費!B:B)","v":0},18643]
[null,null,0,0,0,0,0,0,{"$error":"#DIV/0!"},{"$f":"SUM(B$3:B1353)","v":18643},null,0,null,0,null,0,null,null,0,{"$f":"SUMIF(ブログ経費!A:A,\"<=\"&A1353,ブログ経費!B:B)","v":0},18643]
[null,null,0,0,0,0,0,0,{"$error":"#DIV/0!"},{"$f":"SUM(B$3:B1354)","v":18643},null,0,null,0,null,0,null,null,0,{"$f":"SUMIF(ブログ経費!A:A,\"<=\"&A1354,ブログ経費!B:B)","v":0},18643]
[null,null,0,0,0,0,0,0,{"$error":"#DIV/0!"},{"$f":"SUM(B$3:B1355)","v":18643},null,0,null,0,null,0,null,null,0,{"$f":"SUMIF(ブログ経費!A:A,\"<=\"&A1355,ブログ経費!B:B)","v":0},18643]
[null,null,0,0,0,0,0,0,{"$error":"#DIV/0!"},{"$f":"SUM(B$3:B1356)","v":18643},null,0,null,0,null,0,null,null,0,{"$f":"SUMIF(ブログ経費!A:A,\"<=\"&A1356,ブログ経費!B:B)","v":0},18643]
[null,null,0,0,0,0,0,0,{"$error":"#DIV/0!"},{"$f":"SUM(B$3:B1357)","v":18643},null,0,null,0,null,0,null,null,0,{"$f":"SUMIF(ブログ経費!A:A,\"<=\"&A1357,ブログ経費!B:B)","v":0},18643]
[null,null,0,0,0,0,0,0,{"$error":"#DIV/0!"},{"$f":"SUM(B$3:B1358)","v":18643},null,0,null,0,null,0,null,null,0,{"$f":"SUMIF(ブログ経費!A:A,\"<=\"&A1358,ブログ経費!B:B)","v":0},18643]
[null,null,0,0,0,0,0,0,{"$error":"#DIV/0!"},{"$f":"SUM(B$3:B1359)","v":18643},null,0,null,0,null,0,null,null,0,{"$f":"SUMIF(ブログ経費!A:A,\"<=\"&A1359,ブログ経費!B:B)","v":0},18643]
[null,null,0,0,0,0,0,0,{"$error":"#DIV/0!"},{"$f":"SUM(B$3:B1360)","v":18643},null,0,null,0,null,0,null,null,0,{"$f":"SUMIF(ブログ経費!A:A,\"<=\"&A1360,ブログ経費!B:B)","v":0},18643]
[null,null,0,0,0,0,0,0,{"$error":"#DIV/0!"},{"$f":"SUM(B$3:B1361)","v":18643},null,0,null,0,null,{"$f":"(O1361-O1331)","v":0},null,null,0,{"$f":"SUMIF(ブログ経費!A:A,\"<=\"&A1361,ブログ経費!B:B)","v":0},18643]
[null,null,0,0,0,0,0,0,{"$error":"#DIV/0!"},{"$f":"SUM(B$3:B1362)","v":18643},null,0,null,0,null,0,null,null,0,{"$f":"SUMIF(ブログ経費!A:A,\"<=\"&A1362,ブログ経費!B:B)","v":0},18643]
[null,null,0,0,0,0,0,0,{"$error":"#DIV/0!"},{"$f":"SUM(B$3:B1363)","v":18643},null,0,null,0,null,0,null,null,0,{"$f":"SUMIF(ブログ経費!A:A,\"<=\"&A1363,ブログ経費!B:B)","v":0},18643]
[null,null,0,0,0,0,0,0,{"$error":"#DIV/0!"},{"$f":"SUM(B$3:B1364)","v":18643},null,0,null,0,null,0,null,null,0,{"$f":"SUMIF(ブログ経費!A:A,\"<=\"&A1364,ブログ経費!B:B)","v":0},18643]
[null,null,0,0,0,0,0,0,{"$error":"#DIV/0!"},{"$f":"SUM(B$3:B1365)","v":18643},null,0,null,0,null,0,null,null,0,{"$f":"SUMIF(ブログ経費!A:A,\"<=\"&A1365,ブログ経費!B:B)","v":0},18643]
[null,null,0,0,0,0,0,0,{"$error":"#DIV/0!"},{"$f":"SUM(B$3:B1366)","v":18643},null,0,null,0,null,0,null,null,0,{"$f":"SUMIF(ブログ経費!A:A,\"<=\"&A1366,ブログ経費!B:B)","v":0},18643]
[null,null,0,0,0,0,0,0,{"$error":"#DIV/0!"},{"$f":"SUM(B$3:B1367)","v":18643},null,0,null,0,null,0,null,null,0,{"$f":"SUMIF(ブログ経費!A:A,\"<=\"&A1367,ブログ経費!B:B)","v":0},18643]
[null,null,0,0,0,0,0,0,{"$error":"#DIV/0!"},{"$f":"SUM(B$3:B1368)","v":18643},null,0,null,0,null,0,null,null,0,{"$f":"SUMIF(ブログ経費!A:A,\"<=\"&A1368,ブログ経費!B:B)","v":0},18643]
[null,null,0,0,0,0,0,0,{"$error":"#DIV/0!"},{"$f":"SUM(B$3:B1369)","v":18643},null,0,null,0,null,0,null,null,0,{"$f":"SUMIF(ブログ経費!A:A,\"<=\"&A1369,ブログ経費!B:B)","v":0},18643]
[null,null,0,0,0,0,0,0,{"$error":"#DIV/0!"},{"$f":"SUM(B$3:B1370)","v":18643},null,0,null,0,null,0,null,null,0,{"$f":"SUMIF(ブログ経費!A:A,\"<=\"&A1370,ブログ経費!B:B)","v":0},18643]
[null,null,0,0,0,0,0,0,{"$error":"#DIV/0!"},{"$f":"SUM(B$3:B1371)","v":18643},null,0,null,0,null,0,null,null,0,{"$f":"SUMIF(ブログ経費!A:A,\"<=\"&A1371,ブログ経費!B:B)","v":0},18643]
[null,null,0,0,0,0,0,0,{"$error":"#DIV/0!"},{"$f":"SUM(B$3:B1372)","v":18643},null,0,null,0,null,0,null,null,0,{"$f":"SUMIF(ブログ経費!A:A,\"<=\"&A1372,ブログ経費!B:B)","v":0},18643]
[null,null,0,0,0,0,0,0,{"$error":"#DIV/0!"},{"$f":"SUM(B$3:B1373)","v":18643},null,0,null,0,null,0,null,null,0,{"$f":"SUMIF(ブログ経費!A:A,\"<=\"&A1373,ブログ経費!B:B)","v":0},18643]
[null,null,0,0,0,0,0,0,{"$error":"#DIV/0!"},{"$f":"SUM(B$3:B1374)","v":18643},null,0,null,0,null,0,null,null,0,{"$f":"SUMIF(ブログ経費!A:A,\"<=\"&A1374,ブログ経費!B:B)","v":0},18643]
[null,null,0,0,0,0,0,0,{"$error":"#DIV/0!"},{"$f":"SUM(B$3:B1375)","v":18643},null,0,null,0,null,0,null,null,0,{"$f":"SUMIF(ブログ経費!A:A,\"<=\"&A1375,ブログ経費!B:B)","v":0},18643]
[null,null,0,0,0,0,0,0,{"$error":"#DIV/0!"},{"$f":"SUM(B$3:B1376)","v":18643},null,0,null,0,null,0,null,null,0,{"$f":"SUMIF(ブログ経費!A:A,\"<=\"&A1376,ブログ経費!B:B)","v":0},18643]
[null,null,0,0,0,0,0,0,{"$error":"#DIV/0!"},{"$f":"SUM(B$3:B1377)","v":18643},null,0,null,0,null,0,null,null,0,{"$f":"SUMIF(ブログ経費!A:A,\"<=\"&A1377,ブログ経費!B:B)","v":0},18643]
[null,null,0,0,0,0,0,0,{"$error":"#DIV/0!"},{"$f":"SUM(B$3:B1378)","v":18643},null,0,null,0,null,0,null,null,0,{"$f":"SUMIF(ブログ経費!A:A,\"<=\"&A1378,ブログ経費!B:B)","v":0},18643]
[null,null,0,0,0,0,0,0,{"$error":"#DIV/0!"},{"$f":"SUM(B$3:B1379)","v":18643},null,0,null,0,null,0,null,null,0,{"$f":"SUMIF(ブログ経費!A:A,\"<=\"&A1379,ブログ経費!B:B)","v":0},18643]
[null,null,0,0,0,0,0,0,{"$error":"#DIV/0!"},{"$f":"SUM(B$3:B1380)","v":18643},null,0,null,0,null,0,null,null,0,{"$f":"SUMIF(ブログ経費!A:A,\"<=\"&A1380,ブログ経費!B:B)","v":0},18643]
[null,null,0,0,0,0,0,0,{"$error":"#DIV/0!"},{"$f":"SUM(B$3:B1381)","v":18643},null,0,null,0,null,0,null,null,0,{"$f":"SUMIF(ブログ経費!A:A,\"<=\"&A1381,ブログ経費!B:B)","v":0},18643]
[null,null,0,0,0,0,0,0,{"$error":"#DIV/0!"},{"$f":"SUM(B$3:B1382)","v":18643},null,0,null,0,null,0,null,null,0,{"$f":"SUMIF(ブログ経費!A:A,\"<=\"&A1382,ブログ経費!B:B)","v":0},18643]
[null,null,0,0,0,0,0,0,{"$error":"#DIV/0!"},{"$f":"SUM(B$3:B1383)","v":18643},null,0,null,0,null,0,null,null,0,{"$f":"SUMIF(ブログ経費!A:A,\"<=\"&A1383,ブログ経費!B:B)","v":0},18643]
[null,null,0,0,0,0,0,0,{"$error":"#DIV/0!"},{"$f":"SUM(B$3:B1384)","v":18643},null,0,null,0,null,0,null,null,0,{"$f":"SUMIF(ブログ経費!A:A,\"<=\"&A1384,ブログ経費!B:B)","v":0},18643]
[null,null,0,0,0,0,0,0,{"$error":"#DIV/0!"},{"$f":"SUM(B$3:B1385)","v":18643},null,0,null,0,null,0,null,null,0,{"$f":"SUMIF(ブログ経費!A:A,\"<=\"&A1385,ブログ経費!B:B)","v":0},18643]
[null,null,0,0,0,0,0,0,{"$error":"#DIV/0!"},{"$f":"SUM(B$3:B1386)","v":18643},null,0,null,0,null,0,null,null,0,{"$f":"SUMIF(ブログ経費!A:A,\"<=\"&A1386,ブログ経費!B:B)","v":0},18643]
[null,null,0,0,0,0,0,0,{"$error":"#DIV/0!"},{"$f":"SUM(B$3:B1387)","v":18643},null,0,null,0,null,0,null,null,0,{"$f":"SUMIF(ブログ経費!A:A,\"<=\"&A1387,ブログ経費!B:B)","v":0},18643]
[null,null,0,0,0,0,0,0,{"$error":"#DIV/0!"},{"$f":"SUM(B$3:B1388)","v":18643},null,0,null,0,null,0,null,null,0,{"$f":"SUMIF(ブログ経費!A:A,\"<=\"&A1388,ブログ経費!B:B)","v":0},18643]
[null,null,0,0,0,0,0,0,{"$error":"#DIV/0!"},{"$f":"SUM(B$3:B1389)","v":18643},null,0,null,0,null,0,null,null,0,{"$f":"SUMIF(ブログ経費!A:A,\"<=\"&A1389,ブログ経費!B:B)","v":0},18643]
[null,null,0,0,0,0,0,0,{"$error":"#DIV/0!"},{"$f":"SUM(B$3:B1390)","v":18643},null,0,null,0,null,0,null,null,0,{"$f":"SUMIF(ブログ経費!A:A,\"<=\"&A1390,ブログ経費!B:B)","v":0},18643]
[null,null,0,0,0,0,0,0,{"$error":"#DIV/0!"},{"$f":"SUM(B$3:B1391)","v":18643},null,0,null,0,null,0,null,null,0,{"$f":"SUMIF(ブログ経費!A:A,\"<=\"&A1391,ブログ経費!B:B)","v":0},18643]
[null,null,0,0,0,0,0,0,{"$error":"#DIV/0!"},{"$f":"SUM(B$3:B1392)","v":18643},null,0,null,0,null,0,null,null,0,{"$f":"SUMIF(ブログ経費!A:A,\"<=\"&A1392,ブログ経費!B:B)","v":0},18643]
[null,null,0,0,0,0,0,0,{"$error":"#DIV/0!"},{"$f":"SUM(B$3:B1393)","v":18643},null,0,null,0,null,0,null,null,0,{"$f":"SUMIF(ブログ経費!A:A,\"<=\"&A1393,ブログ経費!B:B)","v":0},18643]
[null,null,0,0,0,0,0,0,{"$error":"#DIV/0!"},{"$f":"SUM(B$3:B1394)","v":18643},null,0,null,0,null,0,null,null,0,{"$f":"SUMIF(ブログ経費!A:A,\"<=\"&A1394,ブログ経費!B:B)","v":0},18643]

{"sheet":"ブログ経費","index":1,"n_rows":8,"n_cols":6,"rows_kept":8,"cut":false,"hidden":false,"merged":[]}
["日付","費用","費目",null,null,0]
["2020-10-01",3300,"サーバー"]
["2021-05-08",2035,"ドメイン"]
["2021-11-01",6600,"サーバー"]
["2022-04-28",4290,"サーバー"]
["2022-05-01",3344,"ドメイン"]
["2022-10-30",15840,"サーバー","36カ月"]
["2023-05-01",3962,"ドメイン"]